{"text_format":"3","workbook":"xlsx","n_sheets":6,"sheets":["Başlangıç","Genel Bakış","Başlangıç Maliyetleri Şablonu","Başlangıç Maliyetleri Örneği","Kar ve Zarar Şablonu","Kar ve Zarar Örneği"],"not_rendered":{"defined_names":6},"read":"whole","date_system":"1900"}

{"sheet":"Başlangıç","index":0,"n_rows":8,"n_cols":2,"rows_kept":8}
[null,"BU ŞABLON HAKKINDA"]
[null,"Bu şablonu kullanarak bir İş Başlangıcı Finansal Planı oluşturun. "]
[null,"Genel Bakış çalışma sayfasında bir finansal planın genel çizgileri hakkında bilgi edinin. "]
[null,"Başlangıç ​​Maliyetlerini ve Kar ve Zararı hesaplamak için Başlangıç ​​Maliyetleri Şablonu ve Kar ve Zarar Şablonu çalışma sayfalarını kullanın. "]
[null,"Başlangıç Maliyetleri Örneği ve Kar ve Zarar Örneği çalışma sayfaları tablolarda örnek veriler içerir."]
[null,"Not: "]
[null,"Çalışma sayfasının A sütununda ek yönergeler sağlanmıştır. Bu metin özellikle gizlendi. Metni kaldırmak için A sütununu ve ardından SİL seçeneğini belirleyin. Metni göstermek için A sütununu seçin ve yazı tipi rengini değiştirin."]
[null,"Tablolar hakkında daha fazla bilgi edinmek için bir tabloda sırasıyla SHIFT ve F10 tuşlarına basıp TABLO seçeneğini belirleyin, ardından ALTERNATİF METİN’i seçin."]

{"sheet":"Genel Bakış","index":1,"n_rows":7,"n_cols":2,"rows_kept":7}
[null,"İŞ BAŞLANGICI FİNANSAL PLANI"]
[null,"Bir finansal plan oluşturmak, tüm iş planlamasının bir araya geldiği yerdir. Ürününüzü, hedef pazarınızı ve hedef müşterilerinizi fiyatlandırma ile birlikte belirledikten sonra, maliyetleri, satışları ve kârı tahmin etmeye başlayabilirsiniz. Bu öğeler ve varsayımlarınızı kullanarak satış tahmininizi belirleyebilirsiniz. İşin kalan kısmı, çıkacak masrafları tahmin etmektir. Bu, ne zaman kâra geçtiğinizi sürekli olarak görmek için önemlidir. Ayrıca işinizi kurarken, müşteri satışları veya elde edilen nakit alınmadan önce hangi harcamaları finanse etmeniz gerektiğini bilmek de önemlidir. "]
[null,"Tahmini Başlangıç Maliyetleri: Bir sonraki sekmedeki Başlangıç ​​Maliyetleri Şablonu tablosu, başlangıç ​​için bazı yönergelerin bulunduğu boş bir şablon sağlar.  Bir sonraki sekmede bulunan Başlangıç ​​Maliyetleri Örneği, işletmenizi açmak için ihtiyaç duyabileceğiniz sürekli ve tek seferlik maliyet kalemlerinin bir örneğini gösterir. Birçok işletmeye zaman içinde kredi ile ödeme yapılır ve hemen nakit ödeme gelmez. Tek seferlik harcamaya ek olarak, tasarruflardan veya yeni yatırımdan kaç aylık yinelenen kalemi finanse etmek zorunda kalacağınız konusunda bir varsayımda bulunarak, şirkete nakit akışının ne zaman başlayacağını tahmin etmek önemlidir.  "]
[null,"Tahmini Kar ve Zarar Modeli: Kâr ve Zarar Şablonu etiketli sekmede, Satış Tahmini ve Kar ve Zarar Modeli yapmak için boş bir şablon bulacaksınız. Bir sonraki sekme olan Kar ve Zarar Örneği, küçük bir işletmenin ilk 12 aylık operasyon tahminlerinin bir örneğini gösterir. Her modeldeki tablonun üst kısmı, tahmini satışları ve brüt kârı gösterir. Bu, satış tahmininizi oluşturmaya başlamak için iyi bir yerdir. Aşağıdaki bölümde, aynı aylar için öngördüğünüz yinelenen giderler listelenmiştir. Bunlar, önceki bölümde tamamladığınız tahmini başlangıç ​​maliyetleriyle tutarlı olmalıdır. Bu modelin altında, ne zaman kâra geçtiğinizi ve kârlılığınıza en çok hangi gider kalemlerinin etki ettiğini görürsünüz. "]
[null,"Gelirleri ve Satılan Malların Maliyetini tahmin etmek için yaptığınız varsayımları takip edin. Henüz faaliyete geçmemiş işletmelerde, ürününüz veya hizmetiniz için bunları nasıl tahmin edeceğinizi bilmelisiniz.  Bazı tahmin yönergeleri aşağıda verilmiştir: "]
[null,"Gelirler: Hedef pazarınızdan (potansiyel müşteriler, işletmeler veya tüketiciler grubu) ilk yılda kaçının hedef olacağını belirleyerek başlayın. Bunların yüzde kaçını karşılamayı bekliyorsunuz? Ürününüzü veya hizmetinizi satın almaları için ortalama işlem miktarı nedir? İlk ayda, ikinci ayda ve sonraki aylarda kaç tane işlem yapabilirsiniz? İlk ay bir sayıyla başlayıp sonra bunu örneğin yüzde 10 oranında büyütebilirsiniz.  Örneğin, şehrinizdeki küçük işletmelere temizlik hizmeti veriyorsanız ve temizlik hizmetine ihtiyacı olduğunu düşündüğünüz 500 işletme varsa. Ortalama sözleşme aylık 250 ABD Doları ise, ilk yıl için her ay kaç işletmenin sözleşme imzalayabileceğini tahmin etmeniz gerekir. "]
[null,"Satılan Malların Maliyeti (COGS): Bu, ürünler ve bazı hizmetler için hesaplanmalıdır.  Bu, ürünü üretmek için dahil edilen maliyettir.  Örneğin, giysi satıyorsanız, COGS, bir üreticiden giysiyi satın almak için ödediğiniz fiyattır.  Giysileri kendiniz yapıyorsanız, COGS, bunları yapmak için malzeme ve işçilik maliyeti olacaktır. Hizmetler için bu, bir saatlik faturalanabilir çalışmanın doğrudan işçilik maliyeti olacaktır.  Kâr ve Zararda Brüt Kârın altındaki her şey, kira veya telefon ve hatta pazarlama gibi işletmenin geneli için sabit veya genel giderlerdir. "]

{"sheet":"Başlangıç Maliyetleri Şablonu","index":2,"n_rows":10,"n_cols":6,"rows_kept":10,"merged":[[1,2,1,5]]}
[null,"BAŞLANGIÇ MALİYETLERİ"]
[null,"Kahve Dükkanınız",{"$f":"TODAY()","v":"2022-01-28"}]
[]
[null,"MALİYET KALEMLERİ","AYLAR","MALİYET/ AY","TEK SEFERLİK MALIYET","TOPLAM MALİYET"]
[null,"Reklam/Pazarlama",{"$nulls":3},{"$f":"(C5*D5)+IF(E5>0,E5,0)","v":{"v":0,"d":"₺0"}}]
[null,"Çalışan Maaşları",{"$nulls":3},{"$f":"(C6*D6)+IF(E6>0,E6,0)","v":{"v":0,"d":"₺0"}}]
[null,"Çalışan Bordro Vergileri ve Yardımları",{"$nulls":3},{"v":0,"d":"₺0"}]
[null,"Kira/Kira Ödemeleri/Faturalar",{"$nulls":3},{"v":0,"d":"₺0"}]
[null,"Posta/Nakliye",{"$nulls":3},{"v":0,"d":"₺0"}]
[null,"TAHMİNİ BAŞLANGIÇ BÜTÇESİ",{"$nulls":3},{"$f":"SUBTOTAL(109,Başlangıç[TOPLAM MALİYET])","v":0}]

{"sheet":"Başlangıç Maliyetleri Örneği","index":3,"n_rows":10,"n_cols":6,"rows_kept":10,"merged":[[1,2,1,5]]}
[null,"BAŞLANGIÇ MALİYETLERİ"]
[null,{"$f":"'Başlangıç Maliyetleri Şablonu'!B2","v":"Kahve Dükkanınız"},{"$f":"TODAY()","v":"2022-01-28"}]
[]
[null,"MALİYET KALEMLERİ","AYLAR","MALİYET/ AY","TEK SEFERLİK MALIYET","TOPLAM MALİYET"]
[null,"Reklam/Pazarlama",3,{"v":300,"d":"₺300"},{"v":2000,"d":"₺2,000"},{"$f":"(C5*D5)+IF(E5>0,E5,0)","v":{"v":2900,"d":"₺2,900"}}]
[null,"Çalışan Maaşları",4,{"v":3500,"d":"₺3,500"},{"v":2,"d":"₺2"},{"$f":"(C6*D6)+IF(E6>0,E6,0)","v":{"v":14002,"d":"₺14,002"}}]
[null,"Çalışan Bordro Vergileri ve Yardımları",4,{"v":500,"d":"₺500"},{"v":2000,"d":"₺2,000"},{"v":4000,"d":"₺4,000"}]
[null,"Kira/Kira Ödemeleri/Faturalar",4,{"v":750,"d":"₺750"},{"v":3000,"d":"₺3,000"},{"v":6000,"d":"₺6,000"}]
[null,"Posta/Nakliye",1,{"v":25,"d":"₺25"},{"v":25,"d":"₺25"},{"v":50,"d":"₺50"}]
[null,"TAHMİNİ BAŞLANGIÇ BÜTÇESİ",{"$nulls":3},{"$f":"SUM(F6:F9)","v":{"v":24052,"d":"₺24,052"}}]

{"sheet":"Kar ve Zarar Şablonu","index":4,"n_rows":23,"n_cols":15,"rows_kept":23,"merged":[[1,2,1,14]]}
[null,"BAŞLANGIÇ MALİYETLERİ"]
[null,{"$f":"'Başlangıç Maliyetleri Şablonu'!B2","v":"Kahve Dükkanınız"},{"$f":"TODAY()","v":"2022-01-28"}]
[]
[null,"GELİR","OCA","ŞUB","MAR","NİS","MAY","HAZ","TEM","AĞU","EYL","EKİ","KAS","ARA","YB"]
[null,"Tahmini Ürün Satışları",{"v":0,"d":"₺0"},{"v":0,"d":"₺0"},{"v":0,"d":"₺0"},{"v":0,"d":"₺0"},{"v":0,"d":"₺0"},{"v":0,"d":"₺0"},{"v":0,"d":"₺0"},{"v":0,"d":"₺0"},{"v":0,"d":"₺0"},{"v":0,"d":"₺0"},{"v":0,"d":"₺0"},{"v":0,"d":"₺0"},{"$f":"SUM(C5:N5)","v":{"v":0,"d":"₺0"}}]
[null,"Daha Az Satış İadesi ve İndirimler",{"v":0,"d":"₺0"},{"v":0,"d":"₺0"},{"v":0,"d":"₺0"},{"v":0,"d":"₺0"},{"v":0,"d":"₺0"},{"v":0,"d":"₺0"},{"v":0,"d":"₺0"},{"v":0,"d":"₺0"},{"v":0,"d":"₺0"},{"v":0,"d":"₺0"},{"v":0,"d":"₺0"},{"v":0,"d":"₺0"},{"$f":"SUM(C6:N6)","v":{"v":0,"d":"₺0"}}]
[null,"Hizmet Geliri",{"v":0,"d":"₺0"},{"v":0,"d":"₺0"},{"v":0,"d":"₺0"},{"v":0,"d":"₺0"},{"v":0,"d":"₺0"},{"v":0,"d":"₺0"},{"v":0,"d":"₺0"},{"v":0,"d":"₺0"},{"v":0,"d":"₺0"},{"v":0,"d":"₺0"},{"v":0,"d":"₺0"},{"v":0,"d":"₺0"},{"v":0,"d":"₺0"}]
[null,"Diğer Gelir ",{"v":0,"d":"₺0"},{"v":0,"d":"₺0"},{"v":0,"d":"₺0"},{"v":0,"d":"₺0"},{"v":0,"d":"₺0"},{"v":0,"d":"₺0"},{"v":0,"d":"₺0"},{"v":0,"d":"₺0"},{"v":0,"d":"₺0"},{"v":0,"d":"₺0"},{"v":0,"d":"₺0"},{"v":0,"d":"₺0"},{"v":0,"d":"₺0"}]
[null,"Net Satışlar",{"$f":"SUBTOTAL(109,ÖrnekGelir[OCA])","v":{"v":0,"d":"₺0"}},{"$f":"SUBTOTAL(109,ÖrnekGelir[ŞUB])","v":{"v":0,"d":"₺0"}},{"$f":"SUBTOTAL(109,ÖrnekGelir[MAR])","v":{"v":0,"d":"₺0"}},{"$f":"SUBTOTAL(109,ÖrnekGelir[NİS])","v":{"v":0,"d":"₺0"}},{"$f":"SUBTOTAL(109,ÖrnekGelir[MAY])","v":{"v":0,"d":"₺0"}},{"$f":"SUBTOTAL(109,ÖrnekGelir[HAZ])","v":{"v":0,"d":"₺0"}},{"$f":"SUBTOTAL(109,ÖrnekGelir[TEM])","v":{"v":0,"d":"₺0"}},{"$f":"SUBTOTAL(109,ÖrnekGelir[AĞU])","v":{"v":0,"d":"₺0"}},{"$f":"SUBTOTAL(109,ÖrnekGelir[EYL])","v":{"v":0,"d":"₺0"}},{"$f":"SUBTOTAL(109,ÖrnekGelir[EKİ])","v":{"v":0,"d":"₺0"}},{"$f":"SUBTOTAL(109,ÖrnekGelir[KAS])","v":{"v":0,"d":"₺0"}},{"$f":"SUBTOTAL(109,ÖrnekGelir[ARA])","v":{"v":0,"d":"₺0"}},{"$f":"SUM(ÖrnekGelir[[#Totals],[OCA]:[ARA]])","v":{"v":0,"d":"₺0"}}]
[null,"Satılan Malların Maliyeti",{"$f":"C5*0.4","v":{"v":0,"d":"₺0"}},{"v":0,"d":"₺0"},{"v":0,"d":"₺0"},{"v":0,"d":"₺0"},{"v":0,"d":"₺0"},{"v":0,"d":"₺0"},{"v":0,"d":"₺0"},{"v":0,"d":"₺0"},{"v":0,"d":"₺0"},{"v":0,"d":"₺0"},{"v":0,"d":"₺0"},{"v":0,"d":"₺0"},{"v":0,"d":"₺0"}]
[null,"Brüt Kar",{"$f":"IFERROR(ÖrnekGelir[[#Totals],[OCA]]-C10,\"\")","v":{"v":0,"d":"₺0"}},{"$f":"IFERROR(ÖrnekGelir[[#Totals],[ŞUB]]-D10,\"\")","v":{"v":0,"d":"₺0"}},{"$f":"IFERROR(ÖrnekGelir[[#Totals],[MAR]]-E10,\"\")","v":{"v":0,"d":"₺0"}},{"$f":"IFERROR(ÖrnekGelir[[#Totals],[NİS]]-F10,\"\")","v":{"v":0,"d":"₺0"}},{"$f":"IFERROR(ÖrnekGelir[[#Totals],[MAY]]-G10,\"\")","v":{"v":0,"d":"₺0"}},{"$f":"IFERROR(ÖrnekGelir[[#Totals],[HAZ]]-H10,\"\")","v":{"v":0,"d":"₺0"}},{"$f":"IFERROR(ÖrnekGelir[[#Totals],[TEM]]-I10,\"\")","v":{"v":0,"d":"₺0"}},{"$f":"IFERROR(ÖrnekGelir[[#Totals],[AĞU]]-J10,\"\")","v":{"v":0,"d":"₺0"}},{"$f":"IFERROR(ÖrnekGelir[[#Totals],[EYL]]-K10,\"\")","v":{"v":0,"d":"₺0"}},{"$f":"IFERROR(ÖrnekGelir[[#Totals],[EKİ]]-L10,\"\")","v":{"v":0,"d":"₺0"}},{"$f":"IFERROR(ÖrnekGelir[[#Totals],[KAS]]-M10,\"\")","v":{"v":0,"d":"₺0"}},{"$f":"IFERROR(ÖrnekGelir[[#Totals],[ARA]]-N10,\"\")","v":{"v":0,"d":"₺0"}},{"v":0,"d":"₺0"}]
[]
[null,"GİDERLER","OCA","ŞUB","MAR","NİS","MAY","HAZ","TEM","AĞU","EYL","EKİ","KAS","ARA","YB"]
[null,"Maaşlar ve Ücretler",{"v":0,"d":"₺0"},{"v":0,"d":"₺0"},{"v":0,"d":"₺0"},{"v":0,"d":"₺0"},{"v":0,"d":"₺0"},{"v":0,"d":"₺0"},{"v":0,"d":"₺0"},{"v":0,"d":"₺0"},{"v":0,"d":"₺0"},{"v":0,"d":"₺0"},{"v":0,"d":"₺0"},{"v":0,"d":"₺0"},{"$f":"SUM(C14:N14)","v":{"v":0,"d":"₺0"}}]
[null,"Pazarlama/Reklam",{"v":0,"d":"₺0"},{"v":0,"d":"₺0"},{"v":0,"d":"₺0"},{"v":0,"d":"₺0"},{"v":0,"d":"₺0"},{"v":0,"d":"₺0"},{"v":0,"d":"₺0"},{"v":0,"d":"₺0"},{"v":0,"d":"₺0"},{"v":0,"d":"₺0"},{"v":0,"d":"₺0"},{"v":0,"d":"₺0"},{"$f":"SUM(C15:N15)","v":{"v":0,"d":"₺0"}}]
[null,"Satış Komisyonları",{"v":0,"d":"₺0"},{"v":0,"d":"₺0"},{"v":0,"d":"₺0"},{"v":0,"d":"₺0"},{"v":0,"d":"₺0"},{"v":0,"d":"₺0"},{"v":0,"d":"₺0"},{"v":0,"d":"₺0"},{"v":0,"d":"₺0"},{"v":0,"d":"₺0"},{"v":0,"d":"₺0"},{"v":0,"d":"₺0"},{"v":0,"d":"₺0"}]
[null,"Kira",{"v":0,"d":"₺0"},{"v":0,"d":"₺0"},{"v":0,"d":"₺0"},{"v":0,"d":"₺0"},{"v":0,"d":"₺0"},{"v":0,"d":"₺0"},{"v":0,"d":"₺0"},{"v":0,"d":"₺0"},{"v":0,"d":"₺0"},{"v":0,"d":"₺0"},{"v":0,"d":"₺0"},{"v":0,"d":"₺0"},{"v":0,"d":"₺0"}]
[null,"Diğer 1",{"v":0,"d":"₺0"},{"v":0,"d":"₺0"},{"v":0,"d":"₺0"},{"v":0,"d":"₺0"},{"v":0,"d":"₺0"},{"v":0,"d":"₺0"},{"v":0,"d":"₺0"},{"v":0,"d":"₺0"},{"v":0,"d":"₺0"},{"v":0,"d":"₺0"},{"v":0,"d":"₺0"},{"v":0,"d":"₺0"},{"v":0,"d":"₺0"}]
[null,"Toplam Giderler",{"$f":"IF(SUM(C14:C18)=0,\"\",SUM(C14:C18))","v":""},"","","","","","","","","","","",{"$f":"SUM(ÖrnekGiderler[[#Totals],[OCA]:[ARA]])","v":{"v":0,"d":"₺0"}}]
[null,"Vergilerden Önceki Gelir",{"$f":"IFERROR('Kar ve Zarar Şablonu'!$C$11-ÖrnekGiderler[[#Totals],[OCA]],\"\")","v":""},{"$f":"IFERROR('Kar ve Zarar Şablonu'!$C$11-ÖrnekGiderler[[#Totals],[ŞUB]],\"\")","v":""},{"$f":"IFERROR('Kar ve Zarar Şablonu'!$C$11-ÖrnekGiderler[[#Totals],[MAR]],\"\")","v":""},{"$f":"IFERROR('Kar ve Zarar Şablonu'!$C$11-ÖrnekGiderler[[#Totals],[NİS]],\"\")","v":""},{"$f":"IFERROR('Kar ve Zarar Şablonu'!$C$11-ÖrnekGiderler[[#Totals],[MAY]],\"\")","v":""},{"$f":"IFERROR('Kar ve Zarar Şablonu'!$C$11-ÖrnekGiderler[[#Totals],[HAZ]],\"\")","v":""},{"$f":"IFERROR('Kar ve Zarar Şablonu'!$C$11-ÖrnekGiderler[[#Totals],[TEM]],\"\")","v":""},{"$f":"IFERROR('Kar ve Zarar Şablonu'!$C$11-ÖrnekGiderler[[#Totals],[AĞU]],\"\")","v":""},{"$f":"IFERROR('Kar ve Zarar Şablonu'!$C$11-ÖrnekGiderler[[#Totals],[EYL]],\"\")","v":""},{"$f":"IFERROR('Kar ve Zarar Şablonu'!$C$11-ÖrnekGiderler[[#Totals],[EKİ]],\"\")","v":""},{"$f":"IFERROR('Kar ve Zarar Şablonu'!$C$11-ÖrnekGiderler[[#Totals],[KAS]],\"\")","v":""},{"$f":"IFERROR('Kar ve Zarar Şablonu'!$C$11-ÖrnekGiderler[[#Totals],[ARA]],\"\")","v":""},{"v":0,"d":"₺0"}]
[null,"Gelir Vergisi Gideri",{"$f":"IFERROR(C20*0.15,\" \")","v":" "},{"$f":"IFERROR(D20*0.15,\" \")","v":" "},{"$f":"IFERROR(E20*0.15,\" \")","v":" "}," "," "," "," "," "," "," "," "," ",{"$f":"SUM('Kar ve Zarar Şablonu'!$C$21:$N$21)","v":{"v":0,"d":"₺0"}}]
[]
[null,"NET GELİR",{"$f":"IFERROR(C20-'Kar ve Zarar Şablonu'!$C$21,\"\")","v":""},{"$f":"IFERROR(D20-'Kar ve Zarar Şablonu'!$D$21,\"\")","v":""},{"$f":"IFERROR(E20-'Kar ve Zarar Şablonu'!$E$21,\"\")","v":""},{"$f":"IFERROR(F20-'Kar ve Zarar Şablonu'!$F$21,\"\")","v":""},{"$f":"IFERROR(G20-'Kar ve Zarar Şablonu'!$G$21,\"\")","v":""},{"$f":"IFERROR(H20-'Kar ve Zarar Şablonu'!$H$21,\"\")","v":""},{"$f":"IFERROR(I20-'Kar ve Zarar Şablonu'!$I$21,\"\")","v":""},{"$f":"IFERROR(J20-'Kar ve Zarar Şablonu'!$J$21,\"\")","v":""},{"$f":"IFERROR(K20-'Kar ve Zarar Şablonu'!$K$21,\"\")","v":""},{"$f":"IFERROR(L20-'Kar ve Zarar Şablonu'!$L$21,\"\")","v":""},{"$f":"IFERROR(M20-'Kar ve Zarar Şablonu'!$M$21,\"\")","v":""},{"$f":"IFERROR(N20-'Kar ve Zarar Şablonu'!$N$21,\"\")","v":""},{"$f":"IFERROR(O20-'Kar ve Zarar Şablonu'!$O$21,\"\")","v":{"v":0,"d":"₺0"}}]

{"sheet":"Kar ve Zarar Örneği","index":5,"n_rows":22,"n_cols":15,"rows_kept":22,"merged":[[1,2,1,14]]}
[null,"BAŞLANGIÇ MALİYETLERİ"]
[null,{"$f":"'Başlangıç Maliyetleri Şablonu'!B2","v":"Kahve Dükkanınız"},{"$f":"TODAY()","v":"2022-01-28"}]
[]
[null,"GELİR","OCA","ŞUB","MAR","NİS","MAY","HAZ","TEM","AĞU","EYL","EKİ","KAS","ARA","YB"]
[null,"Tahmini Ürün Satışları",{"v":5000,"d":"₺5,000"},{"v":13000,"d":"₺13,000"},{"v":16000,"d":"₺16,000"},{"v":7000,"d":"₺7,000"},{"v":14500,"d":"₺14,500"},{"v":16400,"d":"₺16,400"},{"v":22500,"d":"₺22,500"},{"v":23125,"d":"₺23,125"},{"v":24549,"d":"₺24,549"},{"v":22000,"d":"₺22,000"},{"v":25000,"d":"₺25,000"},{"v":27349,"d":"₺27,349"},{"$f":"SUM(C5:N5)","v":{"v":216423,"d":"₺216,423"}}]
[null,"Daha Az Satış İadesi ve İndirimler",{"v":0,"d":"₺0"},{"v":-350,"d":"-₺350"},{"v":0,"d":"₺0"},{"v":-206,"d":"-₺206"},{"v":-234,"d":"-₺234"},{"v":0,"d":"₺0"},{"v":0,"d":"₺0"},{"v":-280,"d":"-₺280"},{"v":-1200,"d":"-₺1,200"},{"v":-1600,"d":"-₺1,600"},{"v":0,"d":"₺0"},{"v":-2400,"d":"-₺2,400"},{"$f":"SUM(C6:N6)","v":{"v":-6270,"d":"-₺6,270"}}]
[null,"Hizmet Geliri",{"v":0,"d":"₺0"},{"v":0,"d":"₺0"},{"v":0,"d":"₺0"},{"v":0,"d":"₺0"},{"v":0,"d":"₺0"},{"v":250,"d":"₺250"},{"v":350,"d":"₺350"},{"v":100,"d":"₺100"},{"v":0,"d":"₺0"},{"v":0,"d":"₺0"},{"v":1245,"d":"₺1,245"},{"v":1360,"d":"₺1,360"},{"v":3305,"d":"₺3,305"}]
[null,"Diğer Gelir ",{"v":0,"d":"₺0"},{"v":0,"d":"₺0"},{"v":0,"d":"₺0"},{"v":0,"d":"₺0"},{"v":0,"d":"₺0"},{"v":0,"d":"₺0"},{"v":0,"d":"₺0"},{"v":1500,"d":"₺1,500"},{"v":0,"d":"₺0"},{"v":0,"d":"₺0"},{"v":0,"d":"₺0"},{"v":0,"d":"₺0"},{"v":1500,"d":"₺1,500"}]
[null,"Net Satışlar",{"$f":"SUBTOTAL(109,GerçekGelir[OCA])","v":{"v":5000,"d":"₺5,000"}},{"$f":"SUBTOTAL(109,GerçekGelir[ŞUB])","v":{"v":12650,"d":"₺12,650"}},{"$f":"SUBTOTAL(109,GerçekGelir[MAR])","v":{"v":16000,"d":"₺16,000"}},{"$f":"SUBTOTAL(109,GerçekGelir[NİS])","v":{"v":6794,"d":"₺6,794"}},{"$f":"SUBTOTAL(109,GerçekGelir[MAY])","v":{"v":14266,"d":"₺14,266"}},{"$f":"SUBTOTAL(109,GerçekGelir[HAZ])","v":{"v":16650,"d":"₺16,650"}},{"$f":"SUBTOTAL(109,GerçekGelir[TEM])","v":{"v":22850,"d":"₺22,850"}},{"$f":"SUBTOTAL(109,GerçekGelir[AĞU])","v":{"v":24445,"d":"₺24,445"}},{"$f":"SUBTOTAL(109,GerçekGelir[EYL])","v":{"v":23349,"d":"₺23,349"}},{"$f":"SUBTOTAL(109,GerçekGelir[EKİ])","v":{"v":20400,"d":"₺20,400"}},{"$f":"SUBTOTAL(109,GerçekGelir[KAS])","v":{"v":26245,"d":"₺26,245"}},{"$f":"SUBTOTAL(109,GerçekGelir[ARA])","v":{"v":26309,"d":"₺26,309"}},{"$f":"SUM(GerçekGelir[[#Totals],[OCA]:[ARA]])","v":{"v":214958,"d":"₺214,958"}}]
[null,"Satılan Malların Maliyeti",{"$f":"C5*0.4","v":{"v":2000,"d":"₺2,000"}},{"v":5200,"d":"₺5,200"},{"v":6400,"d":"₺6,400"},{"v":2800,"d":"₺2,800"},{"v":5800,"d":"₺5,800"},{"v":6560,"d":"₺6,560"},{"v":9000,"d":"₺9,000"},{"v":9250,"d":"₺9,250"},{"v":9819.6,"d":"₺9,820"},{"v":8800,"d":"₺8,800"},{"v":10000,"d":"₺10,000"},{"v":10939.6,"d":"₺10,940"},{"v":86569.20000000001,"d":"₺86,569"}]
[null,"Brüt Kar",{"$f":"IFERROR(GerçekGelir[[#Totals],[OCA]]-C10,\"\")","v":{"v":3000,"d":"₺3,000"}},{"$f":"IFERROR(GerçekGelir[[#Totals],[ŞUB]]-D10,\"\")","v":{"v":7450,"d":"₺7,450"}},{"$f":"IFERROR(GerçekGelir[[#Totals],[MAR]]-E10,\"\")","v":{"v":9600,"d":"₺9,600"}},{"$f":"IFERROR(GerçekGelir[[#Totals],[NİS]]-F10,\"\")","v":{"v":3994,"d":"₺3,994"}},{"$f":"IFERROR(GerçekGelir[[#Totals],[MAY]]-G10,\"\")","v":{"v":8466,"d":"₺8,466"}},{"$f":"IFERROR(GerçekGelir[[#Totals],[HAZ]]-H10,\"\")","v":{"v":10090,"d":"₺10,090"}},{"$f":"IFERROR(GerçekGelir[[#Totals],[TEM]]-I10,\"\")","v":{"v":13850,"d":"₺13,850"}},{"$f":"IFERROR(GerçekGelir[[#Totals],[AĞU]]-J10,\"\")","v":{"v":15195,"d":"₺15,195"}},{"$f":"IFERROR(GerçekGelir[[#Totals],[EYL]]-K10,\"\")","v":{"v":13529.4,"d":"₺13,529"}},{"$f":"IFERROR(GerçekGelir[[#Totals],[EKİ]]-L10,\"\")","v":{"v":11600,"d":"₺11,600"}},{"$f":"IFERROR(GerçekGelir[[#Totals],[KAS]]-M10,\"\")","v":{"v":16245,"d":"₺16,245"}},{"$f":"IFERROR(GerçekGelir[[#Totals],[ARA]]-N10,\"\")","v":{"v":15369.4,"d":"₺15,369"}},{"v":128388.79999999999,"d":"₺128,389"}]
[]
[null,"GİDERLER","OCA","ŞUB","MAR","NİS","MAY","HAZ","TEM","AĞU","EYL","EKİ","KAS","ARA","YB"]
[null,"Maaşlar ve Ücretler",{"v":2500,"d":"₺2,500"},{"v":2500,"d":"₺2,500"},{"v":3500,"d":"₺3,500"},{"v":5000,"d":"₺5,000"},{"v":5000,"d":"₺5,000"},{"v":5000,"d":"₺5,000"},{"v":8000,"d":"₺8,000"},{"v":9000,"d":"₺9,000"},{"v":9000,"d":"₺9,000"},{"v":9000,"d":"₺9,000"},{"v":9000,"d":"₺9,000"},{"v":9000,"d":"₺9,000"},{"$f":"SUM(C14:N14)","v":{"v":76500,"d":"₺76,500"}}]
[null,"Pazarlama/Reklam",{"v":400,"d":"₺400"},{"v":450,"d":"₺450"},{"v":450,"d":"₺450"},{"v":450,"d":"₺450"},{"v":900,"d":"₺900"},{"v":900,"d":"₺900"},{"v":900,"d":"₺900"},{"v":900,"d":"₺900"},{"v":900,"d":"₺900"},{"v":900,"d":"₺900"},{"v":1200,"d":"₺1,200"},{"v":1200,"d":"₺1,200"},{"$f":"SUM(C15:N15)","v":{"v":9550,"d":"₺9,550"}}]
[null,"Satış Komisyonları",{"v":250,"d":"₺250"},{"v":650,"d":"₺650"},{"v":800,"d":"₺800"},{"v":350,"d":"₺350"},{"v":725,"d":"₺725"},{"v":820,"d":"₺820"},{"v":1125,"d":"₺1,125"},{"v":1156.25,"d":"₺1,156"},{"v":1227.45,"d":"₺1,227"},{"v":1100,"d":"₺1,100"},{"v":1250,"d":"₺1,250"},{"v":1367.45,"d":"₺1,367"},{"v":10821.150000000001,"d":"₺10,821"}]
[null,"Kira",{"v":1250,"d":"₺1,250"},{"v":1250,"d":"₺1,250"},{"v":1250,"d":"₺1,250"},{"v":1250,"d":"₺1,250"},{"v":1250,"d":"₺1,250"},{"v":1250,"d":"₺1,250"},{"v":1250,"d":"₺1,250"},{"v":1250,"d":"₺1,250"},{"v":1250,"d":"₺1,250"},{"v":1250,"d":"₺1,250"},{"v":1250,"d":"₺1,250"},{"v":1250,"d":"₺1,250"},{"v":15000,"d":"₺15,000"}]
[null,"Toplam Giderler",{"$f":"IF(SUM(C14:C17)=0,\"\",SUM(C14:C17))","v":{"v":4400,"d":"₺4,400"}},{"v":4850,"d":"₺4,850"},{"v":6000,"d":"₺6,000"},{"v":7050,"d":"₺7,050"},{"v":7875,"d":"₺7,875"},{"v":7970,"d":"₺7,970"},{"v":11275,"d":"₺11,275"},{"v":12306.25,"d":"₺12,306"},{"v":12377.45,"d":"₺12,377"},{"v":12250,"d":"₺12,250"},{"v":12700,"d":"₺12,700"},{"v":12817.45,"d":"₺12,817"},{"$f":"SUM(GerçekGiderler[[#Totals],[OCA]:[ARA]])","v":{"v":111871.15,"d":"₺111,871"}}]
[null,"Vergilerden Önceki Gelir",{"$f":"IFERROR('Kar ve Zarar Örneği'!$C$11-GerçekGiderler[[#Totals],[OCA]],\"\")","v":{"v":-1400,"d":"-₺1,400"}},{"$f":"IFERROR('Kar ve Zarar Örneği'!$D$11-GerçekGiderler[[#Totals],[ŞUB]],\"\")","v":{"v":2600,"d":"₺2,600"}},{"$f":"IFERROR('Kar ve Zarar Örneği'!$E$11-GerçekGiderler[[#Totals],[MAR]],\"\")","v":{"v":3600,"d":"₺3,600"}},{"$f":"IFERROR('Kar ve Zarar Örneği'!$F$11-GerçekGiderler[[#Totals],[NİS]],\"\")","v":{"v":-3056,"d":"-₺3,056"}},{"$f":"IFERROR('Kar ve Zarar Örneği'!$G$11-GerçekGiderler[[#Totals],[MAY]],\"\")","v":{"v":591,"d":"₺591"}},{"$f":"IFERROR('Kar ve Zarar Örneği'!$H$11-GerçekGiderler[[#Totals],[HAZ]],\"\")","v":{"v":2120,"d":"₺2,120"}},{"$f":"IFERROR('Kar ve Zarar Örneği'!$I$11-GerçekGiderler[[#Totals],[TEM]],\"\")","v":{"v":2575,"d":"₺2,575"}},{"$f":"IFERROR('Kar ve Zarar Örneği'!$J$11-GerçekGiderler[[#Totals],[AĞU]],\"\")","v":{"v":2888.75,"d":"₺2,889"}},{"$f":"IFERROR('Kar ve Zarar Örneği'!$K$11-GerçekGiderler[[#Totals],[EYL]],\"\")","v":{"v":1151.949999999999,"d":"₺1,152"}},{"$f":"IFERROR('Kar ve Zarar Örneği'!$L$11-GerçekGiderler[[#Totals],[EKİ]],\"\")","v":{"v":-650,"d":"-₺650"}},{"$f":"IFERROR('Kar ve Zarar Örneği'!$M$11-GerçekGiderler[[#Totals],[KAS]],\"\")","v":{"v":3545,"d":"₺3,545"}},{"$f":"IFERROR('Kar ve Zarar Örneği'!$N$11-GerçekGiderler[[#Totals],[ARA]],\"\")","v":{"v":2551.949999999999,"d":"₺2,552"}},{"$f":"SUM(C19:N19)","v":{"v":16517.649999999998,"d":"₺16,518"}}]
[null,"Gelir Vergisi Gideri",{"$f":"C19*0.15","v":{"v":-210,"d":"-₺210"}},{"v":390,"d":"₺390"},{"$f":"E19*0.15","v":{"v":540,"d":"₺540"}},{"$f":"F19*0.15","v":{"v":-458.4,"d":"-₺458"}},{"$f":"G19*0.15","v":{"v":88.64999999999999,"d":"₺89"}},{"$f":"H19*0.15","v":{"v":318,"d":"₺318"}},{"$f":"I19*0.15","v":{"v":386.25,"d":"₺386"}},{"$f":"J19*0.15","v":{"v":433.3125,"d":"₺433"}},{"$f":"K19*0.15","v":{"v":172.79249999999982,"d":"₺173"}},{"$f":"L19*0.15","v":{"v":-97.5,"d":"-₺98"}},{"$f":"M19*0.15","v":{"v":531.75,"d":"₺532"}},{"$f":"N19*0.15","v":{"v":382.79249999999985,"d":"₺383"}},{"$f":"SUM('Kar ve Zarar Örneği'!$C$20:$N$20)","v":{"v":2477.6474999999996,"d":"₺2,478"}}]
[]
[null,"NET GELİR",{"$f":"IFERROR(C19-'Kar ve Zarar Örneği'!$C$20,\" \")","v":{"v":-1190,"d":"-₺1,190"}},{"$f":"IFERROR(D19-'Kar ve Zarar Örneği'!$D$20,\" \")","v":{"v":2210,"d":"₺2,210"}},{"$f":"IFERROR(E19-'Kar ve Zarar Örneği'!$E$20,\"\")","v":{"v":3060,"d":"₺3,060"}},{"$f":"IFERROR(F19-'Kar ve Zarar Örneği'!$F$20,\"\")","v":{"v":-2597.6,"d":"-₺2,598"}},{"$f":"IFERROR(G19-'Kar ve Zarar Örneği'!$G$20,\"\")","v":{"v":502.35,"d":"₺502"}},{"$f":"IFERROR(H19-'Kar ve Zarar Örneği'!$H$20,\"\")","v":{"v":1802,"d":"₺1,802"}},{"$f":"IFERROR(I19-'Kar ve Zarar Örneği'!$I$20,\"\")","v":{"v":2188.75,"d":"₺2,189"}},{"$f":"IFERROR(J19-'Kar ve Zarar Örneği'!$J$20,\"\")","v":{"v":2455.4375,"d":"₺2,455"}},{"$f":"IFERROR(K19-'Kar ve Zarar Örneği'!$K$20,\"\")","v":{"v":979.1574999999991,"d":"₺979"}},{"$f":"IFERROR(L19-'Kar ve Zarar Örneği'!$L$20,\"\")","v":{"v":-552.5,"d":"-₺553"}},{"$f":"IFERROR(M19-'Kar ve Zarar Örneği'!$M$20,\"\")","v":{"v":3013.25,"d":"₺3,013"}},{"$f":"IFERROR(N19-'Kar ve Zarar Örneği'!$N$20,\"\")","v":{"v":2169.157499999999,"d":"₺2,169"}},{"$f":"IFERROR(O19-'Kar ve Zarar Örneği'!$O$20,\"\")","v":{"v":14040.002499999999,"d":"₺14,040"}}]