{"text_format":"3","workbook":"xlsx","n_sheets":7,"sheets":["Pazartesi","Salı","Çarşamba","Perşembe","Cuma","Cumartesi","Pazar"],"not_rendered":{"defined_names":21},"read":"whole","date_system":"1900"}

{"sheet":"Pazartesi","index":0,"n_rows":10,"n_cols":13,"rows_kept":10,"merged":[[0,1,0,4],[1,2,1,4],[2,2,2,4]]}
[null,"Vardiya Çizelgesi"]
[null,"Hafta: ","Tarih"]
[null,"Bölüm Adı: ","Ad"]
[]
[null,"PAZARTESİ","07:00:00","08:00:00","09:00:00","10:00:00","11:00:00","12:00:00","13:00:00","14:00:00","15:00:00","Hastalık İzni?","TOPLAM"]
[null,"Ad 1","yönetici","yönetici","yönetici","yönetici","yönetici","yönetici","yönetici","yönetici","yönetici",null,{"$f":"COUNTIF(Pazartesi[[#This Row],[07:00:00]:[15:00:00]],\"*\")","v":9}]
[null,"Ad 2",null,"kasiyer","kasiyer","kasiyer","kasiyer",{"$nulls":5},{"$f":"COUNTIF(Pazartesi[[#This Row],[07:00:00]:[15:00:00]],\"*\")","v":4}]
[null,"Ad 3",null,"ön sıra","ön sıra","ön sıra","ön sıra ","ön sıra","ön sıra","ön sıra",null,null,{"$f":"COUNTIF(Pazartesi[[#This Row],[07:00:00]:[15:00:00]],\"*\")","v":7}]
[null,"Ad 4",null,"ön sıra","ön sıra","ön sıra","ön sıra ","ön sıra","ön sıra","ön sıra",null,null,{"$f":"COUNTIF(Pazartesi[[#This Row],[07:00:00]:[15:00:00]],\"*\")","v":7}]
[null,"Ad 5",{"$nulls":9},"Hastalık",{"$f":"COUNTIF(Pazartesi[[#This Row],[07:00:00]:[15:00:00]],\"*\")","v":0}]

{"sheet":"Salı","index":1,"n_rows":10,"n_cols":13,"rows_kept":10,"merged":[[0,1,0,4],[1,2,1,4],[2,2,2,4]]}
[null,"Vardiya Çizelgesi"]
[null,"Hafta: ",{"$f":"Pazartesi!C2","v":"Tarih"}]
[null,"Bölüm Adı: ",{"$f":"Pazartesi!C3","v":"Ad"}]
[]
[null,"SALI","07:00:00","08:00:00","09:00:00","10:00:00","11:00:00","12:00:00","13:00:00","14:00:00","15:00:00","Hastalık İzni?","TOPLAM"]
[null,"Ad 1","yönetici","yönetici","yönetici","yönetici","yönetici","yönetici","yönetici","yönetici","yönetici",null,{"$f":"COUNTIF(Salı[[#This Row],[07:00:00]:[15:00:00]],\"*\")","v":9}]
[null,"Ad 2",null,"kasiyer","kasiyer","kasiyer","kasiyer",{"$nulls":5},{"$f":"COUNTIF(Salı[[#This Row],[07:00:00]:[15:00:00]],\"*\")","v":4}]
[null,"Ad 3",null,"ön sıra","ön sıra","ön sıra","ön sıra ","ön sıra","ön sıra","ön sıra",null,null,{"$f":"COUNTIF(Salı[[#This Row],[07:00:00]:[15:00:00]],\"*\")","v":7}]
[null,"Ad 4",null,"ön sıra","ön sıra","ön sıra","ön sıra ","ön sıra","ön sıra","ön sıra",null,null,{"$f":"COUNTIF(Salı[[#This Row],[07:00:00]:[15:00:00]],\"*\")","v":7}]
[null,"Ad 5",{"$nulls":9},"Hastalık",{"$f":"COUNTIF(Salı[[#This Row],[07:00:00]:[15:00:00]],\"*\")","v":0}]

{"sheet":"Çarşamba","index":2,"n_rows":10,"n_cols":13,"rows_kept":10,"merged":[[0,1,0,4],[1,2,1,4],[2,2,2,4]]}
[null,"Vardiya Çizelgesi"]
[null,"Hafta: ",{"$f":"Pazartesi!C2","v":"Tarih"}]
[null,"Bölüm Adı: ",{"$f":"Pazartesi!C3","v":"Ad"}]
[]
[null,"ÇARŞAMBA","07:00:00","08:00:00","09:00:00","10:00:00","11:00:00","12:00:00","13:00:00","14:00:00","15:00:00","Hastalık İzni?","TOPLAM"]
[null,"Ad 1","yönetici","yönetici","yönetici","yönetici","yönetici","yönetici","yönetici","yönetici","yönetici",null,{"$f":"COUNTIF(Çarşamba[[#This Row],[07:00:00]:[15:00:00]],\"*\")","v":9}]
[null,"Ad 2",null,"kasiyer","kasiyer","kasiyer","kasiyer",{"$nulls":5},{"$f":"COUNTIF(Çarşamba[[#This Row],[07:00:00]:[15:00:00]],\"*\")","v":4}]
[null,"Ad 3",null,"ön sıra","ön sıra","ön sıra","ön sıra ","ön sıra","ön sıra","ön sıra",null,null,{"$f":"COUNTIF(Çarşamba[[#This Row],[07:00:00]:[15:00:00]],\"*\")","v":7}]
[null,"Ad 4",null,"ön sıra","ön sıra","ön sıra","ön sıra ","ön sıra","ön sıra","ön sıra",null,null,{"$f":"COUNTIF(Çarşamba[[#This Row],[07:00:00]:[15:00:00]],\"*\")","v":7}]
[null,"Ad 5",{"$nulls":9},"Hastalık",{"$f":"COUNTIF(Çarşamba[[#This Row],[07:00:00]:[15:00:00]],\"*\")","v":0}]

{"sheet":"Perşembe","index":3,"n_rows":10,"n_cols":13,"rows_kept":10,"merged":[[0,1,0,4],[1,2,1,4],[2,2,2,4]]}
[null,"Vardiya Çizelgesi"]
[null,"Hafta: ",{"$f":"Pazartesi!C2","v":"Tarih"}]
[null,"Bölüm Adı: ",{"$f":"Pazartesi!C3","v":"Ad"}]
[]
[null,"PERŞEMBE","07:00:00","08:00:00","09:00:00","10:00:00","11:00:00","12:00:00","13:00:00","14:00:00","15:00:00","Hastalık İzni?","TOPLAM"]
[null,"Ad 1","yönetici","yönetici","yönetici","yönetici","yönetici","yönetici","yönetici","yönetici","yönetici",null,{"$f":"COUNTIF(Perşembe[[#This Row],[07:00:00]:[15:00:00]],\"*\")","v":9}]
[null,"Ad 2",null,"kasiyer","kasiyer","kasiyer","kasiyer",{"$nulls":5},{"$f":"COUNTIF(Perşembe[[#This Row],[07:00:00]:[15:00:00]],\"*\")","v":4}]
[null,"Ad 3",null,"ön sıra","ön sıra","ön sıra","ön sıra ","ön sıra","ön sıra","ön sıra",null,null,{"$f":"COUNTIF(Perşembe[[#This Row],[07:00:00]:[15:00:00]],\"*\")","v":7}]
[null,"Ad 4",null,"ön sıra","ön sıra","ön sıra","ön sıra ","ön sıra","ön sıra","ön sıra",null,null,{"$f":"COUNTIF(Perşembe[[#This Row],[07:00:00]:[15:00:00]],\"*\")","v":7}]
[null,"Ad 5",{"$nulls":9},"Hastalık",{"$f":"COUNTIF(Perşembe[[#This Row],[07:00:00]:[15:00:00]],\"*\")","v":0}]

{"sheet":"Cuma","index":4,"n_rows":10,"n_cols":13,"rows_kept":10,"merged":[[0,1,0,4],[1,2,1,4],[2,2,2,4]]}
[null,"Vardiya Çizelgesi"]
[null,"Hafta: ",{"$f":"Pazartesi!C2","v":"Tarih"}]
[null,"Bölüm Adı: ",{"$f":"Pazartesi!C3","v":"Ad"}]
[]
[null,"CUMA","07:00:00","08:00:00","09:00:00","10:00:00","11:00:00","12:00:00","13:00:00","14:00:00","15:00:00","Hastalık İzni?","TOPLAM"]
[null,"Ad 1","yönetici","yönetici","yönetici","yönetici","yönetici","yönetici","yönetici","yönetici","yönetici",null,{"$f":"COUNTIF(Cuma[[#This Row],[07:00:00]:[15:00:00]],\"*\")","v":9}]
[null,"Ad 2",null,"kasiyer","kasiyer","kasiyer","kasiyer",{"$nulls":5},{"$f":"COUNTIF(Cuma[[#This Row],[07:00:00]:[15:00:00]],\"*\")","v":4}]
[null,"Ad 3",null,"ön sıra","ön sıra","ön sıra","ön sıra ","ön sıra","ön sıra","ön sıra",null,null,{"$f":"COUNTIF(Cuma[[#This Row],[07:00:00]:[15:00:00]],\"*\")","v":7}]
[null,"Ad 4",null,"ön sıra","ön sıra","ön sıra","ön sıra ","ön sıra","ön sıra","ön sıra",null,null,{"$f":"COUNTIF(Cuma[[#This Row],[07:00:00]:[15:00:00]],\"*\")","v":7}]
[null,"Ad 5",{"$nulls":9},"Hastalık",{"$f":"COUNTIF(Cuma[[#This Row],[07:00:00]:[15:00:00]],\"*\")","v":0}]

{"sheet":"Cumartesi","index":5,"n_rows":10,"n_cols":13,"rows_kept":10,"merged":[[0,1,0,4],[1,2,1,4],[2,2,2,4]]}
[null,"Vardiya Çizelgesi"]
[null,"Hafta: ",{"$f":"Pazartesi!C2","v":"Tarih"}]
[null,"Bölüm Adı: ",{"$f":"Pazartesi!C3","v":"Ad"}]
[]
[null,"CUMARTESİ","07:00:00","08:00:00","09:00:00","10:00:00","11:00:00","12:00:00","13:00:00","14:00:00","15:00:00","Hastalık İzni?","TOPLAM"]
[null,"Ad 1","yönetici","yönetici","yönetici","yönetici","yönetici","yönetici","yönetici","yönetici","yönetici",null,{"$f":"COUNTIF(Cumartesi[[#This Row],[07:00:00]:[15:00:00]],\"*\")","v":9}]
[null,"Ad 2",null,"kasiyer","kasiyer","kasiyer","kasiyer",{"$nulls":5},{"$f":"COUNTIF(Cumartesi[[#This Row],[07:00:00]:[15:00:00]],\"*\")","v":4}]
[null,"Ad 3",null,"ön sıra","ön sıra","ön sıra","ön sıra ","ön sıra","ön sıra","ön sıra",null,null,{"$f":"COUNTIF(Cumartesi[[#This Row],[07:00:00]:[15:00:00]],\"*\")","v":7}]
[null,"Ad 4",null,"ön sıra","ön sıra","ön sıra","ön sıra ","ön sıra","ön sıra","ön sıra",null,null,{"$f":"COUNTIF(Cumartesi[[#This Row],[07:00:00]:[15:00:00]],\"*\")","v":7}]
[null,"Ad 5",{"$nulls":9},"Hastalık",{"$f":"COUNTIF(Cumartesi[[#This Row],[07:00:00]:[15:00:00]],\"*\")","v":0}]

{"sheet":"Pazar","index":6,"n_rows":10,"n_cols":13,"rows_kept":10,"merged":[[0,1,0,4],[1,2,1,4],[2,2,2,4]]}
[null,"Vardiya Çizelgesi"]
[null,"Hafta: ",{"$f":"Pazartesi!C2","v":"Tarih"}]
[null,"Bölüm Adı: ",{"$f":"Pazartesi!C3","v":"Ad"}]
[]
[null,"PAZAR","07:00:00","08:00:00","09:00:00","10:00:00","11:00:00","12:00:00","13:00:00","14:00:00","15:00:00","Hastalık İzni?","TOPLAM"]
[null,"Ad 1","yönetici","yönetici","yönetici","yönetici","yönetici","yönetici","yönetici","yönetici","yönetici",null,{"$f":"COUNTIF(Pazar[[#This Row],[07:00:00]:[15:00:00]],\"*\")","v":9}]
[null,"Ad 2",null,"kasiyer","kasiyer","kasiyer","kasiyer",{"$nulls":5},{"$f":"COUNTIF(Pazar[[#This Row],[07:00:00]:[15:00:00]],\"*\")","v":4}]
[null,"Ad 3",null,"ön sıra","ön sıra","ön sıra","ön sıra ","ön sıra","ön sıra","ön sıra",null,null,{"$f":"COUNTIF(Pazar[[#This Row],[07:00:00]:[15:00:00]],\"*\")","v":7}]
[null,"Ad 4",null,"ön sıra","ön sıra","ön sıra","ön sıra ","ön sıra","ön sıra","ön sıra",null,null,{"$f":"COUNTIF(Pazar[[#This Row],[07:00:00]:[15:00:00]],\"*\")","v":7}]
[null,"Ad 5",{"$nulls":9},"Hastalık",{"$f":"COUNTIF(Pazar[[#This Row],[07:00:00]:[15:00:00]],\"*\")","v":0}]