{"text_format":"3","workbook":"xlsx","n_sheets":13,"sheets":["มกราคม","กุมภาพันธ์","มีนาคม","เมษายน","พฤษภาคม","มิถุนายน","กรกฎาคม","สิงหาคม","กันยายน","ตุลาคม","พฤศจิกายน","ธันวาคม","ชื่อพนักงาน"],"not_rendered":{"defined_names":50},"read":"whole","date_system":"1900"}

{"sheet":"มกราคม","index":0,"n_rows":12,"n_cols":34,"rows_kept":12,"merged":[[1,3,1,5],[1,7,1,8],[3,2,3,32]]}
[null,"กำหนดการการขาดงานของพนักงาน"]
[null,"คีย์ประเภทการขาดงาน","V","วันหยุดพักผ่อน",null,null,"P","ส่วนบุคคล",null,"S","ป่วย",null,"กำหนดเอง 1",{"$nulls":3},"กำหนดเอง 2"]
[{"$nulls":33},"ใส่ปี:"]
[null,"มกราคม","วันที่ที่ขาดงาน",{"$nulls":30},2019]
[null,null,{"$f":"TEXT(WEEKDAY(DATE(ปีปฏิทิน,1,1),1),\"aaa\")","v":"อ."},{"$f":"TEXT(WEEKDAY(DATE(ปีปฏิทิน,1,2),1),\"aaa\")","v":"พ."},{"$f":"TEXT(WEEKDAY(DATE(ปีปฏิทิน,1,3),1),\"aaa\")","v":"พฤ."},{"$f":"TEXT(WEEKDAY(DATE(ปีปฏิทิน,1,4),1),\"aaa\")","v":"ศ."},{"$f":"TEXT(WEEKDAY(DATE(ปีปฏิทิน,1,5),1),\"aaa\")","v":"ส."},{"$f":"TEXT(WEEKDAY(DATE(ปีปฏิทิน,1,6),1),\"aaa\")","v":"อา."},{"$f":"TEXT(WEEKDAY(DATE(ปีปฏิทิน,1,7),1),\"aaa\")","v":"จ."},{"$f":"TEXT(WEEKDAY(DATE(ปีปฏิทิน,1,8),1),\"aaa\")","v":"อ."},{"$f":"TEXT(WEEKDAY(DATE(ปีปฏิทิน,1,9),1),\"aaa\")","v":"พ."},{"$f":"TEXT(WEEKDAY(DATE(ปีปฏิทิน,1,10),1),\"aaa\")","v":"พฤ."},{"$f":"TEXT(WEEKDAY(DATE(ปีปฏิทิน,1,11),1),\"aaa\")","v":"ศ."},{"$f":"TEXT(WEEKDAY(DATE(ปีปฏิทิน,1,12),1),\"aaa\")","v":"ส."},{"$f":"TEXT(WEEKDAY(DATE(ปีปฏิทิน,1,13),1),\"aaa\")","v":"อา."},{"$f":"TEXT(WEEKDAY(DATE(ปีปฏิทิน,1,14),1),\"aaa\")","v":"จ."},{"$f":"TEXT(WEEKDAY(DATE(ปีปฏิทิน,1,15),1),\"aaa\")","v":"อ."},{"$f":"TEXT(WEEKDAY(DATE(ปีปฏิทิน,1,16),1),\"aaa\")","v":"พ."},{"$f":"TEXT(WEEKDAY(DATE(ปีปฏิทิน,1,17),1),\"aaa\")","v":"พฤ."},{"$f":"TEXT(WEEKDAY(DATE(ปีปฏิทิน,1,18),1),\"aaa\")","v":"ศ."},{"$f":"TEXT(WEEKDAY(DATE(ปีปฏิทิน,1,19),1),\"aaa\")","v":"ส."},{"$f":"TEXT(WEEKDAY(DATE(ปีปฏิทิน,1,20),1),\"aaa\")","v":"อา."},{"$f":"TEXT(WEEKDAY(DATE(ปีปฏิทิน,1,21),1),\"aaa\")","v":"จ."},{"$f":"TEXT(WEEKDAY(DATE(ปีปฏิทิน,1,22),1),\"aaa\")","v":"อ."},{"$f":"TEXT(WEEKDAY(DATE(ปีปฏิทิน,1,23),1),\"aaa\")","v":"พ."},{"$f":"TEXT(WEEKDAY(DATE(ปีปฏิทิน,1,24),1),\"aaa\")","v":"พฤ."},{"$f":"TEXT(WEEKDAY(DATE(ปีปฏิทิน,1,25),1),\"aaa\")","v":"ศ."},{"$f":"TEXT(WEEKDAY(DATE(ปีปฏิทิน,1,26),1),\"aaa\")","v":"ส."},{"$f":"TEXT(WEEKDAY(DATE(ปีปฏิทิน,1,27),1),\"aaa\")","v":"อา."},{"$f":"TEXT(WEEKDAY(DATE(ปีปฏิทิน,1,28),1),\"aaa\")","v":"จ."},{"$f":"TEXT(WEEKDAY(DATE(ปีปฏิทิน,1,29),1),\"aaa\")","v":"อ."},{"$f":"TEXT(WEEKDAY(DATE(ปีปฏิทิน,1,30),1),\"aaa\")","v":"พ."},{"$f":"TEXT(WEEKDAY(DATE(ปีปฏิทิน,1,31),1),\"aaa\")","v":"พฤ."}]
[null,"ชื่อพนักงาน","1","2","3","4","5","6","7","8","9","10","11","12","13","14","15","16","17","18","19","20","21","22","23","24","25","26","27","28","29","30","31","จำนวนวัน:"]
[null,"พนักงาน 1",null,null,"V","V","V","V",{"$nulls":6},"V",{"$nulls":18},{"$f":"COUNTA(มกราคม!$C7:$AG7)","v":5}]
[null,"พนักงาน 2",{"$nulls":4},"S","S",{"$nulls":4},"P",{"$nulls":8},"S",{"$nulls":4},"V","V","V",{"$nulls":4},{"$f":"COUNTA(มกราคม!$C8:$AG8)","v":7}]
[null,"พนักงาน 3",null,null,"P",{"$nulls":10},"S",{"$nulls":14},"S",null,null,{"$f":"COUNTA(มกราคม!$C9:$AG9)","v":3}]
[null,"พนักงาน 4",{"$nulls":6},"P",{"$nulls":11},"V","V","V",{"$nulls":10},{"$f":"COUNTA(มกราคม!$C10:$AG10)","v":4}]
[null,"พนักงาน 5",{"$nulls":3},"S","V","V",{"$nulls":10},"S",{"$nulls":6},"S",{"$nulls":6},"V",{"$f":"COUNTA(มกราคม!$C11:$AG11)","v":6}]
[null,{"$f":"MonthName&\" ผลรวม\"","v":"มกราคม ผลรวม"},{"$f":"SUBTOTAL(103,มกราคม!$C$7:$C$11)","v":0},{"$f":"SUBTOTAL(103,มกราคม!$D$7:$D$11)","v":0},{"$f":"SUBTOTAL(103,มกราคม!$E$7:$E$11)","v":2},{"$f":"SUBTOTAL(103,มกราคม!$F$7:$F$11)","v":2},{"$f":"SUBTOTAL(103,มกราคม!$G$7:$G$11)","v":3},{"$f":"SUBTOTAL(103,มกราคม!$H$7:$H$11)","v":3},{"$f":"SUBTOTAL(103,มกราคม!$I$7:$I$11)","v":1},{"$f":"SUBTOTAL(103,มกราคม!$J$7:$J$11)","v":0},{"$f":"SUBTOTAL(103,มกราคม!$K$7:$K$11)","v":0},{"$f":"SUBTOTAL(103,มกราคม!$L$7:$L$11)","v":0},{"$f":"SUBTOTAL(103,มกราคม!$M$7:$M$11)","v":1},{"$f":"SUBTOTAL(103,มกราคม!$N$7:$N$11)","v":0},{"$f":"SUBTOTAL(103,มกราคม!$O$7:$O$11)","v":1},{"$f":"SUBTOTAL(103,มกราคม!$P$7:$P$11)","v":1},{"$f":"SUBTOTAL(103,มกราคม!$Q$7:$Q$11)","v":0},{"$f":"SUBTOTAL(103,มกราคม!$R$7:$R$11)","v":0},{"$f":"SUBTOTAL(103,มกราคม!$S$7:$S$11)","v":1},{"$f":"SUBTOTAL(103,มกราคม!$T$7:$T$11)","v":0},{"$f":"SUBTOTAL(103,มกราคม!$U$7:$U$11)","v":1},{"$f":"SUBTOTAL(103,มกราคม!$V$7:$V$11)","v":2},{"$f":"SUBTOTAL(103,มกราคม!$W$7:$W$11)","v":1},{"$f":"SUBTOTAL(103,มกราคม!$X$7:$X$11)","v":0},{"$f":"SUBTOTAL(103,มกราคม!$Y$7:$Y$11)","v":0},{"$f":"SUBTOTAL(103,มกราคม!$Z$7:$Z$11)","v":1},{"$f":"SUBTOTAL(103,มกราคม!$AA$7:$AA$11)","v":1},{"$f":"SUBTOTAL(103,มกราคม!$AB$7:$AB$11)","v":1},{"$f":"SUBTOTAL(103,มกราคม!$AC$7:$AC$11)","v":1},{"$f":"SUBTOTAL(103,มกราคม!$AD$7:$AD$11)","v":0},{"$f":"SUBTOTAL(103,มกราคม!$AE$7:$AE$11)","v":1},{"$f":"SUBTOTAL(103,มกราคม!$AF$7:$AF$11)","v":0},{"$f":"SUBTOTAL(103,มกราคม!$AG$7:$AG$11)","v":1},{"$f":"SUBTOTAL(109,มกราคม[จำนวนวัน:])","v":25}]

{"sheet":"กุมภาพันธ์","index":1,"n_rows":12,"n_cols":34,"rows_kept":12,"merged":[[1,3,1,5],[1,7,1,8],[3,2,3,32]]}
[null,{"$f":"Employee_Absence_Title","v":"กำหนดการการขาดงานของพนักงาน"}]
[null,"คีย์ประเภทการขาดงาน","V","วันหยุดพักผ่อน",null,null,"P","ส่วนบุคคล",null,"S","ป่วย",null,"กำหนดเอง 1",{"$nulls":3},"กำหนดเอง 2"]
[]
[null,"กุมภาพันธ์","วันที่ที่ขาดงาน",{"$nulls":30},{"$f":"ปีปฏิทิน","v":2019}]
[null,null,{"$f":"TEXT(WEEKDAY(DATE(ปีปฏิทิน,2,1),1),\"aaa\")","v":"ศ."},{"$f":"TEXT(WEEKDAY(DATE(ปีปฏิทิน,2,2),1),\"aaa\")","v":"ส."},{"$f":"TEXT(WEEKDAY(DATE(ปีปฏิทิน,2,3),1),\"aaa\")","v":"อา."},{"$f":"TEXT(WEEKDAY(DATE(ปีปฏิทิน,2,4),1),\"aaa\")","v":"จ."},{"$f":"TEXT(WEEKDAY(DATE(ปีปฏิทิน,2,5),1),\"aaa\")","v":"อ."},{"$f":"TEXT(WEEKDAY(DATE(ปีปฏิทิน,2,6),1),\"aaa\")","v":"พ."},{"$f":"TEXT(WEEKDAY(DATE(ปีปฏิทิน,2,7),1),\"aaa\")","v":"พฤ."},{"$f":"TEXT(WEEKDAY(DATE(ปีปฏิทิน,2,8),1),\"aaa\")","v":"ศ."},{"$f":"TEXT(WEEKDAY(DATE(ปีปฏิทิน,2,9),1),\"aaa\")","v":"ส."},{"$f":"TEXT(WEEKDAY(DATE(ปีปฏิทิน,2,10),1),\"aaa\")","v":"อา."},{"$f":"TEXT(WEEKDAY(DATE(ปีปฏิทิน,2,11),1),\"aaa\")","v":"จ."},{"$f":"TEXT(WEEKDAY(DATE(ปีปฏิทิน,2,12),1),\"aaa\")","v":"อ."},{"$f":"TEXT(WEEKDAY(DATE(ปีปฏิทิน,2,13),1),\"aaa\")","v":"พ."},{"$f":"TEXT(WEEKDAY(DATE(ปีปฏิทิน,2,14),1),\"aaa\")","v":"พฤ."},{"$f":"TEXT(WEEKDAY(DATE(ปีปฏิทิน,2,15),1),\"aaa\")","v":"ศ."},{"$f":"TEXT(WEEKDAY(DATE(ปีปฏิทิน,2,16),1),\"aaa\")","v":"ส."},{"$f":"TEXT(WEEKDAY(DATE(ปีปฏิทิน,2,17),1),\"aaa\")","v":"อา."},{"$f":"TEXT(WEEKDAY(DATE(ปีปฏิทิน,2,18),1),\"aaa\")","v":"จ."},{"$f":"TEXT(WEEKDAY(DATE(ปีปฏิทิน,2,19),1),\"aaa\")","v":"อ."},{"$f":"TEXT(WEEKDAY(DATE(ปีปฏิทิน,2,20),1),\"aaa\")","v":"พ."},{"$f":"TEXT(WEEKDAY(DATE(ปีปฏิทิน,2,21),1),\"aaa\")","v":"พฤ."},{"$f":"TEXT(WEEKDAY(DATE(ปีปฏิทิน,2,22),1),\"aaa\")","v":"ศ."},{"$f":"TEXT(WEEKDAY(DATE(ปีปฏิทิน,2,23),1),\"aaa\")","v":"ส."},{"$f":"TEXT(WEEKDAY(DATE(ปีปฏิทิน,2,24),1),\"aaa\")","v":"อา."},{"$f":"TEXT(WEEKDAY(DATE(ปีปฏิทิน,2,25),1),\"aaa\")","v":"จ."},{"$f":"TEXT(WEEKDAY(DATE(ปีปฏิทิน,2,26),1),\"aaa\")","v":"อ."},{"$f":"TEXT(WEEKDAY(DATE(ปีปฏิทิน,2,27),1),\"aaa\")","v":"พ."},{"$f":"TEXT(WEEKDAY(DATE(ปีปฏิทิน,2,28),1),\"aaa\")","v":"พฤ."},{"$f":"TEXT(WEEKDAY(DATE(ปีปฏิทิน,2,29),1),\"aaa\")","v":"ศ."}]
[null,"ชื่อพนักงาน","1","2","3","4","5","6","7","8","9","10","11","12","13","14","15","16","17","18","19","20","21","22","23","24","25","26","27","28","29"," ","  ","จำนวนวัน:"]
[null,"พนักงาน 1",null,null,"V","V","V","V",{"$nulls":6},"V",{"$nulls":18},{"$f":"COUNTA(กุมภาพันธ์[[#This Row],[1]:[29]])","v":5}]
[null,"พนักงาน 2",{"$nulls":4},"S","S",{"$nulls":4},"P",{"$nulls":8},"S",{"$nulls":4},"V","V","V",{"$nulls":4},{"$f":"COUNTA(กุมภาพันธ์[[#This Row],[1]:[29]])","v":7}]
[null,"พนักงาน 3",{"$nulls":31},{"$f":"COUNTA(กุมภาพันธ์[[#This Row],[1]:[29]])","v":0}]
[null,"พนักงาน 4",null,null,"S",{"$nulls":10},"S",{"$nulls":3},"P",{"$nulls":9},"S",{"$nulls":3},{"$f":"COUNTA(กุมภาพันธ์[[#This Row],[1]:[29]])","v":4}]
[null,"พนักงาน 5",{"$nulls":7},"V","V","V","V",{"$nulls":12},"S",{"$nulls":7},{"$f":"COUNTA(กุมภาพันธ์[[#This Row],[1]:[29]])","v":5}]
[null,{"$f":"MonthName&\" ผลรวม\"","v":"กุมภาพันธ์ ผลรวม"},{"$f":"SUBTOTAL(103,กุมภาพันธ์[1])","v":0},{"$f":"SUBTOTAL(103,กุมภาพันธ์[2])","v":0},{"$f":"SUBTOTAL(103,กุมภาพันธ์[3])","v":2},{"$f":"SUBTOTAL(103,กุมภาพันธ์[4])","v":1},{"$f":"SUBTOTAL(103,กุมภาพันธ์[5])","v":2},{"$f":"SUBTOTAL(103,กุมภาพันธ์[6])","v":2},{"$f":"SUBTOTAL(103,กุมภาพันธ์[7])","v":0},{"$f":"SUBTOTAL(103,กุมภาพันธ์[8])","v":1},{"$f":"SUBTOTAL(103,กุมภาพันธ์[9])","v":1},{"$f":"SUBTOTAL(103,กุมภาพันธ์[10])","v":1},{"$f":"SUBTOTAL(103,กุมภาพันธ์[11])","v":2},{"$f":"SUBTOTAL(103,กุมภาพันธ์[12])","v":0},{"$f":"SUBTOTAL(103,กุมภาพันธ์[13])","v":1},{"$f":"SUBTOTAL(103,กุมภาพันธ์[14])","v":1},{"$f":"SUBTOTAL(103,กุมภาพันธ์[15])","v":0},{"$f":"SUBTOTAL(103,กุมภาพันธ์[16])","v":0},{"$f":"SUBTOTAL(103,กุมภาพันธ์[17])","v":0},{"$f":"SUBTOTAL(103,กุมภาพันธ์[18])","v":1},{"$f":"SUBTOTAL(103,กุมภาพันธ์[19])","v":0},{"$f":"SUBTOTAL(103,กุมภาพันธ์[20])","v":1},{"$f":"SUBTOTAL(103,กุมภาพันธ์[21])","v":0},{"$f":"SUBTOTAL(103,กุมภาพันธ์[22])","v":0},{"$f":"SUBTOTAL(103,กุมภาพันธ์[23])","v":0},{"$f":"SUBTOTAL(103,กุมภาพันธ์[24])","v":1},{"$f":"SUBTOTAL(103,กุมภาพันธ์[25])","v":1},{"$f":"SUBTOTAL(103,กุมภาพันธ์[26])","v":1},{"$f":"SUBTOTAL(103,กุมภาพันธ์[27])","v":1},{"$f":"SUBTOTAL(103,กุมภาพันธ์[28])","v":1},{"$f":"SUBTOTAL(103,กุมภาพันธ์[29])","v":0},null,null,{"$f":"SUBTOTAL(109,กุมภาพันธ์[จำนวนวัน:])","v":21}]

{"sheet":"มีนาคม","index":2,"n_rows":12,"n_cols":34,"rows_kept":12,"merged":[[1,3,1,5],[1,7,1,8],[3,2,3,32]]}
[null,{"$f":"Employee_Absence_Title","v":"กำหนดการการขาดงานของพนักงาน"}]
[null,"คีย์ประเภทการขาดงาน","V","วันหยุดพักผ่อน",null,null,"P","ส่วนบุคคล",null,"S","ป่วย",null,"กำหนดเอง 1",{"$nulls":3},"กำหนดเอง 2"]
[]
[null,"มีนาคม","วันที่ที่ขาดงาน",{"$nulls":30},{"$f":"ปีปฏิทิน","v":2019}]
[null,null,{"$f":"TEXT(WEEKDAY(DATE(ปีปฏิทิน,3,1),1),\"aaa\")","v":"ศ."},{"$f":"TEXT(WEEKDAY(DATE(ปีปฏิทิน,3,2),1),\"aaa\")","v":"ส."},{"$f":"TEXT(WEEKDAY(DATE(ปีปฏิทิน,3,3),1),\"aaa\")","v":"อา."},{"$f":"TEXT(WEEKDAY(DATE(ปีปฏิทิน,3,4),1),\"aaa\")","v":"จ."},{"$f":"TEXT(WEEKDAY(DATE(ปีปฏิทิน,3,5),1),\"aaa\")","v":"อ."},{"$f":"TEXT(WEEKDAY(DATE(ปีปฏิทิน,3,6),1),\"aaa\")","v":"พ."},{"$f":"TEXT(WEEKDAY(DATE(ปีปฏิทิน,3,7),1),\"aaa\")","v":"พฤ."},{"$f":"TEXT(WEEKDAY(DATE(ปีปฏิทิน,3,8),1),\"aaa\")","v":"ศ."},{"$f":"TEXT(WEEKDAY(DATE(ปีปฏิทิน,3,9),1),\"aaa\")","v":"ส."},{"$f":"TEXT(WEEKDAY(DATE(ปีปฏิทิน,3,10),1),\"aaa\")","v":"อา."},{"$f":"TEXT(WEEKDAY(DATE(ปีปฏิทิน,3,11),1),\"aaa\")","v":"จ."},{"$f":"TEXT(WEEKDAY(DATE(ปีปฏิทิน,3,12),1),\"aaa\")","v":"อ."},{"$f":"TEXT(WEEKDAY(DATE(ปีปฏิทิน,3,13),1),\"aaa\")","v":"พ."},{"$f":"TEXT(WEEKDAY(DATE(ปีปฏิทิน,3,14),1),\"aaa\")","v":"พฤ."},{"$f":"TEXT(WEEKDAY(DATE(ปีปฏิทิน,3,15),1),\"aaa\")","v":"ศ."},{"$f":"TEXT(WEEKDAY(DATE(ปีปฏิทิน,3,16),1),\"aaa\")","v":"ส."},{"$f":"TEXT(WEEKDAY(DATE(ปีปฏิทิน,3,17),1),\"aaa\")","v":"อา."},{"$f":"TEXT(WEEKDAY(DATE(ปีปฏิทิน,3,18),1),\"aaa\")","v":"จ."},{"$f":"TEXT(WEEKDAY(DATE(ปีปฏิทิน,3,19),1),\"aaa\")","v":"อ."},{"$f":"TEXT(WEEKDAY(DATE(ปีปฏิทิน,3,20),1),\"aaa\")","v":"พ."},{"$f":"TEXT(WEEKDAY(DATE(ปีปฏิทิน,3,21),1),\"aaa\")","v":"พฤ."},{"$f":"TEXT(WEEKDAY(DATE(ปีปฏิทิน,3,22),1),\"aaa\")","v":"ศ."},{"$f":"TEXT(WEEKDAY(DATE(ปีปฏิทิน,3,23),1),\"aaa\")","v":"ส."},{"$f":"TEXT(WEEKDAY(DATE(ปีปฏิทิน,3,24),1),\"aaa\")","v":"อา."},{"$f":"TEXT(WEEKDAY(DATE(ปีปฏิทิน,3,25),1),\"aaa\")","v":"จ."},{"$f":"TEXT(WEEKDAY(DATE(ปีปฏิทิน,3,26),1),\"aaa\")","v":"อ."},{"$f":"TEXT(WEEKDAY(DATE(ปีปฏิทิน,3,27),1),\"aaa\")","v":"พ."},{"$f":"TEXT(WEEKDAY(DATE(ปีปฏิทิน,3,28),1),\"aaa\")","v":"พฤ."},{"$f":"TEXT(WEEKDAY(DATE(ปีปฏิทิน,3,29),1),\"aaa\")","v":"ศ."},{"$f":"TEXT(WEEKDAY(DATE(ปีปฏิทิน,3,30),1),\"aaa\")","v":"ส."},{"$f":"TEXT(WEEKDAY(DATE(ปีปฏิทิน,3,31),1),\"aaa\")","v":"อา."}]
[null,"ชื่อพนักงาน","1","2","3","4","5","6","7","8","9","10","11","12","13","14","15","16","17","18","19","20","21","22","23","24","25","26","27","28","29","30","31","จำนวนวัน:"]
[null,"พนักงาน 1",{"$nulls":31},{"$f":"COUNTA(มีนาคม[[#This Row],[1]:[31]])","v":0}]
[null,"พนักงาน 2",{"$nulls":31},{"$f":"COUNTA(มีนาคม[[#This Row],[1]:[31]])","v":0}]
[null,"พนักงาน 3",{"$nulls":31},{"$f":"COUNTA(มีนาคม[[#This Row],[1]:[31]])","v":0}]
[null,"พนักงาน 4",{"$nulls":31},{"$f":"COUNTA(มีนาคม[[#This Row],[1]:[31]])","v":0}]
[null,"พนักงาน 5",{"$nulls":31},{"$f":"COUNTA(มีนาคม[[#This Row],[1]:[31]])","v":0}]
[null,{"$f":"MonthName&\" ผลรวม\"","v":"มีนาคม ผลรวม"},{"$f":"SUBTOTAL(103,มีนาคม[1])","v":0},{"$f":"SUBTOTAL(103,มีนาคม[2])","v":0},{"$f":"SUBTOTAL(103,มีนาคม[3])","v":0},{"$f":"SUBTOTAL(103,มีนาคม[4])","v":0},{"$f":"SUBTOTAL(103,มีนาคม[5])","v":0},{"$f":"SUBTOTAL(103,มีนาคม[6])","v":0},{"$f":"SUBTOTAL(103,มีนาคม[7])","v":0},{"$f":"SUBTOTAL(103,มีนาคม[8])","v":0},{"$f":"SUBTOTAL(103,มีนาคม[9])","v":0},{"$f":"SUBTOTAL(103,มีนาคม[10])","v":0},{"$f":"SUBTOTAL(103,มีนาคม[11])","v":0},{"$f":"SUBTOTAL(103,มีนาคม[12])","v":0},{"$f":"SUBTOTAL(103,มีนาคม[13])","v":0},{"$f":"SUBTOTAL(103,มีนาคม[14])","v":0},{"$f":"SUBTOTAL(103,มีนาคม[15])","v":0},{"$f":"SUBTOTAL(103,มีนาคม[16])","v":0},{"$f":"SUBTOTAL(103,มีนาคม[17])","v":0},{"$f":"SUBTOTAL(103,มีนาคม[18])","v":0},{"$f":"SUBTOTAL(103,มีนาคม[19])","v":0},{"$f":"SUBTOTAL(103,มีนาคม[20])","v":0},{"$f":"SUBTOTAL(103,มีนาคม[21])","v":0},{"$f":"SUBTOTAL(103,มีนาคม[22])","v":0},{"$f":"SUBTOTAL(103,มีนาคม[23])","v":0},{"$f":"SUBTOTAL(103,มีนาคม[24])","v":0},{"$f":"SUBTOTAL(103,มีนาคม[25])","v":0},{"$f":"SUBTOTAL(103,มีนาคม[26])","v":0},{"$f":"SUBTOTAL(103,มีนาคม[27])","v":0},{"$f":"SUBTOTAL(103,มีนาคม[28])","v":0},{"$f":"SUBTOTAL(103,มีนาคม[29])","v":0},{"$f":"SUBTOTAL(103,มีนาคม[30])","v":0},{"$f":"SUBTOTAL(103,มีนาคม[31])","v":0},{"$f":"SUBTOTAL(109,มีนาคม[จำนวนวัน:])","v":0}]

{"sheet":"เมษายน","index":3,"n_rows":12,"n_cols":34,"rows_kept":12,"merged":[[1,3,1,5],[1,7,1,8],[3,2,3,32]]}
[null,{"$f":"Employee_Absence_Title","v":"กำหนดการการขาดงานของพนักงาน"}]
[null,"คีย์ประเภทการขาดงาน","V","วันหยุดพักผ่อน",null,null,"P","ส่วนบุคคล",null,"S","ป่วย",null,"กำหนดเอง 1",{"$nulls":3},"กำหนดเอง 2"]
[]
[null,"เมษายน","วันที่ที่ขาดงาน",{"$nulls":30},{"$f":"ปีปฏิทิน","v":2019}]
[null,null,{"$f":"TEXT(WEEKDAY(DATE(ปีปฏิทิน,4,1),1),\"aaa\")","v":"จ."},{"$f":"TEXT(WEEKDAY(DATE(ปีปฏิทิน,4,2),1),\"aaa\")","v":"อ."},{"$f":"TEXT(WEEKDAY(DATE(ปีปฏิทิน,4,3),1),\"aaa\")","v":"พ."},{"$f":"TEXT(WEEKDAY(DATE(ปีปฏิทิน,4,4),1),\"aaa\")","v":"พฤ."},{"$f":"TEXT(WEEKDAY(DATE(ปีปฏิทิน,4,5),1),\"aaa\")","v":"ศ."},{"$f":"TEXT(WEEKDAY(DATE(ปีปฏิทิน,4,6),1),\"aaa\")","v":"ส."},{"$f":"TEXT(WEEKDAY(DATE(ปีปฏิทิน,4,7),1),\"aaa\")","v":"อา."},{"$f":"TEXT(WEEKDAY(DATE(ปีปฏิทิน,4,8),1),\"aaa\")","v":"จ."},{"$f":"TEXT(WEEKDAY(DATE(ปีปฏิทิน,4,9),1),\"aaa\")","v":"อ."},{"$f":"TEXT(WEEKDAY(DATE(ปีปฏิทิน,4,10),1),\"aaa\")","v":"พ."},{"$f":"TEXT(WEEKDAY(DATE(ปีปฏิทิน,4,11),1),\"aaa\")","v":"พฤ."},{"$f":"TEXT(WEEKDAY(DATE(ปีปฏิทิน,4,12),1),\"aaa\")","v":"ศ."},{"$f":"TEXT(WEEKDAY(DATE(ปีปฏิทิน,4,13),1),\"aaa\")","v":"ส."},{"$f":"TEXT(WEEKDAY(DATE(ปีปฏิทิน,4,14),1),\"aaa\")","v":"อา."},{"$f":"TEXT(WEEKDAY(DATE(ปีปฏิทิน,4,15),1),\"aaa\")","v":"จ."},{"$f":"TEXT(WEEKDAY(DATE(ปีปฏิทิน,4,16),1),\"aaa\")","v":"อ."},{"$f":"TEXT(WEEKDAY(DATE(ปีปฏิทิน,4,17),1),\"aaa\")","v":"พ."},{"$f":"TEXT(WEEKDAY(DATE(ปีปฏิทิน,4,18),1),\"aaa\")","v":"พฤ."},{"$f":"TEXT(WEEKDAY(DATE(ปีปฏิทิน,4,19),1),\"aaa\")","v":"ศ."},{"$f":"TEXT(WEEKDAY(DATE(ปีปฏิทิน,4,20),1),\"aaa\")","v":"ส."},{"$f":"TEXT(WEEKDAY(DATE(ปีปฏิทิน,4,21),1),\"aaa\")","v":"อา."},{"$f":"TEXT(WEEKDAY(DATE(ปีปฏิทิน,4,22),1),\"aaa\")","v":"จ."},{"$f":"TEXT(WEEKDAY(DATE(ปีปฏิทิน,4,23),1),\"aaa\")","v":"อ."},{"$f":"TEXT(WEEKDAY(DATE(ปีปฏิทิน,4,24),1),\"aaa\")","v":"พ."},{"$f":"TEXT(WEEKDAY(DATE(ปีปฏิทิน,4,25),1),\"aaa\")","v":"พฤ."},{"$f":"TEXT(WEEKDAY(DATE(ปีปฏิทิน,4,26),1),\"aaa\")","v":"ศ."},{"$f":"TEXT(WEEKDAY(DATE(ปีปฏิทิน,4,27),1),\"aaa\")","v":"ส."},{"$f":"TEXT(WEEKDAY(DATE(ปีปฏิทิน,4,28),1),\"aaa\")","v":"อา."},{"$f":"TEXT(WEEKDAY(DATE(ปีปฏิทิน,4,29),1),\"aaa\")","v":"จ."},{"$f":"TEXT(WEEKDAY(DATE(ปีปฏิทิน,4,30),1),\"aaa\")","v":"อ."}]
[null,"ชื่อพนักงาน","1","2","3","4","5","6","7","8","9","10","11","12","13","14","15","16","17","18","19","20","21","22","23","24","25","26","27","28","29","30"," ","จำนวนวัน:"]
[null,"พนักงาน 1",{"$nulls":31},{"$f":"COUNTA(เมษายน[[#This Row],[1]:[30]])","v":0}]
[null,"พนักงาน 2",{"$nulls":31},{"$f":"COUNTA(เมษายน[[#This Row],[1]:[30]])","v":0}]
[null,"พนักงาน 3",{"$nulls":31},{"$f":"COUNTA(เมษายน[[#This Row],[1]:[30]])","v":0}]
[null,"พนักงาน 4",{"$nulls":31},{"$f":"COUNTA(เมษายน[[#This Row],[1]:[30]])","v":0}]
[null,"พนักงาน 5",{"$nulls":31},{"$f":"COUNTA(เมษายน[[#This Row],[1]:[30]])","v":0}]
[null,{"$f":"MonthName&\" ผลรวม\"","v":"เมษายน ผลรวม"},{"$f":"SUBTOTAL(103,เมษายน[1])","v":0},{"$f":"SUBTOTAL(103,เมษายน[2])","v":0},{"$f":"SUBTOTAL(103,เมษายน[3])","v":0},{"$f":"SUBTOTAL(103,เมษายน[4])","v":0},{"$f":"SUBTOTAL(103,เมษายน[5])","v":0},{"$f":"SUBTOTAL(103,เมษายน[6])","v":0},{"$f":"SUBTOTAL(103,เมษายน[7])","v":0},{"$f":"SUBTOTAL(103,เมษายน[8])","v":0},{"$f":"SUBTOTAL(103,เมษายน[9])","v":0},{"$f":"SUBTOTAL(103,เมษายน[10])","v":0},{"$f":"SUBTOTAL(103,เมษายน[11])","v":0},{"$f":"SUBTOTAL(103,เมษายน[12])","v":0},{"$f":"SUBTOTAL(103,เมษายน[13])","v":0},{"$f":"SUBTOTAL(103,เมษายน[14])","v":0},{"$f":"SUBTOTAL(103,เมษายน[15])","v":0},{"$f":"SUBTOTAL(103,เมษายน[16])","v":0},{"$f":"SUBTOTAL(103,เมษายน[17])","v":0},{"$f":"SUBTOTAL(103,เมษายน[18])","v":0},{"$f":"SUBTOTAL(103,เมษายน[19])","v":0},{"$f":"SUBTOTAL(103,เมษายน[20])","v":0},{"$f":"SUBTOTAL(103,เมษายน[21])","v":0},{"$f":"SUBTOTAL(103,เมษายน[22])","v":0},{"$f":"SUBTOTAL(103,เมษายน[23])","v":0},{"$f":"SUBTOTAL(103,เมษายน[24])","v":0},{"$f":"SUBTOTAL(103,เมษายน[25])","v":0},{"$f":"SUBTOTAL(103,เมษายน[26])","v":0},{"$f":"SUBTOTAL(103,เมษายน[27])","v":0},{"$f":"SUBTOTAL(103,เมษายน[28])","v":0},{"$f":"SUBTOTAL(103,เมษายน[29])","v":0},{"$f":"SUBTOTAL(103,เมษายน[30])","v":0},{"$f":"SUBTOTAL(103,เมษายน[30])","v":0},{"$f":"SUBTOTAL(109,เมษายน[จำนวนวัน:])","v":0}]

{"sheet":"พฤษภาคม","index":4,"n_rows":12,"n_cols":34,"rows_kept":12,"merged":[[1,3,1,5],[1,7,1,8],[3,2,3,32]]}
[null,{"$f":"Employee_Absence_Title","v":"กำหนดการการขาดงานของพนักงาน"}]
[null,"คีย์ประเภทการขาดงาน","V","วันหยุดพักผ่อน",null,null,"P","ส่วนบุคคล",null,"S","ป่วย",null,"กำหนดเอง 1",{"$nulls":3},"กำหนดเอง 2"]
[]
[null,"พฤษภาคม","วันที่ที่ขาดงาน",{"$nulls":30},{"$f":"ปีปฏิทิน","v":2019}]
[null,null,{"$f":"TEXT(WEEKDAY(DATE(ปีปฏิทิน,5,1),1),\"aaa\")","v":"พ."},{"$f":"TEXT(WEEKDAY(DATE(ปีปฏิทิน,5,2),1),\"aaa\")","v":"พฤ."},{"$f":"TEXT(WEEKDAY(DATE(ปีปฏิทิน,5,3),1),\"aaa\")","v":"ศ."},{"$f":"TEXT(WEEKDAY(DATE(ปีปฏิทิน,5,4),1),\"aaa\")","v":"ส."},{"$f":"TEXT(WEEKDAY(DATE(ปีปฏิทิน,5,5),1),\"aaa\")","v":"อา."},{"$f":"TEXT(WEEKDAY(DATE(ปีปฏิทิน,5,6),1),\"aaa\")","v":"จ."},{"$f":"TEXT(WEEKDAY(DATE(ปีปฏิทิน,5,7),1),\"aaa\")","v":"อ."},{"$f":"TEXT(WEEKDAY(DATE(ปีปฏิทิน,5,8),1),\"aaa\")","v":"พ."},{"$f":"TEXT(WEEKDAY(DATE(ปีปฏิทิน,5,9),1),\"aaa\")","v":"พฤ."},{"$f":"TEXT(WEEKDAY(DATE(ปีปฏิทิน,5,10),1),\"aaa\")","v":"ศ."},{"$f":"TEXT(WEEKDAY(DATE(ปีปฏิทิน,5,11),1),\"aaa\")","v":"ส."},{"$f":"TEXT(WEEKDAY(DATE(ปีปฏิทิน,5,12),1),\"aaa\")","v":"อา."},{"$f":"TEXT(WEEKDAY(DATE(ปีปฏิทิน,5,13),1),\"aaa\")","v":"จ."},{"$f":"TEXT(WEEKDAY(DATE(ปีปฏิทิน,5,14),1),\"aaa\")","v":"อ."},{"$f":"TEXT(WEEKDAY(DATE(ปีปฏิทิน,5,15),1),\"aaa\")","v":"พ."},{"$f":"TEXT(WEEKDAY(DATE(ปีปฏิทิน,5,16),1),\"aaa\")","v":"พฤ."},{"$f":"TEXT(WEEKDAY(DATE(ปีปฏิทิน,5,17),1),\"aaa\")","v":"ศ."},{"$f":"TEXT(WEEKDAY(DATE(ปีปฏิทิน,5,18),1),\"aaa\")","v":"ส."},{"$f":"TEXT(WEEKDAY(DATE(ปีปฏิทิน,5,19),1),\"aaa\")","v":"อา."},{"$f":"TEXT(WEEKDAY(DATE(ปีปฏิทิน,5,20),1),\"aaa\")","v":"จ."},{"$f":"TEXT(WEEKDAY(DATE(ปีปฏิทิน,5,21),1),\"aaa\")","v":"อ."},{"$f":"TEXT(WEEKDAY(DATE(ปีปฏิทิน,5,22),1),\"aaa\")","v":"พ."},{"$f":"TEXT(WEEKDAY(DATE(ปีปฏิทิน,5,23),1),\"aaa\")","v":"พฤ."},{"$f":"TEXT(WEEKDAY(DATE(ปีปฏิทิน,5,24),1),\"aaa\")","v":"ศ."},{"$f":"TEXT(WEEKDAY(DATE(ปีปฏิทิน,5,25),1),\"aaa\")","v":"ส."},{"$f":"TEXT(WEEKDAY(DATE(ปีปฏิทิน,5,26),1),\"aaa\")","v":"อา."},{"$f":"TEXT(WEEKDAY(DATE(ปีปฏิทิน,5,27),1),\"aaa\")","v":"จ."},{"$f":"TEXT(WEEKDAY(DATE(ปีปฏิทิน,5,28),1),\"aaa\")","v":"อ."},{"$f":"TEXT(WEEKDAY(DATE(ปีปฏิทิน,5,29),1),\"aaa\")","v":"พ."},{"$f":"TEXT(WEEKDAY(DATE(ปีปฏิทิน,5,30),1),\"aaa\")","v":"พฤ."},{"$f":"TEXT(WEEKDAY(DATE(ปีปฏิทิน,5,31),1),\"aaa\")","v":"ศ."}]
[null,"ชื่อพนักงาน","1","2","3","4","5","6","7","8","9","10","11","12","13","14","15","16","17","18","19","20","21","22","23","24","25","26","27","28","29","30","31","จำนวนวัน:"]
[null,"พนักงาน 1",{"$nulls":31},{"$f":"COUNTA(พฤษภาคม[[#This Row],[1]:[31]])","v":0}]
[null,"พนักงาน 2",{"$nulls":31},{"$f":"COUNTA(พฤษภาคม[[#This Row],[1]:[31]])","v":0}]
[null,"พนักงาน 3",{"$nulls":31},{"$f":"COUNTA(พฤษภาคม[[#This Row],[1]:[31]])","v":0}]
[null,"พนักงาน 4",{"$nulls":31},{"$f":"COUNTA(พฤษภาคม[[#This Row],[1]:[31]])","v":0}]
[null,"พนักงาน 5",{"$nulls":31},{"$f":"COUNTA(พฤษภาคม[[#This Row],[1]:[31]])","v":0}]
[null,{"$f":"MonthName&\" ผลรวม\"","v":"พฤษภาคม ผลรวม"},{"$f":"SUBTOTAL(103,พฤษภาคม[1])","v":0},{"$f":"SUBTOTAL(103,พฤษภาคม[2])","v":0},{"$f":"SUBTOTAL(103,พฤษภาคม[3])","v":0},{"$f":"SUBTOTAL(103,พฤษภาคม[4])","v":0},{"$f":"SUBTOTAL(103,พฤษภาคม[5])","v":0},{"$f":"SUBTOTAL(103,พฤษภาคม[6])","v":0},{"$f":"SUBTOTAL(103,พฤษภาคม[7])","v":0},{"$f":"SUBTOTAL(103,พฤษภาคม[8])","v":0},{"$f":"SUBTOTAL(103,พฤษภาคม[9])","v":0},{"$f":"SUBTOTAL(103,พฤษภาคม[10])","v":0},{"$f":"SUBTOTAL(103,พฤษภาคม[11])","v":0},{"$f":"SUBTOTAL(103,พฤษภาคม[12])","v":0},{"$f":"SUBTOTAL(103,พฤษภาคม[13])","v":0},{"$f":"SUBTOTAL(103,พฤษภาคม[14])","v":0},{"$f":"SUBTOTAL(103,พฤษภาคม[15])","v":0},{"$f":"SUBTOTAL(103,พฤษภาคม[16])","v":0},{"$f":"SUBTOTAL(103,พฤษภาคม[17])","v":0},{"$f":"SUBTOTAL(103,พฤษภาคม[18])","v":0},{"$f":"SUBTOTAL(103,พฤษภาคม[19])","v":0},{"$f":"SUBTOTAL(103,พฤษภาคม[20])","v":0},{"$f":"SUBTOTAL(103,พฤษภาคม[21])","v":0},{"$f":"SUBTOTAL(103,พฤษภาคม[22])","v":0},{"$f":"SUBTOTAL(103,พฤษภาคม[23])","v":0},{"$f":"SUBTOTAL(103,พฤษภาคม[24])","v":0},{"$f":"SUBTOTAL(103,พฤษภาคม[25])","v":0},{"$f":"SUBTOTAL(103,พฤษภาคม[26])","v":0},{"$f":"SUBTOTAL(103,พฤษภาคม[27])","v":0},{"$f":"SUBTOTAL(103,พฤษภาคม[28])","v":0},{"$f":"SUBTOTAL(103,พฤษภาคม[29])","v":0},{"$f":"SUBTOTAL(103,พฤษภาคม[30])","v":0},{"$f":"SUBTOTAL(103,พฤษภาคม[31])","v":0},{"$f":"SUBTOTAL(109,พฤษภาคม[จำนวนวัน:])","v":0}]

{"sheet":"มิถุนายน","index":5,"n_rows":12,"n_cols":34,"rows_kept":12,"merged":[[1,3,1,5],[1,7,1,8],[3,2,3,32]]}
[null,{"$f":"Employee_Absence_Title","v":"กำหนดการการขาดงานของพนักงาน"}]
[null,"คีย์ประเภทการขาดงาน","V","วันหยุดพักผ่อน",null,null,"P","ส่วนบุคคล",null,"S","ป่วย",null,"กำหนดเอง 1",{"$nulls":3},"กำหนดเอง 2"]
[]
[null,"มิถุนายน","วันที่ที่ขาดงาน",{"$nulls":30},{"$f":"ปีปฏิทิน","v":2019}]
[null,null,{"$f":"TEXT(WEEKDAY(DATE(ปีปฏิทิน,6,1),1),\"aaa\")","v":"ส."},{"$f":"TEXT(WEEKDAY(DATE(ปีปฏิทิน,6,2),1),\"aaa\")","v":"อา."},{"$f":"TEXT(WEEKDAY(DATE(ปีปฏิทิน,6,3),1),\"aaa\")","v":"จ."},{"$f":"TEXT(WEEKDAY(DATE(ปีปฏิทิน,6,4),1),\"aaa\")","v":"อ."},{"$f":"TEXT(WEEKDAY(DATE(ปีปฏิทิน,6,5),1),\"aaa\")","v":"พ."},{"$f":"TEXT(WEEKDAY(DATE(ปีปฏิทิน,6,6),1),\"aaa\")","v":"พฤ."},{"$f":"TEXT(WEEKDAY(DATE(ปีปฏิทิน,6,7),1),\"aaa\")","v":"ศ."},{"$f":"TEXT(WEEKDAY(DATE(ปีปฏิทิน,6,8),1),\"aaa\")","v":"ส."},{"$f":"TEXT(WEEKDAY(DATE(ปีปฏิทิน,6,9),1),\"aaa\")","v":"อา."},{"$f":"TEXT(WEEKDAY(DATE(ปีปฏิทิน,6,10),1),\"aaa\")","v":"จ."},{"$f":"TEXT(WEEKDAY(DATE(ปีปฏิทิน,6,11),1),\"aaa\")","v":"อ."},{"$f":"TEXT(WEEKDAY(DATE(ปีปฏิทิน,6,12),1),\"aaa\")","v":"พ."},{"$f":"TEXT(WEEKDAY(DATE(ปีปฏิทิน,6,13),1),\"aaa\")","v":"พฤ."},{"$f":"TEXT(WEEKDAY(DATE(ปีปฏิทิน,6,14),1),\"aaa\")","v":"ศ."},{"$f":"TEXT(WEEKDAY(DATE(ปีปฏิทิน,6,15),1),\"aaa\")","v":"ส."},{"$f":"TEXT(WEEKDAY(DATE(ปีปฏิทิน,6,16),1),\"aaa\")","v":"อา."},{"$f":"TEXT(WEEKDAY(DATE(ปีปฏิทิน,6,17),1),\"aaa\")","v":"จ."},{"$f":"TEXT(WEEKDAY(DATE(ปีปฏิทิน,6,18),1),\"aaa\")","v":"อ."},{"$f":"TEXT(WEEKDAY(DATE(ปีปฏิทิน,6,19),1),\"aaa\")","v":"พ."},{"$f":"TEXT(WEEKDAY(DATE(ปีปฏิทิน,6,20),1),\"aaa\")","v":"พฤ."},{"$f":"TEXT(WEEKDAY(DATE(ปีปฏิทิน,6,21),1),\"aaa\")","v":"ศ."},{"$f":"TEXT(WEEKDAY(DATE(ปีปฏิทิน,6,22),1),\"aaa\")","v":"ส."},{"$f":"TEXT(WEEKDAY(DATE(ปีปฏิทิน,6,23),1),\"aaa\")","v":"อา."},{"$f":"TEXT(WEEKDAY(DATE(ปีปฏิทิน,6,24),1),\"aaa\")","v":"จ."},{"$f":"TEXT(WEEKDAY(DATE(ปีปฏิทิน,6,25),1),\"aaa\")","v":"อ."},{"$f":"TEXT(WEEKDAY(DATE(ปีปฏิทิน,6,26),1),\"aaa\")","v":"พ."},{"$f":"TEXT(WEEKDAY(DATE(ปีปฏิทิน,6,27),1),\"aaa\")","v":"พฤ."},{"$f":"TEXT(WEEKDAY(DATE(ปีปฏิทิน,6,28),1),\"aaa\")","v":"ศ."},{"$f":"TEXT(WEEKDAY(DATE(ปีปฏิทิน,6,29),1),\"aaa\")","v":"ส."},{"$f":"TEXT(WEEKDAY(DATE(ปีปฏิทิน,6,30),1),\"aaa\")","v":"อา."}]
[null,"ชื่อพนักงาน","1","2","3","4","5","6","7","8","9","10","11","12","13","14","15","16","17","18","19","20","21","22","23","24","25","26","27","28","29","30"," ","จำนวนวัน:"]
[null,"พนักงาน 1",{"$nulls":31},{"$f":"COUNTA(มิถุนายน[[#This Row],[1]:[30]])","v":0}]
[null,"พนักงาน 2",{"$nulls":31},{"$f":"COUNTA(มิถุนายน[[#This Row],[1]:[30]])","v":0}]
[null,"พนักงาน 3",{"$nulls":31},{"$f":"COUNTA(มิถุนายน[[#This Row],[1]:[30]])","v":0}]
[null,"พนักงาน 4",{"$nulls":31},{"$f":"COUNTA(มิถุนายน[[#This Row],[1]:[30]])","v":0}]
[null,"พนักงาน 5",{"$nulls":31},{"$f":"COUNTA(มิถุนายน[[#This Row],[1]:[30]])","v":0}]
[null,{"$f":"MonthName&\" ผลรวม\"","v":"มิถุนายน ผลรวม"},{"$f":"SUBTOTAL(103,มิถุนายน[1])","v":0},{"$f":"SUBTOTAL(103,มิถุนายน[2])","v":0},{"$f":"SUBTOTAL(103,มิถุนายน[3])","v":0},{"$f":"SUBTOTAL(103,มิถุนายน[4])","v":0},{"$f":"SUBTOTAL(103,มิถุนายน[5])","v":0},{"$f":"SUBTOTAL(103,มิถุนายน[6])","v":0},{"$f":"SUBTOTAL(103,มิถุนายน[7])","v":0},{"$f":"SUBTOTAL(103,มิถุนายน[8])","v":0},{"$f":"SUBTOTAL(103,มิถุนายน[9])","v":0},{"$f":"SUBTOTAL(103,มิถุนายน[10])","v":0},{"$f":"SUBTOTAL(103,มิถุนายน[11])","v":0},{"$f":"SUBTOTAL(103,มิถุนายน[12])","v":0},{"$f":"SUBTOTAL(103,มิถุนายน[13])","v":0},{"$f":"SUBTOTAL(103,มิถุนายน[14])","v":0},{"$f":"SUBTOTAL(103,มิถุนายน[15])","v":0},{"$f":"SUBTOTAL(103,มิถุนายน[16])","v":0},{"$f":"SUBTOTAL(103,มิถุนายน[17])","v":0},{"$f":"SUBTOTAL(103,มิถุนายน[18])","v":0},{"$f":"SUBTOTAL(103,มิถุนายน[19])","v":0},{"$f":"SUBTOTAL(103,มิถุนายน[20])","v":0},{"$f":"SUBTOTAL(103,มิถุนายน[21])","v":0},{"$f":"SUBTOTAL(103,มิถุนายน[22])","v":0},{"$f":"SUBTOTAL(103,มิถุนายน[23])","v":0},{"$f":"SUBTOTAL(103,มิถุนายน[24])","v":0},{"$f":"SUBTOTAL(103,มิถุนายน[25])","v":0},{"$f":"SUBTOTAL(103,มิถุนายน[26])","v":0},{"$f":"SUBTOTAL(103,มิถุนายน[27])","v":0},{"$f":"SUBTOTAL(103,มิถุนายน[28])","v":0},{"$f":"SUBTOTAL(103,มิถุนายน[29])","v":0},{"$f":"SUBTOTAL(103,มิถุนายน[30])","v":0},{"$f":"SUBTOTAL(103,มิถุนายน[[ ]])","v":0},{"$f":"SUBTOTAL(109,มิถุนายน[จำนวนวัน:])","v":0}]

{"sheet":"กรกฎาคม","index":6,"n_rows":12,"n_cols":34,"rows_kept":12,"merged":[[1,3,1,5],[1,7,1,8],[3,2,3,32]]}
[null,{"$f":"Employee_Absence_Title","v":"กำหนดการการขาดงานของพนักงาน"}]
[null,"คีย์ประเภทการขาดงาน","V","วันหยุดพักผ่อน",null,null,"P","ส่วนบุคคล",null,"S","ป่วย",null,"กำหนดเอง 1",{"$nulls":3},"กำหนดเอง 2"]
[]
[null,"กรกฎาคม","วันที่ที่ขาดงาน",{"$nulls":30},{"$f":"ปีปฏิทิน","v":2019}]
[null,null,{"$f":"TEXT(WEEKDAY(DATE(ปีปฏิทิน,7,1),1),\"aaa\")","v":"จ."},{"$f":"TEXT(WEEKDAY(DATE(ปีปฏิทิน,7,2),1),\"aaa\")","v":"อ."},{"$f":"TEXT(WEEKDAY(DATE(ปีปฏิทิน,7,3),1),\"aaa\")","v":"พ."},{"$f":"TEXT(WEEKDAY(DATE(ปีปฏิทิน,7,4),1),\"aaa\")","v":"พฤ."},{"$f":"TEXT(WEEKDAY(DATE(ปีปฏิทิน,7,5),1),\"aaa\")","v":"ศ."},{"$f":"TEXT(WEEKDAY(DATE(ปีปฏิทิน,7,6),1),\"aaa\")","v":"ส."},{"$f":"TEXT(WEEKDAY(DATE(ปีปฏิทิน,7,7),1),\"aaa\")","v":"อา."},{"$f":"TEXT(WEEKDAY(DATE(ปีปฏิทิน,7,8),1),\"aaa\")","v":"จ."},{"$f":"TEXT(WEEKDAY(DATE(ปีปฏิทิน,7,9),1),\"aaa\")","v":"อ."},{"$f":"TEXT(WEEKDAY(DATE(ปีปฏิทิน,7,10),1),\"aaa\")","v":"พ."},{"$f":"TEXT(WEEKDAY(DATE(ปีปฏิทิน,7,11),1),\"aaa\")","v":"พฤ."},{"$f":"TEXT(WEEKDAY(DATE(ปีปฏิทิน,7,12),1),\"aaa\")","v":"ศ."},{"$f":"TEXT(WEEKDAY(DATE(ปีปฏิทิน,7,13),1),\"aaa\")","v":"ส."},{"$f":"TEXT(WEEKDAY(DATE(ปีปฏิทิน,7,14),1),\"aaa\")","v":"อา."},{"$f":"TEXT(WEEKDAY(DATE(ปีปฏิทิน,7,15),1),\"aaa\")","v":"จ."},{"$f":"TEXT(WEEKDAY(DATE(ปีปฏิทิน,7,16),1),\"aaa\")","v":"อ."},{"$f":"TEXT(WEEKDAY(DATE(ปีปฏิทิน,7,17),1),\"aaa\")","v":"พ."},{"$f":"TEXT(WEEKDAY(DATE(ปีปฏิทิน,7,18),1),\"aaa\")","v":"พฤ."},{"$f":"TEXT(WEEKDAY(DATE(ปีปฏิทิน,7,19),1),\"aaa\")","v":"ศ."},{"$f":"TEXT(WEEKDAY(DATE(ปีปฏิทิน,7,20),1),\"aaa\")","v":"ส."},{"$f":"TEXT(WEEKDAY(DATE(ปีปฏิทิน,7,21),1),\"aaa\")","v":"อา."},{"$f":"TEXT(WEEKDAY(DATE(ปีปฏิทิน,7,22),1),\"aaa\")","v":"จ."},{"$f":"TEXT(WEEKDAY(DATE(ปีปฏิทิน,7,23),1),\"aaa\")","v":"อ."},{"$f":"TEXT(WEEKDAY(DATE(ปีปฏิทิน,7,24),1),\"aaa\")","v":"พ."},{"$f":"TEXT(WEEKDAY(DATE(ปีปฏิทิน,7,25),1),\"aaa\")","v":"พฤ."},{"$f":"TEXT(WEEKDAY(DATE(ปีปฏิทิน,7,26),1),\"aaa\")","v":"ศ."},{"$f":"TEXT(WEEKDAY(DATE(ปีปฏิทิน,7,27),1),\"aaa\")","v":"ส."},{"$f":"TEXT(WEEKDAY(DATE(ปีปฏิทิน,7,28),1),\"aaa\")","v":"อา."},{"$f":"TEXT(WEEKDAY(DATE(ปีปฏิทิน,7,29),1),\"aaa\")","v":"จ."},{"$f":"TEXT(WEEKDAY(DATE(ปีปฏิทิน,7,30),1),\"aaa\")","v":"อ."},{"$f":"TEXT(WEEKDAY(DATE(ปีปฏิทิน,7,31),1),\"aaa\")","v":"พ."}]
[null,"ชื่อพนักงาน","1","2","3","4","5","6","7","8","9","10","11","12","13","14","15","16","17","18","19","20","21","22","23","24","25","26","27","28","29","30","31","จำนวนวัน:"]
[null,"พนักงาน 1",{"$nulls":31},{"$f":"COUNTA(กรกฎาคม[[#This Row],[1]:[31]])","v":0}]
[null,"พนักงาน 2",{"$nulls":31},{"$f":"COUNTA(กรกฎาคม[[#This Row],[1]:[31]])","v":0}]
[null,"พนักงาน 3",{"$nulls":31},{"$f":"COUNTA(กรกฎาคม[[#This Row],[1]:[31]])","v":0}]
[null,"พนักงาน 4",{"$nulls":31},{"$f":"COUNTA(กรกฎาคม[[#This Row],[1]:[31]])","v":0}]
[null,"พนักงาน 5",{"$nulls":31},{"$f":"COUNTA(กรกฎาคม[[#This Row],[1]:[31]])","v":0}]
[null,{"$f":"MonthName&\" ผลรวม\"","v":"กรกฎาคม ผลรวม"},{"$f":"SUBTOTAL(103,กรกฎาคม[1])","v":0},{"$f":"SUBTOTAL(103,กรกฎาคม[2])","v":0},{"$f":"SUBTOTAL(103,กรกฎาคม[3])","v":0},{"$f":"SUBTOTAL(103,กรกฎาคม[4])","v":0},{"$f":"SUBTOTAL(103,กรกฎาคม[5])","v":0},{"$f":"SUBTOTAL(103,กรกฎาคม[6])","v":0},{"$f":"SUBTOTAL(103,กรกฎาคม[7])","v":0},{"$f":"SUBTOTAL(103,กรกฎาคม[8])","v":0},{"$f":"SUBTOTAL(103,กรกฎาคม[9])","v":0},{"$f":"SUBTOTAL(103,กรกฎาคม[10])","v":0},{"$f":"SUBTOTAL(103,กรกฎาคม[11])","v":0},{"$f":"SUBTOTAL(103,กรกฎาคม[12])","v":0},{"$f":"SUBTOTAL(103,กรกฎาคม[13])","v":0},{"$f":"SUBTOTAL(103,กรกฎาคม[14])","v":0},{"$f":"SUBTOTAL(103,กรกฎาคม[15])","v":0},{"$f":"SUBTOTAL(103,กรกฎาคม[16])","v":0},{"$f":"SUBTOTAL(103,กรกฎาคม[17])","v":0},{"$f":"SUBTOTAL(103,กรกฎาคม[18])","v":0},{"$f":"SUBTOTAL(103,กรกฎาคม[19])","v":0},{"$f":"SUBTOTAL(103,กรกฎาคม[20])","v":0},{"$f":"SUBTOTAL(103,กรกฎาคม[21])","v":0},{"$f":"SUBTOTAL(103,กรกฎาคม[22])","v":0},{"$f":"SUBTOTAL(103,กรกฎาคม[23])","v":0},{"$f":"SUBTOTAL(103,กรกฎาคม[24])","v":0},{"$f":"SUBTOTAL(103,กรกฎาคม[25])","v":0},{"$f":"SUBTOTAL(103,กรกฎาคม[26])","v":0},{"$f":"SUBTOTAL(103,กรกฎาคม[27])","v":0},{"$f":"SUBTOTAL(103,กรกฎาคม[28])","v":0},{"$f":"SUBTOTAL(103,กรกฎาคม[29])","v":0},{"$f":"SUBTOTAL(103,กรกฎาคม[30])","v":0},{"$f":"SUBTOTAL(103,กรกฎาคม[31])","v":0},{"$f":"SUBTOTAL(109,กรกฎาคม[จำนวนวัน:])","v":0}]

{"sheet":"สิงหาคม","index":7,"n_rows":12,"n_cols":34,"rows_kept":12,"merged":[[1,3,1,5],[1,7,1,8],[3,2,3,32]]}
[null,{"$f":"Employee_Absence_Title","v":"กำหนดการการขาดงานของพนักงาน"}]
[null,"คีย์ประเภทการขาดงาน","V","วันหยุดพักผ่อน",null,null,"P","ส่วนบุคคล",null,"S","ป่วย",null,"กำหนดเอง 1",{"$nulls":3},"กำหนดเอง 2"]
[]
[null,"สิงหาคม","วันที่ที่ขาดงาน",{"$nulls":30},{"$f":"ปีปฏิทิน","v":2019}]
[null,null,{"$f":"TEXT(WEEKDAY(DATE(ปีปฏิทิน,8,1),1),\"aaa\")","v":"พฤ."},{"$f":"TEXT(WEEKDAY(DATE(ปีปฏิทิน,8,2),1),\"aaa\")","v":"ศ."},{"$f":"TEXT(WEEKDAY(DATE(ปีปฏิทิน,8,3),1),\"aaa\")","v":"ส."},{"$f":"TEXT(WEEKDAY(DATE(ปีปฏิทิน,8,4),1),\"aaa\")","v":"อา."},{"$f":"TEXT(WEEKDAY(DATE(ปีปฏิทิน,8,5),1),\"aaa\")","v":"จ."},{"$f":"TEXT(WEEKDAY(DATE(ปีปฏิทิน,8,6),1),\"aaa\")","v":"อ."},{"$f":"TEXT(WEEKDAY(DATE(ปีปฏิทิน,8,7),1),\"aaa\")","v":"พ."},{"$f":"TEXT(WEEKDAY(DATE(ปีปฏิทิน,8,8),1),\"aaa\")","v":"พฤ."},{"$f":"TEXT(WEEKDAY(DATE(ปีปฏิทิน,8,9),1),\"aaa\")","v":"ศ."},{"$f":"TEXT(WEEKDAY(DATE(ปีปฏิทิน,8,10),1),\"aaa\")","v":"ส."},{"$f":"TEXT(WEEKDAY(DATE(ปีปฏิทิน,8,11),1),\"aaa\")","v":"อา."},{"$f":"TEXT(WEEKDAY(DATE(ปีปฏิทิน,8,12),1),\"aaa\")","v":"จ."},{"$f":"TEXT(WEEKDAY(DATE(ปีปฏิทิน,8,13),1),\"aaa\")","v":"อ."},{"$f":"TEXT(WEEKDAY(DATE(ปีปฏิทิน,8,14),1),\"aaa\")","v":"พ."},{"$f":"TEXT(WEEKDAY(DATE(ปีปฏิทิน,8,15),1),\"aaa\")","v":"พฤ."},{"$f":"TEXT(WEEKDAY(DATE(ปีปฏิทิน,8,16),1),\"aaa\")","v":"ศ."},{"$f":"TEXT(WEEKDAY(DATE(ปีปฏิทิน,8,17),1),\"aaa\")","v":"ส."},{"$f":"TEXT(WEEKDAY(DATE(ปีปฏิทิน,8,18),1),\"aaa\")","v":"อา."},{"$f":"TEXT(WEEKDAY(DATE(ปีปฏิทิน,8,19),1),\"aaa\")","v":"จ."},{"$f":"TEXT(WEEKDAY(DATE(ปีปฏิทิน,8,20),1),\"aaa\")","v":"อ."},{"$f":"TEXT(WEEKDAY(DATE(ปีปฏิทิน,8,21),1),\"aaa\")","v":"พ."},{"$f":"TEXT(WEEKDAY(DATE(ปีปฏิทิน,8,22),1),\"aaa\")","v":"พฤ."},{"$f":"TEXT(WEEKDAY(DATE(ปีปฏิทิน,8,23),1),\"aaa\")","v":"ศ."},{"$f":"TEXT(WEEKDAY(DATE(ปีปฏิทิน,8,24),1),\"aaa\")","v":"ส."},{"$f":"TEXT(WEEKDAY(DATE(ปีปฏิทิน,8,25),1),\"aaa\")","v":"อา."},{"$f":"TEXT(WEEKDAY(DATE(ปีปฏิทิน,8,26),1),\"aaa\")","v":"จ."},{"$f":"TEXT(WEEKDAY(DATE(ปีปฏิทิน,8,27),1),\"aaa\")","v":"อ."},{"$f":"TEXT(WEEKDAY(DATE(ปีปฏิทิน,8,28),1),\"aaa\")","v":"พ."},{"$f":"TEXT(WEEKDAY(DATE(ปีปฏิทิน,8,29),1),\"aaa\")","v":"พฤ."},{"$f":"TEXT(WEEKDAY(DATE(ปีปฏิทิน,8,30),1),\"aaa\")","v":"ศ."},{"$f":"TEXT(WEEKDAY(DATE(ปีปฏิทิน,8,31),1),\"aaa\")","v":"ส."}]
[null,"ชื่อพนักงาน","1","2","3","4","5","6","7","8","9","10","11","12","13","14","15","16","17","18","19","20","21","22","23","24","25","26","27","28","29","30","31","จำนวนวัน:"]
[null,"พนักงาน 1",{"$nulls":31},{"$f":"COUNTA(สิงหาคม[[#This Row],[1]:[31]])","v":0}]
[null,"พนักงาน 2",{"$nulls":31},{"$f":"COUNTA(สิงหาคม[[#This Row],[1]:[31]])","v":0}]
[null,"พนักงาน 3",{"$nulls":31},{"$f":"COUNTA(สิงหาคม[[#This Row],[1]:[31]])","v":0}]
[null,"พนักงาน 4",{"$nulls":31},{"$f":"COUNTA(สิงหาคม[[#This Row],[1]:[31]])","v":0}]
[null,"พนักงาน 5",{"$nulls":31},{"$f":"COUNTA(สิงหาคม[[#This Row],[1]:[31]])","v":0}]
[null,{"$f":"MonthName&\" ผลรวม\"","v":"สิงหาคม ผลรวม"},{"$f":"SUBTOTAL(103,สิงหาคม[1])","v":0},{"$f":"SUBTOTAL(103,สิงหาคม[2])","v":0},{"$f":"SUBTOTAL(103,สิงหาคม[3])","v":0},{"$f":"SUBTOTAL(103,สิงหาคม[4])","v":0},{"$f":"SUBTOTAL(103,สิงหาคม[5])","v":0},{"$f":"SUBTOTAL(103,สิงหาคม[6])","v":0},{"$f":"SUBTOTAL(103,สิงหาคม[7])","v":0},{"$f":"SUBTOTAL(103,สิงหาคม[8])","v":0},{"$f":"SUBTOTAL(103,สิงหาคม[9])","v":0},{"$f":"SUBTOTAL(103,สิงหาคม[10])","v":0},{"$f":"SUBTOTAL(103,สิงหาคม[11])","v":0},{"$f":"SUBTOTAL(103,สิงหาคม[12])","v":0},{"$f":"SUBTOTAL(103,สิงหาคม[13])","v":0},{"$f":"SUBTOTAL(103,สิงหาคม[14])","v":0},{"$f":"SUBTOTAL(103,สิงหาคม[15])","v":0},{"$f":"SUBTOTAL(103,สิงหาคม[16])","v":0},{"$f":"SUBTOTAL(103,สิงหาคม[17])","v":0},{"$f":"SUBTOTAL(103,สิงหาคม[18])","v":0},{"$f":"SUBTOTAL(103,สิงหาคม[19])","v":0},{"$f":"SUBTOTAL(103,สิงหาคม[20])","v":0},{"$f":"SUBTOTAL(103,สิงหาคม[21])","v":0},{"$f":"SUBTOTAL(103,สิงหาคม[22])","v":0},{"$f":"SUBTOTAL(103,สิงหาคม[23])","v":0},{"$f":"SUBTOTAL(103,สิงหาคม[24])","v":0},{"$f":"SUBTOTAL(103,สิงหาคม[25])","v":0},{"$f":"SUBTOTAL(103,สิงหาคม[26])","v":0},{"$f":"SUBTOTAL(103,สิงหาคม[27])","v":0},{"$f":"SUBTOTAL(103,สิงหาคม[28])","v":0},{"$f":"SUBTOTAL(103,สิงหาคม[29])","v":0},{"$f":"SUBTOTAL(103,สิงหาคม[30])","v":0},{"$f":"SUBTOTAL(103,สิงหาคม[31])","v":0},{"$f":"SUBTOTAL(109,สิงหาคม[จำนวนวัน:])","v":0}]

{"sheet":"กันยายน","index":8,"n_rows":12,"n_cols":34,"rows_kept":12,"merged":[[1,3,1,5],[1,7,1,8],[3,2,3,32]]}
[null,{"$f":"Employee_Absence_Title","v":"กำหนดการการขาดงานของพนักงาน"}]
[null,"คีย์ประเภทการขาดงาน","V","วันหยุดพักผ่อน",null,null,"P","ส่วนบุคคล",null,"S","ป่วย",null,"กำหนดเอง 1",{"$nulls":3},"กำหนดเอง 2"]
[]
[null,"กันยายน","วันที่ที่ขาดงาน",{"$nulls":30},{"$f":"ปีปฏิทิน","v":2019}]
[null,null,{"$f":"TEXT(WEEKDAY(DATE(ปีปฏิทิน,9,1),1),\"aaa\")","v":"อา."},{"$f":"TEXT(WEEKDAY(DATE(ปีปฏิทิน,9,2),1),\"aaa\")","v":"จ."},{"$f":"TEXT(WEEKDAY(DATE(ปีปฏิทิน,9,3),1),\"aaa\")","v":"อ."},{"$f":"TEXT(WEEKDAY(DATE(ปีปฏิทิน,9,4),1),\"aaa\")","v":"พ."},{"$f":"TEXT(WEEKDAY(DATE(ปีปฏิทิน,9,5),1),\"aaa\")","v":"พฤ."},{"$f":"TEXT(WEEKDAY(DATE(ปีปฏิทิน,9,6),1),\"aaa\")","v":"ศ."},{"$f":"TEXT(WEEKDAY(DATE(ปีปฏิทิน,9,7),1),\"aaa\")","v":"ส."},{"$f":"TEXT(WEEKDAY(DATE(ปีปฏิทิน,9,8),1),\"aaa\")","v":"อา."},{"$f":"TEXT(WEEKDAY(DATE(ปีปฏิทิน,9,9),1),\"aaa\")","v":"จ."},{"$f":"TEXT(WEEKDAY(DATE(ปีปฏิทิน,9,10),1),\"aaa\")","v":"อ."},{"$f":"TEXT(WEEKDAY(DATE(ปีปฏิทิน,9,11),1),\"aaa\")","v":"พ."},{"$f":"TEXT(WEEKDAY(DATE(ปีปฏิทิน,9,12),1),\"aaa\")","v":"พฤ."},{"$f":"TEXT(WEEKDAY(DATE(ปีปฏิทิน,9,13),1),\"aaa\")","v":"ศ."},{"$f":"TEXT(WEEKDAY(DATE(ปีปฏิทิน,9,14),1),\"aaa\")","v":"ส."},{"$f":"TEXT(WEEKDAY(DATE(ปีปฏิทิน,9,15),1),\"aaa\")","v":"อา."},{"$f":"TEXT(WEEKDAY(DATE(ปีปฏิทิน,9,16),1),\"aaa\")","v":"จ."},{"$f":"TEXT(WEEKDAY(DATE(ปีปฏิทิน,9,17),1),\"aaa\")","v":"อ."},{"$f":"TEXT(WEEKDAY(DATE(ปีปฏิทิน,9,18),1),\"aaa\")","v":"พ."},{"$f":"TEXT(WEEKDAY(DATE(ปีปฏิทิน,9,19),1),\"aaa\")","v":"พฤ."},{"$f":"TEXT(WEEKDAY(DATE(ปีปฏิทิน,9,20),1),\"aaa\")","v":"ศ."},{"$f":"TEXT(WEEKDAY(DATE(ปีปฏิทิน,9,21),1),\"aaa\")","v":"ส."},{"$f":"TEXT(WEEKDAY(DATE(ปีปฏิทิน,9,22),1),\"aaa\")","v":"อา."},{"$f":"TEXT(WEEKDAY(DATE(ปีปฏิทิน,9,23),1),\"aaa\")","v":"จ."},{"$f":"TEXT(WEEKDAY(DATE(ปีปฏิทิน,9,24),1),\"aaa\")","v":"อ."},{"$f":"TEXT(WEEKDAY(DATE(ปีปฏิทิน,9,25),1),\"aaa\")","v":"พ."},{"$f":"TEXT(WEEKDAY(DATE(ปีปฏิทิน,9,26),1),\"aaa\")","v":"พฤ."},{"$f":"TEXT(WEEKDAY(DATE(ปีปฏิทิน,9,27),1),\"aaa\")","v":"ศ."},{"$f":"TEXT(WEEKDAY(DATE(ปีปฏิทิน,9,28),1),\"aaa\")","v":"ส."},{"$f":"TEXT(WEEKDAY(DATE(ปีปฏิทิน,9,29),1),\"aaa\")","v":"อา."},{"$f":"TEXT(WEEKDAY(DATE(ปีปฏิทิน,9,30),1),\"aaa\")","v":"จ."}]
[null,"ชื่อพนักงาน","1","2","3","4","5","6","7","8","9","10","11","12","13","14","15","16","17","18","19","20","21","22","23","24","25","26","27","28","29","30"," ","จำนวนวัน:"]
[null,"พนักงาน 1",{"$nulls":31},{"$f":"COUNTA(กันยายน[[#This Row],[1]:[30]])","v":0}]
[null,"พนักงาน 2",{"$nulls":31},{"$f":"COUNTA(กันยายน[[#This Row],[1]:[30]])","v":0}]
[null,"พนักงาน 3",{"$nulls":31},{"$f":"COUNTA(กันยายน[[#This Row],[1]:[30]])","v":0}]
[null,"พนักงาน 4",{"$nulls":31},{"$f":"COUNTA(กันยายน[[#This Row],[1]:[30]])","v":0}]
[null,"พนักงาน 5",{"$nulls":31},{"$f":"COUNTA(กันยายน[[#This Row],[1]:[30]])","v":0}]
[null,{"$f":"MonthName&\" ผลรวม\"","v":"กันยายน ผลรวม"},{"$f":"SUBTOTAL(103,กันยายน[1])","v":0},{"$f":"SUBTOTAL(103,กันยายน[2])","v":0},{"$f":"SUBTOTAL(103,กันยายน[3])","v":0},{"$f":"SUBTOTAL(103,กันยายน[4])","v":0},{"$f":"SUBTOTAL(103,กันยายน[5])","v":0},{"$f":"SUBTOTAL(103,กันยายน[6])","v":0},{"$f":"SUBTOTAL(103,กันยายน[7])","v":0},{"$f":"SUBTOTAL(103,กันยายน[8])","v":0},{"$f":"SUBTOTAL(103,กันยายน[9])","v":0},{"$f":"SUBTOTAL(103,กันยายน[10])","v":0},{"$f":"SUBTOTAL(103,กันยายน[11])","v":0},{"$f":"SUBTOTAL(103,กันยายน[12])","v":0},{"$f":"SUBTOTAL(103,กันยายน[13])","v":0},{"$f":"SUBTOTAL(103,กันยายน[14])","v":0},{"$f":"SUBTOTAL(103,กันยายน[15])","v":0},{"$f":"SUBTOTAL(103,กันยายน[16])","v":0},{"$f":"SUBTOTAL(103,กันยายน[17])","v":0},{"$f":"SUBTOTAL(103,กันยายน[18])","v":0},{"$f":"SUBTOTAL(103,กันยายน[19])","v":0},{"$f":"SUBTOTAL(103,กันยายน[20])","v":0},{"$f":"SUBTOTAL(103,กันยายน[21])","v":0},{"$f":"SUBTOTAL(103,กันยายน[22])","v":0},{"$f":"SUBTOTAL(103,กันยายน[23])","v":0},{"$f":"SUBTOTAL(103,กันยายน[24])","v":0},{"$f":"SUBTOTAL(103,กันยายน[25])","v":0},{"$f":"SUBTOTAL(103,กันยายน[26])","v":0},{"$f":"SUBTOTAL(103,กันยายน[27])","v":0},{"$f":"SUBTOTAL(103,กันยายน[28])","v":0},{"$f":"SUBTOTAL(103,กันยายน[29])","v":0},{"$f":"SUBTOTAL(103,กันยายน[30])","v":0},{"$f":"SUBTOTAL(103,กันยายน[[ ]])","v":0},{"$f":"SUBTOTAL(109,กันยายน[จำนวนวัน:])","v":0}]

{"sheet":"ตุลาคม","index":9,"n_rows":12,"n_cols":34,"rows_kept":12,"merged":[[1,3,1,5],[1,7,1,8],[3,2,3,32]]}
[null,{"$f":"Employee_Absence_Title","v":"กำหนดการการขาดงานของพนักงาน"}]
[null,"คีย์ประเภทการขาดงาน","V","วันหยุดพักผ่อน",null,null,"P","ส่วนบุคคล",null,"S","ป่วย",null,"กำหนดเอง 1",{"$nulls":3},"กำหนดเอง 2"]
[]
[null,"ตุลาคม","วันที่ที่ขาดงาน",{"$nulls":30},{"$f":"ปีปฏิทิน","v":2019}]
[null,null,{"$f":"TEXT(WEEKDAY(DATE(ปีปฏิทิน,10,1),1),\"aaa\")","v":"อ."},{"$f":"TEXT(WEEKDAY(DATE(ปีปฏิทิน,10,2),1),\"aaa\")","v":"พ."},{"$f":"TEXT(WEEKDAY(DATE(ปีปฏิทิน,10,3),1),\"aaa\")","v":"พฤ."},{"$f":"TEXT(WEEKDAY(DATE(ปีปฏิทิน,10,4),1),\"aaa\")","v":"ศ."},{"$f":"TEXT(WEEKDAY(DATE(ปีปฏิทิน,10,5),1),\"aaa\")","v":"ส."},{"$f":"TEXT(WEEKDAY(DATE(ปีปฏิทิน,10,6),1),\"aaa\")","v":"อา."},{"$f":"TEXT(WEEKDAY(DATE(ปีปฏิทิน,10,7),1),\"aaa\")","v":"จ."},{"$f":"TEXT(WEEKDAY(DATE(ปีปฏิทิน,10,8),1),\"aaa\")","v":"อ."},{"$f":"TEXT(WEEKDAY(DATE(ปีปฏิทิน,10,9),1),\"aaa\")","v":"พ."},{"$f":"TEXT(WEEKDAY(DATE(ปีปฏิทิน,10,10),1),\"aaa\")","v":"พฤ."},{"$f":"TEXT(WEEKDAY(DATE(ปีปฏิทิน,10,11),1),\"aaa\")","v":"ศ."},{"$f":"TEXT(WEEKDAY(DATE(ปีปฏิทิน,10,12),1),\"aaa\")","v":"ส."},{"$f":"TEXT(WEEKDAY(DATE(ปีปฏิทิน,10,13),1),\"aaa\")","v":"อา."},{"$f":"TEXT(WEEKDAY(DATE(ปีปฏิทิน,10,14),1),\"aaa\")","v":"จ."},{"$f":"TEXT(WEEKDAY(DATE(ปีปฏิทิน,10,15),1),\"aaa\")","v":"อ."},{"$f":"TEXT(WEEKDAY(DATE(ปีปฏิทิน,10,16),1),\"aaa\")","v":"พ."},{"$f":"TEXT(WEEKDAY(DATE(ปีปฏิทิน,10,17),1),\"aaa\")","v":"พฤ."},{"$f":"TEXT(WEEKDAY(DATE(ปีปฏิทิน,10,18),1),\"aaa\")","v":"ศ."},{"$f":"TEXT(WEEKDAY(DATE(ปีปฏิทิน,10,19),1),\"aaa\")","v":"ส."},{"$f":"TEXT(WEEKDAY(DATE(ปีปฏิทิน,10,20),1),\"aaa\")","v":"อา."},{"$f":"TEXT(WEEKDAY(DATE(ปีปฏิทิน,10,21),1),\"aaa\")","v":"จ."},{"$f":"TEXT(WEEKDAY(DATE(ปีปฏิทิน,10,22),1),\"aaa\")","v":"อ."},{"$f":"TEXT(WEEKDAY(DATE(ปีปฏิทิน,10,23),1),\"aaa\")","v":"พ."},{"$f":"TEXT(WEEKDAY(DATE(ปีปฏิทิน,10,24),1),\"aaa\")","v":"พฤ."},{"$f":"TEXT(WEEKDAY(DATE(ปีปฏิทิน,10,25),1),\"aaa\")","v":"ศ."},{"$f":"TEXT(WEEKDAY(DATE(ปีปฏิทิน,10,26),1),\"aaa\")","v":"ส."},{"$f":"TEXT(WEEKDAY(DATE(ปีปฏิทิน,10,27),1),\"aaa\")","v":"อา."},{"$f":"TEXT(WEEKDAY(DATE(ปีปฏิทิน,10,28),1),\"aaa\")","v":"จ."},{"$f":"TEXT(WEEKDAY(DATE(ปีปฏิทิน,10,29),1),\"aaa\")","v":"อ."},{"$f":"TEXT(WEEKDAY(DATE(ปีปฏิทิน,10,30),1),\"aaa\")","v":"พ."},{"$f":"TEXT(WEEKDAY(DATE(ปีปฏิทิน,10,31),1),\"aaa\")","v":"พฤ."}]
[null,"ชื่อพนักงาน","1","2","3","4","5","6","7","8","9","10","11","12","13","14","15","16","17","18","19","20","21","22","23","24","25","26","27","28","29","30","31","จำนวนวัน:"]
[null,"พนักงาน 1",{"$nulls":31},{"$f":"COUNTA(ตุลาคม[[#This Row],[1]:[31]])","v":0}]
[null,"พนักงาน 2",{"$nulls":31},{"$f":"COUNTA(ตุลาคม[[#This Row],[1]:[31]])","v":0}]
[null,"พนักงาน 3",{"$nulls":31},{"$f":"COUNTA(ตุลาคม[[#This Row],[1]:[31]])","v":0}]
[null,"พนักงาน 4",{"$nulls":31},{"$f":"COUNTA(ตุลาคม[[#This Row],[1]:[31]])","v":0}]
[null,"พนักงาน 5",{"$nulls":31},{"$f":"COUNTA(ตุลาคม[[#This Row],[1]:[31]])","v":0}]
[null,{"$f":"MonthName&\" ผลรวม\"","v":"ตุลาคม ผลรวม"},{"$f":"SUBTOTAL(103,ตุลาคม[1])","v":0},{"$f":"SUBTOTAL(103,ตุลาคม[2])","v":0},{"$f":"SUBTOTAL(103,ตุลาคม[3])","v":0},{"$f":"SUBTOTAL(103,ตุลาคม[4])","v":0},{"$f":"SUBTOTAL(103,ตุลาคม[5])","v":0},{"$f":"SUBTOTAL(103,ตุลาคม[6])","v":0},{"$f":"SUBTOTAL(103,ตุลาคม[7])","v":0},{"$f":"SUBTOTAL(103,ตุลาคม[8])","v":0},{"$f":"SUBTOTAL(103,ตุลาคม[9])","v":0},{"$f":"SUBTOTAL(103,ตุลาคม[10])","v":0},{"$f":"SUBTOTAL(103,ตุลาคม[11])","v":0},{"$f":"SUBTOTAL(103,ตุลาคม[12])","v":0},{"$f":"SUBTOTAL(103,ตุลาคม[13])","v":0},{"$f":"SUBTOTAL(103,ตุลาคม[14])","v":0},{"$f":"SUBTOTAL(103,ตุลาคม[15])","v":0},{"$f":"SUBTOTAL(103,ตุลาคม[16])","v":0},{"$f":"SUBTOTAL(103,ตุลาคม[17])","v":0},{"$f":"SUBTOTAL(103,ตุลาคม[18])","v":0},{"$f":"SUBTOTAL(103,ตุลาคม[19])","v":0},{"$f":"SUBTOTAL(103,ตุลาคม[20])","v":0},{"$f":"SUBTOTAL(103,ตุลาคม[21])","v":0},{"$f":"SUBTOTAL(103,ตุลาคม[22])","v":0},{"$f":"SUBTOTAL(103,ตุลาคม[23])","v":0},{"$f":"SUBTOTAL(103,ตุลาคม[24])","v":0},{"$f":"SUBTOTAL(103,ตุลาคม[25])","v":0},{"$f":"SUBTOTAL(103,ตุลาคม[26])","v":0},{"$f":"SUBTOTAL(103,ตุลาคม[27])","v":0},{"$f":"SUBTOTAL(103,ตุลาคม[28])","v":0},{"$f":"SUBTOTAL(103,ตุลาคม[29])","v":0},{"$f":"SUBTOTAL(103,ตุลาคม[30])","v":0},{"$f":"SUBTOTAL(103,ตุลาคม[31])","v":0},{"$f":"SUBTOTAL(109,ตุลาคม[จำนวนวัน:])","v":0}]

{"sheet":"พฤศจิกายน","index":10,"n_rows":12,"n_cols":34,"rows_kept":12,"merged":[[1,3,1,5],[1,7,1,8],[3,2,3,32]]}
[null,{"$f":"Employee_Absence_Title","v":"กำหนดการการขาดงานของพนักงาน"}]
[null,"คีย์ประเภทการขาดงาน","V","วันหยุดพักผ่อน",null,null,"P","ส่วนบุคคล",null,"S","ป่วย",null,"กำหนดเอง 1",{"$nulls":3},"กำหนดเอง 2"]
[]
[null,"พฤศจิกายน","วันที่ที่ขาดงาน",{"$nulls":30},{"$f":"ปีปฏิทิน","v":2019}]
[null,null,{"$f":"TEXT(WEEKDAY(DATE(ปีปฏิทิน,11,1),1),\"aaa\")","v":"ศ."},{"$f":"TEXT(WEEKDAY(DATE(ปีปฏิทิน,11,2),1),\"aaa\")","v":"ส."},{"$f":"TEXT(WEEKDAY(DATE(ปีปฏิทิน,11,3),1),\"aaa\")","v":"อา."},{"$f":"TEXT(WEEKDAY(DATE(ปีปฏิทิน,11,4),1),\"aaa\")","v":"จ."},{"$f":"TEXT(WEEKDAY(DATE(ปีปฏิทิน,11,5),1),\"aaa\")","v":"อ."},{"$f":"TEXT(WEEKDAY(DATE(ปีปฏิทิน,11,6),1),\"aaa\")","v":"พ."},{"$f":"TEXT(WEEKDAY(DATE(ปีปฏิทิน,11,7),1),\"aaa\")","v":"พฤ."},{"$f":"TEXT(WEEKDAY(DATE(ปีปฏิทิน,11,8),1),\"aaa\")","v":"ศ."},{"$f":"TEXT(WEEKDAY(DATE(ปีปฏิทิน,11,9),1),\"aaa\")","v":"ส."},{"$f":"TEXT(WEEKDAY(DATE(ปีปฏิทิน,11,10),1),\"aaa\")","v":"อา."},{"$f":"TEXT(WEEKDAY(DATE(ปีปฏิทิน,11,11),1),\"aaa\")","v":"จ."},{"$f":"TEXT(WEEKDAY(DATE(ปีปฏิทิน,11,12),1),\"aaa\")","v":"อ."},{"$f":"TEXT(WEEKDAY(DATE(ปีปฏิทิน,11,13),1),\"aaa\")","v":"พ."},{"$f":"TEXT(WEEKDAY(DATE(ปีปฏิทิน,11,14),1),\"aaa\")","v":"พฤ."},{"$f":"TEXT(WEEKDAY(DATE(ปีปฏิทิน,11,15),1),\"aaa\")","v":"ศ."},{"$f":"TEXT(WEEKDAY(DATE(ปีปฏิทิน,11,16),1),\"aaa\")","v":"ส."},{"$f":"TEXT(WEEKDAY(DATE(ปีปฏิทิน,11,17),1),\"aaa\")","v":"อา."},{"$f":"TEXT(WEEKDAY(DATE(ปีปฏิทิน,11,18),1),\"aaa\")","v":"จ."},{"$f":"TEXT(WEEKDAY(DATE(ปีปฏิทิน,11,19),1),\"aaa\")","v":"อ."},{"$f":"TEXT(WEEKDAY(DATE(ปีปฏิทิน,11,20),1),\"aaa\")","v":"พ."},{"$f":"TEXT(WEEKDAY(DATE(ปีปฏิทิน,11,21),1),\"aaa\")","v":"พฤ."},{"$f":"TEXT(WEEKDAY(DATE(ปีปฏิทิน,11,22),1),\"aaa\")","v":"ศ."},{"$f":"TEXT(WEEKDAY(DATE(ปีปฏิทิน,11,23),1),\"aaa\")","v":"ส."},{"$f":"TEXT(WEEKDAY(DATE(ปีปฏิทิน,11,24),1),\"aaa\")","v":"อา."},{"$f":"TEXT(WEEKDAY(DATE(ปีปฏิทิน,11,25),1),\"aaa\")","v":"จ."},{"$f":"TEXT(WEEKDAY(DATE(ปีปฏิทิน,11,26),1),\"aaa\")","v":"อ."},{"$f":"TEXT(WEEKDAY(DATE(ปีปฏิทิน,11,27),1),\"aaa\")","v":"พ."},{"$f":"TEXT(WEEKDAY(DATE(ปีปฏิทิน,11,28),1),\"aaa\")","v":"พฤ."},{"$f":"TEXT(WEEKDAY(DATE(ปีปฏิทิน,11,29),1),\"aaa\")","v":"ศ."},{"$f":"TEXT(WEEKDAY(DATE(ปีปฏิทิน,11,30),1),\"aaa\")","v":"ส."}]
[null,"ชื่อพนักงาน","1","2","3","4","5","6","7","8","9","10","11","12","13","14","15","16","17","18","19","20","21","22","23","24","25","26","27","28","29","30"," ","จำนวนวัน:"]
[null,"พนักงาน 1",{"$nulls":31},{"$f":"COUNTA(พฤศจิกายน[[#This Row],[1]:[30]])","v":0}]
[null,"พนักงาน 2",{"$nulls":31},{"$f":"COUNTA(พฤศจิกายน[[#This Row],[1]:[30]])","v":0}]
[null,"พนักงาน 3",{"$nulls":31},{"$f":"COUNTA(พฤศจิกายน[[#This Row],[1]:[30]])","v":0}]
[null,"พนักงาน 4",{"$nulls":31},{"$f":"COUNTA(พฤศจิกายน[[#This Row],[1]:[30]])","v":0}]
[null,"พนักงาน 5",{"$nulls":31},{"$f":"COUNTA(พฤศจิกายน[[#This Row],[1]:[30]])","v":0}]
[null,{"$f":"MonthName&\" ผลรวม\"","v":"พฤศจิกายน ผลรวม"},{"$f":"SUBTOTAL(103,พฤศจิกายน[1])","v":0},{"$f":"SUBTOTAL(103,พฤศจิกายน[2])","v":0},{"$f":"SUBTOTAL(103,พฤศจิกายน[3])","v":0},{"$f":"SUBTOTAL(103,พฤศจิกายน[4])","v":0},{"$f":"SUBTOTAL(103,พฤศจิกายน[5])","v":0},{"$f":"SUBTOTAL(103,พฤศจิกายน[6])","v":0},{"$f":"SUBTOTAL(103,พฤศจิกายน[7])","v":0},{"$f":"SUBTOTAL(103,พฤศจิกายน[8])","v":0},{"$f":"SUBTOTAL(103,พฤศจิกายน[9])","v":0},{"$f":"SUBTOTAL(103,พฤศจิกายน[10])","v":0},{"$f":"SUBTOTAL(103,พฤศจิกายน[11])","v":0},{"$f":"SUBTOTAL(103,พฤศจิกายน[12])","v":0},{"$f":"SUBTOTAL(103,พฤศจิกายน[13])","v":0},{"$f":"SUBTOTAL(103,พฤศจิกายน[14])","v":0},{"$f":"SUBTOTAL(103,พฤศจิกายน[15])","v":0},{"$f":"SUBTOTAL(103,พฤศจิกายน[16])","v":0},{"$f":"SUBTOTAL(103,พฤศจิกายน[17])","v":0},{"$f":"SUBTOTAL(103,พฤศจิกายน[18])","v":0},{"$f":"SUBTOTAL(103,พฤศจิกายน[19])","v":0},{"$f":"SUBTOTAL(103,พฤศจิกายน[20])","v":0},{"$f":"SUBTOTAL(103,พฤศจิกายน[21])","v":0},{"$f":"SUBTOTAL(103,พฤศจิกายน[22])","v":0},{"$f":"SUBTOTAL(103,พฤศจิกายน[23])","v":0},{"$f":"SUBTOTAL(103,พฤศจิกายน[24])","v":0},{"$f":"SUBTOTAL(103,พฤศจิกายน[25])","v":0},{"$f":"SUBTOTAL(103,พฤศจิกายน[26])","v":0},{"$f":"SUBTOTAL(103,พฤศจิกายน[27])","v":0},{"$f":"SUBTOTAL(103,พฤศจิกายน[28])","v":0},{"$f":"SUBTOTAL(103,พฤศจิกายน[29])","v":0},{"$f":"SUBTOTAL(103,พฤศจิกายน[30])","v":0},{"$f":"SUBTOTAL(103,พฤศจิกายน[[ ]])","v":0},{"$f":"SUBTOTAL(109,พฤศจิกายน[จำนวนวัน:])","v":0}]

{"sheet":"ธันวาคม","index":11,"n_rows":12,"n_cols":34,"rows_kept":12,"merged":[[1,3,1,5],[1,7,1,8],[3,2,3,32]]}
[null,{"$f":"Employee_Absence_Title","v":"กำหนดการการขาดงานของพนักงาน"}]
[null,"คีย์ประเภทการขาดงาน","V","วันหยุดพักผ่อน",null,null,"P","ส่วนบุคคล",null,"S","ป่วย",null,"กำหนดเอง 1",{"$nulls":3},"กำหนดเอง 2"]
[]
[null,"ธันวาคม","วันที่ที่ขาดงาน",{"$nulls":30},{"$f":"ปีปฏิทิน","v":2019}]
[null,null,{"$f":"TEXT(WEEKDAY(DATE(ปีปฏิทิน,12,1),1),\"aaa\")","v":"อา."},{"$f":"TEXT(WEEKDAY(DATE(ปีปฏิทิน,12,2),1),\"aaa\")","v":"จ."},{"$f":"TEXT(WEEKDAY(DATE(ปีปฏิทิน,12,3),1),\"aaa\")","v":"อ."},{"$f":"TEXT(WEEKDAY(DATE(ปีปฏิทิน,12,4),1),\"aaa\")","v":"พ."},{"$f":"TEXT(WEEKDAY(DATE(ปีปฏิทิน,12,5),1),\"aaa\")","v":"พฤ."},{"$f":"TEXT(WEEKDAY(DATE(ปีปฏิทิน,12,6),1),\"aaa\")","v":"ศ."},{"$f":"TEXT(WEEKDAY(DATE(ปีปฏิทิน,12,7),1),\"aaa\")","v":"ส."},{"$f":"TEXT(WEEKDAY(DATE(ปีปฏิทิน,12,8),1),\"aaa\")","v":"อา."},{"$f":"TEXT(WEEKDAY(DATE(ปีปฏิทิน,12,9),1),\"aaa\")","v":"จ."},{"$f":"TEXT(WEEKDAY(DATE(ปีปฏิทิน,12,10),1),\"aaa\")","v":"อ."},{"$f":"TEXT(WEEKDAY(DATE(ปีปฏิทิน,12,11),1),\"aaa\")","v":"พ."},{"$f":"TEXT(WEEKDAY(DATE(ปีปฏิทิน,12,12),1),\"aaa\")","v":"พฤ."},{"$f":"TEXT(WEEKDAY(DATE(ปีปฏิทิน,12,13),1),\"aaa\")","v":"ศ."},{"$f":"TEXT(WEEKDAY(DATE(ปีปฏิทิน,12,14),1),\"aaa\")","v":"ส."},{"$f":"TEXT(WEEKDAY(DATE(ปีปฏิทิน,12,15),1),\"aaa\")","v":"อา."},{"$f":"TEXT(WEEKDAY(DATE(ปีปฏิทิน,12,16),1),\"aaa\")","v":"จ."},{"$f":"TEXT(WEEKDAY(DATE(ปีปฏิทิน,12,17),1),\"aaa\")","v":"อ."},{"$f":"TEXT(WEEKDAY(DATE(ปีปฏิทิน,12,18),1),\"aaa\")","v":"พ."},{"$f":"TEXT(WEEKDAY(DATE(ปีปฏิทิน,12,19),1),\"aaa\")","v":"พฤ."},{"$f":"TEXT(WEEKDAY(DATE(ปีปฏิทิน,12,20),1),\"aaa\")","v":"ศ."},{"$f":"TEXT(WEEKDAY(DATE(ปีปฏิทิน,12,21),1),\"aaa\")","v":"ส."},{"$f":"TEXT(WEEKDAY(DATE(ปีปฏิทิน,12,22),1),\"aaa\")","v":"อา."},{"$f":"TEXT(WEEKDAY(DATE(ปีปฏิทิน,12,23),1),\"aaa\")","v":"จ."},{"$f":"TEXT(WEEKDAY(DATE(ปีปฏิทิน,12,24),1),\"aaa\")","v":"อ."},{"$f":"TEXT(WEEKDAY(DATE(ปีปฏิทิน,12,25),1),\"aaa\")","v":"พ."},{"$f":"TEXT(WEEKDAY(DATE(ปีปฏิทิน,12,26),1),\"aaa\")","v":"พฤ."},{"$f":"TEXT(WEEKDAY(DATE(ปีปฏิทิน,12,27),1),\"aaa\")","v":"ศ."},{"$f":"TEXT(WEEKDAY(DATE(ปีปฏิทิน,12,28),1),\"aaa\")","v":"ส."},{"$f":"TEXT(WEEKDAY(DATE(ปีปฏิทิน,12,29),1),\"aaa\")","v":"อา."},{"$f":"TEXT(WEEKDAY(DATE(ปีปฏิทิน,12,30),1),\"aaa\")","v":"จ."},{"$f":"TEXT(WEEKDAY(DATE(ปีปฏิทิน,12,31),1),\"aaa\")","v":"อ."}]
[null,"ชื่อพนักงาน","1","2","3","4","5","6","7","8","9","10","11","12","13","14","15","16","17","18","19","20","21","22","23","24","25","26","27","28","29","30","31","จำนวนวัน:"]
[null,"พนักงาน 1",{"$nulls":31},{"$f":"COUNTA(ธันวาคม[[#This Row],[1]:[31]])","v":0}]
[null,"พนักงาน 2",{"$nulls":31},{"$f":"COUNTA(ธันวาคม[[#This Row],[1]:[31]])","v":0}]
[null,"พนักงาน 3",{"$nulls":31},{"$f":"COUNTA(ธันวาคม[[#This Row],[1]:[31]])","v":0}]
[null,"พนักงาน 4",{"$nulls":31},{"$f":"COUNTA(ธันวาคม[[#This Row],[1]:[31]])","v":0}]
[null,"พนักงาน 5",{"$nulls":31},{"$f":"COUNTA(ธันวาคม[[#This Row],[1]:[31]])","v":0}]
[null,{"$f":"MonthName&\" ผลรวม\"","v":"ธันวาคม ผลรวม"},{"$f":"SUBTOTAL(103,ธันวาคม[1])","v":0},{"$f":"SUBTOTAL(103,ธันวาคม[2])","v":0},{"$f":"SUBTOTAL(103,ธันวาคม[3])","v":0},{"$f":"SUBTOTAL(103,ธันวาคม[4])","v":0},{"$f":"SUBTOTAL(103,ธันวาคม[5])","v":0},{"$f":"SUBTOTAL(103,ธันวาคม[6])","v":0},{"$f":"SUBTOTAL(103,ธันวาคม[7])","v":0},{"$f":"SUBTOTAL(103,ธันวาคม[8])","v":0},{"$f":"SUBTOTAL(103,ธันวาคม[9])","v":0},{"$f":"SUBTOTAL(103,ธันวาคม[10])","v":0},{"$f":"SUBTOTAL(103,ธันวาคม[11])","v":0},{"$f":"SUBTOTAL(103,ธันวาคม[12])","v":0},{"$f":"SUBTOTAL(103,ธันวาคม[13])","v":0},{"$f":"SUBTOTAL(103,ธันวาคม[14])","v":0},{"$f":"SUBTOTAL(103,ธันวาคม[15])","v":0},{"$f":"SUBTOTAL(103,ธันวาคม[16])","v":0},{"$f":"SUBTOTAL(103,ธันวาคม[17])","v":0},{"$f":"SUBTOTAL(103,ธันวาคม[18])","v":0},{"$f":"SUBTOTAL(103,ธันวาคม[19])","v":0},{"$f":"SUBTOTAL(103,ธันวาคม[20])","v":0},{"$f":"SUBTOTAL(103,ธันวาคม[21])","v":0},{"$f":"SUBTOTAL(103,ธันวาคม[22])","v":0},{"$f":"SUBTOTAL(103,ธันวาคม[23])","v":0},{"$f":"SUBTOTAL(103,ธันวาคม[24])","v":0},{"$f":"SUBTOTAL(103,ธันวาคม[25])","v":0},{"$f":"SUBTOTAL(103,ธันวาคม[26])","v":0},{"$f":"SUBTOTAL(103,ธันวาคม[27])","v":0},{"$f":"SUBTOTAL(103,ธันวาคม[28])","v":0},{"$f":"SUBTOTAL(103,ธันวาคม[29])","v":0},{"$f":"SUBTOTAL(103,ธันวาคม[30])","v":0},{"$f":"SUBTOTAL(103,ธันวาคม[31])","v":0},{"$f":"SUBTOTAL(109,ธันวาคม[จำนวนวัน:])","v":0}]

{"sheet":"ชื่อพนักงาน","index":12,"n_rows":8,"n_cols":2,"rows_kept":8}
[null,"ชื่อพนักงาน"]
[]
[null,"ชื่อพนักงาน"]
[null,"พนักงาน 1"]
[null,"พนักงาน 2"]
[null,"พนักงาน 3"]
[null,"พนักงาน 4"]
[null,"พนักงาน 5"]