{"text_format":"3","workbook":"xlsx","n_sheets":2,"sheets":["Vremenski raspored zaposlenog","Dan sedmice_traženje"],"not_rendered":{"defined_names":27},"read":"whole","date_system":"1900"}

{"sheet":"Vremenski raspored zaposlenog","index":0,"n_rows":36,"n_cols":26,"rows_kept":36,"merged":[[0,1,2,4],[0,5,2,9],[0,10,2,14],[0,15,3,23],[0,24,3,24],[3,1,3,3],[3,5,3,9],[3,10,3,14],[4,1,6,3],[4,4,6,6],[5,14,7,14],[5,22,7,22],[5,23,7,23],[5,24,7,24],[21,1,21,6],[22,1,23,3],[22,4,23,6],[23,14,24,14],[23,22,24,22],[23,23,24,23],[23,24,24,24],[32,1,32,6],[32,24,33,24],[32,25,33,25],[33,1,33,6],[34,1,34,6],[35,1,35,3],[35,4,35,5],[35,6,35,7],[35,8,35,14],[35,15,35,16],[35,17,35,23]]}
[null,"VREMENSKI RASPORED OPERACIJA ZAPOSLENOG",{"$nulls":3},"Ime zaposlenog",{"$nulls":9},"Izaberite Da u ćeliji sa desne strane ako je neophodna \nautorizacija za prekovremeni rad"]
[]
[]
[null,"Krajnji datum za platni spisak",null,null,{"$f":"V7","v":"2025-06-14"},"Broj zaposlenog"]
[null,"REDOVNO RADNO VREME:",null,null,"Datum:"]
[{"$nulls":14},"Ukupno\n1. sedmica\nRedovno radno vreme",{"$nulls":7},"Ukupno\n2. sedmica\nRedovno radno vreme","Ukupno\nRedovno radno vreme\nRadno vreme","Platni spisak\nKoristi samo\nŠifra plaćanja"]
[{"$nulls":7},"2025-06-01",{"$f":"Dan_prvi+1","v":"2025-06-02"},{"$f":"Dan_prvi+2","v":"2025-06-03"},{"$f":"Dan_prvi+3","v":"2025-06-04"},{"$f":"Dan_prvi+4","v":"2025-06-05"},{"$f":"Dan_prvi+5","v":"2025-06-06"},{"$f":"Dan_prvi+6","v":"2025-06-07"},null,{"$f":"Dan_prvi+7","v":"2025-06-08"},{"$f":"Dan_prvi+8","v":"2025-06-09"},{"$f":"Dan_prvi+9","v":"2025-06-10"},{"$f":"Dan_prvi+10","v":"2025-06-11"},{"$f":"Dan_prvi+11","v":"2025-06-12"},{"$f":"Dan_prvi+12","v":"2025-06-13"},{"$f":"Dan_prvi+13","v":"2025-06-14"}]
[null,"Zadatak","Lokacija","WO#","Opis posla","Radno mesto","Broj naslova",{"$f":"VLOOKUP(WEEKDAY(Dan_prvi),'Dan sedmice_traženje'!$B$2:$C$8,2)","v":"ned"},{"$f":"VLOOKUP(WEEKDAY(I7),'Dan sedmice_traženje'!$B$2:$C$8,2)","v":"Pon."},{"$f":"VLOOKUP(WEEKDAY(J7),'Dan sedmice_traženje'!$B$2:$C$8,2)","v":"Uto."},{"$f":"VLOOKUP(WEEKDAY(K7),'Dan sedmice_traženje'!$B$2:$C$8,2)","v":"sre."},{"$f":"VLOOKUP(WEEKDAY(L7),'Dan sedmice_traženje'!$B$2:$C$8,2)","v":"čet."},{"$f":"VLOOKUP(WEEKDAY(M7),'Dan sedmice_traženje'!$B$2:$C$8,2)","v":"pet."},{"$f":"VLOOKUP(WEEKDAY(N7),'Dan sedmice_traženje'!$B$2:$C$8,2)","v":"sub."},null,{"$f":"VLOOKUP(WEEKDAY(P7),'Dan sedmice_traženje'!$B$2:$C$8,2)","v":"ned"},{"$f":"VLOOKUP(WEEKDAY(Q7),'Dan sedmice_traženje'!$B$2:$C$8,2)","v":"Pon."},{"$f":"VLOOKUP(WEEKDAY(R7),'Dan sedmice_traženje'!$B$2:$C$8,2)","v":"Uto."},{"$f":"VLOOKUP(WEEKDAY(S7),'Dan sedmice_traženje'!$B$2:$C$8,2)","v":"sre."},{"$f":"VLOOKUP(WEEKDAY(T7),'Dan sedmice_traženje'!$B$2:$C$8,2)","v":"čet."},{"$f":"VLOOKUP(WEEKDAY(U7),'Dan sedmice_traženje'!$B$2:$C$8,2)","v":"pet."},{"$f":"VLOOKUP(WEEKDAY(V7),'Dan sedmice_traženje'!$B$2:$C$8,2)","v":"sub."}]
[{"$nulls":14},{"$f":"SUM(H9:N9)","v":{"v":0,"d":"0.00"}},{"$nulls":7},{"$f":"SUM(P9:V9)","v":{"v":0,"d":"0.00"}},{"$f":"O9+W9","v":{"v":0,"d":"0.00"}}]
[{"$nulls":14},{"v":0,"d":"0.00"},{"$nulls":7},{"v":0,"d":"0.00"},{"v":0,"d":"0.00"}]
[{"$nulls":14},{"v":0,"d":"0.00"},{"$nulls":7},{"v":0,"d":"0.00"},{"v":0,"d":"0.00"}]
[{"$nulls":14},{"v":0,"d":"0.00"},{"$nulls":7},{"v":0,"d":"0.00"},{"v":0,"d":"0.00"}]
[{"$nulls":14},{"v":0,"d":"0.00"},{"$nulls":7},{"v":0,"d":"0.00"},{"v":0,"d":"0.00"}]
[{"$nulls":14},{"v":0,"d":"0.00"},{"$nulls":7},{"v":0,"d":"0.00"},{"v":0,"d":"0.00"}]
[{"$nulls":14},{"v":0,"d":"0.00"},{"$nulls":7},{"v":0,"d":"0.00"},{"v":0,"d":"0.00"}]
[{"$nulls":14},{"$f":"SUM(H16:N16)","v":{"v":0,"d":"0.00"}},{"$nulls":7},{"$f":"SUM(P16:V16)","v":{"v":0,"d":"0.00"}},{"$f":"O16+W16","v":{"v":0,"d":"0.00"}}]
[{"$nulls":14},{"v":0,"d":"0.00"},{"$nulls":7},{"v":0,"d":"0.00"},{"v":0,"d":"0.00"}]
[{"$nulls":14},{"v":0,"d":"0.00"},{"$nulls":7},{"v":0,"d":"0.00"},{"v":0,"d":"0.00"}]
[{"$nulls":14},{"v":0,"d":"0.00"},{"$nulls":7},{"v":0,"d":"0.00"},{"v":0,"d":"0.00"}]
[{"$nulls":14},{"v":0,"d":"0.00"},{"$nulls":7},{"v":0,"d":"0.00"},{"v":0,"d":"0.00"}]
[{"$nulls":14},{"v":0,"d":"0.00"},{"$nulls":7},{"v":0,"d":"0.00"},{"v":0,"d":"0.00"}]
[null,"Ukupno redovno radno vreme   ",{"$nulls":5},{"$f":"SUM(H9:H21)","v":{"v":0,"d":"0.00"}},{"v":0,"d":"0.00"},{"v":0,"d":"0.00"},{"v":0,"d":"0.00"},{"v":0,"d":"0.00"},{"v":0,"d":"0.00"},{"v":0,"d":"0.00"},{"v":0,"d":"0.00"},{"v":0,"d":"0.00"},{"$f":"SUM(Q9:Q21)","v":{"v":0,"d":"0.00"}},{"v":0,"d":"0.00"},{"v":0,"d":"0.00"},{"v":0,"d":"0.00"},{"v":0,"d":"0.00"},{"v":0,"d":"0.00"},{"$f":"SUM(W9:W21)","v":{"v":0,"d":"0.00"}},{"$f":"SUM(X9:X21)","v":{"v":0,"d":"0.00"}}]
[null,"PREKOVREMENI SATI:",null,null,"Datum:"]
[{"$nulls":7},{"$f":"Dan_prvi","v":"2025-06-01"},{"$f":"Dan_prvi+1","v":"2025-06-02"},{"$f":"Dan_prvi+2","v":"2025-06-03"},{"$f":"Dan_prvi+3","v":"2025-06-04"},{"$f":"Dan_prvi+4","v":"2025-06-05"},{"$f":"Dan_prvi+5","v":"2025-06-06"},{"$f":"Dan_prvi+6","v":"2025-06-07"},"Sedmica 1 O/T",{"$f":"Dan_prvi+7","v":"2025-06-08"},{"$f":"Dan_prvi+8","v":"2025-06-09"},{"$f":"Dan_prvi+9","v":"2025-06-10"},{"$f":"Dan_prvi+10","v":"2025-06-11"},{"$f":"Dan_prvi+11","v":"2025-06-12"},{"$f":"Dan_prvi+12","v":"2025-06-13"},{"$f":"Dan_prvi+13","v":"2025-06-14"},"Sedmica 2 O/T","Ukupno O/T","Prekovremeni rad\nbroj"]
[null,"Zadatak","Lokacija","WO#","Opis posla","Radno mesto","Broj naslova",{"$f":"VLOOKUP(WEEKDAY(Dan_prvi),'Dan sedmice_traženje'!$B$2:$C$8,2)","v":"ned"},{"$f":"VLOOKUP(WEEKDAY(I24),'Dan sedmice_traženje'!$B$2:$C$8,2)","v":"Pon."},{"$f":"VLOOKUP(WEEKDAY(J24),'Dan sedmice_traženje'!$B$2:$C$8,2)","v":"Uto."},{"$f":"VLOOKUP(WEEKDAY(K24),'Dan sedmice_traženje'!$B$2:$C$8,2)","v":"sre."},{"$f":"VLOOKUP(WEEKDAY(L24),'Dan sedmice_traženje'!$B$2:$C$8,2)","v":"čet."},{"$f":"VLOOKUP(WEEKDAY(M24),'Dan sedmice_traženje'!$B$2:$C$8,2)","v":"pet."},{"$f":"VLOOKUP(WEEKDAY(N24),'Dan sedmice_traženje'!$B$2:$C$8,2)","v":"sub."},null,{"$f":"VLOOKUP(WEEKDAY(P24),'Dan sedmice_traženje'!$B$2:$C$8,2)","v":"ned"},{"$f":"VLOOKUP(WEEKDAY(Q24),'Dan sedmice_traženje'!$B$2:$C$8,2)","v":"Pon."},{"$f":"VLOOKUP(WEEKDAY(R24),'Dan sedmice_traženje'!$B$2:$C$8,2)","v":"Uto."},{"$f":"VLOOKUP(WEEKDAY(S24),'Dan sedmice_traženje'!$B$2:$C$8,2)","v":"sre."},{"$f":"VLOOKUP(WEEKDAY(T24),'Dan sedmice_traženje'!$B$2:$C$8,2)","v":"čet."},{"$f":"VLOOKUP(WEEKDAY(U24),'Dan sedmice_traženje'!$B$2:$C$8,2)","v":"pet."},{"$f":"VLOOKUP(WEEKDAY(V24),'Dan sedmice_traženje'!$B$2:$C$8,2)","v":"sub."}]
[{"$nulls":14},{"$f":"SUM(H26:N26)","v":{"v":0,"d":"0.00"}},{"$nulls":7},{"$f":"SUM(P26:V26)","v":{"v":0,"d":"0.00"}},{"$f":"O26+W26","v":{"v":0,"d":"0.00"}}]
[{"$nulls":14},{"v":0,"d":"0.00"},{"$nulls":7},{"v":0,"d":"0.00"},{"v":0,"d":"0.00"}]
[{"$nulls":14},{"v":0,"d":"0.00"},{"$nulls":7},{"v":0,"d":"0.00"},{"v":0,"d":"0.00"}]
[{"$nulls":14},{"v":0,"d":"0.00"},{"$nulls":7},{"v":0,"d":"0.00"},{"v":0,"d":"0.00"}]
[{"$nulls":14},{"v":0,"d":"0.00"},{"$nulls":7},{"v":0,"d":"0.00"},{"v":0,"d":"0.00"}]
[{"$nulls":14},{"v":0,"d":"0.00"},{"$nulls":7},{"v":0,"d":"0.00"},{"v":0,"d":"0.00"}]
[{"$nulls":14},{"v":0,"d":"0.00"},{"$nulls":7},{"v":0,"d":"0.00"},{"v":0,"d":"0.00"}]
[null,"Ukupno prekovremenih sati     ",{"$nulls":5},{"$f":"SUM(H26:H32)","v":{"v":0,"d":"0.00"}},{"v":0,"d":"0.00"},{"v":0,"d":"0.00"},{"v":0,"d":"0.00"},{"v":0,"d":"0.00"},{"v":0,"d":"0.00"},{"v":0,"d":"0.00"},{"$f":"SUM(O26:O32)","v":{"v":0,"d":"0.00"}},{"v":0,"d":"0.00"},{"v":0,"d":"0.00"},{"v":0,"d":"0.00"},{"v":0,"d":"0.00"},{"v":0,"d":"0.00"},{"v":0,"d":"0.00"},{"v":0,"d":"0.00"},{"$f":"SUM(P33:V33)","v":{"v":0,"d":"0.00"}},{"$f":"SUM(X26:X32)","v":{"v":0,"d":"0.00"}},"Ukupno\nRadno vreme\nČasovi rada","Ukupno\nRadno vreme\nobaveze"]
[null,"Kompenzacija za prekovremeni rad     ",{"$nulls":12},{"$f":"IF(SUM(H34:N34)<=O33,SUM(H34:N34),O33)","v":{"v":0,"d":"0.00"}},{"$nulls":7},{"$f":"IF(SUM(P34:V34)<=W33,SUM(P34:V34),W33)","v":{"v":0,"d":"0.00"}},{"$f":"IF(SUM(Q34:W34)<=X33,SUM(Q34:W34),X33)","v":{"v":0,"d":"0.00"}}]
[null,"Plaćeni prekovremeni rad     ",{"$nulls":5},{"$f":"IF(H33>=H34,H33-H34,H33)","v":{"v":0,"d":"0.00"}},{"$f":"IF(I33>=I34,I33-I34,I33)","v":{"v":0,"d":"0.00"}},{"v":0,"d":"0.00"},{"v":0,"d":"0.00"},{"v":0,"d":"0.00"},{"v":0,"d":"0.00"},{"v":0,"d":"0.00"},{"v":0,"d":"0.00"},{"v":0,"d":"0.00"},{"v":0,"d":"0.00"},{"v":0,"d":"0.00"},{"v":0,"d":"0.00"},{"v":0,"d":"0.00"},{"v":0,"d":"0.00"},{"v":0,"d":"0.00"},{"$f":"IF(W33>=W34,W33-W34,W33)","v":{"v":0,"d":"0.00"}},{"$f":"IF(X33>=X34,X33-X34,X33)","v":{"v":0,"d":"0.00"}},{"$f":"$X$22+$X$33","v":{"v":0,"d":"0.00"}},{"$f":"X22+X35","v":{"v":0,"d":"0.00"}}]
[null,"Zaposleni ",{"$nulls":4},"Supervizor ",{"$nulls":8},"Supervizor "]

{"sheet":"Dan sedmice_traženje","index":1,"n_rows":8,"n_cols":3,"rows_kept":8}
[null,"Dan u sedmici\nCeo broj","Dan u sedmici\nInicijal"]
[null,1,"ned"]
[null,2,"Pon."]
[null,3,"Uto."]
[null,4,"sre."]
[null,5,"čet."]
[null,6,"pet."]
[null,7,"sub."]