{"text_format":"3","workbook":"xlsx","n_sheets":7,"sheets":["Segunda-feira","Terça-feira","Quarta-feira","Quinta-feira","Sexta-feira","Sábado","Domingo"],"not_rendered":{"defined_names":21},"read":"whole","date_system":"1900"}

{"sheet":"Segunda-feira","index":0,"n_rows":10,"n_cols":13,"rows_kept":10,"merged":[[0,1,0,4],[1,2,1,4],[2,2,2,4]]}
[null,"Calendário de Turnos"]
[null,"Para a Semana de: ","Data"]
[null,"Nome do Departamento: ","Nome"]
[]
[null,"SEGUNDA-FEIRA","07:00:00","08:00:00","09:00:00","10:00:00","11:00:00","12:00:00","13:00:00","14:00:00","15:00:00","Doente?","TOTAL"]
[null,"Nome 1","gestor","gestor","gestor","gestor","gestor","gestor","gestor","gestor","gestor",null,{"$f":"COUNTIF(Segunda_feira[[#This Row],[07:00:00]:[15:00:00]],\"*\")","v":9}]
[null,"Nome 2",null,"caixa","caixa","caixa","caixa",{"$nulls":5},{"$f":"COUNTIF(Segunda_feira[[#This Row],[07:00:00]:[15:00:00]],\"*\")","v":4}]
[null,"Nome 3",null,"receção","receção","receção","receção ","receção","receção","receção",null,null,{"$f":"COUNTIF(Segunda_feira[[#This Row],[07:00:00]:[15:00:00]],\"*\")","v":7}]
[null,"Nome 4",null,"receção","receção","receção","receção ","receção","receção","receção",null,null,{"$f":"COUNTIF(Segunda_feira[[#This Row],[07:00:00]:[15:00:00]],\"*\")","v":7}]
[null,"Nome 5",{"$nulls":9},"Doente",{"$f":"COUNTIF(Segunda_feira[[#This Row],[07:00:00]:[15:00:00]],\"*\")","v":0}]

{"sheet":"Terça-feira","index":1,"n_rows":10,"n_cols":13,"rows_kept":10,"merged":[[0,1,0,4],[1,2,1,4],[2,2,2,4]]}
[null,"Calendário de Turnos"]
[null,"Para a Semana de: ",{"$f":"'Segunda-feira'!C2","v":"Data"}]
[null,"Nome do Departamento: ",{"$f":"'Segunda-feira'!C3","v":"Nome"}]
[]
[null,"TERÇA-FEIRA","07:00:00","08:00:00","09:00:00","10:00:00","11:00:00","12:00:00","13:00:00","14:00:00","15:00:00","Doente?","TOTAL"]
[null,"Nome 1","gestor","gestor","gestor","gestor","gestor","gestor","gestor","gestor","gestor",null,{"$f":"COUNTIF(Terça_feira[[#This Row],[07:00:00]:[15:00:00]],\"*\")","v":9}]
[null,"Nome 2",null,"caixa","caixa","caixa","caixa",{"$nulls":5},{"$f":"COUNTIF(Terça_feira[[#This Row],[07:00:00]:[15:00:00]],\"*\")","v":4}]
[null,"Nome 3",null,"receção","receção","receção","receção ","receção","receção","receção",null,null,{"$f":"COUNTIF(Terça_feira[[#This Row],[07:00:00]:[15:00:00]],\"*\")","v":7}]
[null,"Nome 4",null,"receção","receção","receção","receção ","receção","receção","receção",null,null,{"$f":"COUNTIF(Terça_feira[[#This Row],[07:00:00]:[15:00:00]],\"*\")","v":7}]
[null,"Nome 5",{"$nulls":9},"Doente",{"$f":"COUNTIF(Terça_feira[[#This Row],[07:00:00]:[15:00:00]],\"*\")","v":0}]

{"sheet":"Quarta-feira","index":2,"n_rows":10,"n_cols":13,"rows_kept":10,"merged":[[0,1,0,4],[1,2,1,4],[2,2,2,4]]}
[null,"Calendário de Turnos"]
[null,"Para a Semana de: ",{"$f":"'Segunda-feira'!C2","v":"Data"}]
[null,"Nome do Departamento: ",{"$f":"'Segunda-feira'!C3","v":"Nome"}]
[]
[null,"QUARTA-FEIRA","07:00:00","08:00:00","09:00:00","10:00:00","11:00:00","12:00:00","13:00:00","14:00:00","15:00:00","Doente?","TOTAL"]
[null,"Nome 1","gestor","gestor","gestor","gestor","gestor","gestor","gestor","gestor","gestor",null,{"$f":"COUNTIF(Quarta_feira[[#This Row],[07:00:00]:[15:00:00]],\"*\")","v":9}]
[null,"Nome 2",null,"caixa","caixa","caixa","caixa",{"$nulls":5},{"$f":"COUNTIF(Quarta_feira[[#This Row],[07:00:00]:[15:00:00]],\"*\")","v":4}]
[null,"Nome 3",null,"receção","receção","receção","receção ","receção","receção","receção",null,null,{"$f":"COUNTIF(Quarta_feira[[#This Row],[07:00:00]:[15:00:00]],\"*\")","v":7}]
[null,"Nome 4",null,"receção","receção","receção","receção ","receção","receção","receção",null,null,{"$f":"COUNTIF(Quarta_feira[[#This Row],[07:00:00]:[15:00:00]],\"*\")","v":7}]
[null,"Nome 5",{"$nulls":9},"Doente",{"$f":"COUNTIF(Quarta_feira[[#This Row],[07:00:00]:[15:00:00]],\"*\")","v":0}]

{"sheet":"Quinta-feira","index":3,"n_rows":10,"n_cols":13,"rows_kept":10,"merged":[[0,1,0,4],[1,2,1,4],[2,2,2,4]]}
[null,"Calendário de Turnos"]
[null,"Para a Semana de: ",{"$f":"'Segunda-feira'!C2","v":"Data"}]
[null,"Nome do Departamento: ",{"$f":"'Segunda-feira'!C3","v":"Nome"}]
[]
[null,"QUINTA-FEIRA","07:00:00","08:00:00","09:00:00","10:00:00","11:00:00","12:00:00","13:00:00","14:00:00","15:00:00","Doente?","TOTAL"]
[null,"Nome 1","gestor","gestor","gestor","gestor","gestor","gestor","gestor","gestor","gestor",null,{"$f":"COUNTIF(Quinta_feira[[#This Row],[07:00:00]:[15:00:00]],\"*\")","v":9}]
[null,"Nome 2",null,"caixa","caixa","caixa","caixa",{"$nulls":5},{"$f":"COUNTIF(Quinta_feira[[#This Row],[07:00:00]:[15:00:00]],\"*\")","v":4}]
[null,"Nome 3",null,"receção","receção","receção","receção ","receção","receção","receção",null,null,{"$f":"COUNTIF(Quinta_feira[[#This Row],[07:00:00]:[15:00:00]],\"*\")","v":7}]
[null,"Nome 4",null,"receção","receção","receção","receção ","receção","receção","receção",null,null,{"$f":"COUNTIF(Quinta_feira[[#This Row],[07:00:00]:[15:00:00]],\"*\")","v":7}]
[null,"Nome 5",{"$nulls":9},"Doente",{"$f":"COUNTIF(Quinta_feira[[#This Row],[07:00:00]:[15:00:00]],\"*\")","v":0}]

{"sheet":"Sexta-feira","index":4,"n_rows":10,"n_cols":13,"rows_kept":10,"merged":[[0,1,0,4],[1,2,1,4],[2,2,2,4]]}
[null,"Calendário de Turnos"]
[null,"Para a Semana de: ",{"$f":"'Segunda-feira'!C2","v":"Data"}]
[null,"Nome do Departamento: ",{"$f":"'Segunda-feira'!C3","v":"Nome"}]
[]
[null,"SEXTA-FEIRA","07:00:00","08:00:00","09:00:00","10:00:00","11:00:00","12:00:00","13:00:00","14:00:00","15:00:00","Doente?","TOTAL"]
[null,"Nome 1","gestor","gestor","gestor","gestor","gestor","gestor","gestor","gestor","gestor",null,{"$f":"COUNTIF(Sexta_feira[[#This Row],[07:00:00]:[15:00:00]],\"*\")","v":9}]
[null,"Nome 2",null,"caixa","caixa","caixa","caixa",{"$nulls":5},{"$f":"COUNTIF(Sexta_feira[[#This Row],[07:00:00]:[15:00:00]],\"*\")","v":4}]
[null,"Nome 3",null,"receção","receção","receção","receção ","receção","receção","receção",null,null,{"$f":"COUNTIF(Sexta_feira[[#This Row],[07:00:00]:[15:00:00]],\"*\")","v":7}]
[null,"Nome 4",null,"receção","receção","receção","receção ","receção","receção","receção",null,null,{"$f":"COUNTIF(Sexta_feira[[#This Row],[07:00:00]:[15:00:00]],\"*\")","v":7}]
[null,"Nome 5",{"$nulls":9},"Doente",{"$f":"COUNTIF(Sexta_feira[[#This Row],[07:00:00]:[15:00:00]],\"*\")","v":0}]

{"sheet":"Sábado","index":5,"n_rows":10,"n_cols":13,"rows_kept":10,"merged":[[0,1,0,4],[1,2,1,4],[2,2,2,4]]}
[null,"Calendário de Turnos"]
[null,"Para a Semana de: ",{"$f":"'Segunda-feira'!C2","v":"Data"}]
[null,"Nome do Departamento: ",{"$f":"'Segunda-feira'!C3","v":"Nome"}]
[]
[null,"SÁBADO","07:00:00","08:00:00","09:00:00","10:00:00","11:00:00","12:00:00","13:00:00","14:00:00","15:00:00","Doente?","TOTAL"]
[null,"Nome 1","gestor","gestor","gestor","gestor","gestor","gestor","gestor","gestor","gestor",null,{"$f":"COUNTIF(Sábado[[#This Row],[07:00:00]:[15:00:00]],\"*\")","v":9}]
[null,"Nome 2",null,"caixa","caixa","caixa","caixa",{"$nulls":5},{"$f":"COUNTIF(Sábado[[#This Row],[07:00:00]:[15:00:00]],\"*\")","v":4}]
[null,"Nome 3",null,"receção","receção","receção","receção ","receção","receção","receção",null,null,{"$f":"COUNTIF(Sábado[[#This Row],[07:00:00]:[15:00:00]],\"*\")","v":7}]
[null,"Nome 4",null,"receção","receção","receção","receção ","receção","receção","receção",null,null,{"$f":"COUNTIF(Sábado[[#This Row],[07:00:00]:[15:00:00]],\"*\")","v":7}]
[null,"Nome 5",{"$nulls":9},"Doente",{"$f":"COUNTIF(Sábado[[#This Row],[07:00:00]:[15:00:00]],\"*\")","v":0}]

{"sheet":"Domingo","index":6,"n_rows":10,"n_cols":13,"rows_kept":10,"merged":[[0,1,0,4],[1,2,1,4],[2,2,2,4]]}
[null,"Calendário de Turnos"]
[null,"Para a Semana de: ",{"$f":"'Segunda-feira'!C2","v":"Data"}]
[null,"Nome do Departamento: ",{"$f":"'Segunda-feira'!C3","v":"Nome"}]
[]
[null,"DOMINGO","07:00:00","08:00:00","09:00:00","10:00:00","11:00:00","12:00:00","13:00:00","14:00:00","15:00:00","Doente?","TOTAL"]
[null,"Nome 1","gestor","gestor","gestor","gestor","gestor","gestor","gestor","gestor","gestor",null,{"$f":"COUNTIF(Domingo[[#This Row],[07:00:00]:[15:00:00]],\"*\")","v":9}]
[null,"Nome 2",null,"caixa","caixa","caixa","caixa",{"$nulls":5},{"$f":"COUNTIF(Domingo[[#This Row],[07:00:00]:[15:00:00]],\"*\")","v":4}]
[null,"Nome 3",null,"receção","receção","receção","receção ","receção","receção","receção",null,null,{"$f":"COUNTIF(Domingo[[#This Row],[07:00:00]:[15:00:00]],\"*\")","v":7}]
[null,"Nome 4",null,"receção","receção","receção","receção ","receção","receção","receção",null,null,{"$f":"COUNTIF(Domingo[[#This Row],[07:00:00]:[15:00:00]],\"*\")","v":7}]
[null,"Nome 5",{"$nulls":9},"Doente",{"$f":"COUNTIF(Domingo[[#This Row],[07:00:00]:[15:00:00]],\"*\")","v":0}]