{"text_format":"3","workbook":"xlsx","n_sheets":9,"sheets":["Summary","Class 1","Class 2","Class 3","Class 4","Class 5","Class 6","Class 7","GPA Table"],"not_rendered":{"defined_names":9},"read":"whole","date_system":"1900"}

{"sheet":"Summary","index":0,"n_rows":12,"n_cols":7,"rows_kept":12,"merged":[[1,1,1,2]]}
[]
[null,"School Name",null,"    Your Name:",null," Semester/Year:"]
[]
[null,"Classes","Credit Hours","Current Percent","Letter Grade","GPA","Weighted GPA"]
[null,"Class 1",{"v":3,"d":"3.0"},{"$f":"'Class 1'!D$36","v":{"v":0.8661764705882353,"d":"86.62%"}},{"$f":"IF(D5<>\"\",HLOOKUP(D5,'GPA Table'!$C$5:$O$7,2),\"\")","v":"B"},{"$f":"IF(D5<>\"\",HLOOKUP(D5,'GPA Table'!$C$5:$O$7,3),\"\")","v":{"v":3,"d":"3.00"}},{"$f":"IF(F5<>\"\",F5*C5/(SUM($C$5:$C$11)), \"\")","v":{"v":0.5625,"d":"0.56"}}]
[null,"Class 2",{"v":4,"d":"4.0"},{"$f":"'Class 2'!D$36","v":""},{"$f":"IF(D6<>\"\",HLOOKUP(D6,'GPA Table'!$C$5:$O$7,2),\"\")","v":""},{"$f":"IF(D6<>\"\",HLOOKUP(D6,'GPA Table'!$C$5:$O$7,3),\"\")","v":""},""]
[null,"Class 3",{"v":2,"d":"2.0"},{"$f":"'Class 3'!D$36","v":""},{"$f":"IF(D7<>\"\",HLOOKUP(D7,'GPA Table'!$C$5:$O$7,2),\"\")","v":""},{"$f":"IF(D7<>\"\",HLOOKUP(D7,'GPA Table'!$C$5:$O$7,3),\"\")","v":""},""]
[null,"Class 4",{"v":4,"d":"4.0"},{"$f":"'Class 4'!D$36","v":""},{"$f":"IF(D8<>\"\",HLOOKUP(D8,'GPA Table'!$C$5:$O$7,2),\"\")","v":""},{"$f":"IF(D8<>\"\",HLOOKUP(D8,'GPA Table'!$C$5:$O$7,3),\"\")","v":""},""]
[null,"Class 5",{"v":1,"d":"1.0"},{"$f":"'Class 5'!D$36","v":""},{"$f":"IF(D9<>\"\",HLOOKUP(D9,'GPA Table'!$C$5:$O$7,2),\"\")","v":""},{"$f":"IF(D9<>\"\",HLOOKUP(D9,'GPA Table'!$C$5:$O$7,3),\"\")","v":""},""]
[null,"Class 6",{"v":1,"d":"1.0"},{"$f":"'Class 6'!D$36","v":""},{"$f":"IF(D10<>\"\",HLOOKUP(D10,'GPA Table'!$C$5:$O$7,2),\"\")","v":""},{"$f":"IF(D10<>\"\",HLOOKUP(D10,'GPA Table'!$C$5:$O$7,3),\"\")","v":""},""]
[null,"Class 7",{"v":1,"d":"1.0"},{"$f":"'Class 7'!D$36","v":""},{"$f":"IF(D11<>\"\",HLOOKUP(D11,'GPA Table'!$C$5:$O$7,2),\"\")","v":""},{"$f":"IF(D11<>\"\",HLOOKUP(D11,'GPA Table'!$C$5:$O$7,3),\"\")","v":""},""]
[null,"Totals",{"$f":"SUM(C5:C11)","v":16},{"$f":"AVERAGE(D5:D11)","v":{"v":0.8661764705882353,"d":"86.62%"}},{"$f":"IF(D12<>\"\",HLOOKUP(D12,'GPA Table'!$C$5:$O$7,2),\"\")","v":"B"},{"$f":"AVERAGE(F5:F11)","v":{"v":3,"d":"3.00"}},{"$f":"SUM(G5:G11)","v":{"v":0.5625,"d":"0.56"}}]

{"sheet":"Class 1","index":1,"n_rows":38,"n_cols":8,"rows_kept":38,"merged":[[1,1,1,2]]}
[]
[null,{"$f":"Summary!B5","v":"Class 1"}]
[null,"Professor:",null,null,"Percentage of Total Possible Points",null,null,{"$f":"IF(SUM($C$35:$H$35) <> 0,SUM($C$34:$H$34)/SUM($C$35:$H$35),\"\")","v":{"v":0.8661764705882353,"d":"86.62%"}}]
[null,"E-mail:",null,null,"Current Grade",null,null,{"$f":"SUM($C$34:$H$34)","v":{"v":0.17323529411764707,"d":"17.32%"}}]
[]
[null,"Assignments","Homework","Essays","Quizzes","Projects","Mid-Term","Final Exam"]
[null,"Weight",{"v":0.1,"d":"10.0%"},{"v":0.1,"d":"10.0%"},{"v":0.15,"d":"15.0%"},{"v":0.15,"d":"15.0%"},{"v":0.2,"d":"20.0%"},{"v":0.3,"d":"30.0%"}]
[null,"First HW",{"v":0.8823529411764706,"d":"0.88"}]
[null,"Paper on WWII",null,0.85]
{"$rows_empty":24}
[null,"Total Points",{"$f":"IF(COUNT(C8:C33) <> 0,AVERAGE(C8:C33) *C7, \"\")","v":{"v":0.08823529411764706,"d":"0.0882"}},{"v":0.085,"d":"0.0850"},"","","",""]
[null,"Total Possible Points",{"$f":"IF(COUNT(C8:C33)<>0,C7,\"\")","v":0.1},0.1,"","","",""]
[null,"Percentage of Total Possible Points",null,{"$f":"IF(SUM($C$35:$H$35) <> 0,SUM($C$34:$H$34)/SUM($C$35:$H$35),\"\")","v":{"v":0.8661764705882353,"d":"86.62%"}}]
[null,"To enter grades:","Enter the points you got over the possible number of points (i.e. 15/17)."]
[null,null,"Enter the percentage you got (i.e. 85%)."]

{"sheet":"Class 2","index":2,"n_rows":38,"n_cols":8,"rows_kept":38,"merged":[[1,1,1,2]]}
[]
[null,{"$f":"Summary!B6","v":"Class 2"}]
[null,"Professor:",null,null,"Percentage of Total Possible Points",null,null,{"$f":"IF(SUM($C$35:$H$35) <> 0,SUM($C$34:$H$34)/SUM($C$35:$H$35),\"\")","v":""}]
[null,"E-mail:",null,null,"Current Grade",null,null,{"$f":"SUM($C$34:$H$34)","v":{"v":0,"d":"0.00%"}}]
[]
[null,"Assignments","Homework","Essays","Quizzes","Projects","Mid-Term","Final Exam"]
[null,"Weight",{"v":0.1,"d":"10.0%"},{"v":0.1,"d":"10.0%"},{"v":0.15,"d":"15.0%"},{"v":0.15,"d":"15.0%"},{"v":0.2,"d":"20.0%"},{"v":0.3,"d":"30.0%"}]
{"$rows_empty":26}
[null,"Total Points",{"$f":"IF(COUNT(C8:C33) <> 0,AVERAGE(C8:C33) *C7, \"\")","v":""},"","","","",""]
[null,"Total Possible Points",{"$f":"IF(COUNT(C8:C33)<>0,C7,\"\")","v":""},"","","","",""]
[null,"Percentage of Total Possible Points",null,{"$f":"IF(SUM($C$35:$H$35) <> 0,SUM($C$34:$H$34)/SUM($C$35:$H$35),\"\")","v":""}]
[null,"To enter grades:","Enter the points you got over the possible number of points (i.e. 15/17)."]
[null,null,"Enter the percentage you got (i.e. 85%)."]

{"sheet":"Class 3","index":3,"n_rows":38,"n_cols":8,"rows_kept":38,"merged":[[1,1,1,2]]}
[]
[null,{"$f":"Summary!B7","v":"Class 3"}]
[null,"Professor:",null,null,"Percentage of Total Possible Points",null,null,{"$f":"IF(SUM($C$35:$H$35) <> 0,SUM($C$34:$H$34)/SUM($C$35:$H$35),\"\")","v":""}]
[null,"E-mail:",null,null,"Current Grade",null,null,{"$f":"SUM($C$34:$H$34)","v":{"v":0,"d":"0.00%"}}]
[]
[null,"Assignments","Homework","Essays","Quizzes","Projects","Mid-Term","Final Exam"]
[null,"Weight",{"v":0.1,"d":"10.0%"},{"v":0.1,"d":"10.0%"},{"v":0.15,"d":"15.0%"},{"v":0.15,"d":"15.0%"},{"v":0.2,"d":"20.0%"},{"v":0.3,"d":"30.0%"}]
{"$rows_empty":26}
[null,"Total Points",{"$f":"IF(COUNT(C8:C33) <> 0,AVERAGE(C8:C33) *C7, \"\")","v":""},"","","","",""]
[null,"Total Possible Points",{"$f":"IF(COUNT(C8:C33)<>0,C7,\"\")","v":""},"","","","",""]
[null,"Percentage of Total Possible Points",null,{"$f":"IF(SUM($C$35:$H$35) <> 0,SUM($C$34:$H$34)/SUM($C$35:$H$35),\"\")","v":""}]
[null,"To enter grades:","Enter the points you got over the possible number of points (i.e. 15/17)."]
[null,null,"Enter the percentage you got (i.e. 85%)."]

{"sheet":"Class 4","index":4,"n_rows":38,"n_cols":8,"rows_kept":38,"merged":[[1,1,1,2]]}
[]
[null,{"$f":"Summary!B8","v":"Class 4"}]
[null,"Professor:",null,null,"Percentage of Total Possible Points"]
[null,"E-mail:",null,null,"Current Grade",null,null,{"$f":"SUM($C$34:$H$34)","v":{"v":0,"d":"0.00%"}}]
[]
[null,"Assignments","Homework","Essays","Quizzes","Projects","Mid-Term","Final Exam"]
[null,"Weight",{"v":0.1,"d":"10.0%"},{"v":0.1,"d":"10.0%"},{"v":0.15,"d":"15.0%"},{"v":0.15,"d":"15.0%"},{"v":0.2,"d":"20.0%"},{"v":0.3,"d":"30.0%"}]
{"$rows_empty":26}
[null,"Total Points",{"$f":"IF(COUNT(C8:C33) <> 0,AVERAGE(C8:C33) *C7, \"\")","v":""},"","","","",""]
[null,"Total Possible Points",{"$f":"IF(COUNT(C8:C33)<>0,C7,\"\")","v":""},"","","","",""]
[null,"Percentage of Total Possible Points",null,{"$f":"IF(SUM($C$35:$H$35) <> 0,SUM($C$34:$H$34)/SUM($C$35:$H$35),\"\")","v":""}]
[null,"To enter grades:","Enter the points you got over the possible number of points (i.e. 15/17)."]
[null,null,"Enter the percentage you got (i.e. 85%)."]

{"sheet":"Class 5","index":5,"n_rows":38,"n_cols":8,"rows_kept":38,"merged":[[1,1,1,2]]}
[]
[null,{"$f":"Summary!B9","v":"Class 5"}]
[null,"Professor:",null,null,"Percentage of Total Possible Points",null,null,{"$f":"IF(SUM($C$35:$H$35) <> 0,SUM($C$34:$H$34)/SUM($C$35:$H$35),\"\")","v":""}]
[null,"E-mail:",null,null,"Current Grade",null,null,{"$f":"SUM($C$34:$H$34)","v":{"v":0,"d":"0.00%"}}]
[]
[null,"Assignments","Homework","Essays","Quizzes","Projects","Mid-Term","Final Exam"]
[null,"Weight",{"v":0.1,"d":"10.0%"},{"v":0.1,"d":"10.0%"},{"v":0.15,"d":"15.0%"},{"v":0.15,"d":"15.0%"},{"v":0.2,"d":"20.0%"},{"v":0.3,"d":"30.0%"}]
{"$rows_empty":26}
[null,"Total Points",{"$f":"IF(COUNT(C8:C33) <> 0,AVERAGE(C8:C33) *C7, \"\")","v":""},"","","","",""]
[null,"Total Possible Points",{"$f":"IF(COUNT(C8:C33)<>0,C7,\"\")","v":""},"","","","",""]
[null,"Percentage of Total Possible Points",null,{"$f":"IF(SUM($C$35:$H$35) <> 0,SUM($C$34:$H$34)/SUM($C$35:$H$35),\"\")","v":""}]
[null,"To enter grades:","Enter the points you got over the possible number of points (i.e. 15/17)."]
[null,null,"Enter the percentage you got (i.e. 85%)."]

{"sheet":"Class 6","index":6,"n_rows":38,"n_cols":8,"rows_kept":38,"merged":[[1,1,1,2]]}
[]
[null,{"$f":"Summary!B10","v":"Class 6"}]
[null,"Professor:",null,null,"Percentage of Total Possible Points",null,null,{"$f":"IF(SUM($C$35:$H$35) <> 0,SUM($C$34:$H$34)/SUM($C$35:$H$35),\"\")","v":""}]
[null,"E-mail:",null,null,"Current Grade",null,null,{"$f":"SUM($C$34:$H$34)","v":{"v":0,"d":"0.00%"}}]
[]
[null,"Assignments","Homework","Essays","Quizzes","Projects","Mid-Term","Final Exam"]
[null,"Weight",{"v":0.1,"d":"10.0%"},{"v":0.1,"d":"10.0%"},{"v":0.15,"d":"15.0%"},{"v":0.15,"d":"15.0%"},{"v":0.2,"d":"20.0%"},{"v":0.3,"d":"30.0%"}]
{"$rows_empty":26}
[null,"Total Points",{"$f":"IF(COUNT(C8:C33) <> 0,AVERAGE(C8:C33) *C7, \"\")","v":""},"","","","",""]
[null,"Total Possible Points",{"$f":"IF(COUNT(C8:C33)<>0,C7,\"\")","v":""},"","","","",""]
[null,"Percentage of Total Possible Points",null,{"$f":"IF(SUM($C$35:$H$35) <> 0,SUM($C$34:$H$34)/SUM($C$35:$H$35),\"\")","v":""},{"$f":"IF(SUM($C$35:$H$35) <> 0,SUM($C$34:$H$34)/SUM($C$35:$H$35),\"\")","v":""}]
[null,"To enter grades:","Enter the points you got over the possible number of points (i.e. 15/17)."]
[null,null,"Enter the percentage you got (i.e. 85%)."]

{"sheet":"Class 7","index":7,"n_rows":38,"n_cols":8,"rows_kept":38,"merged":[[1,1,1,2]]}
[]
[null,{"$f":"Summary!B11","v":"Class 7"}]
[null,"Professor:",null,null,"Percentage of Total Possible Points",null,null,{"$f":"IF(SUM($C$35:$H$35) <> 0,SUM($C$34:$H$34)/SUM($C$35:$H$35),\"\")","v":""}]
[null,"E-mail:",null,null,"Current Grade",null,null,{"$f":"SUM($C$34:$H$34)","v":{"v":0,"d":"0.00%"}}]
[]
[null,"Assignments","Homework","Essays","Quizzes","Projects","Mid-Term","Final Exam"]
[null,"Weight",{"v":0.1,"d":"10.0%"},{"v":0.1,"d":"10.0%"},{"v":0.15,"d":"15.0%"},{"v":0.15,"d":"15.0%"},{"v":0.2,"d":"20.0%"},{"v":0.3,"d":"30.0%"}]
{"$rows_empty":26}
[null,"Total Points",{"$f":"IF(COUNT(C8:C33) <> 0,AVERAGE(C8:C33) *C7, \"\")","v":""},"","","","",""]
[null,"Total Possible Points",{"$f":"IF(COUNT(C8:C33)<>0,C7,\"\")","v":""},"","","","",""]
[null,"Percentage of Total Possible Points",null,{"$f":"IF(SUM($C$35:$H$35) <> 0,SUM($C$34:$H$34)/SUM($C$35:$H$35),\"\")","v":""}]
[null,"To enter grades:","Enter the points you got over the possible number of points (i.e. 15/17)."]
[null,null,"Enter the percentage you got (i.e. 85%)."]

{"sheet":"GPA Table","index":8,"n_rows":7,"n_cols":15,"rows_kept":7}
[]
[]
[]
[null,"Grade & GPA Table"]
[null,"Average",{"v":0,"d":"0%"},{"v":0.6,"d":"60%"},{"v":0.63,"d":"63%"},{"v":0.67,"d":"67%"},{"v":0.7,"d":"70%"},{"v":0.73,"d":"73%"},{"v":0.77,"d":"77%"},{"v":0.8,"d":"80%"},{"v":0.83,"d":"83%"},{"v":0.87,"d":"87%"},{"v":0.9,"d":"90%"},{"v":0.93,"d":"93%"},{"v":0.97,"d":"97%"}]
[null,"Letter Grade","F","D-","D","D+","C-","C","C+","B-","B","B+","A-","A","A+"]
[null,"GPA",{"v":0,"d":"0.00"},0.67,{"v":1,"d":"1.00"},1.33,1.67,{"v":2,"d":"2.00"},2.33,2.67,{"v":3,"d":"3.00"},3.33,3.67,{"v":4,"d":"4.00"},{"v":4,"d":"4.00"}]