{"text_format":"3","workbook":"xlsx","n_sheets":2,"sheets":["Linha do tempo do projeto","Dados do Projeto Classificados"],"not_rendered":{"charts":1,"images":4,"defined_names":5},"read":"whole","date_system":"1900"}

{"sheet":"Linha do tempo do projeto","index":0,"n_rows":16,"n_cols":8,"rows_kept":16,"merged":[[0,2,0,7],[2,2,2,4]]}
[null,null,"Linha do tempo do projeto"]
[]
[null,null,"Detalhes do projeto"]
[null,null,"DATA","MARCO","CARGO 1","CARGO 2","CARGO 3","OBSERVAÇÕES"]
[null,null,{"$f":"DATE(YEAR(TODAY()),1,23)","v":"2023-01-23"},"Início do Projeto",25,{"$f":"IF(ISBLANK(DetalhesDoProjeto[[#This Row],[DATA]]),\"\",0)","v":0},{"$f":"IFERROR(IF('Dados do Projeto Classificados'!P5=\"\",5,'Dados do Projeto Classificados'!P5),0)","v":25}]
[null,null,{"$f":"DATE(YEAR(TODAY()),2,24)","v":"2023-02-24"},"Criar conteúdo",10,{"$f":"IF(ISBLANK(DetalhesDoProjeto[[#This Row],[DATA]]),\"\",0)","v":0},{"$f":"IFERROR(IF('Dados do Projeto Classificados'!P6=\"\",5,'Dados do Projeto Classificados'!P6),0)","v":-10}]
[null,null,{"$f":"DATE(YEAR(TODAY()),2,24)","v":"2023-02-24"},"Criar design",-10,{"$f":"IF(ISBLANK(DetalhesDoProjeto[[#This Row],[DATA]]),\"\",0)","v":0},{"$f":"IFERROR(IF('Dados do Projeto Classificados'!P7=\"\",5,'Dados do Projeto Classificados'!P7),0)","v":10}]
[null,null,{"$f":"DATE(YEAR(TODAY()),3,1)","v":"2023-03-01"},"Revisar",15,{"$f":"IF(ISBLANK(DetalhesDoProjeto[[#This Row],[DATA]]),\"\",0)","v":0},{"$f":"IFERROR(IF('Dados do Projeto Classificados'!P8=\"\",5,'Dados do Projeto Classificados'!P8),0)","v":15}]
[null,null,{"$f":"DATE(YEAR(TODAY()),3,15)","v":"2023-03-15"},"Data de publicação",-15,{"$f":"IF(ISBLANK(DetalhesDoProjeto[[#This Row],[DATA]]),\"\",0)","v":0},{"$f":"IFERROR(IF('Dados do Projeto Classificados'!P9=\"\",5,'Dados do Projeto Classificados'!P9),0)","v":-15}]
[null,null,{"$f":"DATE(YEAR(TODAY()),5,15)","v":"2023-05-15"},"Postar nas redes sociais",15,{"$f":"IF(ISBLANK(DetalhesDoProjeto[[#This Row],[DATA]]),\"\",0)","v":0},{"$f":"IFERROR(IF('Dados do Projeto Classificados'!P10=\"\",5,'Dados do Projeto Classificados'!P10),0)","v":15}]
[null,null,{"$f":"DATE(YEAR(TODAY()),6,15)","v":"2023-06-15"},"Gravar conteúdo",-15,{"$f":"IF(ISBLANK(DetalhesDoProjeto[[#This Row],[DATA]]),\"\",0)","v":0},{"$f":"IFERROR(IF('Dados do Projeto Classificados'!P11=\"\",5,'Dados do Projeto Classificados'!P11),0)","v":-15}]
[null,null,{"$f":"DATE(YEAR(TODAY()),6,30)","v":"2023-06-30"},"Design",15,{"$f":"IF(ISBLANK(DetalhesDoProjeto[[#This Row],[DATA]]),\"\",0)","v":0},{"$f":"IFERROR(IF('Dados do Projeto Classificados'!P12=\"\",5,'Dados do Projeto Classificados'!P12),0)","v":15}]
[null,null,{"$f":"DATE(YEAR(TODAY()),7,15)","v":"2023-07-15"},"Revisar",-20,{"$f":"IF(ISBLANK(DetalhesDoProjeto[[#This Row],[DATA]]),\"\",0)","v":0},{"$f":"IFERROR(IF('Dados do Projeto Classificados'!P13=\"\",5,'Dados do Projeto Classificados'!P13),0)","v":-20}]
[null,null,{"$f":"DATE(YEAR(TODAY()),7,30)","v":"2023-07-30"},"Postar nas redes sociais",20,{"$f":"IF(ISBLANK(DetalhesDoProjeto[[#This Row],[DATA]]),\"\",0)","v":0},{"$f":"IFERROR(IF('Dados do Projeto Classificados'!P14=\"\",5,'Dados do Projeto Classificados'!P14),0)","v":20}]
[null,null,{"$f":"DATE(YEAR(TODAY()),10,23)","v":"2023-10-23"},"Criar conteúdo",-15,{"$f":"IF(ISBLANK(DetalhesDoProjeto[[#This Row],[DATA]]),\"\",0)","v":0},{"$f":"IFERROR(IF('Dados do Projeto Classificados'!P15=\"\",5,'Dados do Projeto Classificados'!P15),0)","v":-15}]
[null,null,{"$f":"DATE(YEAR(TODAY()),12,31)","v":"2023-12-31"},"Término do Projeto",15,{"$f":"IF(ISBLANK(DetalhesDoProjeto[[#This Row],[DATA]]),\"\",0)","v":0},{"$f":"IFERROR(IF('Dados do Projeto Classificados'!P16=\"\",5,'Dados do Projeto Classificados'!P16),0)","v":15}]

{"sheet":"Dados do Projeto Classificados","index":1,"n_rows":349,"n_cols":16,"rows_kept":349,"hidden":true}
["Classificar as datas para preencher a linha do tempo em ordem cronológica"]
[]
[{"$nulls":4},"análise de dados",{"$nulls":7},"Dados reais no gráfico, que são incluídos na planilha de Linha do Tempo do Projeto nas colunas ocultas F a H."]
[null,"linha de início",{"$f":"ROW(DetalhesDoProjeto[[#Headers],[DATA]])+1","v":5},null,"DESEMPATE","CLASSIFICAÇÃO","DATA","MARCO","POSIÇÃO","NUM",null,null,"POSIÇÃO classificada","DATA","MARCO","POSIÇÃO"]
[null,"última entrada",{"$f":"IFERROR(MATCH(9.99E+307,DetalhesDoProjeto[DATA])+Linha_de_início_do_projeto-1,Linha_de_início_do_projeto)","v":16},null,{"$f":"IFERROR(RANK(F5,DadosdeLinhadoTempodoProjeto[CLASSIFICAÇÃO])+SUMPRODUCT(--(F5=DadosdeLinhadoTempodoProjeto[CLASSIFICAÇÃO]),--(J5<DadosdeLinhadoTempodoProjeto[NUM])),\"\")","v":12},{"$f":"IFERROR(RANK(DadosdeLinhadoTempodoProjeto[[#This Row],[DATA]],DadosdeLinhadoTempodoProjeto[DATA],1),\"\")","v":1},{"$f":"IFERROR(IF(AND(Última_entrada_do_projeto-Linha_de_início_do_projeto=0,ISBLANK(INDEX(DetalhesDoProjeto[#Data],1,1))),\"\",IF(Última_entrada_do_projeto-Linha_de_início_do_projeto=0,INDEX(DetalhesDoProjeto[#Data],1,1),INDEX(DetalhesDoProjeto[#Data],Última_entrada_do_projeto-Linha_de_início_do_projeto-DadosdeLinhadoTempodoProjeto[[#This Row],[NUM]]+1,1))),\"\")","v":"2023-01-23"},{"$f":"IFERROR(IF(AND(Última_entrada_do_projeto-Linha_de_início_do_projeto=0,ISBLANK(INDEX(DetalhesDoProjeto[#Data],1,2))),\"\",IF(Última_entrada_do_projeto-Linha_de_início_do_projeto=0,INDEX(DetalhesDoProjeto[#Data],1,2),INDEX(DetalhesDoProjeto[#Data],Última_entrada_do_projeto-Linha_de_início_do_projeto-DadosdeLinhadoTempodoProjeto[[#This Row],[NUM]]+1,2))),\"\")","v":"Início do Projeto"},{"$f":"IFERROR(IF(AND(Última_entrada_do_projeto-Linha_de_início_do_projeto=0,ISBLANK(INDEX(DetalhesDoProjeto[#Data],1,3))),\"\",IF(Última_entrada_do_projeto-Linha_de_início_do_projeto=0,INDEX(DetalhesDoProjeto[#Data],1,3),INDEX(DetalhesDoProjeto[#Data],Última_entrada_do_projeto-Linha_de_início_do_projeto-DadosdeLinhadoTempodoProjeto[[#This Row],[NUM]]+1,3))),\"\")","v":25},{"$f":"IFERROR(IF(AND(Última_entrada_do_projeto-Linha_de_início_do_projeto=0,ISBLANK(INDEX(DetalhesDoProjeto[#Data],1,1))),\"\",IF(Última_entrada_do_projeto-Linha_de_início_do_projeto=0,0,Última_entrada_do_projeto-Linha_de_início_do_projeto)),\"\")","v":11},null,null,{"$f":"IFERROR(DadosdeLinhadoTempodoProjeto[[#This Row],[NUM]]+1,\"\")","v":12},{"$f":"IFERROR(VLOOKUP(LinhadoTempoClassificada[[#This Row],[POSIÇÃO classificada]],DadosdeLinhadoTempodoProjeto[],3,0),\"\")","v":"2023-01-23"},{"$f":"IFERROR(VLOOKUP(LinhadoTempoClassificada[[#This Row],[POSIÇÃO classificada]],DadosdeLinhadoTempodoProjeto[],4,0),\"\")","v":"Início do Projeto"},{"$f":"IFERROR(VLOOKUP(LinhadoTempoClassificada[[#This Row],[POSIÇÃO classificada]],DadosdeLinhadoTempodoProjeto[],5,0),\"\")","v":25}]
[{"$nulls":4},{"$f":"IFERROR(RANK(F6,DadosdeLinhadoTempodoProjeto[CLASSIFICAÇÃO])+SUMPRODUCT(--(F6=DadosdeLinhadoTempodoProjeto[CLASSIFICAÇÃO]),--(J6<DadosdeLinhadoTempodoProjeto[NUM])),\"\")","v":10},{"$f":"IFERROR(RANK(DadosdeLinhadoTempodoProjeto[[#This Row],[DATA]],DadosdeLinhadoTempodoProjeto[DATA],1),\"\")","v":2},{"$f":"IFERROR(IF(ISBLANK(INDEX(DetalhesDoProjeto[#Data],Última_entrada_do_projeto-Linha_de_início_do_projeto-DadosdeLinhadoTempodoProjeto[[#This Row],[NUM]]+1,1)),\"\",INDEX(DetalhesDoProjeto[#Data],Última_entrada_do_projeto-Linha_de_início_do_projeto-DadosdeLinhadoTempodoProjeto[[#This Row],[NUM]]+1,1)),\"\")","v":"2023-02-24"},{"$f":"IFERROR(IF(ISBLANK(INDEX(DetalhesDoProjeto[#Data],Última_entrada_do_projeto-Linha_de_início_do_projeto-DadosdeLinhadoTempodoProjeto[[#This Row],[NUM]]+1,2)),\"\",INDEX(DetalhesDoProjeto[#Data],Última_entrada_do_projeto-Linha_de_início_do_projeto-DadosdeLinhadoTempodoProjeto[[#This Row],[NUM]]+1,2)),\"\")","v":"Criar conteúdo"},{"$f":"IFERROR(IF(ISBLANK(INDEX(DetalhesDoProjeto[#Data],Última_entrada_do_projeto-Linha_de_início_do_projeto-DadosdeLinhadoTempodoProjeto[[#This Row],[NUM]]+1,3)),\"\",INDEX(DetalhesDoProjeto[#Data],Última_entrada_do_projeto-Linha_de_início_do_projeto-DadosdeLinhadoTempodoProjeto[[#This Row],[NUM]]+1,3)),\"\")","v":10},{"$f":"IFERROR(IF(ISBLANK(INDEX(DetalhesDoProjeto[#Data],ROW(A1)+1,1)),\"\",IF($J5-1<=-1,\"\",$J5-1)),\"\")","v":10},null,null,{"$f":"IFERROR(DadosdeLinhadoTempodoProjeto[[#This Row],[NUM]]+1,\"\")","v":11},{"$f":"IFERROR(VLOOKUP(LinhadoTempoClassificada[[#This Row],[POSIÇÃO classificada]],DadosdeLinhadoTempodoProjeto[],3,0),\"\")","v":"2023-02-24"},{"$f":"IFERROR(VLOOKUP(LinhadoTempoClassificada[[#This Row],[POSIÇÃO classificada]],DadosdeLinhadoTempodoProjeto[],4,0),\"\")","v":"Criar design"},{"$f":"IFERROR(VLOOKUP(LinhadoTempoClassificada[[#This Row],[POSIÇÃO classificada]],DadosdeLinhadoTempodoProjeto[],5,0),\"\")","v":-10}]
[{"$nulls":4},{"$f":"IFERROR(RANK(F7,DadosdeLinhadoTempodoProjeto[CLASSIFICAÇÃO])+SUMPRODUCT(--(F7=DadosdeLinhadoTempodoProjeto[CLASSIFICAÇÃO]),--(J7<DadosdeLinhadoTempodoProjeto[NUM])),\"\")","v":11},{"$f":"IFERROR(RANK(DadosdeLinhadoTempodoProjeto[[#This Row],[DATA]],DadosdeLinhadoTempodoProjeto[DATA],1),\"\")","v":2},{"$f":"IFERROR(IF(ISBLANK(INDEX(DetalhesDoProjeto[#Data],Última_entrada_do_projeto-Linha_de_início_do_projeto-DadosdeLinhadoTempodoProjeto[[#This Row],[NUM]]+1,1)),\"\",INDEX(DetalhesDoProjeto[#Data],Última_entrada_do_projeto-Linha_de_início_do_projeto-DadosdeLinhadoTempodoProjeto[[#This Row],[NUM]]+1,1)),\"\")","v":"2023-02-24"},{"$f":"IFERROR(IF(ISBLANK(INDEX(DetalhesDoProjeto[#Data],Última_entrada_do_projeto-Linha_de_início_do_projeto-DadosdeLinhadoTempodoProjeto[[#This Row],[NUM]]+1,2)),\"\",INDEX(DetalhesDoProjeto[#Data],Última_entrada_do_projeto-Linha_de_início_do_projeto-DadosdeLinhadoTempodoProjeto[[#This Row],[NUM]]+1,2)),\"\")","v":"Criar design"},{"$f":"IFERROR(IF(ISBLANK(INDEX(DetalhesDoProjeto[#Data],Última_entrada_do_projeto-Linha_de_início_do_projeto-DadosdeLinhadoTempodoProjeto[[#This Row],[NUM]]+1,3)),\"\",INDEX(DetalhesDoProjeto[#Data],Última_entrada_do_projeto-Linha_de_início_do_projeto-DadosdeLinhadoTempodoProjeto[[#This Row],[NUM]]+1,3)),\"\")","v":-10},{"$f":"IFERROR(IF(ISBLANK(INDEX(DetalhesDoProjeto[#Data],ROW(A2)+1,1)),\"\",IF($J6-1<=-1,\"\",$J6-1)),\"\")","v":9},null,null,{"$f":"IFERROR(DadosdeLinhadoTempodoProjeto[[#This Row],[NUM]]+1,\"\")","v":10},{"$f":"IFERROR(VLOOKUP(LinhadoTempoClassificada[[#This Row],[POSIÇÃO classificada]],DadosdeLinhadoTempodoProjeto[],3,0),\"\")","v":"2023-02-24"},{"$f":"IFERROR(VLOOKUP(LinhadoTempoClassificada[[#This Row],[POSIÇÃO classificada]],DadosdeLinhadoTempodoProjeto[],4,0),\"\")","v":"Criar conteúdo"},{"$f":"IFERROR(VLOOKUP(LinhadoTempoClassificada[[#This Row],[POSIÇÃO classificada]],DadosdeLinhadoTempodoProjeto[],5,0),\"\")","v":10}]
[{"$nulls":4},{"$f":"IFERROR(RANK(F8,DadosdeLinhadoTempodoProjeto[CLASSIFICAÇÃO])+SUMPRODUCT(--(F8=DadosdeLinhadoTempodoProjeto[CLASSIFICAÇÃO]),--(J8<DadosdeLinhadoTempodoProjeto[NUM])),\"\")","v":9},{"$f":"IFERROR(RANK(DadosdeLinhadoTempodoProjeto[[#This Row],[DATA]],DadosdeLinhadoTempodoProjeto[DATA],1),\"\")","v":4},{"$f":"IFERROR(IF(ISBLANK(INDEX(DetalhesDoProjeto[#Data],Última_entrada_do_projeto-Linha_de_início_do_projeto-DadosdeLinhadoTempodoProjeto[[#This Row],[NUM]]+1,1)),\"\",INDEX(DetalhesDoProjeto[#Data],Última_entrada_do_projeto-Linha_de_início_do_projeto-DadosdeLinhadoTempodoProjeto[[#This Row],[NUM]]+1,1)),\"\")","v":"2023-03-01"},{"$f":"IFERROR(IF(ISBLANK(INDEX(DetalhesDoProjeto[#Data],Última_entrada_do_projeto-Linha_de_início_do_projeto-DadosdeLinhadoTempodoProjeto[[#This Row],[NUM]]+1,2)),\"\",INDEX(DetalhesDoProjeto[#Data],Última_entrada_do_projeto-Linha_de_início_do_projeto-DadosdeLinhadoTempodoProjeto[[#This Row],[NUM]]+1,2)),\"\")","v":"Revisar"},{"$f":"IFERROR(IF(ISBLANK(INDEX(DetalhesDoProjeto[#Data],Última_entrada_do_projeto-Linha_de_início_do_projeto-DadosdeLinhadoTempodoProjeto[[#This Row],[NUM]]+1,3)),\"\",INDEX(DetalhesDoProjeto[#Data],Última_entrada_do_projeto-Linha_de_início_do_projeto-DadosdeLinhadoTempodoProjeto[[#This Row],[NUM]]+1,3)),\"\")","v":15},{"$f":"IFERROR(IF(ISBLANK(INDEX(DetalhesDoProjeto[#Data],ROW(A3)+1,1)),\"\",IF($J7-1<=-1,\"\",$J7-1)),\"\")","v":8},null,null,{"$f":"IFERROR(DadosdeLinhadoTempodoProjeto[[#This Row],[NUM]]+1,\"\")","v":9},{"$f":"IFERROR(VLOOKUP(LinhadoTempoClassificada[[#This Row],[POSIÇÃO classificada]],DadosdeLinhadoTempodoProjeto[],3,0),\"\")","v":"2023-03-01"},{"$f":"IFERROR(VLOOKUP(LinhadoTempoClassificada[[#This Row],[POSIÇÃO classificada]],DadosdeLinhadoTempodoProjeto[],4,0),\"\")","v":"Revisar"},{"$f":"IFERROR(VLOOKUP(LinhadoTempoClassificada[[#This Row],[POSIÇÃO classificada]],DadosdeLinhadoTempodoProjeto[],5,0),\"\")","v":15}]
[{"$nulls":4},{"$f":"IFERROR(RANK(F9,DadosdeLinhadoTempodoProjeto[CLASSIFICAÇÃO])+SUMPRODUCT(--(F9=DadosdeLinhadoTempodoProjeto[CLASSIFICAÇÃO]),--(J9<DadosdeLinhadoTempodoProjeto[NUM])),\"\")","v":8},{"$f":"IFERROR(RANK(DadosdeLinhadoTempodoProjeto[[#This Row],[DATA]],DadosdeLinhadoTempodoProjeto[DATA],1),\"\")","v":5},{"$f":"IFERROR(IF(ISBLANK(INDEX(DetalhesDoProjeto[#Data],Última_entrada_do_projeto-Linha_de_início_do_projeto-DadosdeLinhadoTempodoProjeto[[#This Row],[NUM]]+1,1)),\"\",INDEX(DetalhesDoProjeto[#Data],Última_entrada_do_projeto-Linha_de_início_do_projeto-DadosdeLinhadoTempodoProjeto[[#This Row],[NUM]]+1,1)),\"\")","v":"2023-03-15"},{"$f":"IFERROR(IF(ISBLANK(INDEX(DetalhesDoProjeto[#Data],Última_entrada_do_projeto-Linha_de_início_do_projeto-DadosdeLinhadoTempodoProjeto[[#This Row],[NUM]]+1,2)),\"\",INDEX(DetalhesDoProjeto[#Data],Última_entrada_do_projeto-Linha_de_início_do_projeto-DadosdeLinhadoTempodoProjeto[[#This Row],[NUM]]+1,2)),\"\")","v":"Data de publicação"},{"$f":"IFERROR(IF(ISBLANK(INDEX(DetalhesDoProjeto[#Data],Última_entrada_do_projeto-Linha_de_início_do_projeto-DadosdeLinhadoTempodoProjeto[[#This Row],[NUM]]+1,3)),\"\",INDEX(DetalhesDoProjeto[#Data],Última_entrada_do_projeto-Linha_de_início_do_projeto-DadosdeLinhadoTempodoProjeto[[#This Row],[NUM]]+1,3)),\"\")","v":-15},{"$f":"IFERROR(IF(ISBLANK(INDEX(DetalhesDoProjeto[#Data],ROW(A4)+1,1)),\"\",IF($J8-1<=-1,\"\",$J8-1)),\"\")","v":7},null,null,{"$f":"IFERROR(DadosdeLinhadoTempodoProjeto[[#This Row],[NUM]]+1,\"\")","v":8},{"$f":"IFERROR(VLOOKUP(LinhadoTempoClassificada[[#This Row],[POSIÇÃO classificada]],DadosdeLinhadoTempodoProjeto[],3,0),\"\")","v":"2023-03-15"},{"$f":"IFERROR(VLOOKUP(LinhadoTempoClassificada[[#This Row],[POSIÇÃO classificada]],DadosdeLinhadoTempodoProjeto[],4,0),\"\")","v":"Data de publicação"},{"$f":"IFERROR(VLOOKUP(LinhadoTempoClassificada[[#This Row],[POSIÇÃO classificada]],DadosdeLinhadoTempodoProjeto[],5,0),\"\")","v":-15}]
[{"$nulls":4},{"$f":"IFERROR(RANK(F10,DadosdeLinhadoTempodoProjeto[CLASSIFICAÇÃO])+SUMPRODUCT(--(F10=DadosdeLinhadoTempodoProjeto[CLASSIFICAÇÃO]),--(J10<DadosdeLinhadoTempodoProjeto[NUM])),\"\")","v":7},{"$f":"IFERROR(RANK(DadosdeLinhadoTempodoProjeto[[#This Row],[DATA]],DadosdeLinhadoTempodoProjeto[DATA],1),\"\")","v":6},{"$f":"IFERROR(IF(ISBLANK(INDEX(DetalhesDoProjeto[#Data],Última_entrada_do_projeto-Linha_de_início_do_projeto-DadosdeLinhadoTempodoProjeto[[#This Row],[NUM]]+1,1)),\"\",INDEX(DetalhesDoProjeto[#Data],Última_entrada_do_projeto-Linha_de_início_do_projeto-DadosdeLinhadoTempodoProjeto[[#This Row],[NUM]]+1,1)),\"\")","v":"2023-05-15"},{"$f":"IFERROR(IF(ISBLANK(INDEX(DetalhesDoProjeto[#Data],Última_entrada_do_projeto-Linha_de_início_do_projeto-DadosdeLinhadoTempodoProjeto[[#This Row],[NUM]]+1,2)),\"\",INDEX(DetalhesDoProjeto[#Data],Última_entrada_do_projeto-Linha_de_início_do_projeto-DadosdeLinhadoTempodoProjeto[[#This Row],[NUM]]+1,2)),\"\")","v":"Postar nas redes sociais"},{"$f":"IFERROR(IF(ISBLANK(INDEX(DetalhesDoProjeto[#Data],Última_entrada_do_projeto-Linha_de_início_do_projeto-DadosdeLinhadoTempodoProjeto[[#This Row],[NUM]]+1,3)),\"\",INDEX(DetalhesDoProjeto[#Data],Última_entrada_do_projeto-Linha_de_início_do_projeto-DadosdeLinhadoTempodoProjeto[[#This Row],[NUM]]+1,3)),\"\")","v":15},{"$f":"IFERROR(IF(ISBLANK(INDEX(DetalhesDoProjeto[#Data],ROW(A5)+1,1)),\"\",IF($J9-1<=-1,\"\",$J9-1)),\"\")","v":6},null,null,{"$f":"IFERROR(DadosdeLinhadoTempodoProjeto[[#This Row],[NUM]]+1,\"\")","v":7},{"$f":"IFERROR(VLOOKUP(LinhadoTempoClassificada[[#This Row],[POSIÇÃO classificada]],DadosdeLinhadoTempodoProjeto[],3,0),\"\")","v":"2023-05-15"},{"$f":"IFERROR(VLOOKUP(LinhadoTempoClassificada[[#This Row],[POSIÇÃO classificada]],DadosdeLinhadoTempodoProjeto[],4,0),\"\")","v":"Postar nas redes sociais"},{"$f":"IFERROR(VLOOKUP(LinhadoTempoClassificada[[#This Row],[POSIÇÃO classificada]],DadosdeLinhadoTempodoProjeto[],5,0),\"\")","v":15}]
[{"$nulls":4},{"$f":"IFERROR(RANK(F11,DadosdeLinhadoTempodoProjeto[CLASSIFICAÇÃO])+SUMPRODUCT(--(F11=DadosdeLinhadoTempodoProjeto[CLASSIFICAÇÃO]),--(J11<DadosdeLinhadoTempodoProjeto[NUM])),\"\")","v":6},{"$f":"IFERROR(RANK(DadosdeLinhadoTempodoProjeto[[#This Row],[DATA]],DadosdeLinhadoTempodoProjeto[DATA],1),\"\")","v":7},{"$f":"IFERROR(IF(ISBLANK(INDEX(DetalhesDoProjeto[#Data],Última_entrada_do_projeto-Linha_de_início_do_projeto-DadosdeLinhadoTempodoProjeto[[#This Row],[NUM]]+1,1)),\"\",INDEX(DetalhesDoProjeto[#Data],Última_entrada_do_projeto-Linha_de_início_do_projeto-DadosdeLinhadoTempodoProjeto[[#This Row],[NUM]]+1,1)),\"\")","v":"2023-06-15"},{"$f":"IFERROR(IF(ISBLANK(INDEX(DetalhesDoProjeto[#Data],Última_entrada_do_projeto-Linha_de_início_do_projeto-DadosdeLinhadoTempodoProjeto[[#This Row],[NUM]]+1,2)),\"\",INDEX(DetalhesDoProjeto[#Data],Última_entrada_do_projeto-Linha_de_início_do_projeto-DadosdeLinhadoTempodoProjeto[[#This Row],[NUM]]+1,2)),\"\")","v":"Gravar conteúdo"},{"$f":"IFERROR(IF(ISBLANK(INDEX(DetalhesDoProjeto[#Data],Última_entrada_do_projeto-Linha_de_início_do_projeto-DadosdeLinhadoTempodoProjeto[[#This Row],[NUM]]+1,3)),\"\",INDEX(DetalhesDoProjeto[#Data],Última_entrada_do_projeto-Linha_de_início_do_projeto-DadosdeLinhadoTempodoProjeto[[#This Row],[NUM]]+1,3)),\"\")","v":-15},{"$f":"IFERROR(IF(ISBLANK(INDEX(DetalhesDoProjeto[#Data],ROW(A6)+1,1)),\"\",IF($J10-1<=-1,\"\",$J10-1)),\"\")","v":5},null,null,{"$f":"IFERROR(DadosdeLinhadoTempodoProjeto[[#This Row],[NUM]]+1,\"\")","v":6},{"$f":"IFERROR(VLOOKUP(LinhadoTempoClassificada[[#This Row],[POSIÇÃO classificada]],DadosdeLinhadoTempodoProjeto[],3,0),\"\")","v":"2023-06-15"},{"$f":"IFERROR(VLOOKUP(LinhadoTempoClassificada[[#This Row],[POSIÇÃO classificada]],DadosdeLinhadoTempodoProjeto[],4,0),\"\")","v":"Gravar conteúdo"},{"$f":"IFERROR(VLOOKUP(LinhadoTempoClassificada[[#This Row],[POSIÇÃO classificada]],DadosdeLinhadoTempodoProjeto[],5,0),\"\")","v":-15}]
[{"$nulls":4},{"$f":"IFERROR(RANK(F12,DadosdeLinhadoTempodoProjeto[CLASSIFICAÇÃO])+SUMPRODUCT(--(F12=DadosdeLinhadoTempodoProjeto[CLASSIFICAÇÃO]),--(J12<DadosdeLinhadoTempodoProjeto[NUM])),\"\")","v":5},{"$f":"IFERROR(RANK(DadosdeLinhadoTempodoProjeto[[#This Row],[DATA]],DadosdeLinhadoTempodoProjeto[DATA],1),\"\")","v":8},{"$f":"IFERROR(IF(ISBLANK(INDEX(DetalhesDoProjeto[#Data],Última_entrada_do_projeto-Linha_de_início_do_projeto-DadosdeLinhadoTempodoProjeto[[#This Row],[NUM]]+1,1)),\"\",INDEX(DetalhesDoProjeto[#Data],Última_entrada_do_projeto-Linha_de_início_do_projeto-DadosdeLinhadoTempodoProjeto[[#This Row],[NUM]]+1,1)),\"\")","v":"2023-06-30"},{"$f":"IFERROR(IF(ISBLANK(INDEX(DetalhesDoProjeto[#Data],Última_entrada_do_projeto-Linha_de_início_do_projeto-DadosdeLinhadoTempodoProjeto[[#This Row],[NUM]]+1,2)),\"\",INDEX(DetalhesDoProjeto[#Data],Última_entrada_do_projeto-Linha_de_início_do_projeto-DadosdeLinhadoTempodoProjeto[[#This Row],[NUM]]+1,2)),\"\")","v":"Design"},{"$f":"IFERROR(IF(ISBLANK(INDEX(DetalhesDoProjeto[#Data],Última_entrada_do_projeto-Linha_de_início_do_projeto-DadosdeLinhadoTempodoProjeto[[#This Row],[NUM]]+1,3)),\"\",INDEX(DetalhesDoProjeto[#Data],Última_entrada_do_projeto-Linha_de_início_do_projeto-DadosdeLinhadoTempodoProjeto[[#This Row],[NUM]]+1,3)),\"\")","v":15},{"$f":"IFERROR(IF(ISBLANK(INDEX(DetalhesDoProjeto[#Data],ROW(A7)+1,1)),\"\",IF($J11-1<=-1,\"\",$J11-1)),\"\")","v":4},null,null,{"$f":"IFERROR(DadosdeLinhadoTempodoProjeto[[#This Row],[NUM]]+1,\"\")","v":5},{"$f":"IFERROR(VLOOKUP(LinhadoTempoClassificada[[#This Row],[POSIÇÃO classificada]],DadosdeLinhadoTempodoProjeto[],3,0),\"\")","v":"2023-06-30"},{"$f":"IFERROR(VLOOKUP(LinhadoTempoClassificada[[#This Row],[POSIÇÃO classificada]],DadosdeLinhadoTempodoProjeto[],4,0),\"\")","v":"Design"},{"$f":"IFERROR(VLOOKUP(LinhadoTempoClassificada[[#This Row],[POSIÇÃO classificada]],DadosdeLinhadoTempodoProjeto[],5,0),\"\")","v":15}]
[{"$nulls":4},{"$f":"IFERROR(RANK(F13,DadosdeLinhadoTempodoProjeto[CLASSIFICAÇÃO])+SUMPRODUCT(--(F13=DadosdeLinhadoTempodoProjeto[CLASSIFICAÇÃO]),--(J13<DadosdeLinhadoTempodoProjeto[NUM])),\"\")","v":4},{"$f":"IFERROR(RANK(DadosdeLinhadoTempodoProjeto[[#This Row],[DATA]],DadosdeLinhadoTempodoProjeto[DATA],1),\"\")","v":9},{"$f":"IFERROR(IF(ISBLANK(INDEX(DetalhesDoProjeto[#Data],Última_entrada_do_projeto-Linha_de_início_do_projeto-DadosdeLinhadoTempodoProjeto[[#This Row],[NUM]]+1,1)),\"\",INDEX(DetalhesDoProjeto[#Data],Última_entrada_do_projeto-Linha_de_início_do_projeto-DadosdeLinhadoTempodoProjeto[[#This Row],[NUM]]+1,1)),\"\")","v":"2023-07-15"},{"$f":"IFERROR(IF(ISBLANK(INDEX(DetalhesDoProjeto[#Data],Última_entrada_do_projeto-Linha_de_início_do_projeto-DadosdeLinhadoTempodoProjeto[[#This Row],[NUM]]+1,2)),\"\",INDEX(DetalhesDoProjeto[#Data],Última_entrada_do_projeto-Linha_de_início_do_projeto-DadosdeLinhadoTempodoProjeto[[#This Row],[NUM]]+1,2)),\"\")","v":"Revisar"},{"$f":"IFERROR(IF(ISBLANK(INDEX(DetalhesDoProjeto[#Data],Última_entrada_do_projeto-Linha_de_início_do_projeto-DadosdeLinhadoTempodoProjeto[[#This Row],[NUM]]+1,3)),\"\",INDEX(DetalhesDoProjeto[#Data],Última_entrada_do_projeto-Linha_de_início_do_projeto-DadosdeLinhadoTempodoProjeto[[#This Row],[NUM]]+1,3)),\"\")","v":-20},{"$f":"IFERROR(IF(ISBLANK(INDEX(DetalhesDoProjeto[#Data],ROW(A8)+1,1)),\"\",IF($J12-1<=-1,\"\",$J12-1)),\"\")","v":3},null,null,{"$f":"IFERROR(DadosdeLinhadoTempodoProjeto[[#This Row],[NUM]]+1,\"\")","v":4},{"$f":"IFERROR(VLOOKUP(LinhadoTempoClassificada[[#This Row],[POSIÇÃO classificada]],DadosdeLinhadoTempodoProjeto[],3,0),\"\")","v":"2023-07-15"},{"$f":"IFERROR(VLOOKUP(LinhadoTempoClassificada[[#This Row],[POSIÇÃO classificada]],DadosdeLinhadoTempodoProjeto[],4,0),\"\")","v":"Revisar"},{"$f":"IFERROR(VLOOKUP(LinhadoTempoClassificada[[#This Row],[POSIÇÃO classificada]],DadosdeLinhadoTempodoProjeto[],5,0),\"\")","v":-20}]
[{"$nulls":4},{"$f":"IFERROR(RANK(F14,DadosdeLinhadoTempodoProjeto[CLASSIFICAÇÃO])+SUMPRODUCT(--(F14=DadosdeLinhadoTempodoProjeto[CLASSIFICAÇÃO]),--(J14<DadosdeLinhadoTempodoProjeto[NUM])),\"\")","v":3},{"$f":"IFERROR(RANK(DadosdeLinhadoTempodoProjeto[[#This Row],[DATA]],DadosdeLinhadoTempodoProjeto[DATA],1),\"\")","v":10},{"$f":"IFERROR(IF(ISBLANK(INDEX(DetalhesDoProjeto[#Data],Última_entrada_do_projeto-Linha_de_início_do_projeto-DadosdeLinhadoTempodoProjeto[[#This Row],[NUM]]+1,1)),\"\",INDEX(DetalhesDoProjeto[#Data],Última_entrada_do_projeto-Linha_de_início_do_projeto-DadosdeLinhadoTempodoProjeto[[#This Row],[NUM]]+1,1)),\"\")","v":"2023-07-30"},{"$f":"IFERROR(IF(ISBLANK(INDEX(DetalhesDoProjeto[#Data],Última_entrada_do_projeto-Linha_de_início_do_projeto-DadosdeLinhadoTempodoProjeto[[#This Row],[NUM]]+1,2)),\"\",INDEX(DetalhesDoProjeto[#Data],Última_entrada_do_projeto-Linha_de_início_do_projeto-DadosdeLinhadoTempodoProjeto[[#This Row],[NUM]]+1,2)),\"\")","v":"Postar nas redes sociais"},{"$f":"IFERROR(IF(ISBLANK(INDEX(DetalhesDoProjeto[#Data],Última_entrada_do_projeto-Linha_de_início_do_projeto-DadosdeLinhadoTempodoProjeto[[#This Row],[NUM]]+1,3)),\"\",INDEX(DetalhesDoProjeto[#Data],Última_entrada_do_projeto-Linha_de_início_do_projeto-DadosdeLinhadoTempodoProjeto[[#This Row],[NUM]]+1,3)),\"\")","v":20},{"$f":"IFERROR(IF(ISBLANK(INDEX(DetalhesDoProjeto[#Data],ROW(A9)+1,1)),\"\",IF($J13-1<=-1,\"\",$J13-1)),\"\")","v":2},null,null,{"$f":"IFERROR(DadosdeLinhadoTempodoProjeto[[#This Row],[NUM]]+1,\"\")","v":3},{"$f":"IFERROR(VLOOKUP(LinhadoTempoClassificada[[#This Row],[POSIÇÃO classificada]],DadosdeLinhadoTempodoProjeto[],3,0),\"\")","v":"2023-07-30"},{"$f":"IFERROR(VLOOKUP(LinhadoTempoClassificada[[#This Row],[POSIÇÃO classificada]],DadosdeLinhadoTempodoProjeto[],4,0),\"\")","v":"Postar nas redes sociais"},{"$f":"IFERROR(VLOOKUP(LinhadoTempoClassificada[[#This Row],[POSIÇÃO classificada]],DadosdeLinhadoTempodoProjeto[],5,0),\"\")","v":20}]
[{"$nulls":4},{"$f":"IFERROR(RANK(F15,DadosdeLinhadoTempodoProjeto[CLASSIFICAÇÃO])+SUMPRODUCT(--(F15=DadosdeLinhadoTempodoProjeto[CLASSIFICAÇÃO]),--(J15<DadosdeLinhadoTempodoProjeto[NUM])),\"\")","v":2},{"$f":"IFERROR(RANK(DadosdeLinhadoTempodoProjeto[[#This Row],[DATA]],DadosdeLinhadoTempodoProjeto[DATA],1),\"\")","v":11},{"$f":"IFERROR(IF(ISBLANK(INDEX(DetalhesDoProjeto[#Data],Última_entrada_do_projeto-Linha_de_início_do_projeto-DadosdeLinhadoTempodoProjeto[[#This Row],[NUM]]+1,1)),\"\",INDEX(DetalhesDoProjeto[#Data],Última_entrada_do_projeto-Linha_de_início_do_projeto-DadosdeLinhadoTempodoProjeto[[#This Row],[NUM]]+1,1)),\"\")","v":"2023-10-23"},{"$f":"IFERROR(IF(ISBLANK(INDEX(DetalhesDoProjeto[#Data],Última_entrada_do_projeto-Linha_de_início_do_projeto-DadosdeLinhadoTempodoProjeto[[#This Row],[NUM]]+1,2)),\"\",INDEX(DetalhesDoProjeto[#Data],Última_entrada_do_projeto-Linha_de_início_do_projeto-DadosdeLinhadoTempodoProjeto[[#This Row],[NUM]]+1,2)),\"\")","v":"Criar conteúdo"},{"$f":"IFERROR(IF(ISBLANK(INDEX(DetalhesDoProjeto[#Data],Última_entrada_do_projeto-Linha_de_início_do_projeto-DadosdeLinhadoTempodoProjeto[[#This Row],[NUM]]+1,3)),\"\",INDEX(DetalhesDoProjeto[#Data],Última_entrada_do_projeto-Linha_de_início_do_projeto-DadosdeLinhadoTempodoProjeto[[#This Row],[NUM]]+1,3)),\"\")","v":-15},{"$f":"IFERROR(IF(ISBLANK(INDEX(DetalhesDoProjeto[#Data],ROW(A10)+1,1)),\"\",IF($J14-1<=-1,\"\",$J14-1)),\"\")","v":1},null,null,{"$f":"IFERROR(DadosdeLinhadoTempodoProjeto[[#This Row],[NUM]]+1,\"\")","v":2},{"$f":"IFERROR(VLOOKUP(LinhadoTempoClassificada[[#This Row],[POSIÇÃO classificada]],DadosdeLinhadoTempodoProjeto[],3,0),\"\")","v":"2023-10-23"},{"$f":"IFERROR(VLOOKUP(LinhadoTempoClassificada[[#This Row],[POSIÇÃO classificada]],DadosdeLinhadoTempodoProjeto[],4,0),\"\")","v":"Criar conteúdo"},{"$f":"IFERROR(VLOOKUP(LinhadoTempoClassificada[[#This Row],[POSIÇÃO classificada]],DadosdeLinhadoTempodoProjeto[],5,0),\"\")","v":-15}]
[{"$nulls":4},{"$f":"IFERROR(RANK(F16,DadosdeLinhadoTempodoProjeto[CLASSIFICAÇÃO])+SUMPRODUCT(--(F16=DadosdeLinhadoTempodoProjeto[CLASSIFICAÇÃO]),--(J16<DadosdeLinhadoTempodoProjeto[NUM])),\"\")","v":1},{"$f":"IFERROR(RANK(DadosdeLinhadoTempodoProjeto[[#This Row],[DATA]],DadosdeLinhadoTempodoProjeto[DATA],1),\"\")","v":12},{"$f":"IFERROR(IF(ISBLANK(INDEX(DetalhesDoProjeto[#Data],Última_entrada_do_projeto-Linha_de_início_do_projeto-DadosdeLinhadoTempodoProjeto[[#This Row],[NUM]]+1,1)),\"\",INDEX(DetalhesDoProjeto[#Data],Última_entrada_do_projeto-Linha_de_início_do_projeto-DadosdeLinhadoTempodoProjeto[[#This Row],[NUM]]+1,1)),\"\")","v":"2023-12-31"},{"$f":"IFERROR(IF(ISBLANK(INDEX(DetalhesDoProjeto[#Data],Última_entrada_do_projeto-Linha_de_início_do_projeto-DadosdeLinhadoTempodoProjeto[[#This Row],[NUM]]+1,2)),\"\",INDEX(DetalhesDoProjeto[#Data],Última_entrada_do_projeto-Linha_de_início_do_projeto-DadosdeLinhadoTempodoProjeto[[#This Row],[NUM]]+1,2)),\"\")","v":"Término do Projeto"},{"$f":"IFERROR(IF(ISBLANK(INDEX(DetalhesDoProjeto[#Data],Última_entrada_do_projeto-Linha_de_início_do_projeto-DadosdeLinhadoTempodoProjeto[[#This Row],[NUM]]+1,3)),\"\",INDEX(DetalhesDoProjeto[#Data],Última_entrada_do_projeto-Linha_de_início_do_projeto-DadosdeLinhadoTempodoProjeto[[#This Row],[NUM]]+1,3)),\"\")","v":15},{"$f":"IFERROR(IF(ISBLANK(INDEX(DetalhesDoProjeto[#Data],ROW(A11)+1,1)),\"\",IF($J15-1<=-1,\"\",$J15-1)),\"\")","v":0},null,null,{"$f":"IFERROR(DadosdeLinhadoTempodoProjeto[[#This Row],[NUM]]+1,\"\")","v":1},{"$f":"IFERROR(VLOOKUP(LinhadoTempoClassificada[[#This Row],[POSIÇÃO classificada]],DadosdeLinhadoTempodoProjeto[],3,0),\"\")","v":"2023-12-31"},{"$f":"IFERROR(VLOOKUP(LinhadoTempoClassificada[[#This Row],[POSIÇÃO classificada]],DadosdeLinhadoTempodoProjeto[],4,0),\"\")","v":"Término do Projeto"},{"$f":"IFERROR(VLOOKUP(LinhadoTempoClassificada[[#This Row],[POSIÇÃO classificada]],DadosdeLinhadoTempodoProjeto[],5,0),\"\")","v":15}]
[{"$nulls":4},{"$f":"IFERROR(RANK(F17,DadosdeLinhadoTempodoProjeto[CLASSIFICAÇÃO])+SUMPRODUCT(--(F17=DadosdeLinhadoTempodoProjeto[CLASSIFICAÇÃO]),--(J17<DadosdeLinhadoTempodoProjeto[NUM])),\"\")","v":""},{"$f":"IFERROR(RANK(DadosdeLinhadoTempodoProjeto[[#This Row],[DATA]],DadosdeLinhadoTempodoProjeto[DATA],1),\"\")","v":""},{"$f":"IFERROR(IF(ISBLANK(INDEX(DetalhesDoProjeto[#Data],Última_entrada_do_projeto-Linha_de_início_do_projeto-DadosdeLinhadoTempodoProjeto[[#This Row],[NUM]]+1,1)),\"\",INDEX(DetalhesDoProjeto[#Data],Última_entrada_do_projeto-Linha_de_início_do_projeto-DadosdeLinhadoTempodoProjeto[[#This Row],[NUM]]+1,1)),\"\")","v":""},{"$f":"IFERROR(IF(ISBLANK(INDEX(DetalhesDoProjeto[#Data],Última_entrada_do_projeto-Linha_de_início_do_projeto-DadosdeLinhadoTempodoProjeto[[#This Row],[NUM]]+1,2)),\"\",INDEX(DetalhesDoProjeto[#Data],Última_entrada_do_projeto-Linha_de_início_do_projeto-DadosdeLinhadoTempodoProjeto[[#This Row],[NUM]]+1,2)),\"\")","v":""},{"$f":"IFERROR(IF(ISBLANK(INDEX(DetalhesDoProjeto[#Data],Última_entrada_do_projeto-Linha_de_início_do_projeto-DadosdeLinhadoTempodoProjeto[[#This Row],[NUM]]+1,3)),\"\",INDEX(DetalhesDoProjeto[#Data],Última_entrada_do_projeto-Linha_de_início_do_projeto-DadosdeLinhadoTempodoProjeto[[#This Row],[NUM]]+1,3)),\"\")","v":""},{"$f":"IFERROR(IF(ISBLANK(INDEX(DetalhesDoProjeto[#Data],ROW(A12)+1,1)),\"\",IF($J16-1<=-1,\"\",$J16-1)),\"\")","v":""},null,null,{"$f":"IFERROR(DadosdeLinhadoTempodoProjeto[[#This Row],[NUM]]+1,\"\")","v":""},{"$f":"IFERROR(VLOOKUP(LinhadoTempoClassificada[[#This Row],[POSIÇÃO classificada]],DadosdeLinhadoTempodoProjeto[],3,0),\"\")","v":""},{"$f":"IFERROR(VLOOKUP(LinhadoTempoClassificada[[#This Row],[POSIÇÃO classificada]],DadosdeLinhadoTempodoProjeto[],4,0),\"\")","v":""},{"$f":"IFERROR(VLOOKUP(LinhadoTempoClassificada[[#This Row],[POSIÇÃO classificada]],DadosdeLinhadoTempodoProjeto[],5,0),\"\")","v":""}]
[{"$nulls":4},{"$f":"IFERROR(RANK(F18,DadosdeLinhadoTempodoProjeto[CLASSIFICAÇÃO])+SUMPRODUCT(--(F18=DadosdeLinhadoTempodoProjeto[CLASSIFICAÇÃO]),--(J18<DadosdeLinhadoTempodoProjeto[NUM])),\"\")","v":""},{"$f":"IFERROR(RANK(DadosdeLinhadoTempodoProjeto[[#This Row],[DATA]],DadosdeLinhadoTempodoProjeto[DATA],1),\"\")","v":""},{"$f":"IFERROR(IF(ISBLANK(INDEX(DetalhesDoProjeto[#Data],Última_entrada_do_projeto-Linha_de_início_do_projeto-DadosdeLinhadoTempodoProjeto[[#This Row],[NUM]]+1,1)),\"\",INDEX(DetalhesDoProjeto[#Data],Última_entrada_do_projeto-Linha_de_início_do_projeto-DadosdeLinhadoTempodoProjeto[[#This Row],[NUM]]+1,1)),\"\")","v":""},{"$f":"IFERROR(IF(ISBLANK(INDEX(DetalhesDoProjeto[#Data],Última_entrada_do_projeto-Linha_de_início_do_projeto-DadosdeLinhadoTempodoProjeto[[#This Row],[NUM]]+1,2)),\"\",INDEX(DetalhesDoProjeto[#Data],Última_entrada_do_projeto-Linha_de_início_do_projeto-DadosdeLinhadoTempodoProjeto[[#This Row],[NUM]]+1,2)),\"\")","v":""},{"$f":"IFERROR(IF(ISBLANK(INDEX(DetalhesDoProjeto[#Data],Última_entrada_do_projeto-Linha_de_início_do_projeto-DadosdeLinhadoTempodoProjeto[[#This Row],[NUM]]+1,3)),\"\",INDEX(DetalhesDoProjeto[#Data],Última_entrada_do_projeto-Linha_de_início_do_projeto-DadosdeLinhadoTempodoProjeto[[#This Row],[NUM]]+1,3)),\"\")","v":""},{"$f":"IFERROR(IF(ISBLANK(INDEX(DetalhesDoProjeto[#Data],ROW(A13)+1,1)),\"\",IF($J17-1<=-1,\"\",$J17-1)),\"\")","v":""},null,null,{"$f":"IFERROR(DadosdeLinhadoTempodoProjeto[[#This Row],[NUM]]+1,\"\")","v":""},{"$f":"IFERROR(VLOOKUP(LinhadoTempoClassificada[[#This Row],[POSIÇÃO classificada]],DadosdeLinhadoTempodoProjeto[],3,0),\"\")","v":""},{"$f":"IFERROR(VLOOKUP(LinhadoTempoClassificada[[#This Row],[POSIÇÃO classificada]],DadosdeLinhadoTempodoProjeto[],4,0),\"\")","v":""},{"$f":"IFERROR(VLOOKUP(LinhadoTempoClassificada[[#This Row],[POSIÇÃO classificada]],DadosdeLinhadoTempodoProjeto[],5,0),\"\")","v":""}]
[{"$nulls":4},{"$f":"IFERROR(RANK(F19,DadosdeLinhadoTempodoProjeto[CLASSIFICAÇÃO])+SUMPRODUCT(--(F19=DadosdeLinhadoTempodoProjeto[CLASSIFICAÇÃO]),--(J19<DadosdeLinhadoTempodoProjeto[NUM])),\"\")","v":""},{"$f":"IFERROR(RANK(DadosdeLinhadoTempodoProjeto[[#This Row],[DATA]],DadosdeLinhadoTempodoProjeto[DATA],1),\"\")","v":""},{"$f":"IFERROR(IF(ISBLANK(INDEX(DetalhesDoProjeto[#Data],Última_entrada_do_projeto-Linha_de_início_do_projeto-DadosdeLinhadoTempodoProjeto[[#This Row],[NUM]]+1,1)),\"\",INDEX(DetalhesDoProjeto[#Data],Última_entrada_do_projeto-Linha_de_início_do_projeto-DadosdeLinhadoTempodoProjeto[[#This Row],[NUM]]+1,1)),\"\")","v":""},{"$f":"IFERROR(IF(ISBLANK(INDEX(DetalhesDoProjeto[#Data],Última_entrada_do_projeto-Linha_de_início_do_projeto-DadosdeLinhadoTempodoProjeto[[#This Row],[NUM]]+1,2)),\"\",INDEX(DetalhesDoProjeto[#Data],Última_entrada_do_projeto-Linha_de_início_do_projeto-DadosdeLinhadoTempodoProjeto[[#This Row],[NUM]]+1,2)),\"\")","v":""},{"$f":"IFERROR(IF(ISBLANK(INDEX(DetalhesDoProjeto[#Data],Última_entrada_do_projeto-Linha_de_início_do_projeto-DadosdeLinhadoTempodoProjeto[[#This Row],[NUM]]+1,3)),\"\",INDEX(DetalhesDoProjeto[#Data],Última_entrada_do_projeto-Linha_de_início_do_projeto-DadosdeLinhadoTempodoProjeto[[#This Row],[NUM]]+1,3)),\"\")","v":""},{"$f":"IFERROR(IF(ISBLANK(INDEX(DetalhesDoProjeto[#Data],ROW(A14)+1,1)),\"\",IF($J18-1<=-1,\"\",$J18-1)),\"\")","v":""},null,null,{"$f":"IFERROR(DadosdeLinhadoTempodoProjeto[[#This Row],[NUM]]+1,\"\")","v":""},{"$f":"IFERROR(VLOOKUP(LinhadoTempoClassificada[[#This Row],[POSIÇÃO classificada]],DadosdeLinhadoTempodoProjeto[],3,0),\"\")","v":""},{"$f":"IFERROR(VLOOKUP(LinhadoTempoClassificada[[#This Row],[POSIÇÃO classificada]],DadosdeLinhadoTempodoProjeto[],4,0),\"\")","v":""},{"$f":"IFERROR(VLOOKUP(LinhadoTempoClassificada[[#This Row],[POSIÇÃO classificada]],DadosdeLinhadoTempodoProjeto[],5,0),\"\")","v":""}]
[{"$nulls":4},{"$f":"IFERROR(RANK(F20,DadosdeLinhadoTempodoProjeto[CLASSIFICAÇÃO])+SUMPRODUCT(--(F20=DadosdeLinhadoTempodoProjeto[CLASSIFICAÇÃO]),--(J20<DadosdeLinhadoTempodoProjeto[NUM])),\"\")","v":""},{"$f":"IFERROR(RANK(DadosdeLinhadoTempodoProjeto[[#This Row],[DATA]],DadosdeLinhadoTempodoProjeto[DATA],1),\"\")","v":""},{"$f":"IFERROR(IF(ISBLANK(INDEX(DetalhesDoProjeto[#Data],Última_entrada_do_projeto-Linha_de_início_do_projeto-DadosdeLinhadoTempodoProjeto[[#This Row],[NUM]]+1,1)),\"\",INDEX(DetalhesDoProjeto[#Data],Última_entrada_do_projeto-Linha_de_início_do_projeto-DadosdeLinhadoTempodoProjeto[[#This Row],[NUM]]+1,1)),\"\")","v":""},{"$f":"IFERROR(IF(ISBLANK(INDEX(DetalhesDoProjeto[#Data],Última_entrada_do_projeto-Linha_de_início_do_projeto-DadosdeLinhadoTempodoProjeto[[#This Row],[NUM]]+1,2)),\"\",INDEX(DetalhesDoProjeto[#Data],Última_entrada_do_projeto-Linha_de_início_do_projeto-DadosdeLinhadoTempodoProjeto[[#This Row],[NUM]]+1,2)),\"\")","v":""},{"$f":"IFERROR(IF(ISBLANK(INDEX(DetalhesDoProjeto[#Data],Última_entrada_do_projeto-Linha_de_início_do_projeto-DadosdeLinhadoTempodoProjeto[[#This Row],[NUM]]+1,3)),\"\",INDEX(DetalhesDoProjeto[#Data],Última_entrada_do_projeto-Linha_de_início_do_projeto-DadosdeLinhadoTempodoProjeto[[#This Row],[NUM]]+1,3)),\"\")","v":""},{"$f":"IFERROR(IF(ISBLANK(INDEX(DetalhesDoProjeto[#Data],ROW(A15)+1,1)),\"\",IF($J19-1<=-1,\"\",$J19-1)),\"\")","v":""},null,null,{"$f":"IFERROR(DadosdeLinhadoTempodoProjeto[[#This Row],[NUM]]+1,\"\")","v":""},{"$f":"IFERROR(VLOOKUP(LinhadoTempoClassificada[[#This Row],[POSIÇÃO classificada]],DadosdeLinhadoTempodoProjeto[],3,0),\"\")","v":""},{"$f":"IFERROR(VLOOKUP(LinhadoTempoClassificada[[#This Row],[POSIÇÃO classificada]],DadosdeLinhadoTempodoProjeto[],4,0),\"\")","v":""},{"$f":"IFERROR(VLOOKUP(LinhadoTempoClassificada[[#This Row],[POSIÇÃO classificada]],DadosdeLinhadoTempodoProjeto[],5,0),\"\")","v":""}]
[{"$nulls":4},{"$f":"IFERROR(RANK(F21,DadosdeLinhadoTempodoProjeto[CLASSIFICAÇÃO])+SUMPRODUCT(--(F21=DadosdeLinhadoTempodoProjeto[CLASSIFICAÇÃO]),--(J21<DadosdeLinhadoTempodoProjeto[NUM])),\"\")","v":""},{"$f":"IFERROR(RANK(DadosdeLinhadoTempodoProjeto[[#This Row],[DATA]],DadosdeLinhadoTempodoProjeto[DATA],1),\"\")","v":""},{"$f":"IFERROR(IF(ISBLANK(INDEX(DetalhesDoProjeto[#Data],Última_entrada_do_projeto-Linha_de_início_do_projeto-DadosdeLinhadoTempodoProjeto[[#This Row],[NUM]]+1,1)),\"\",INDEX(DetalhesDoProjeto[#Data],Última_entrada_do_projeto-Linha_de_início_do_projeto-DadosdeLinhadoTempodoProjeto[[#This Row],[NUM]]+1,1)),\"\")","v":""},{"$f":"IFERROR(IF(ISBLANK(INDEX(DetalhesDoProjeto[#Data],Última_entrada_do_projeto-Linha_de_início_do_projeto-DadosdeLinhadoTempodoProjeto[[#This Row],[NUM]]+1,2)),\"\",INDEX(DetalhesDoProjeto[#Data],Última_entrada_do_projeto-Linha_de_início_do_projeto-DadosdeLinhadoTempodoProjeto[[#This Row],[NUM]]+1,2)),\"\")","v":""},{"$f":"IFERROR(IF(ISBLANK(INDEX(DetalhesDoProjeto[#Data],Última_entrada_do_projeto-Linha_de_início_do_projeto-DadosdeLinhadoTempodoProjeto[[#This Row],[NUM]]+1,3)),\"\",INDEX(DetalhesDoProjeto[#Data],Última_entrada_do_projeto-Linha_de_início_do_projeto-DadosdeLinhadoTempodoProjeto[[#This Row],[NUM]]+1,3)),\"\")","v":""},{"$f":"IFERROR(IF(ISBLANK(INDEX(DetalhesDoProjeto[#Data],ROW(A16)+1,1)),\"\",IF($J20-1<=-1,\"\",$J20-1)),\"\")","v":""},null,null,{"$f":"IFERROR(DadosdeLinhadoTempodoProjeto[[#This Row],[NUM]]+1,\"\")","v":""},{"$f":"IFERROR(VLOOKUP(LinhadoTempoClassificada[[#This Row],[POSIÇÃO classificada]],DadosdeLinhadoTempodoProjeto[],3,0),\"\")","v":""},{"$f":"IFERROR(VLOOKUP(LinhadoTempoClassificada[[#This Row],[POSIÇÃO classificada]],DadosdeLinhadoTempodoProjeto[],4,0),\"\")","v":""},{"$f":"IFERROR(VLOOKUP(LinhadoTempoClassificada[[#This Row],[POSIÇÃO classificada]],DadosdeLinhadoTempodoProjeto[],5,0),\"\")","v":""}]
[{"$nulls":4},{"$f":"IFERROR(RANK(F22,DadosdeLinhadoTempodoProjeto[CLASSIFICAÇÃO])+SUMPRODUCT(--(F22=DadosdeLinhadoTempodoProjeto[CLASSIFICAÇÃO]),--(J22<DadosdeLinhadoTempodoProjeto[NUM])),\"\")","v":""},{"$f":"IFERROR(RANK(DadosdeLinhadoTempodoProjeto[[#This Row],[DATA]],DadosdeLinhadoTempodoProjeto[DATA],1),\"\")","v":""},{"$f":"IFERROR(IF(ISBLANK(INDEX(DetalhesDoProjeto[#Data],Última_entrada_do_projeto-Linha_de_início_do_projeto-DadosdeLinhadoTempodoProjeto[[#This Row],[NUM]]+1,1)),\"\",INDEX(DetalhesDoProjeto[#Data],Última_entrada_do_projeto-Linha_de_início_do_projeto-DadosdeLinhadoTempodoProjeto[[#This Row],[NUM]]+1,1)),\"\")","v":""},{"$f":"IFERROR(IF(ISBLANK(INDEX(DetalhesDoProjeto[#Data],Última_entrada_do_projeto-Linha_de_início_do_projeto-DadosdeLinhadoTempodoProjeto[[#This Row],[NUM]]+1,2)),\"\",INDEX(DetalhesDoProjeto[#Data],Última_entrada_do_projeto-Linha_de_início_do_projeto-DadosdeLinhadoTempodoProjeto[[#This Row],[NUM]]+1,2)),\"\")","v":""},{"$f":"IFERROR(IF(ISBLANK(INDEX(DetalhesDoProjeto[#Data],Última_entrada_do_projeto-Linha_de_início_do_projeto-DadosdeLinhadoTempodoProjeto[[#This Row],[NUM]]+1,3)),\"\",INDEX(DetalhesDoProjeto[#Data],Última_entrada_do_projeto-Linha_de_início_do_projeto-DadosdeLinhadoTempodoProjeto[[#This Row],[NUM]]+1,3)),\"\")","v":""},{"$f":"IFERROR(IF(ISBLANK(INDEX(DetalhesDoProjeto[#Data],ROW(A17)+1,1)),\"\",IF($J21-1<=-1,\"\",$J21-1)),\"\")","v":""},null,null,{"$f":"IFERROR(DadosdeLinhadoTempodoProjeto[[#This Row],[NUM]]+1,\"\")","v":""},{"$f":"IFERROR(VLOOKUP(LinhadoTempoClassificada[[#This Row],[POSIÇÃO classificada]],DadosdeLinhadoTempodoProjeto[],3,0),\"\")","v":""},{"$f":"IFERROR(VLOOKUP(LinhadoTempoClassificada[[#This Row],[POSIÇÃO classificada]],DadosdeLinhadoTempodoProjeto[],4,0),\"\")","v":""},{"$f":"IFERROR(VLOOKUP(LinhadoTempoClassificada[[#This Row],[POSIÇÃO classificada]],DadosdeLinhadoTempodoProjeto[],5,0),\"\")","v":""}]
[{"$nulls":4},{"$f":"IFERROR(RANK(F23,DadosdeLinhadoTempodoProjeto[CLASSIFICAÇÃO])+SUMPRODUCT(--(F23=DadosdeLinhadoTempodoProjeto[CLASSIFICAÇÃO]),--(J23<DadosdeLinhadoTempodoProjeto[NUM])),\"\")","v":""},{"$f":"IFERROR(RANK(DadosdeLinhadoTempodoProjeto[[#This Row],[DATA]],DadosdeLinhadoTempodoProjeto[DATA],1),\"\")","v":""},{"$f":"IFERROR(IF(ISBLANK(INDEX(DetalhesDoProjeto[#Data],Última_entrada_do_projeto-Linha_de_início_do_projeto-DadosdeLinhadoTempodoProjeto[[#This Row],[NUM]]+1,1)),\"\",INDEX(DetalhesDoProjeto[#Data],Última_entrada_do_projeto-Linha_de_início_do_projeto-DadosdeLinhadoTempodoProjeto[[#This Row],[NUM]]+1,1)),\"\")","v":""},{"$f":"IFERROR(IF(ISBLANK(INDEX(DetalhesDoProjeto[#Data],Última_entrada_do_projeto-Linha_de_início_do_projeto-DadosdeLinhadoTempodoProjeto[[#This Row],[NUM]]+1,2)),\"\",INDEX(DetalhesDoProjeto[#Data],Última_entrada_do_projeto-Linha_de_início_do_projeto-DadosdeLinhadoTempodoProjeto[[#This Row],[NUM]]+1,2)),\"\")","v":""},{"$f":"IFERROR(IF(ISBLANK(INDEX(DetalhesDoProjeto[#Data],Última_entrada_do_projeto-Linha_de_início_do_projeto-DadosdeLinhadoTempodoProjeto[[#This Row],[NUM]]+1,3)),\"\",INDEX(DetalhesDoProjeto[#Data],Última_entrada_do_projeto-Linha_de_início_do_projeto-DadosdeLinhadoTempodoProjeto[[#This Row],[NUM]]+1,3)),\"\")","v":""},{"$f":"IFERROR(IF(ISBLANK(INDEX(DetalhesDoProjeto[#Data],ROW(A18)+1,1)),\"\",IF($J22-1<=-1,\"\",$J22-1)),\"\")","v":""},null,null,{"$f":"IFERROR(DadosdeLinhadoTempodoProjeto[[#This Row],[NUM]]+1,\"\")","v":""},{"$f":"IFERROR(VLOOKUP(LinhadoTempoClassificada[[#This Row],[POSIÇÃO classificada]],DadosdeLinhadoTempodoProjeto[],3,0),\"\")","v":""},{"$f":"IFERROR(VLOOKUP(LinhadoTempoClassificada[[#This Row],[POSIÇÃO classificada]],DadosdeLinhadoTempodoProjeto[],4,0),\"\")","v":""},{"$f":"IFERROR(VLOOKUP(LinhadoTempoClassificada[[#This Row],[POSIÇÃO classificada]],DadosdeLinhadoTempodoProjeto[],5,0),\"\")","v":""}]
[{"$nulls":4},{"$f":"IFERROR(RANK(F24,DadosdeLinhadoTempodoProjeto[CLASSIFICAÇÃO])+SUMPRODUCT(--(F24=DadosdeLinhadoTempodoProjeto[CLASSIFICAÇÃO]),--(J24<DadosdeLinhadoTempodoProjeto[NUM])),\"\")","v":""},{"$f":"IFERROR(RANK(DadosdeLinhadoTempodoProjeto[[#This Row],[DATA]],DadosdeLinhadoTempodoProjeto[DATA],1),\"\")","v":""},{"$f":"IFERROR(IF(ISBLANK(INDEX(DetalhesDoProjeto[#Data],Última_entrada_do_projeto-Linha_de_início_do_projeto-DadosdeLinhadoTempodoProjeto[[#This Row],[NUM]]+1,1)),\"\",INDEX(DetalhesDoProjeto[#Data],Última_entrada_do_projeto-Linha_de_início_do_projeto-DadosdeLinhadoTempodoProjeto[[#This Row],[NUM]]+1,1)),\"\")","v":""},{"$f":"IFERROR(IF(ISBLANK(INDEX(DetalhesDoProjeto[#Data],Última_entrada_do_projeto-Linha_de_início_do_projeto-DadosdeLinhadoTempodoProjeto[[#This Row],[NUM]]+1,2)),\"\",INDEX(DetalhesDoProjeto[#Data],Última_entrada_do_projeto-Linha_de_início_do_projeto-DadosdeLinhadoTempodoProjeto[[#This Row],[NUM]]+1,2)),\"\")","v":""},{"$f":"IFERROR(IF(ISBLANK(INDEX(DetalhesDoProjeto[#Data],Última_entrada_do_projeto-Linha_de_início_do_projeto-DadosdeLinhadoTempodoProjeto[[#This Row],[NUM]]+1,3)),\"\",INDEX(DetalhesDoProjeto[#Data],Última_entrada_do_projeto-Linha_de_início_do_projeto-DadosdeLinhadoTempodoProjeto[[#This Row],[NUM]]+1,3)),\"\")","v":""},{"$f":"IFERROR(IF(ISBLANK(INDEX(DetalhesDoProjeto[#Data],ROW(A19)+1,1)),\"\",IF($J23-1<=-1,\"\",$J23-1)),\"\")","v":""},null,null,{"$f":"IFERROR(DadosdeLinhadoTempodoProjeto[[#This Row],[NUM]]+1,\"\")","v":""},{"$f":"IFERROR(VLOOKUP(LinhadoTempoClassificada[[#This Row],[POSIÇÃO classificada]],DadosdeLinhadoTempodoProjeto[],3,0),\"\")","v":""},{"$f":"IFERROR(VLOOKUP(LinhadoTempoClassificada[[#This Row],[POSIÇÃO classificada]],DadosdeLinhadoTempodoProjeto[],4,0),\"\")","v":""},{"$f":"IFERROR(VLOOKUP(LinhadoTempoClassificada[[#This Row],[POSIÇÃO classificada]],DadosdeLinhadoTempodoProjeto[],5,0),\"\")","v":""}]
[{"$nulls":4},{"$f":"IFERROR(RANK(F25,DadosdeLinhadoTempodoProjeto[CLASSIFICAÇÃO])+SUMPRODUCT(--(F25=DadosdeLinhadoTempodoProjeto[CLASSIFICAÇÃO]),--(J25<DadosdeLinhadoTempodoProjeto[NUM])),\"\")","v":""},{"$f":"IFERROR(RANK(DadosdeLinhadoTempodoProjeto[[#This Row],[DATA]],DadosdeLinhadoTempodoProjeto[DATA],1),\"\")","v":""},{"$f":"IFERROR(IF(ISBLANK(INDEX(DetalhesDoProjeto[#Data],Última_entrada_do_projeto-Linha_de_início_do_projeto-DadosdeLinhadoTempodoProjeto[[#This Row],[NUM]]+1,1)),\"\",INDEX(DetalhesDoProjeto[#Data],Última_entrada_do_projeto-Linha_de_início_do_projeto-DadosdeLinhadoTempodoProjeto[[#This Row],[NUM]]+1,1)),\"\")","v":""},{"$f":"IFERROR(IF(ISBLANK(INDEX(DetalhesDoProjeto[#Data],Última_entrada_do_projeto-Linha_de_início_do_projeto-DadosdeLinhadoTempodoProjeto[[#This Row],[NUM]]+1,2)),\"\",INDEX(DetalhesDoProjeto[#Data],Última_entrada_do_projeto-Linha_de_início_do_projeto-DadosdeLinhadoTempodoProjeto[[#This Row],[NUM]]+1,2)),\"\")","v":""},{"$f":"IFERROR(IF(ISBLANK(INDEX(DetalhesDoProjeto[#Data],Última_entrada_do_projeto-Linha_de_início_do_projeto-DadosdeLinhadoTempodoProjeto[[#This Row],[NUM]]+1,3)),\"\",INDEX(DetalhesDoProjeto[#Data],Última_entrada_do_projeto-Linha_de_início_do_projeto-DadosdeLinhadoTempodoProjeto[[#This Row],[NUM]]+1,3)),\"\")","v":""},{"$f":"IFERROR(IF(ISBLANK(INDEX(DetalhesDoProjeto[#Data],ROW(A20)+1,1)),\"\",IF($J24-1<=-1,\"\",$J24-1)),\"\")","v":""},null,null,{"$f":"IFERROR(DadosdeLinhadoTempodoProjeto[[#This Row],[NUM]]+1,\"\")","v":""},{"$f":"IFERROR(VLOOKUP(LinhadoTempoClassificada[[#This Row],[POSIÇÃO classificada]],DadosdeLinhadoTempodoProjeto[],3,0),\"\")","v":""},{"$f":"IFERROR(VLOOKUP(LinhadoTempoClassificada[[#This Row],[POSIÇÃO classificada]],DadosdeLinhadoTempodoProjeto[],4,0),\"\")","v":""},{"$f":"IFERROR(VLOOKUP(LinhadoTempoClassificada[[#This Row],[POSIÇÃO classificada]],DadosdeLinhadoTempodoProjeto[],5,0),\"\")","v":""}]
[{"$nulls":4},{"$f":"IFERROR(RANK(F26,DadosdeLinhadoTempodoProjeto[CLASSIFICAÇÃO])+SUMPRODUCT(--(F26=DadosdeLinhadoTempodoProjeto[CLASSIFICAÇÃO]),--(J26<DadosdeLinhadoTempodoProjeto[NUM])),\"\")","v":""},{"$f":"IFERROR(RANK(DadosdeLinhadoTempodoProjeto[[#This Row],[DATA]],DadosdeLinhadoTempodoProjeto[DATA],1),\"\")","v":""},{"$f":"IFERROR(IF(ISBLANK(INDEX(DetalhesDoProjeto[#Data],Última_entrada_do_projeto-Linha_de_início_do_projeto-DadosdeLinhadoTempodoProjeto[[#This Row],[NUM]]+1,1)),\"\",INDEX(DetalhesDoProjeto[#Data],Última_entrada_do_projeto-Linha_de_início_do_projeto-DadosdeLinhadoTempodoProjeto[[#This Row],[NUM]]+1,1)),\"\")","v":""},{"$f":"IFERROR(IF(ISBLANK(INDEX(DetalhesDoProjeto[#Data],Última_entrada_do_projeto-Linha_de_início_do_projeto-DadosdeLinhadoTempodoProjeto[[#This Row],[NUM]]+1,2)),\"\",INDEX(DetalhesDoProjeto[#Data],Última_entrada_do_projeto-Linha_de_início_do_projeto-DadosdeLinhadoTempodoProjeto[[#This Row],[NUM]]+1,2)),\"\")","v":""},{"$f":"IFERROR(IF(ISBLANK(INDEX(DetalhesDoProjeto[#Data],Última_entrada_do_projeto-Linha_de_início_do_projeto-DadosdeLinhadoTempodoProjeto[[#This Row],[NUM]]+1,3)),\"\",INDEX(DetalhesDoProjeto[#Data],Última_entrada_do_projeto-Linha_de_início_do_projeto-DadosdeLinhadoTempodoProjeto[[#This Row],[NUM]]+1,3)),\"\")","v":""},{"$f":"IFERROR(IF(ISBLANK(INDEX(DetalhesDoProjeto[#Data],ROW(A21)+1,1)),\"\",IF($J25-1<=-1,\"\",$J25-1)),\"\")","v":""},null,null,{"$f":"IFERROR(DadosdeLinhadoTempodoProjeto[[#This Row],[NUM]]+1,\"\")","v":""},{"$f":"IFERROR(VLOOKUP(LinhadoTempoClassificada[[#This Row],[POSIÇÃO classificada]],DadosdeLinhadoTempodoProjeto[],3,0),\"\")","v":""},{"$f":"IFERROR(VLOOKUP(LinhadoTempoClassificada[[#This Row],[POSIÇÃO classificada]],DadosdeLinhadoTempodoProjeto[],4,0),\"\")","v":""},{"$f":"IFERROR(VLOOKUP(LinhadoTempoClassificada[[#This Row],[POSIÇÃO classificada]],DadosdeLinhadoTempodoProjeto[],5,0),\"\")","v":""}]
[{"$nulls":4},{"$f":"IFERROR(RANK(F27,DadosdeLinhadoTempodoProjeto[CLASSIFICAÇÃO])+SUMPRODUCT(--(F27=DadosdeLinhadoTempodoProjeto[CLASSIFICAÇÃO]),--(J27<DadosdeLinhadoTempodoProjeto[NUM])),\"\")","v":""},{"$f":"IFERROR(RANK(DadosdeLinhadoTempodoProjeto[[#This Row],[DATA]],DadosdeLinhadoTempodoProjeto[DATA],1),\"\")","v":""},{"$f":"IFERROR(IF(ISBLANK(INDEX(DetalhesDoProjeto[#Data],Última_entrada_do_projeto-Linha_de_início_do_projeto-DadosdeLinhadoTempodoProjeto[[#This Row],[NUM]]+1,1)),\"\",INDEX(DetalhesDoProjeto[#Data],Última_entrada_do_projeto-Linha_de_início_do_projeto-DadosdeLinhadoTempodoProjeto[[#This Row],[NUM]]+1,1)),\"\")","v":""},{"$f":"IFERROR(IF(ISBLANK(INDEX(DetalhesDoProjeto[#Data],Última_entrada_do_projeto-Linha_de_início_do_projeto-DadosdeLinhadoTempodoProjeto[[#This Row],[NUM]]+1,2)),\"\",INDEX(DetalhesDoProjeto[#Data],Última_entrada_do_projeto-Linha_de_início_do_projeto-DadosdeLinhadoTempodoProjeto[[#This Row],[NUM]]+1,2)),\"\")","v":""},{"$f":"IFERROR(IF(ISBLANK(INDEX(DetalhesDoProjeto[#Data],Última_entrada_do_projeto-Linha_de_início_do_projeto-DadosdeLinhadoTempodoProjeto[[#This Row],[NUM]]+1,3)),\"\",INDEX(DetalhesDoProjeto[#Data],Última_entrada_do_projeto-Linha_de_início_do_projeto-DadosdeLinhadoTempodoProjeto[[#This Row],[NUM]]+1,3)),\"\")","v":""},{"$f":"IFERROR(IF(ISBLANK(INDEX(DetalhesDoProjeto[#Data],ROW(A22)+1,1)),\"\",IF($J26-1<=-1,\"\",$J26-1)),\"\")","v":""},null,null,{"$f":"IFERROR(DadosdeLinhadoTempodoProjeto[[#This Row],[NUM]]+1,\"\")","v":""},{"$f":"IFERROR(VLOOKUP(LinhadoTempoClassificada[[#This Row],[POSIÇÃO classificada]],DadosdeLinhadoTempodoProjeto[],3,0),\"\")","v":""},{"$f":"IFERROR(VLOOKUP(LinhadoTempoClassificada[[#This Row],[POSIÇÃO classificada]],DadosdeLinhadoTempodoProjeto[],4,0),\"\")","v":""},{"$f":"IFERROR(VLOOKUP(LinhadoTempoClassificada[[#This Row],[POSIÇÃO classificada]],DadosdeLinhadoTempodoProjeto[],5,0),\"\")","v":""}]
[{"$nulls":4},{"$f":"IFERROR(RANK(F28,DadosdeLinhadoTempodoProjeto[CLASSIFICAÇÃO])+SUMPRODUCT(--(F28=DadosdeLinhadoTempodoProjeto[CLASSIFICAÇÃO]),--(J28<DadosdeLinhadoTempodoProjeto[NUM])),\"\")","v":""},{"$f":"IFERROR(RANK(DadosdeLinhadoTempodoProjeto[[#This Row],[DATA]],DadosdeLinhadoTempodoProjeto[DATA],1),\"\")","v":""},{"$f":"IFERROR(IF(ISBLANK(INDEX(DetalhesDoProjeto[#Data],Última_entrada_do_projeto-Linha_de_início_do_projeto-DadosdeLinhadoTempodoProjeto[[#This Row],[NUM]]+1,1)),\"\",INDEX(DetalhesDoProjeto[#Data],Última_entrada_do_projeto-Linha_de_início_do_projeto-DadosdeLinhadoTempodoProjeto[[#This Row],[NUM]]+1,1)),\"\")","v":""},{"$f":"IFERROR(IF(ISBLANK(INDEX(DetalhesDoProjeto[#Data],Última_entrada_do_projeto-Linha_de_início_do_projeto-DadosdeLinhadoTempodoProjeto[[#This Row],[NUM]]+1,2)),\"\",INDEX(DetalhesDoProjeto[#Data],Última_entrada_do_projeto-Linha_de_início_do_projeto-DadosdeLinhadoTempodoProjeto[[#This Row],[NUM]]+1,2)),\"\")","v":""},{"$f":"IFERROR(IF(ISBLANK(INDEX(DetalhesDoProjeto[#Data],Última_entrada_do_projeto-Linha_de_início_do_projeto-DadosdeLinhadoTempodoProjeto[[#This Row],[NUM]]+1,3)),\"\",INDEX(DetalhesDoProjeto[#Data],Última_entrada_do_projeto-Linha_de_início_do_projeto-DadosdeLinhadoTempodoProjeto[[#This Row],[NUM]]+1,3)),\"\")","v":""},{"$f":"IFERROR(IF(ISBLANK(INDEX(DetalhesDoProjeto[#Data],ROW(A23)+1,1)),\"\",IF($J27-1<=-1,\"\",$J27-1)),\"\")","v":""},null,null,{"$f":"IFERROR(DadosdeLinhadoTempodoProjeto[[#This Row],[NUM]]+1,\"\")","v":""},{"$f":"IFERROR(VLOOKUP(LinhadoTempoClassificada[[#This Row],[POSIÇÃO classificada]],DadosdeLinhadoTempodoProjeto[],3,0),\"\")","v":""},{"$f":"IFERROR(VLOOKUP(LinhadoTempoClassificada[[#This Row],[POSIÇÃO classificada]],DadosdeLinhadoTempodoProjeto[],4,0),\"\")","v":""},{"$f":"IFERROR(VLOOKUP(LinhadoTempoClassificada[[#This Row],[POSIÇÃO classificada]],DadosdeLinhadoTempodoProjeto[],5,0),\"\")","v":""}]
[{"$nulls":4},{"$f":"IFERROR(RANK(F29,DadosdeLinhadoTempodoProjeto[CLASSIFICAÇÃO])+SUMPRODUCT(--(F29=DadosdeLinhadoTempodoProjeto[CLASSIFICAÇÃO]),--(J29<DadosdeLinhadoTempodoProjeto[NUM])),\"\")","v":""},{"$f":"IFERROR(RANK(DadosdeLinhadoTempodoProjeto[[#This Row],[DATA]],DadosdeLinhadoTempodoProjeto[DATA],1),\"\")","v":""},{"$f":"IFERROR(IF(ISBLANK(INDEX(DetalhesDoProjeto[#Data],Última_entrada_do_projeto-Linha_de_início_do_projeto-DadosdeLinhadoTempodoProjeto[[#This Row],[NUM]]+1,1)),\"\",INDEX(DetalhesDoProjeto[#Data],Última_entrada_do_projeto-Linha_de_início_do_projeto-DadosdeLinhadoTempodoProjeto[[#This Row],[NUM]]+1,1)),\"\")","v":""},{"$f":"IFERROR(IF(ISBLANK(INDEX(DetalhesDoProjeto[#Data],Última_entrada_do_projeto-Linha_de_início_do_projeto-DadosdeLinhadoTempodoProjeto[[#This Row],[NUM]]+1,2)),\"\",INDEX(DetalhesDoProjeto[#Data],Última_entrada_do_projeto-Linha_de_início_do_projeto-DadosdeLinhadoTempodoProjeto[[#This Row],[NUM]]+1,2)),\"\")","v":""},{"$f":"IFERROR(IF(ISBLANK(INDEX(DetalhesDoProjeto[#Data],Última_entrada_do_projeto-Linha_de_início_do_projeto-DadosdeLinhadoTempodoProjeto[[#This Row],[NUM]]+1,3)),\"\",INDEX(DetalhesDoProjeto[#Data],Última_entrada_do_projeto-Linha_de_início_do_projeto-DadosdeLinhadoTempodoProjeto[[#This Row],[NUM]]+1,3)),\"\")","v":""},{"$f":"IFERROR(IF(ISBLANK(INDEX(DetalhesDoProjeto[#Data],ROW(A24)+1,1)),\"\",IF($J28-1<=-1,\"\",$J28-1)),\"\")","v":""},null,null,{"$f":"IFERROR(DadosdeLinhadoTempodoProjeto[[#This Row],[NUM]]+1,\"\")","v":""},{"$f":"IFERROR(VLOOKUP(LinhadoTempoClassificada[[#This Row],[POSIÇÃO classificada]],DadosdeLinhadoTempodoProjeto[],3,0),\"\")","v":""},{"$f":"IFERROR(VLOOKUP(LinhadoTempoClassificada[[#This Row],[POSIÇÃO classificada]],DadosdeLinhadoTempodoProjeto[],4,0),\"\")","v":""},{"$f":"IFERROR(VLOOKUP(LinhadoTempoClassificada[[#This Row],[POSIÇÃO classificada]],DadosdeLinhadoTempodoProjeto[],5,0),\"\")","v":""}]
[{"$nulls":4},{"$f":"IFERROR(RANK(F30,DadosdeLinhadoTempodoProjeto[CLASSIFICAÇÃO])+SUMPRODUCT(--(F30=DadosdeLinhadoTempodoProjeto[CLASSIFICAÇÃO]),--(J30<DadosdeLinhadoTempodoProjeto[NUM])),\"\")","v":""},{"$f":"IFERROR(RANK(DadosdeLinhadoTempodoProjeto[[#This Row],[DATA]],DadosdeLinhadoTempodoProjeto[DATA],1),\"\")","v":""},{"$f":"IFERROR(IF(ISBLANK(INDEX(DetalhesDoProjeto[#Data],Última_entrada_do_projeto-Linha_de_início_do_projeto-DadosdeLinhadoTempodoProjeto[[#This Row],[NUM]]+1,1)),\"\",INDEX(DetalhesDoProjeto[#Data],Última_entrada_do_projeto-Linha_de_início_do_projeto-DadosdeLinhadoTempodoProjeto[[#This Row],[NUM]]+1,1)),\"\")","v":""},{"$f":"IFERROR(IF(ISBLANK(INDEX(DetalhesDoProjeto[#Data],Última_entrada_do_projeto-Linha_de_início_do_projeto-DadosdeLinhadoTempodoProjeto[[#This Row],[NUM]]+1,2)),\"\",INDEX(DetalhesDoProjeto[#Data],Última_entrada_do_projeto-Linha_de_início_do_projeto-DadosdeLinhadoTempodoProjeto[[#This Row],[NUM]]+1,2)),\"\")","v":""},{"$f":"IFERROR(IF(ISBLANK(INDEX(DetalhesDoProjeto[#Data],Última_entrada_do_projeto-Linha_de_início_do_projeto-DadosdeLinhadoTempodoProjeto[[#This Row],[NUM]]+1,3)),\"\",INDEX(DetalhesDoProjeto[#Data],Última_entrada_do_projeto-Linha_de_início_do_projeto-DadosdeLinhadoTempodoProjeto[[#This Row],[NUM]]+1,3)),\"\")","v":""},{"$f":"IFERROR(IF(ISBLANK(INDEX(DetalhesDoProjeto[#Data],ROW(A25)+1,1)),\"\",IF($J29-1<=-1,\"\",$J29-1)),\"\")","v":""},null,null,{"$f":"IFERROR(DadosdeLinhadoTempodoProjeto[[#This Row],[NUM]]+1,\"\")","v":""},{"$f":"IFERROR(VLOOKUP(LinhadoTempoClassificada[[#This Row],[POSIÇÃO classificada]],DadosdeLinhadoTempodoProjeto[],3,0),\"\")","v":""},{"$f":"IFERROR(VLOOKUP(LinhadoTempoClassificada[[#This Row],[POSIÇÃO classificada]],DadosdeLinhadoTempodoProjeto[],4,0),\"\")","v":""},{"$f":"IFERROR(VLOOKUP(LinhadoTempoClassificada[[#This Row],[POSIÇÃO classificada]],DadosdeLinhadoTempodoProjeto[],5,0),\"\")","v":""}]
[{"$nulls":4},{"$f":"IFERROR(RANK(F31,DadosdeLinhadoTempodoProjeto[CLASSIFICAÇÃO])+SUMPRODUCT(--(F31=DadosdeLinhadoTempodoProjeto[CLASSIFICAÇÃO]),--(J31<DadosdeLinhadoTempodoProjeto[NUM])),\"\")","v":""},{"$f":"IFERROR(RANK(DadosdeLinhadoTempodoProjeto[[#This Row],[DATA]],DadosdeLinhadoTempodoProjeto[DATA],1),\"\")","v":""},{"$f":"IFERROR(IF(ISBLANK(INDEX(DetalhesDoProjeto[#Data],Última_entrada_do_projeto-Linha_de_início_do_projeto-DadosdeLinhadoTempodoProjeto[[#This Row],[NUM]]+1,1)),\"\",INDEX(DetalhesDoProjeto[#Data],Última_entrada_do_projeto-Linha_de_início_do_projeto-DadosdeLinhadoTempodoProjeto[[#This Row],[NUM]]+1,1)),\"\")","v":""},{"$f":"IFERROR(IF(ISBLANK(INDEX(DetalhesDoProjeto[#Data],Última_entrada_do_projeto-Linha_de_início_do_projeto-DadosdeLinhadoTempodoProjeto[[#This Row],[NUM]]+1,2)),\"\",INDEX(DetalhesDoProjeto[#Data],Última_entrada_do_projeto-Linha_de_início_do_projeto-DadosdeLinhadoTempodoProjeto[[#This Row],[NUM]]+1,2)),\"\")","v":""},{"$f":"IFERROR(IF(ISBLANK(INDEX(DetalhesDoProjeto[#Data],Última_entrada_do_projeto-Linha_de_início_do_projeto-DadosdeLinhadoTempodoProjeto[[#This Row],[NUM]]+1,3)),\"\",INDEX(DetalhesDoProjeto[#Data],Última_entrada_do_projeto-Linha_de_início_do_projeto-DadosdeLinhadoTempodoProjeto[[#This Row],[NUM]]+1,3)),\"\")","v":""},{"$f":"IFERROR(IF(ISBLANK(INDEX(DetalhesDoProjeto[#Data],ROW(A26)+1,1)),\"\",IF($J30-1<=-1,\"\",$J30-1)),\"\")","v":""},null,null,{"$f":"IFERROR(DadosdeLinhadoTempodoProjeto[[#This Row],[NUM]]+1,\"\")","v":""},{"$f":"IFERROR(VLOOKUP(LinhadoTempoClassificada[[#This Row],[POSIÇÃO classificada]],DadosdeLinhadoTempodoProjeto[],3,0),\"\")","v":""},{"$f":"IFERROR(VLOOKUP(LinhadoTempoClassificada[[#This Row],[POSIÇÃO classificada]],DadosdeLinhadoTempodoProjeto[],4,0),\"\")","v":""},{"$f":"IFERROR(VLOOKUP(LinhadoTempoClassificada[[#This Row],[POSIÇÃO classificada]],DadosdeLinhadoTempodoProjeto[],5,0),\"\")","v":""}]
[{"$nulls":4},{"$f":"IFERROR(RANK(F32,DadosdeLinhadoTempodoProjeto[CLASSIFICAÇÃO])+SUMPRODUCT(--(F32=DadosdeLinhadoTempodoProjeto[CLASSIFICAÇÃO]),--(J32<DadosdeLinhadoTempodoProjeto[NUM])),\"\")","v":""},{"$f":"IFERROR(RANK(DadosdeLinhadoTempodoProjeto[[#This Row],[DATA]],DadosdeLinhadoTempodoProjeto[DATA],1),\"\")","v":""},{"$f":"IFERROR(IF(ISBLANK(INDEX(DetalhesDoProjeto[#Data],Última_entrada_do_projeto-Linha_de_início_do_projeto-DadosdeLinhadoTempodoProjeto[[#This Row],[NUM]]+1,1)),\"\",INDEX(DetalhesDoProjeto[#Data],Última_entrada_do_projeto-Linha_de_início_do_projeto-DadosdeLinhadoTempodoProjeto[[#This Row],[NUM]]+1,1)),\"\")","v":""},{"$f":"IFERROR(IF(ISBLANK(INDEX(DetalhesDoProjeto[#Data],Última_entrada_do_projeto-Linha_de_início_do_projeto-DadosdeLinhadoTempodoProjeto[[#This Row],[NUM]]+1,2)),\"\",INDEX(DetalhesDoProjeto[#Data],Última_entrada_do_projeto-Linha_de_início_do_projeto-DadosdeLinhadoTempodoProjeto[[#This Row],[NUM]]+1,2)),\"\")","v":""},{"$f":"IFERROR(IF(ISBLANK(INDEX(DetalhesDoProjeto[#Data],Última_entrada_do_projeto-Linha_de_início_do_projeto-DadosdeLinhadoTempodoProjeto[[#This Row],[NUM]]+1,3)),\"\",INDEX(DetalhesDoProjeto[#Data],Última_entrada_do_projeto-Linha_de_início_do_projeto-DadosdeLinhadoTempodoProjeto[[#This Row],[NUM]]+1,3)),\"\")","v":""},{"$f":"IFERROR(IF(ISBLANK(INDEX(DetalhesDoProjeto[#Data],ROW(A27)+1,1)),\"\",IF($J31-1<=-1,\"\",$J31-1)),\"\")","v":""},null,null,{"$f":"IFERROR(DadosdeLinhadoTempodoProjeto[[#This Row],[NUM]]+1,\"\")","v":""},{"$f":"IFERROR(VLOOKUP(LinhadoTempoClassificada[[#This Row],[POSIÇÃO classificada]],DadosdeLinhadoTempodoProjeto[],3,0),\"\")","v":""},{"$f":"IFERROR(VLOOKUP(LinhadoTempoClassificada[[#This Row],[POSIÇÃO classificada]],DadosdeLinhadoTempodoProjeto[],4,0),\"\")","v":""},{"$f":"IFERROR(VLOOKUP(LinhadoTempoClassificada[[#This Row],[POSIÇÃO classificada]],DadosdeLinhadoTempodoProjeto[],5,0),\"\")","v":""}]
[{"$nulls":4},{"$f":"IFERROR(RANK(F33,DadosdeLinhadoTempodoProjeto[CLASSIFICAÇÃO])+SUMPRODUCT(--(F33=DadosdeLinhadoTempodoProjeto[CLASSIFICAÇÃO]),--(J33<DadosdeLinhadoTempodoProjeto[NUM])),\"\")","v":""},{"$f":"IFERROR(RANK(DadosdeLinhadoTempodoProjeto[[#This Row],[DATA]],DadosdeLinhadoTempodoProjeto[DATA],1),\"\")","v":""},{"$f":"IFERROR(IF(ISBLANK(INDEX(DetalhesDoProjeto[#Data],Última_entrada_do_projeto-Linha_de_início_do_projeto-DadosdeLinhadoTempodoProjeto[[#This Row],[NUM]]+1,1)),\"\",INDEX(DetalhesDoProjeto[#Data],Última_entrada_do_projeto-Linha_de_início_do_projeto-DadosdeLinhadoTempodoProjeto[[#This Row],[NUM]]+1,1)),\"\")","v":""},{"$f":"IFERROR(IF(ISBLANK(INDEX(DetalhesDoProjeto[#Data],Última_entrada_do_projeto-Linha_de_início_do_projeto-DadosdeLinhadoTempodoProjeto[[#This Row],[NUM]]+1,2)),\"\",INDEX(DetalhesDoProjeto[#Data],Última_entrada_do_projeto-Linha_de_início_do_projeto-DadosdeLinhadoTempodoProjeto[[#This Row],[NUM]]+1,2)),\"\")","v":""},{"$f":"IFERROR(IF(ISBLANK(INDEX(DetalhesDoProjeto[#Data],Última_entrada_do_projeto-Linha_de_início_do_projeto-DadosdeLinhadoTempodoProjeto[[#This Row],[NUM]]+1,3)),\"\",INDEX(DetalhesDoProjeto[#Data],Última_entrada_do_projeto-Linha_de_início_do_projeto-DadosdeLinhadoTempodoProjeto[[#This Row],[NUM]]+1,3)),\"\")","v":""},{"$f":"IFERROR(IF(ISBLANK(INDEX(DetalhesDoProjeto[#Data],ROW(A28)+1,1)),\"\",IF($J32-1<=-1,\"\",$J32-1)),\"\")","v":""},null,null,{"$f":"IFERROR(DadosdeLinhadoTempodoProjeto[[#This Row],[NUM]]+1,\"\")","v":""},{"$f":"IFERROR(VLOOKUP(LinhadoTempoClassificada[[#This Row],[POSIÇÃO classificada]],DadosdeLinhadoTempodoProjeto[],3,0),\"\")","v":""},{"$f":"IFERROR(VLOOKUP(LinhadoTempoClassificada[[#This Row],[POSIÇÃO classificada]],DadosdeLinhadoTempodoProjeto[],4,0),\"\")","v":""},{"$f":"IFERROR(VLOOKUP(LinhadoTempoClassificada[[#This Row],[POSIÇÃO classificada]],DadosdeLinhadoTempodoProjeto[],5,0),\"\")","v":""}]
[{"$nulls":4},{"$f":"IFERROR(RANK(F34,DadosdeLinhadoTempodoProjeto[CLASSIFICAÇÃO])+SUMPRODUCT(--(F34=DadosdeLinhadoTempodoProjeto[CLASSIFICAÇÃO]),--(J34<DadosdeLinhadoTempodoProjeto[NUM])),\"\")","v":""},{"$f":"IFERROR(RANK(DadosdeLinhadoTempodoProjeto[[#This Row],[DATA]],DadosdeLinhadoTempodoProjeto[DATA],1),\"\")","v":""},{"$f":"IFERROR(IF(ISBLANK(INDEX(DetalhesDoProjeto[#Data],Última_entrada_do_projeto-Linha_de_início_do_projeto-DadosdeLinhadoTempodoProjeto[[#This Row],[NUM]]+1,1)),\"\",INDEX(DetalhesDoProjeto[#Data],Última_entrada_do_projeto-Linha_de_início_do_projeto-DadosdeLinhadoTempodoProjeto[[#This Row],[NUM]]+1,1)),\"\")","v":""},{"$f":"IFERROR(IF(ISBLANK(INDEX(DetalhesDoProjeto[#Data],Última_entrada_do_projeto-Linha_de_início_do_projeto-DadosdeLinhadoTempodoProjeto[[#This Row],[NUM]]+1,2)),\"\",INDEX(DetalhesDoProjeto[#Data],Última_entrada_do_projeto-Linha_de_início_do_projeto-DadosdeLinhadoTempodoProjeto[[#This Row],[NUM]]+1,2)),\"\")","v":""},{"$f":"IFERROR(IF(ISBLANK(INDEX(DetalhesDoProjeto[#Data],Última_entrada_do_projeto-Linha_de_início_do_projeto-DadosdeLinhadoTempodoProjeto[[#This Row],[NUM]]+1,3)),\"\",INDEX(DetalhesDoProjeto[#Data],Última_entrada_do_projeto-Linha_de_início_do_projeto-DadosdeLinhadoTempodoProjeto[[#This Row],[NUM]]+1,3)),\"\")","v":""},{"$f":"IFERROR(IF(ISBLANK(INDEX(DetalhesDoProjeto[#Data],ROW(A29)+1,1)),\"\",IF($J33-1<=-1,\"\",$J33-1)),\"\")","v":""},null,null,{"$f":"IFERROR(DadosdeLinhadoTempodoProjeto[[#This Row],[NUM]]+1,\"\")","v":""},{"$f":"IFERROR(VLOOKUP(LinhadoTempoClassificada[[#This Row],[POSIÇÃO classificada]],DadosdeLinhadoTempodoProjeto[],3,0),\"\")","v":""},{"$f":"IFERROR(VLOOKUP(LinhadoTempoClassificada[[#This Row],[POSIÇÃO classificada]],DadosdeLinhadoTempodoProjeto[],4,0),\"\")","v":""},{"$f":"IFERROR(VLOOKUP(LinhadoTempoClassificada[[#This Row],[POSIÇÃO classificada]],DadosdeLinhadoTempodoProjeto[],5,0),\"\")","v":""}]
[{"$nulls":4},{"$f":"IFERROR(RANK(F35,DadosdeLinhadoTempodoProjeto[CLASSIFICAÇÃO])+SUMPRODUCT(--(F35=DadosdeLinhadoTempodoProjeto[CLASSIFICAÇÃO]),--(J35<DadosdeLinhadoTempodoProjeto[NUM])),\"\")","v":""},{"$f":"IFERROR(RANK(DadosdeLinhadoTempodoProjeto[[#This Row],[DATA]],DadosdeLinhadoTempodoProjeto[DATA],1),\"\")","v":""},{"$f":"IFERROR(IF(ISBLANK(INDEX(DetalhesDoProjeto[#Data],Última_entrada_do_projeto-Linha_de_início_do_projeto-DadosdeLinhadoTempodoProjeto[[#This Row],[NUM]]+1,1)),\"\",INDEX(DetalhesDoProjeto[#Data],Última_entrada_do_projeto-Linha_de_início_do_projeto-DadosdeLinhadoTempodoProjeto[[#This Row],[NUM]]+1,1)),\"\")","v":""},{"$f":"IFERROR(IF(ISBLANK(INDEX(DetalhesDoProjeto[#Data],Última_entrada_do_projeto-Linha_de_início_do_projeto-DadosdeLinhadoTempodoProjeto[[#This Row],[NUM]]+1,2)),\"\",INDEX(DetalhesDoProjeto[#Data],Última_entrada_do_projeto-Linha_de_início_do_projeto-DadosdeLinhadoTempodoProjeto[[#This Row],[NUM]]+1,2)),\"\")","v":""},{"$f":"IFERROR(IF(ISBLANK(INDEX(DetalhesDoProjeto[#Data],Última_entrada_do_projeto-Linha_de_início_do_projeto-DadosdeLinhadoTempodoProjeto[[#This Row],[NUM]]+1,3)),\"\",INDEX(DetalhesDoProjeto[#Data],Última_entrada_do_projeto-Linha_de_início_do_projeto-DadosdeLinhadoTempodoProjeto[[#This Row],[NUM]]+1,3)),\"\")","v":""},{"$f":"IFERROR(IF(ISBLANK(INDEX(DetalhesDoProjeto[#Data],ROW(A30)+1,1)),\"\",IF($J34-1<=-1,\"\",$J34-1)),\"\")","v":""},null,null,{"$f":"IFERROR(DadosdeLinhadoTempodoProjeto[[#This Row],[NUM]]+1,\"\")","v":""},{"$f":"IFERROR(VLOOKUP(LinhadoTempoClassificada[[#This Row],[POSIÇÃO classificada]],DadosdeLinhadoTempodoProjeto[],3,0),\"\")","v":""},{"$f":"IFERROR(VLOOKUP(LinhadoTempoClassificada[[#This Row],[POSIÇÃO classificada]],DadosdeLinhadoTempodoProjeto[],4,0),\"\")","v":""},{"$f":"IFERROR(VLOOKUP(LinhadoTempoClassificada[[#This Row],[POSIÇÃO classificada]],DadosdeLinhadoTempodoProjeto[],5,0),\"\")","v":""}]
[{"$nulls":4},{"$f":"IFERROR(RANK(F36,DadosdeLinhadoTempodoProjeto[CLASSIFICAÇÃO])+SUMPRODUCT(--(F36=DadosdeLinhadoTempodoProjeto[CLASSIFICAÇÃO]),--(J36<DadosdeLinhadoTempodoProjeto[NUM])),\"\")","v":""},{"$f":"IFERROR(RANK(DadosdeLinhadoTempodoProjeto[[#This Row],[DATA]],DadosdeLinhadoTempodoProjeto[DATA],1),\"\")","v":""},{"$f":"IFERROR(IF(ISBLANK(INDEX(DetalhesDoProjeto[#Data],Última_entrada_do_projeto-Linha_de_início_do_projeto-DadosdeLinhadoTempodoProjeto[[#This Row],[NUM]]+1,1)),\"\",INDEX(DetalhesDoProjeto[#Data],Última_entrada_do_projeto-Linha_de_início_do_projeto-DadosdeLinhadoTempodoProjeto[[#This Row],[NUM]]+1,1)),\"\")","v":""},{"$f":"IFERROR(IF(ISBLANK(INDEX(DetalhesDoProjeto[#Data],Última_entrada_do_projeto-Linha_de_início_do_projeto-DadosdeLinhadoTempodoProjeto[[#This Row],[NUM]]+1,2)),\"\",INDEX(DetalhesDoProjeto[#Data],Última_entrada_do_projeto-Linha_de_início_do_projeto-DadosdeLinhadoTempodoProjeto[[#This Row],[NUM]]+1,2)),\"\")","v":""},{"$f":"IFERROR(IF(ISBLANK(INDEX(DetalhesDoProjeto[#Data],Última_entrada_do_projeto-Linha_de_início_do_projeto-DadosdeLinhadoTempodoProjeto[[#This Row],[NUM]]+1,3)),\"\",INDEX(DetalhesDoProjeto[#Data],Última_entrada_do_projeto-Linha_de_início_do_projeto-DadosdeLinhadoTempodoProjeto[[#This Row],[NUM]]+1,3)),\"\")","v":""},{"$f":"IFERROR(IF(ISBLANK(INDEX(DetalhesDoProjeto[#Data],ROW(A31)+1,1)),\"\",IF($J35-1<=-1,\"\",$J35-1)),\"\")","v":""},null,null,{"$f":"IFERROR(DadosdeLinhadoTempodoProjeto[[#This Row],[NUM]]+1,\"\")","v":""},{"$f":"IFERROR(VLOOKUP(LinhadoTempoClassificada[[#This Row],[POSIÇÃO classificada]],DadosdeLinhadoTempodoProjeto[],3,0),\"\")","v":""},{"$f":"IFERROR(VLOOKUP(LinhadoTempoClassificada[[#This Row],[POSIÇÃO classificada]],DadosdeLinhadoTempodoProjeto[],4,0),\"\")","v":""},{"$f":"IFERROR(VLOOKUP(LinhadoTempoClassificada[[#This Row],[POSIÇÃO classificada]],DadosdeLinhadoTempodoProjeto[],5,0),\"\")","v":""}]
[{"$nulls":4},{"$f":"IFERROR(RANK(F37,DadosdeLinhadoTempodoProjeto[CLASSIFICAÇÃO])+SUMPRODUCT(--(F37=DadosdeLinhadoTempodoProjeto[CLASSIFICAÇÃO]),--(J37<DadosdeLinhadoTempodoProjeto[NUM])),\"\")","v":""},{"$f":"IFERROR(RANK(DadosdeLinhadoTempodoProjeto[[#This Row],[DATA]],DadosdeLinhadoTempodoProjeto[DATA],1),\"\")","v":""},{"$f":"IFERROR(IF(ISBLANK(INDEX(DetalhesDoProjeto[#Data],Última_entrada_do_projeto-Linha_de_início_do_projeto-DadosdeLinhadoTempodoProjeto[[#This Row],[NUM]]+1,1)),\"\",INDEX(DetalhesDoProjeto[#Data],Última_entrada_do_projeto-Linha_de_início_do_projeto-DadosdeLinhadoTempodoProjeto[[#This Row],[NUM]]+1,1)),\"\")","v":""},{"$f":"IFERROR(IF(ISBLANK(INDEX(DetalhesDoProjeto[#Data],Última_entrada_do_projeto-Linha_de_início_do_projeto-DadosdeLinhadoTempodoProjeto[[#This Row],[NUM]]+1,2)),\"\",INDEX(DetalhesDoProjeto[#Data],Última_entrada_do_projeto-Linha_de_início_do_projeto-DadosdeLinhadoTempodoProjeto[[#This Row],[NUM]]+1,2)),\"\")","v":""},{"$f":"IFERROR(IF(ISBLANK(INDEX(DetalhesDoProjeto[#Data],Última_entrada_do_projeto-Linha_de_início_do_projeto-DadosdeLinhadoTempodoProjeto[[#This Row],[NUM]]+1,3)),\"\",INDEX(DetalhesDoProjeto[#Data],Última_entrada_do_projeto-Linha_de_início_do_projeto-DadosdeLinhadoTempodoProjeto[[#This Row],[NUM]]+1,3)),\"\")","v":""},{"$f":"IFERROR(IF(ISBLANK(INDEX(DetalhesDoProjeto[#Data],ROW(A32)+1,1)),\"\",IF($J36-1<=-1,\"\",$J36-1)),\"\")","v":""},null,null,{"$f":"IFERROR(DadosdeLinhadoTempodoProjeto[[#This Row],[NUM]]+1,\"\")","v":""},{"$f":"IFERROR(VLOOKUP(LinhadoTempoClassificada[[#This Row],[POSIÇÃO classificada]],DadosdeLinhadoTempodoProjeto[],3,0),\"\")","v":""},{"$f":"IFERROR(VLOOKUP(LinhadoTempoClassificada[[#This Row],[POSIÇÃO classificada]],DadosdeLinhadoTempodoProjeto[],4,0),\"\")","v":""},{"$f":"IFERROR(VLOOKUP(LinhadoTempoClassificada[[#This Row],[POSIÇÃO classificada]],DadosdeLinhadoTempodoProjeto[],5,0),\"\")","v":""}]
[{"$nulls":4},{"$f":"IFERROR(RANK(F38,DadosdeLinhadoTempodoProjeto[CLASSIFICAÇÃO])+SUMPRODUCT(--(F38=DadosdeLinhadoTempodoProjeto[CLASSIFICAÇÃO]),--(J38<DadosdeLinhadoTempodoProjeto[NUM])),\"\")","v":""},{"$f":"IFERROR(RANK(DadosdeLinhadoTempodoProjeto[[#This Row],[DATA]],DadosdeLinhadoTempodoProjeto[DATA],1),\"\")","v":""},{"$f":"IFERROR(IF(ISBLANK(INDEX(DetalhesDoProjeto[#Data],Última_entrada_do_projeto-Linha_de_início_do_projeto-DadosdeLinhadoTempodoProjeto[[#This Row],[NUM]]+1,1)),\"\",INDEX(DetalhesDoProjeto[#Data],Última_entrada_do_projeto-Linha_de_início_do_projeto-DadosdeLinhadoTempodoProjeto[[#This Row],[NUM]]+1,1)),\"\")","v":""},{"$f":"IFERROR(IF(ISBLANK(INDEX(DetalhesDoProjeto[#Data],Última_entrada_do_projeto-Linha_de_início_do_projeto-DadosdeLinhadoTempodoProjeto[[#This Row],[NUM]]+1,2)),\"\",INDEX(DetalhesDoProjeto[#Data],Última_entrada_do_projeto-Linha_de_início_do_projeto-DadosdeLinhadoTempodoProjeto[[#This Row],[NUM]]+1,2)),\"\")","v":""},{"$f":"IFERROR(IF(ISBLANK(INDEX(DetalhesDoProjeto[#Data],Última_entrada_do_projeto-Linha_de_início_do_projeto-DadosdeLinhadoTempodoProjeto[[#This Row],[NUM]]+1,3)),\"\",INDEX(DetalhesDoProjeto[#Data],Última_entrada_do_projeto-Linha_de_início_do_projeto-DadosdeLinhadoTempodoProjeto[[#This Row],[NUM]]+1,3)),\"\")","v":""},{"$f":"IFERROR(IF(ISBLANK(INDEX(DetalhesDoProjeto[#Data],ROW(A33)+1,1)),\"\",IF($J37-1<=-1,\"\",$J37-1)),\"\")","v":""},null,null,{"$f":"IFERROR(DadosdeLinhadoTempodoProjeto[[#This Row],[NUM]]+1,\"\")","v":""},{"$f":"IFERROR(VLOOKUP(LinhadoTempoClassificada[[#This Row],[POSIÇÃO classificada]],DadosdeLinhadoTempodoProjeto[],3,0),\"\")","v":""},{"$f":"IFERROR(VLOOKUP(LinhadoTempoClassificada[[#This Row],[POSIÇÃO classificada]],DadosdeLinhadoTempodoProjeto[],4,0),\"\")","v":""},{"$f":"IFERROR(VLOOKUP(LinhadoTempoClassificada[[#This Row],[POSIÇÃO classificada]],DadosdeLinhadoTempodoProjeto[],5,0),\"\")","v":""}]
[{"$nulls":4},{"$f":"IFERROR(RANK(F39,DadosdeLinhadoTempodoProjeto[CLASSIFICAÇÃO])+SUMPRODUCT(--(F39=DadosdeLinhadoTempodoProjeto[CLASSIFICAÇÃO]),--(J39<DadosdeLinhadoTempodoProjeto[NUM])),\"\")","v":""},{"$f":"IFERROR(RANK(DadosdeLinhadoTempodoProjeto[[#This Row],[DATA]],DadosdeLinhadoTempodoProjeto[DATA],1),\"\")","v":""},{"$f":"IFERROR(IF(ISBLANK(INDEX(DetalhesDoProjeto[#Data],Última_entrada_do_projeto-Linha_de_início_do_projeto-DadosdeLinhadoTempodoProjeto[[#This Row],[NUM]]+1,1)),\"\",INDEX(DetalhesDoProjeto[#Data],Última_entrada_do_projeto-Linha_de_início_do_projeto-DadosdeLinhadoTempodoProjeto[[#This Row],[NUM]]+1,1)),\"\")","v":""},{"$f":"IFERROR(IF(ISBLANK(INDEX(DetalhesDoProjeto[#Data],Última_entrada_do_projeto-Linha_de_início_do_projeto-DadosdeLinhadoTempodoProjeto[[#This Row],[NUM]]+1,2)),\"\",INDEX(DetalhesDoProjeto[#Data],Última_entrada_do_projeto-Linha_de_início_do_projeto-DadosdeLinhadoTempodoProjeto[[#This Row],[NUM]]+1,2)),\"\")","v":""},{"$f":"IFERROR(IF(ISBLANK(INDEX(DetalhesDoProjeto[#Data],Última_entrada_do_projeto-Linha_de_início_do_projeto-DadosdeLinhadoTempodoProjeto[[#This Row],[NUM]]+1,3)),\"\",INDEX(DetalhesDoProjeto[#Data],Última_entrada_do_projeto-Linha_de_início_do_projeto-DadosdeLinhadoTempodoProjeto[[#This Row],[NUM]]+1,3)),\"\")","v":""},{"$f":"IFERROR(IF(ISBLANK(INDEX(DetalhesDoProjeto[#Data],ROW(A34)+1,1)),\"\",IF($J38-1<=-1,\"\",$J38-1)),\"\")","v":""},null,null,{"$f":"IFERROR(DadosdeLinhadoTempodoProjeto[[#This Row],[NUM]]+1,\"\")","v":""},{"$f":"IFERROR(VLOOKUP(LinhadoTempoClassificada[[#This Row],[POSIÇÃO classificada]],DadosdeLinhadoTempodoProjeto[],3,0),\"\")","v":""},{"$f":"IFERROR(VLOOKUP(LinhadoTempoClassificada[[#This Row],[POSIÇÃO classificada]],DadosdeLinhadoTempodoProjeto[],4,0),\"\")","v":""},{"$f":"IFERROR(VLOOKUP(LinhadoTempoClassificada[[#This Row],[POSIÇÃO classificada]],DadosdeLinhadoTempodoProjeto[],5,0),\"\")","v":""}]
[{"$nulls":4},{"$f":"IFERROR(RANK(F40,DadosdeLinhadoTempodoProjeto[CLASSIFICAÇÃO])+SUMPRODUCT(--(F40=DadosdeLinhadoTempodoProjeto[CLASSIFICAÇÃO]),--(J40<DadosdeLinhadoTempodoProjeto[NUM])),\"\")","v":""},{"$f":"IFERROR(RANK(DadosdeLinhadoTempodoProjeto[[#This Row],[DATA]],DadosdeLinhadoTempodoProjeto[DATA],1),\"\")","v":""},{"$f":"IFERROR(IF(ISBLANK(INDEX(DetalhesDoProjeto[#Data],Última_entrada_do_projeto-Linha_de_início_do_projeto-DadosdeLinhadoTempodoProjeto[[#This Row],[NUM]]+1,1)),\"\",INDEX(DetalhesDoProjeto[#Data],Última_entrada_do_projeto-Linha_de_início_do_projeto-DadosdeLinhadoTempodoProjeto[[#This Row],[NUM]]+1,1)),\"\")","v":""},{"$f":"IFERROR(IF(ISBLANK(INDEX(DetalhesDoProjeto[#Data],Última_entrada_do_projeto-Linha_de_início_do_projeto-DadosdeLinhadoTempodoProjeto[[#This Row],[NUM]]+1,2)),\"\",INDEX(DetalhesDoProjeto[#Data],Última_entrada_do_projeto-Linha_de_início_do_projeto-DadosdeLinhadoTempodoProjeto[[#This Row],[NUM]]+1,2)),\"\")","v":""},{"$f":"IFERROR(IF(ISBLANK(INDEX(DetalhesDoProjeto[#Data],Última_entrada_do_projeto-Linha_de_início_do_projeto-DadosdeLinhadoTempodoProjeto[[#This Row],[NUM]]+1,3)),\"\",INDEX(DetalhesDoProjeto[#Data],Última_entrada_do_projeto-Linha_de_início_do_projeto-DadosdeLinhadoTempodoProjeto[[#This Row],[NUM]]+1,3)),\"\")","v":""},{"$f":"IFERROR(IF(ISBLANK(INDEX(DetalhesDoProjeto[#Data],ROW(A35)+1,1)),\"\",IF($J39-1<=-1,\"\",$J39-1)),\"\")","v":""},null,null,{"$f":"IFERROR(DadosdeLinhadoTempodoProjeto[[#This Row],[NUM]]+1,\"\")","v":""},{"$f":"IFERROR(VLOOKUP(LinhadoTempoClassificada[[#This Row],[POSIÇÃO classificada]],DadosdeLinhadoTempodoProjeto[],3,0),\"\")","v":""},{"$f":"IFERROR(VLOOKUP(LinhadoTempoClassificada[[#This Row],[POSIÇÃO classificada]],DadosdeLinhadoTempodoProjeto[],4,0),\"\")","v":""},{"$f":"IFERROR(VLOOKUP(LinhadoTempoClassificada[[#This Row],[POSIÇÃO classificada]],DadosdeLinhadoTempodoProjeto[],5,0),\"\")","v":""}]
[{"$nulls":4},{"$f":"IFERROR(RANK(F41,DadosdeLinhadoTempodoProjeto[CLASSIFICAÇÃO])+SUMPRODUCT(--(F41=DadosdeLinhadoTempodoProjeto[CLASSIFICAÇÃO]),--(J41<DadosdeLinhadoTempodoProjeto[NUM])),\"\")","v":""},{"$f":"IFERROR(RANK(DadosdeLinhadoTempodoProjeto[[#This Row],[DATA]],DadosdeLinhadoTempodoProjeto[DATA],1),\"\")","v":""},{"$f":"IFERROR(IF(ISBLANK(INDEX(DetalhesDoProjeto[#Data],Última_entrada_do_projeto-Linha_de_início_do_projeto-DadosdeLinhadoTempodoProjeto[[#This Row],[NUM]]+1,1)),\"\",INDEX(DetalhesDoProjeto[#Data],Última_entrada_do_projeto-Linha_de_início_do_projeto-DadosdeLinhadoTempodoProjeto[[#This Row],[NUM]]+1,1)),\"\")","v":""},{"$f":"IFERROR(IF(ISBLANK(INDEX(DetalhesDoProjeto[#Data],Última_entrada_do_projeto-Linha_de_início_do_projeto-DadosdeLinhadoTempodoProjeto[[#This Row],[NUM]]+1,2)),\"\",INDEX(DetalhesDoProjeto[#Data],Última_entrada_do_projeto-Linha_de_início_do_projeto-DadosdeLinhadoTempodoProjeto[[#This Row],[NUM]]+1,2)),\"\")","v":""},{"$f":"IFERROR(IF(ISBLANK(INDEX(DetalhesDoProjeto[#Data],Última_entrada_do_projeto-Linha_de_início_do_projeto-DadosdeLinhadoTempodoProjeto[[#This Row],[NUM]]+1,3)),\"\",INDEX(DetalhesDoProjeto[#Data],Última_entrada_do_projeto-Linha_de_início_do_projeto-DadosdeLinhadoTempodoProjeto[[#This Row],[NUM]]+1,3)),\"\")","v":""},{"$f":"IFERROR(IF(ISBLANK(INDEX(DetalhesDoProjeto[#Data],ROW(A36)+1,1)),\"\",IF($J40-1<=-1,\"\",$J40-1)),\"\")","v":""},null,null,{"$f":"IFERROR(DadosdeLinhadoTempodoProjeto[[#This Row],[NUM]]+1,\"\")","v":""},{"$f":"IFERROR(VLOOKUP(LinhadoTempoClassificada[[#This Row],[POSIÇÃO classificada]],DadosdeLinhadoTempodoProjeto[],3,0),\"\")","v":""},{"$f":"IFERROR(VLOOKUP(LinhadoTempoClassificada[[#This Row],[POSIÇÃO classificada]],DadosdeLinhadoTempodoProjeto[],4,0),\"\")","v":""},{"$f":"IFERROR(VLOOKUP(LinhadoTempoClassificada[[#This Row],[POSIÇÃO classificada]],DadosdeLinhadoTempodoProjeto[],5,0),\"\")","v":""}]
[{"$nulls":4},{"$f":"IFERROR(RANK(F42,DadosdeLinhadoTempodoProjeto[CLASSIFICAÇÃO])+SUMPRODUCT(--(F42=DadosdeLinhadoTempodoProjeto[CLASSIFICAÇÃO]),--(J42<DadosdeLinhadoTempodoProjeto[NUM])),\"\")","v":""},{"$f":"IFERROR(RANK(DadosdeLinhadoTempodoProjeto[[#This Row],[DATA]],DadosdeLinhadoTempodoProjeto[DATA],1),\"\")","v":""},{"$f":"IFERROR(IF(ISBLANK(INDEX(DetalhesDoProjeto[#Data],Última_entrada_do_projeto-Linha_de_início_do_projeto-DadosdeLinhadoTempodoProjeto[[#This Row],[NUM]]+1,1)),\"\",INDEX(DetalhesDoProjeto[#Data],Última_entrada_do_projeto-Linha_de_início_do_projeto-DadosdeLinhadoTempodoProjeto[[#This Row],[NUM]]+1,1)),\"\")","v":""},{"$f":"IFERROR(IF(ISBLANK(INDEX(DetalhesDoProjeto[#Data],Última_entrada_do_projeto-Linha_de_início_do_projeto-DadosdeLinhadoTempodoProjeto[[#This Row],[NUM]]+1,2)),\"\",INDEX(DetalhesDoProjeto[#Data],Última_entrada_do_projeto-Linha_de_início_do_projeto-DadosdeLinhadoTempodoProjeto[[#This Row],[NUM]]+1,2)),\"\")","v":""},{"$f":"IFERROR(IF(ISBLANK(INDEX(DetalhesDoProjeto[#Data],Última_entrada_do_projeto-Linha_de_início_do_projeto-DadosdeLinhadoTempodoProjeto[[#This Row],[NUM]]+1,3)),\"\",INDEX(DetalhesDoProjeto[#Data],Última_entrada_do_projeto-Linha_de_início_do_projeto-DadosdeLinhadoTempodoProjeto[[#This Row],[NUM]]+1,3)),\"\")","v":""},{"$f":"IFERROR(IF(ISBLANK(INDEX(DetalhesDoProjeto[#Data],ROW(A37)+1,1)),\"\",IF($J41-1<=-1,\"\",$J41-1)),\"\")","v":""},null,null,{"$f":"IFERROR(DadosdeLinhadoTempodoProjeto[[#This Row],[NUM]]+1,\"\")","v":""},{"$f":"IFERROR(VLOOKUP(LinhadoTempoClassificada[[#This Row],[POSIÇÃO classificada]],DadosdeLinhadoTempodoProjeto[],3,0),\"\")","v":""},{"$f":"IFERROR(VLOOKUP(LinhadoTempoClassificada[[#This Row],[POSIÇÃO classificada]],DadosdeLinhadoTempodoProjeto[],4,0),\"\")","v":""},{"$f":"IFERROR(VLOOKUP(LinhadoTempoClassificada[[#This Row],[POSIÇÃO classificada]],DadosdeLinhadoTempodoProjeto[],5,0),\"\")","v":""}]
[{"$nulls":4},{"$f":"IFERROR(RANK(F43,DadosdeLinhadoTempodoProjeto[CLASSIFICAÇÃO])+SUMPRODUCT(--(F43=DadosdeLinhadoTempodoProjeto[CLASSIFICAÇÃO]),--(J43<DadosdeLinhadoTempodoProjeto[NUM])),\"\")","v":""},{"$f":"IFERROR(RANK(DadosdeLinhadoTempodoProjeto[[#This Row],[DATA]],DadosdeLinhadoTempodoProjeto[DATA],1),\"\")","v":""},{"$f":"IFERROR(IF(ISBLANK(INDEX(DetalhesDoProjeto[#Data],Última_entrada_do_projeto-Linha_de_início_do_projeto-DadosdeLinhadoTempodoProjeto[[#This Row],[NUM]]+1,1)),\"\",INDEX(DetalhesDoProjeto[#Data],Última_entrada_do_projeto-Linha_de_início_do_projeto-DadosdeLinhadoTempodoProjeto[[#This Row],[NUM]]+1,1)),\"\")","v":""},{"$f":"IFERROR(IF(ISBLANK(INDEX(DetalhesDoProjeto[#Data],Última_entrada_do_projeto-Linha_de_início_do_projeto-DadosdeLinhadoTempodoProjeto[[#This Row],[NUM]]+1,2)),\"\",INDEX(DetalhesDoProjeto[#Data],Última_entrada_do_projeto-Linha_de_início_do_projeto-DadosdeLinhadoTempodoProjeto[[#This Row],[NUM]]+1,2)),\"\")","v":""},{"$f":"IFERROR(IF(ISBLANK(INDEX(DetalhesDoProjeto[#Data],Última_entrada_do_projeto-Linha_de_início_do_projeto-DadosdeLinhadoTempodoProjeto[[#This Row],[NUM]]+1,3)),\"\",INDEX(DetalhesDoProjeto[#Data],Última_entrada_do_projeto-Linha_de_início_do_projeto-DadosdeLinhadoTempodoProjeto[[#This Row],[NUM]]+1,3)),\"\")","v":""},{"$f":"IFERROR(IF(ISBLANK(INDEX(DetalhesDoProjeto[#Data],ROW(A38)+1,1)),\"\",IF($J42-1<=-1,\"\",$J42-1)),\"\")","v":""},null,null,{"$f":"IFERROR(DadosdeLinhadoTempodoProjeto[[#This Row],[NUM]]+1,\"\")","v":""},{"$f":"IFERROR(VLOOKUP(LinhadoTempoClassificada[[#This Row],[POSIÇÃO classificada]],DadosdeLinhadoTempodoProjeto[],3,0),\"\")","v":""},{"$f":"IFERROR(VLOOKUP(LinhadoTempoClassificada[[#This Row],[POSIÇÃO classificada]],DadosdeLinhadoTempodoProjeto[],4,0),\"\")","v":""},{"$f":"IFERROR(VLOOKUP(LinhadoTempoClassificada[[#This Row],[POSIÇÃO classificada]],DadosdeLinhadoTempodoProjeto[],5,0),\"\")","v":""}]
[{"$nulls":4},{"$f":"IFERROR(RANK(F44,DadosdeLinhadoTempodoProjeto[CLASSIFICAÇÃO])+SUMPRODUCT(--(F44=DadosdeLinhadoTempodoProjeto[CLASSIFICAÇÃO]),--(J44<DadosdeLinhadoTempodoProjeto[NUM])),\"\")","v":""},{"$f":"IFERROR(RANK(DadosdeLinhadoTempodoProjeto[[#This Row],[DATA]],DadosdeLinhadoTempodoProjeto[DATA],1),\"\")","v":""},{"$f":"IFERROR(IF(ISBLANK(INDEX(DetalhesDoProjeto[#Data],Última_entrada_do_projeto-Linha_de_início_do_projeto-DadosdeLinhadoTempodoProjeto[[#This Row],[NUM]]+1,1)),\"\",INDEX(DetalhesDoProjeto[#Data],Última_entrada_do_projeto-Linha_de_início_do_projeto-DadosdeLinhadoTempodoProjeto[[#This Row],[NUM]]+1,1)),\"\")","v":""},{"$f":"IFERROR(IF(ISBLANK(INDEX(DetalhesDoProjeto[#Data],Última_entrada_do_projeto-Linha_de_início_do_projeto-DadosdeLinhadoTempodoProjeto[[#This Row],[NUM]]+1,2)),\"\",INDEX(DetalhesDoProjeto[#Data],Última_entrada_do_projeto-Linha_de_início_do_projeto-DadosdeLinhadoTempodoProjeto[[#This Row],[NUM]]+1,2)),\"\")","v":""},{"$f":"IFERROR(IF(ISBLANK(INDEX(DetalhesDoProjeto[#Data],Última_entrada_do_projeto-Linha_de_início_do_projeto-DadosdeLinhadoTempodoProjeto[[#This Row],[NUM]]+1,3)),\"\",INDEX(DetalhesDoProjeto[#Data],Última_entrada_do_projeto-Linha_de_início_do_projeto-DadosdeLinhadoTempodoProjeto[[#This Row],[NUM]]+1,3)),\"\")","v":""},{"$f":"IFERROR(IF(ISBLANK(INDEX(DetalhesDoProjeto[#Data],ROW(A39)+1,1)),\"\",IF($J43-1<=-1,\"\",$J43-1)),\"\")","v":""},null,null,{"$f":"IFERROR(DadosdeLinhadoTempodoProjeto[[#This Row],[NUM]]+1,\"\")","v":""},{"$f":"IFERROR(VLOOKUP(LinhadoTempoClassificada[[#This Row],[POSIÇÃO classificada]],DadosdeLinhadoTempodoProjeto[],3,0),\"\")","v":""},{"$f":"IFERROR(VLOOKUP(LinhadoTempoClassificada[[#This Row],[POSIÇÃO classificada]],DadosdeLinhadoTempodoProjeto[],4,0),\"\")","v":""},{"$f":"IFERROR(VLOOKUP(LinhadoTempoClassificada[[#This Row],[POSIÇÃO classificada]],DadosdeLinhadoTempodoProjeto[],5,0),\"\")","v":""}]
[{"$nulls":4},{"$f":"IFERROR(RANK(F45,DadosdeLinhadoTempodoProjeto[CLASSIFICAÇÃO])+SUMPRODUCT(--(F45=DadosdeLinhadoTempodoProjeto[CLASSIFICAÇÃO]),--(J45<DadosdeLinhadoTempodoProjeto[NUM])),\"\")","v":""},{"$f":"IFERROR(RANK(DadosdeLinhadoTempodoProjeto[[#This Row],[DATA]],DadosdeLinhadoTempodoProjeto[DATA],1),\"\")","v":""},{"$f":"IFERROR(IF(ISBLANK(INDEX(DetalhesDoProjeto[#Data],Última_entrada_do_projeto-Linha_de_início_do_projeto-DadosdeLinhadoTempodoProjeto[[#This Row],[NUM]]+1,1)),\"\",INDEX(DetalhesDoProjeto[#Data],Última_entrada_do_projeto-Linha_de_início_do_projeto-DadosdeLinhadoTempodoProjeto[[#This Row],[NUM]]+1,1)),\"\")","v":""},{"$f":"IFERROR(IF(ISBLANK(INDEX(DetalhesDoProjeto[#Data],Última_entrada_do_projeto-Linha_de_início_do_projeto-DadosdeLinhadoTempodoProjeto[[#This Row],[NUM]]+1,2)),\"\",INDEX(DetalhesDoProjeto[#Data],Última_entrada_do_projeto-Linha_de_início_do_projeto-DadosdeLinhadoTempodoProjeto[[#This Row],[NUM]]+1,2)),\"\")","v":""},{"$f":"IFERROR(IF(ISBLANK(INDEX(DetalhesDoProjeto[#Data],Última_entrada_do_projeto-Linha_de_início_do_projeto-DadosdeLinhadoTempodoProjeto[[#This Row],[NUM]]+1,3)),\"\",INDEX(DetalhesDoProjeto[#Data],Última_entrada_do_projeto-Linha_de_início_do_projeto-DadosdeLinhadoTempodoProjeto[[#This Row],[NUM]]+1,3)),\"\")","v":""},{"$f":"IFERROR(IF(ISBLANK(INDEX(DetalhesDoProjeto[#Data],ROW(A40)+1,1)),\"\",IF($J44-1<=-1,\"\",$J44-1)),\"\")","v":""},null,null,{"$f":"IFERROR(DadosdeLinhadoTempodoProjeto[[#This Row],[NUM]]+1,\"\")","v":""},{"$f":"IFERROR(VLOOKUP(LinhadoTempoClassificada[[#This Row],[POSIÇÃO classificada]],DadosdeLinhadoTempodoProjeto[],3,0),\"\")","v":""},{"$f":"IFERROR(VLOOKUP(LinhadoTempoClassificada[[#This Row],[POSIÇÃO classificada]],DadosdeLinhadoTempodoProjeto[],4,0),\"\")","v":""},{"$f":"IFERROR(VLOOKUP(LinhadoTempoClassificada[[#This Row],[POSIÇÃO classificada]],DadosdeLinhadoTempodoProjeto[],5,0),\"\")","v":""}]
[{"$nulls":4},{"$f":"IFERROR(RANK(F46,DadosdeLinhadoTempodoProjeto[CLASSIFICAÇÃO])+SUMPRODUCT(--(F46=DadosdeLinhadoTempodoProjeto[CLASSIFICAÇÃO]),--(J46<DadosdeLinhadoTempodoProjeto[NUM])),\"\")","v":""},{"$f":"IFERROR(RANK(DadosdeLinhadoTempodoProjeto[[#This Row],[DATA]],DadosdeLinhadoTempodoProjeto[DATA],1),\"\")","v":""},{"$f":"IFERROR(IF(ISBLANK(INDEX(DetalhesDoProjeto[#Data],Última_entrada_do_projeto-Linha_de_início_do_projeto-DadosdeLinhadoTempodoProjeto[[#This Row],[NUM]]+1,1)),\"\",INDEX(DetalhesDoProjeto[#Data],Última_entrada_do_projeto-Linha_de_início_do_projeto-DadosdeLinhadoTempodoProjeto[[#This Row],[NUM]]+1,1)),\"\")","v":""},{"$f":"IFERROR(IF(ISBLANK(INDEX(DetalhesDoProjeto[#Data],Última_entrada_do_projeto-Linha_de_início_do_projeto-DadosdeLinhadoTempodoProjeto[[#This Row],[NUM]]+1,2)),\"\",INDEX(DetalhesDoProjeto[#Data],Última_entrada_do_projeto-Linha_de_início_do_projeto-DadosdeLinhadoTempodoProjeto[[#This Row],[NUM]]+1,2)),\"\")","v":""},{"$f":"IFERROR(IF(ISBLANK(INDEX(DetalhesDoProjeto[#Data],Última_entrada_do_projeto-Linha_de_início_do_projeto-DadosdeLinhadoTempodoProjeto[[#This Row],[NUM]]+1,3)),\"\",INDEX(DetalhesDoProjeto[#Data],Última_entrada_do_projeto-Linha_de_início_do_projeto-DadosdeLinhadoTempodoProjeto[[#This Row],[NUM]]+1,3)),\"\")","v":""},{"$f":"IFERROR(IF(ISBLANK(INDEX(DetalhesDoProjeto[#Data],ROW(A41)+1,1)),\"\",IF($J45-1<=-1,\"\",$J45-1)),\"\")","v":""},null,null,{"$f":"IFERROR(DadosdeLinhadoTempodoProjeto[[#This Row],[NUM]]+1,\"\")","v":""},{"$f":"IFERROR(VLOOKUP(LinhadoTempoClassificada[[#This Row],[POSIÇÃO classificada]],DadosdeLinhadoTempodoProjeto[],3,0),\"\")","v":""},{"$f":"IFERROR(VLOOKUP(LinhadoTempoClassificada[[#This Row],[POSIÇÃO classificada]],DadosdeLinhadoTempodoProjeto[],4,0),\"\")","v":""},{"$f":"IFERROR(VLOOKUP(LinhadoTempoClassificada[[#This Row],[POSIÇÃO classificada]],DadosdeLinhadoTempodoProjeto[],5,0),\"\")","v":""}]
[{"$nulls":4},{"$f":"IFERROR(RANK(F47,DadosdeLinhadoTempodoProjeto[CLASSIFICAÇÃO])+SUMPRODUCT(--(F47=DadosdeLinhadoTempodoProjeto[CLASSIFICAÇÃO]),--(J47<DadosdeLinhadoTempodoProjeto[NUM])),\"\")","v":""},{"$f":"IFERROR(RANK(DadosdeLinhadoTempodoProjeto[[#This Row],[DATA]],DadosdeLinhadoTempodoProjeto[DATA],1),\"\")","v":""},{"$f":"IFERROR(IF(ISBLANK(INDEX(DetalhesDoProjeto[#Data],Última_entrada_do_projeto-Linha_de_início_do_projeto-DadosdeLinhadoTempodoProjeto[[#This Row],[NUM]]+1,1)),\"\",INDEX(DetalhesDoProjeto[#Data],Última_entrada_do_projeto-Linha_de_início_do_projeto-DadosdeLinhadoTempodoProjeto[[#This Row],[NUM]]+1,1)),\"\")","v":""},{"$f":"IFERROR(IF(ISBLANK(INDEX(DetalhesDoProjeto[#Data],Última_entrada_do_projeto-Linha_de_início_do_projeto-DadosdeLinhadoTempodoProjeto[[#This Row],[NUM]]+1,2)),\"\",INDEX(DetalhesDoProjeto[#Data],Última_entrada_do_projeto-Linha_de_início_do_projeto-DadosdeLinhadoTempodoProjeto[[#This Row],[NUM]]+1,2)),\"\")","v":""},{"$f":"IFERROR(IF(ISBLANK(INDEX(DetalhesDoProjeto[#Data],Última_entrada_do_projeto-Linha_de_início_do_projeto-DadosdeLinhadoTempodoProjeto[[#This Row],[NUM]]+1,3)),\"\",INDEX(DetalhesDoProjeto[#Data],Última_entrada_do_projeto-Linha_de_início_do_projeto-DadosdeLinhadoTempodoProjeto[[#This Row],[NUM]]+1,3)),\"\")","v":""},{"$f":"IFERROR(IF(ISBLANK(INDEX(DetalhesDoProjeto[#Data],ROW(A42)+1,1)),\"\",IF($J46-1<=-1,\"\",$J46-1)),\"\")","v":""},null,null,{"$f":"IFERROR(DadosdeLinhadoTempodoProjeto[[#This Row],[NUM]]+1,\"\")","v":""},{"$f":"IFERROR(VLOOKUP(LinhadoTempoClassificada[[#This Row],[POSIÇÃO classificada]],DadosdeLinhadoTempodoProjeto[],3,0),\"\")","v":""},{"$f":"IFERROR(VLOOKUP(LinhadoTempoClassificada[[#This Row],[POSIÇÃO classificada]],DadosdeLinhadoTempodoProjeto[],4,0),\"\")","v":""},{"$f":"IFERROR(VLOOKUP(LinhadoTempoClassificada[[#This Row],[POSIÇÃO classificada]],DadosdeLinhadoTempodoProjeto[],5,0),\"\")","v":""}]
[{"$nulls":4},{"$f":"IFERROR(RANK(F48,DadosdeLinhadoTempodoProjeto[CLASSIFICAÇÃO])+SUMPRODUCT(--(F48=DadosdeLinhadoTempodoProjeto[CLASSIFICAÇÃO]),--(J48<DadosdeLinhadoTempodoProjeto[NUM])),\"\")","v":""},{"$f":"IFERROR(RANK(DadosdeLinhadoTempodoProjeto[[#This Row],[DATA]],DadosdeLinhadoTempodoProjeto[DATA],1),\"\")","v":""},{"$f":"IFERROR(IF(ISBLANK(INDEX(DetalhesDoProjeto[#Data],Última_entrada_do_projeto-Linha_de_início_do_projeto-DadosdeLinhadoTempodoProjeto[[#This Row],[NUM]]+1,1)),\"\",INDEX(DetalhesDoProjeto[#Data],Última_entrada_do_projeto-Linha_de_início_do_projeto-DadosdeLinhadoTempodoProjeto[[#This Row],[NUM]]+1,1)),\"\")","v":""},{"$f":"IFERROR(IF(ISBLANK(INDEX(DetalhesDoProjeto[#Data],Última_entrada_do_projeto-Linha_de_início_do_projeto-DadosdeLinhadoTempodoProjeto[[#This Row],[NUM]]+1,2)),\"\",INDEX(DetalhesDoProjeto[#Data],Última_entrada_do_projeto-Linha_de_início_do_projeto-DadosdeLinhadoTempodoProjeto[[#This Row],[NUM]]+1,2)),\"\")","v":""},{"$f":"IFERROR(IF(ISBLANK(INDEX(DetalhesDoProjeto[#Data],Última_entrada_do_projeto-Linha_de_início_do_projeto-DadosdeLinhadoTempodoProjeto[[#This Row],[NUM]]+1,3)),\"\",INDEX(DetalhesDoProjeto[#Data],Última_entrada_do_projeto-Linha_de_início_do_projeto-DadosdeLinhadoTempodoProjeto[[#This Row],[NUM]]+1,3)),\"\")","v":""},{"$f":"IFERROR(IF(ISBLANK(INDEX(DetalhesDoProjeto[#Data],ROW(A43)+1,1)),\"\",IF($J47-1<=-1,\"\",$J47-1)),\"\")","v":""},null,null,{"$f":"IFERROR(DadosdeLinhadoTempodoProjeto[[#This Row],[NUM]]+1,\"\")","v":""},{"$f":"IFERROR(VLOOKUP(LinhadoTempoClassificada[[#This Row],[POSIÇÃO classificada]],DadosdeLinhadoTempodoProjeto[],3,0),\"\")","v":""},{"$f":"IFERROR(VLOOKUP(LinhadoTempoClassificada[[#This Row],[POSIÇÃO classificada]],DadosdeLinhadoTempodoProjeto[],4,0),\"\")","v":""},{"$f":"IFERROR(VLOOKUP(LinhadoTempoClassificada[[#This Row],[POSIÇÃO classificada]],DadosdeLinhadoTempodoProjeto[],5,0),\"\")","v":""}]
[{"$nulls":4},{"$f":"IFERROR(RANK(F49,DadosdeLinhadoTempodoProjeto[CLASSIFICAÇÃO])+SUMPRODUCT(--(F49=DadosdeLinhadoTempodoProjeto[CLASSIFICAÇÃO]),--(J49<DadosdeLinhadoTempodoProjeto[NUM])),\"\")","v":""},{"$f":"IFERROR(RANK(DadosdeLinhadoTempodoProjeto[[#This Row],[DATA]],DadosdeLinhadoTempodoProjeto[DATA],1),\"\")","v":""},{"$f":"IFERROR(IF(ISBLANK(INDEX(DetalhesDoProjeto[#Data],Última_entrada_do_projeto-Linha_de_início_do_projeto-DadosdeLinhadoTempodoProjeto[[#This Row],[NUM]]+1,1)),\"\",INDEX(DetalhesDoProjeto[#Data],Última_entrada_do_projeto-Linha_de_início_do_projeto-DadosdeLinhadoTempodoProjeto[[#This Row],[NUM]]+1,1)),\"\")","v":""},{"$f":"IFERROR(IF(ISBLANK(INDEX(DetalhesDoProjeto[#Data],Última_entrada_do_projeto-Linha_de_início_do_projeto-DadosdeLinhadoTempodoProjeto[[#This Row],[NUM]]+1,2)),\"\",INDEX(DetalhesDoProjeto[#Data],Última_entrada_do_projeto-Linha_de_início_do_projeto-DadosdeLinhadoTempodoProjeto[[#This Row],[NUM]]+1,2)),\"\")","v":""},{"$f":"IFERROR(IF(ISBLANK(INDEX(DetalhesDoProjeto[#Data],Última_entrada_do_projeto-Linha_de_início_do_projeto-DadosdeLinhadoTempodoProjeto[[#This Row],[NUM]]+1,3)),\"\",INDEX(DetalhesDoProjeto[#Data],Última_entrada_do_projeto-Linha_de_início_do_projeto-DadosdeLinhadoTempodoProjeto[[#This Row],[NUM]]+1,3)),\"\")","v":""},{"$f":"IFERROR(IF(ISBLANK(INDEX(DetalhesDoProjeto[#Data],ROW(A44)+1,1)),\"\",IF($J48-1<=-1,\"\",$J48-1)),\"\")","v":""},null,null,{"$f":"IFERROR(DadosdeLinhadoTempodoProjeto[[#This Row],[NUM]]+1,\"\")","v":""},{"$f":"IFERROR(VLOOKUP(LinhadoTempoClassificada[[#This Row],[POSIÇÃO classificada]],DadosdeLinhadoTempodoProjeto[],3,0),\"\")","v":""},{"$f":"IFERROR(VLOOKUP(LinhadoTempoClassificada[[#This Row],[POSIÇÃO classificada]],DadosdeLinhadoTempodoProjeto[],4,0),\"\")","v":""},{"$f":"IFERROR(VLOOKUP(LinhadoTempoClassificada[[#This Row],[POSIÇÃO classificada]],DadosdeLinhadoTempodoProjeto[],5,0),\"\")","v":""}]
[{"$nulls":4},{"$f":"IFERROR(RANK(F50,DadosdeLinhadoTempodoProjeto[CLASSIFICAÇÃO])+SUMPRODUCT(--(F50=DadosdeLinhadoTempodoProjeto[CLASSIFICAÇÃO]),--(J50<DadosdeLinhadoTempodoProjeto[NUM])),\"\")","v":""},{"$f":"IFERROR(RANK(DadosdeLinhadoTempodoProjeto[[#This Row],[DATA]],DadosdeLinhadoTempodoProjeto[DATA],1),\"\")","v":""},{"$f":"IFERROR(IF(ISBLANK(INDEX(DetalhesDoProjeto[#Data],Última_entrada_do_projeto-Linha_de_início_do_projeto-DadosdeLinhadoTempodoProjeto[[#This Row],[NUM]]+1,1)),\"\",INDEX(DetalhesDoProjeto[#Data],Última_entrada_do_projeto-Linha_de_início_do_projeto-DadosdeLinhadoTempodoProjeto[[#This Row],[NUM]]+1,1)),\"\")","v":""},{"$f":"IFERROR(IF(ISBLANK(INDEX(DetalhesDoProjeto[#Data],Última_entrada_do_projeto-Linha_de_início_do_projeto-DadosdeLinhadoTempodoProjeto[[#This Row],[NUM]]+1,2)),\"\",INDEX(DetalhesDoProjeto[#Data],Última_entrada_do_projeto-Linha_de_início_do_projeto-DadosdeLinhadoTempodoProjeto[[#This Row],[NUM]]+1,2)),\"\")","v":""},{"$f":"IFERROR(IF(ISBLANK(INDEX(DetalhesDoProjeto[#Data],Última_entrada_do_projeto-Linha_de_início_do_projeto-DadosdeLinhadoTempodoProjeto[[#This Row],[NUM]]+1,3)),\"\",INDEX(DetalhesDoProjeto[#Data],Última_entrada_do_projeto-Linha_de_início_do_projeto-DadosdeLinhadoTempodoProjeto[[#This Row],[NUM]]+1,3)),\"\")","v":""},{"$f":"IFERROR(IF(ISBLANK(INDEX(DetalhesDoProjeto[#Data],ROW(A45)+1,1)),\"\",IF($J49-1<=-1,\"\",$J49-1)),\"\")","v":""},null,null,{"$f":"IFERROR(DadosdeLinhadoTempodoProjeto[[#This Row],[NUM]]+1,\"\")","v":""},{"$f":"IFERROR(VLOOKUP(LinhadoTempoClassificada[[#This Row],[POSIÇÃO classificada]],DadosdeLinhadoTempodoProjeto[],3,0),\"\")","v":""},{"$f":"IFERROR(VLOOKUP(LinhadoTempoClassificada[[#This Row],[POSIÇÃO classificada]],DadosdeLinhadoTempodoProjeto[],4,0),\"\")","v":""},{"$f":"IFERROR(VLOOKUP(LinhadoTempoClassificada[[#This Row],[POSIÇÃO classificada]],DadosdeLinhadoTempodoProjeto[],5,0),\"\")","v":""}]
[{"$nulls":4},{"$f":"IFERROR(RANK(F51,DadosdeLinhadoTempodoProjeto[CLASSIFICAÇÃO])+SUMPRODUCT(--(F51=DadosdeLinhadoTempodoProjeto[CLASSIFICAÇÃO]),--(J51<DadosdeLinhadoTempodoProjeto[NUM])),\"\")","v":""},{"$f":"IFERROR(RANK(DadosdeLinhadoTempodoProjeto[[#This Row],[DATA]],DadosdeLinhadoTempodoProjeto[DATA],1),\"\")","v":""},{"$f":"IFERROR(IF(ISBLANK(INDEX(DetalhesDoProjeto[#Data],Última_entrada_do_projeto-Linha_de_início_do_projeto-DadosdeLinhadoTempodoProjeto[[#This Row],[NUM]]+1,1)),\"\",INDEX(DetalhesDoProjeto[#Data],Última_entrada_do_projeto-Linha_de_início_do_projeto-DadosdeLinhadoTempodoProjeto[[#This Row],[NUM]]+1,1)),\"\")","v":""},{"$f":"IFERROR(IF(ISBLANK(INDEX(DetalhesDoProjeto[#Data],Última_entrada_do_projeto-Linha_de_início_do_projeto-DadosdeLinhadoTempodoProjeto[[#This Row],[NUM]]+1,2)),\"\",INDEX(DetalhesDoProjeto[#Data],Última_entrada_do_projeto-Linha_de_início_do_projeto-DadosdeLinhadoTempodoProjeto[[#This Row],[NUM]]+1,2)),\"\")","v":""},{"$f":"IFERROR(IF(ISBLANK(INDEX(DetalhesDoProjeto[#Data],Última_entrada_do_projeto-Linha_de_início_do_projeto-DadosdeLinhadoTempodoProjeto[[#This Row],[NUM]]+1,3)),\"\",INDEX(DetalhesDoProjeto[#Data],Última_entrada_do_projeto-Linha_de_início_do_projeto-DadosdeLinhadoTempodoProjeto[[#This Row],[NUM]]+1,3)),\"\")","v":""},{"$f":"IFERROR(IF(ISBLANK(INDEX(DetalhesDoProjeto[#Data],ROW(A46)+1,1)),\"\",IF($J50-1<=-1,\"\",$J50-1)),\"\")","v":""},null,null,{"$f":"IFERROR(DadosdeLinhadoTempodoProjeto[[#This Row],[NUM]]+1,\"\")","v":""},{"$f":"IFERROR(VLOOKUP(LinhadoTempoClassificada[[#This Row],[POSIÇÃO classificada]],DadosdeLinhadoTempodoProjeto[],3,0),\"\")","v":""},{"$f":"IFERROR(VLOOKUP(LinhadoTempoClassificada[[#This Row],[POSIÇÃO classificada]],DadosdeLinhadoTempodoProjeto[],4,0),\"\")","v":""},{"$f":"IFERROR(VLOOKUP(LinhadoTempoClassificada[[#This Row],[POSIÇÃO classificada]],DadosdeLinhadoTempodoProjeto[],5,0),\"\")","v":""}]
[{"$nulls":4},{"$f":"IFERROR(RANK(F52,DadosdeLinhadoTempodoProjeto[CLASSIFICAÇÃO])+SUMPRODUCT(--(F52=DadosdeLinhadoTempodoProjeto[CLASSIFICAÇÃO]),--(J52<DadosdeLinhadoTempodoProjeto[NUM])),\"\")","v":""},{"$f":"IFERROR(RANK(DadosdeLinhadoTempodoProjeto[[#This Row],[DATA]],DadosdeLinhadoTempodoProjeto[DATA],1),\"\")","v":""},{"$f":"IFERROR(IF(ISBLANK(INDEX(DetalhesDoProjeto[#Data],Última_entrada_do_projeto-Linha_de_início_do_projeto-DadosdeLinhadoTempodoProjeto[[#This Row],[NUM]]+1,1)),\"\",INDEX(DetalhesDoProjeto[#Data],Última_entrada_do_projeto-Linha_de_início_do_projeto-DadosdeLinhadoTempodoProjeto[[#This Row],[NUM]]+1,1)),\"\")","v":""},{"$f":"IFERROR(IF(ISBLANK(INDEX(DetalhesDoProjeto[#Data],Última_entrada_do_projeto-Linha_de_início_do_projeto-DadosdeLinhadoTempodoProjeto[[#This Row],[NUM]]+1,2)),\"\",INDEX(DetalhesDoProjeto[#Data],Última_entrada_do_projeto-Linha_de_início_do_projeto-DadosdeLinhadoTempodoProjeto[[#This Row],[NUM]]+1,2)),\"\")","v":""},{"$f":"IFERROR(IF(ISBLANK(INDEX(DetalhesDoProjeto[#Data],Última_entrada_do_projeto-Linha_de_início_do_projeto-DadosdeLinhadoTempodoProjeto[[#This Row],[NUM]]+1,3)),\"\",INDEX(DetalhesDoProjeto[#Data],Última_entrada_do_projeto-Linha_de_início_do_projeto-DadosdeLinhadoTempodoProjeto[[#This Row],[NUM]]+1,3)),\"\")","v":""},{"$f":"IFERROR(IF(ISBLANK(INDEX(DetalhesDoProjeto[#Data],ROW(A47)+1,1)),\"\",IF($J51-1<=-1,\"\",$J51-1)),\"\")","v":""},null,null,{"$f":"IFERROR(DadosdeLinhadoTempodoProjeto[[#This Row],[NUM]]+1,\"\")","v":""},{"$f":"IFERROR(VLOOKUP(LinhadoTempoClassificada[[#This Row],[POSIÇÃO classificada]],DadosdeLinhadoTempodoProjeto[],3,0),\"\")","v":""},{"$f":"IFERROR(VLOOKUP(LinhadoTempoClassificada[[#This Row],[POSIÇÃO classificada]],DadosdeLinhadoTempodoProjeto[],4,0),\"\")","v":""},{"$f":"IFERROR(VLOOKUP(LinhadoTempoClassificada[[#This Row],[POSIÇÃO classificada]],DadosdeLinhadoTempodoProjeto[],5,0),\"\")","v":""}]
[{"$nulls":4},{"$f":"IFERROR(RANK(F53,DadosdeLinhadoTempodoProjeto[CLASSIFICAÇÃO])+SUMPRODUCT(--(F53=DadosdeLinhadoTempodoProjeto[CLASSIFICAÇÃO]),--(J53<DadosdeLinhadoTempodoProjeto[NUM])),\"\")","v":""},{"$f":"IFERROR(RANK(DadosdeLinhadoTempodoProjeto[[#This Row],[DATA]],DadosdeLinhadoTempodoProjeto[DATA],1),\"\")","v":""},{"$f":"IFERROR(IF(ISBLANK(INDEX(DetalhesDoProjeto[#Data],Última_entrada_do_projeto-Linha_de_início_do_projeto-DadosdeLinhadoTempodoProjeto[[#This Row],[NUM]]+1,1)),\"\",INDEX(DetalhesDoProjeto[#Data],Última_entrada_do_projeto-Linha_de_início_do_projeto-DadosdeLinhadoTempodoProjeto[[#This Row],[NUM]]+1,1)),\"\")","v":""},{"$f":"IFERROR(IF(ISBLANK(INDEX(DetalhesDoProjeto[#Data],Última_entrada_do_projeto-Linha_de_início_do_projeto-DadosdeLinhadoTempodoProjeto[[#This Row],[NUM]]+1,2)),\"\",INDEX(DetalhesDoProjeto[#Data],Última_entrada_do_projeto-Linha_de_início_do_projeto-DadosdeLinhadoTempodoProjeto[[#This Row],[NUM]]+1,2)),\"\")","v":""},{"$f":"IFERROR(IF(ISBLANK(INDEX(DetalhesDoProjeto[#Data],Última_entrada_do_projeto-Linha_de_início_do_projeto-DadosdeLinhadoTempodoProjeto[[#This Row],[NUM]]+1,3)),\"\",INDEX(DetalhesDoProjeto[#Data],Última_entrada_do_projeto-Linha_de_início_do_projeto-DadosdeLinhadoTempodoProjeto[[#This Row],[NUM]]+1,3)),\"\")","v":""},{"$f":"IFERROR(IF(ISBLANK(INDEX(DetalhesDoProjeto[#Data],ROW(A48)+1,1)),\"\",IF($J52-1<=-1,\"\",$J52-1)),\"\")","v":""},null,null,{"$f":"IFERROR(DadosdeLinhadoTempodoProjeto[[#This Row],[NUM]]+1,\"\")","v":""},{"$f":"IFERROR(VLOOKUP(LinhadoTempoClassificada[[#This Row],[POSIÇÃO classificada]],DadosdeLinhadoTempodoProjeto[],3,0),\"\")","v":""},{"$f":"IFERROR(VLOOKUP(LinhadoTempoClassificada[[#This Row],[POSIÇÃO classificada]],DadosdeLinhadoTempodoProjeto[],4,0),\"\")","v":""},{"$f":"IFERROR(VLOOKUP(LinhadoTempoClassificada[[#This Row],[POSIÇÃO classificada]],DadosdeLinhadoTempodoProjeto[],5,0),\"\")","v":""}]
[{"$nulls":4},{"$f":"IFERROR(RANK(F54,DadosdeLinhadoTempodoProjeto[CLASSIFICAÇÃO])+SUMPRODUCT(--(F54=DadosdeLinhadoTempodoProjeto[CLASSIFICAÇÃO]),--(J54<DadosdeLinhadoTempodoProjeto[NUM])),\"\")","v":""},{"$f":"IFERROR(RANK(DadosdeLinhadoTempodoProjeto[[#This Row],[DATA]],DadosdeLinhadoTempodoProjeto[DATA],1),\"\")","v":""},{"$f":"IFERROR(IF(ISBLANK(INDEX(DetalhesDoProjeto[#Data],Última_entrada_do_projeto-Linha_de_início_do_projeto-DadosdeLinhadoTempodoProjeto[[#This Row],[NUM]]+1,1)),\"\",INDEX(DetalhesDoProjeto[#Data],Última_entrada_do_projeto-Linha_de_início_do_projeto-DadosdeLinhadoTempodoProjeto[[#This Row],[NUM]]+1,1)),\"\")","v":""},{"$f":"IFERROR(IF(ISBLANK(INDEX(DetalhesDoProjeto[#Data],Última_entrada_do_projeto-Linha_de_início_do_projeto-DadosdeLinhadoTempodoProjeto[[#This Row],[NUM]]+1,2)),\"\",INDEX(DetalhesDoProjeto[#Data],Última_entrada_do_projeto-Linha_de_início_do_projeto-DadosdeLinhadoTempodoProjeto[[#This Row],[NUM]]+1,2)),\"\")","v":""},{"$f":"IFERROR(IF(ISBLANK(INDEX(DetalhesDoProjeto[#Data],Última_entrada_do_projeto-Linha_de_início_do_projeto-DadosdeLinhadoTempodoProjeto[[#This Row],[NUM]]+1,3)),\"\",INDEX(DetalhesDoProjeto[#Data],Última_entrada_do_projeto-Linha_de_início_do_projeto-DadosdeLinhadoTempodoProjeto[[#This Row],[NUM]]+1,3)),\"\")","v":""},{"$f":"IFERROR(IF(ISBLANK(INDEX(DetalhesDoProjeto[#Data],ROW(A49)+1,1)),\"\",IF($J53-1<=-1,\"\",$J53-1)),\"\")","v":""},null,null,{"$f":"IFERROR(DadosdeLinhadoTempodoProjeto[[#This Row],[NUM]]+1,\"\")","v":""},{"$f":"IFERROR(VLOOKUP(LinhadoTempoClassificada[[#This Row],[POSIÇÃO classificada]],DadosdeLinhadoTempodoProjeto[],3,0),\"\")","v":""},{"$f":"IFERROR(VLOOKUP(LinhadoTempoClassificada[[#This Row],[POSIÇÃO classificada]],DadosdeLinhadoTempodoProjeto[],4,0),\"\")","v":""},{"$f":"IFERROR(VLOOKUP(LinhadoTempoClassificada[[#This Row],[POSIÇÃO classificada]],DadosdeLinhadoTempodoProjeto[],5,0),\"\")","v":""}]
[{"$nulls":4},{"$f":"IFERROR(RANK(F55,DadosdeLinhadoTempodoProjeto[CLASSIFICAÇÃO])+SUMPRODUCT(--(F55=DadosdeLinhadoTempodoProjeto[CLASSIFICAÇÃO]),--(J55<DadosdeLinhadoTempodoProjeto[NUM])),\"\")","v":""},{"$f":"IFERROR(RANK(DadosdeLinhadoTempodoProjeto[[#This Row],[DATA]],DadosdeLinhadoTempodoProjeto[DATA],1),\"\")","v":""},{"$f":"IFERROR(IF(ISBLANK(INDEX(DetalhesDoProjeto[#Data],Última_entrada_do_projeto-Linha_de_início_do_projeto-DadosdeLinhadoTempodoProjeto[[#This Row],[NUM]]+1,1)),\"\",INDEX(DetalhesDoProjeto[#Data],Última_entrada_do_projeto-Linha_de_início_do_projeto-DadosdeLinhadoTempodoProjeto[[#This Row],[NUM]]+1,1)),\"\")","v":""},{"$f":"IFERROR(IF(ISBLANK(INDEX(DetalhesDoProjeto[#Data],Última_entrada_do_projeto-Linha_de_início_do_projeto-DadosdeLinhadoTempodoProjeto[[#This Row],[NUM]]+1,2)),\"\",INDEX(DetalhesDoProjeto[#Data],Última_entrada_do_projeto-Linha_de_início_do_projeto-DadosdeLinhadoTempodoProjeto[[#This Row],[NUM]]+1,2)),\"\")","v":""},{"$f":"IFERROR(IF(ISBLANK(INDEX(DetalhesDoProjeto[#Data],Última_entrada_do_projeto-Linha_de_início_do_projeto-DadosdeLinhadoTempodoProjeto[[#This Row],[NUM]]+1,3)),\"\",INDEX(DetalhesDoProjeto[#Data],Última_entrada_do_projeto-Linha_de_início_do_projeto-DadosdeLinhadoTempodoProjeto[[#This Row],[NUM]]+1,3)),\"\")","v":""},{"$f":"IFERROR(IF(ISBLANK(INDEX(DetalhesDoProjeto[#Data],ROW(A50)+1,1)),\"\",IF($J54-1<=-1,\"\",$J54-1)),\"\")","v":""},null,null,{"$f":"IFERROR(DadosdeLinhadoTempodoProjeto[[#This Row],[NUM]]+1,\"\")","v":""},{"$f":"IFERROR(VLOOKUP(LinhadoTempoClassificada[[#This Row],[POSIÇÃO classificada]],DadosdeLinhadoTempodoProjeto[],3,0),\"\")","v":""},{"$f":"IFERROR(VLOOKUP(LinhadoTempoClassificada[[#This Row],[POSIÇÃO classificada]],DadosdeLinhadoTempodoProjeto[],4,0),\"\")","v":""},{"$f":"IFERROR(VLOOKUP(LinhadoTempoClassificada[[#This Row],[POSIÇÃO classificada]],DadosdeLinhadoTempodoProjeto[],5,0),\"\")","v":""}]
[{"$nulls":4},{"$f":"IFERROR(RANK(F56,DadosdeLinhadoTempodoProjeto[CLASSIFICAÇÃO])+SUMPRODUCT(--(F56=DadosdeLinhadoTempodoProjeto[CLASSIFICAÇÃO]),--(J56<DadosdeLinhadoTempodoProjeto[NUM])),\"\")","v":""},{"$f":"IFERROR(RANK(DadosdeLinhadoTempodoProjeto[[#This Row],[DATA]],DadosdeLinhadoTempodoProjeto[DATA],1),\"\")","v":""},{"$f":"IFERROR(IF(ISBLANK(INDEX(DetalhesDoProjeto[#Data],Última_entrada_do_projeto-Linha_de_início_do_projeto-DadosdeLinhadoTempodoProjeto[[#This Row],[NUM]]+1,1)),\"\",INDEX(DetalhesDoProjeto[#Data],Última_entrada_do_projeto-Linha_de_início_do_projeto-DadosdeLinhadoTempodoProjeto[[#This Row],[NUM]]+1,1)),\"\")","v":""},{"$f":"IFERROR(IF(ISBLANK(INDEX(DetalhesDoProjeto[#Data],Última_entrada_do_projeto-Linha_de_início_do_projeto-DadosdeLinhadoTempodoProjeto[[#This Row],[NUM]]+1,2)),\"\",INDEX(DetalhesDoProjeto[#Data],Última_entrada_do_projeto-Linha_de_início_do_projeto-DadosdeLinhadoTempodoProjeto[[#This Row],[NUM]]+1,2)),\"\")","v":""},{"$f":"IFERROR(IF(ISBLANK(INDEX(DetalhesDoProjeto[#Data],Última_entrada_do_projeto-Linha_de_início_do_projeto-DadosdeLinhadoTempodoProjeto[[#This Row],[NUM]]+1,3)),\"\",INDEX(DetalhesDoProjeto[#Data],Última_entrada_do_projeto-Linha_de_início_do_projeto-DadosdeLinhadoTempodoProjeto[[#This Row],[NUM]]+1,3)),\"\")","v":""},{"$f":"IFERROR(IF(ISBLANK(INDEX(DetalhesDoProjeto[#Data],ROW(A51)+1,1)),\"\",IF($J55-1<=-1,\"\",$J55-1)),\"\")","v":""},null,null,{"$f":"IFERROR(DadosdeLinhadoTempodoProjeto[[#This Row],[NUM]]+1,\"\")","v":""},{"$f":"IFERROR(VLOOKUP(LinhadoTempoClassificada[[#This Row],[POSIÇÃO classificada]],DadosdeLinhadoTempodoProjeto[],3,0),\"\")","v":""},{"$f":"IFERROR(VLOOKUP(LinhadoTempoClassificada[[#This Row],[POSIÇÃO classificada]],DadosdeLinhadoTempodoProjeto[],4,0),\"\")","v":""},{"$f":"IFERROR(VLOOKUP(LinhadoTempoClassificada[[#This Row],[POSIÇÃO classificada]],DadosdeLinhadoTempodoProjeto[],5,0),\"\")","v":""}]
[{"$nulls":4},{"$f":"IFERROR(RANK(F57,DadosdeLinhadoTempodoProjeto[CLASSIFICAÇÃO])+SUMPRODUCT(--(F57=DadosdeLinhadoTempodoProjeto[CLASSIFICAÇÃO]),--(J57<DadosdeLinhadoTempodoProjeto[NUM])),\"\")","v":""},{"$f":"IFERROR(RANK(DadosdeLinhadoTempodoProjeto[[#This Row],[DATA]],DadosdeLinhadoTempodoProjeto[DATA],1),\"\")","v":""},{"$f":"IFERROR(IF(ISBLANK(INDEX(DetalhesDoProjeto[#Data],Última_entrada_do_projeto-Linha_de_início_do_projeto-DadosdeLinhadoTempodoProjeto[[#This Row],[NUM]]+1,1)),\"\",INDEX(DetalhesDoProjeto[#Data],Última_entrada_do_projeto-Linha_de_início_do_projeto-DadosdeLinhadoTempodoProjeto[[#This Row],[NUM]]+1,1)),\"\")","v":""},{"$f":"IFERROR(IF(ISBLANK(INDEX(DetalhesDoProjeto[#Data],Última_entrada_do_projeto-Linha_de_início_do_projeto-DadosdeLinhadoTempodoProjeto[[#This Row],[NUM]]+1,2)),\"\",INDEX(DetalhesDoProjeto[#Data],Última_entrada_do_projeto-Linha_de_início_do_projeto-DadosdeLinhadoTempodoProjeto[[#This Row],[NUM]]+1,2)),\"\")","v":""},{"$f":"IFERROR(IF(ISBLANK(INDEX(DetalhesDoProjeto[#Data],Última_entrada_do_projeto-Linha_de_início_do_projeto-DadosdeLinhadoTempodoProjeto[[#This Row],[NUM]]+1,3)),\"\",INDEX(DetalhesDoProjeto[#Data],Última_entrada_do_projeto-Linha_de_início_do_projeto-DadosdeLinhadoTempodoProjeto[[#This Row],[NUM]]+1,3)),\"\")","v":""},{"$f":"IFERROR(IF(ISBLANK(INDEX(DetalhesDoProjeto[#Data],ROW(A52)+1,1)),\"\",IF($J56-1<=-1,\"\",$J56-1)),\"\")","v":""},null,null,{"$f":"IFERROR(DadosdeLinhadoTempodoProjeto[[#This Row],[NUM]]+1,\"\")","v":""},{"$f":"IFERROR(VLOOKUP(LinhadoTempoClassificada[[#This Row],[POSIÇÃO classificada]],DadosdeLinhadoTempodoProjeto[],3,0),\"\")","v":""},{"$f":"IFERROR(VLOOKUP(LinhadoTempoClassificada[[#This Row],[POSIÇÃO classificada]],DadosdeLinhadoTempodoProjeto[],4,0),\"\")","v":""},{"$f":"IFERROR(VLOOKUP(LinhadoTempoClassificada[[#This Row],[POSIÇÃO classificada]],DadosdeLinhadoTempodoProjeto[],5,0),\"\")","v":""}]
[{"$nulls":4},{"$f":"IFERROR(RANK(F58,DadosdeLinhadoTempodoProjeto[CLASSIFICAÇÃO])+SUMPRODUCT(--(F58=DadosdeLinhadoTempodoProjeto[CLASSIFICAÇÃO]),--(J58<DadosdeLinhadoTempodoProjeto[NUM])),\"\")","v":""},{"$f":"IFERROR(RANK(DadosdeLinhadoTempodoProjeto[[#This Row],[DATA]],DadosdeLinhadoTempodoProjeto[DATA],1),\"\")","v":""},{"$f":"IFERROR(IF(ISBLANK(INDEX(DetalhesDoProjeto[#Data],Última_entrada_do_projeto-Linha_de_início_do_projeto-DadosdeLinhadoTempodoProjeto[[#This Row],[NUM]]+1,1)),\"\",INDEX(DetalhesDoProjeto[#Data],Última_entrada_do_projeto-Linha_de_início_do_projeto-DadosdeLinhadoTempodoProjeto[[#This Row],[NUM]]+1,1)),\"\")","v":""},{"$f":"IFERROR(IF(ISBLANK(INDEX(DetalhesDoProjeto[#Data],Última_entrada_do_projeto-Linha_de_início_do_projeto-DadosdeLinhadoTempodoProjeto[[#This Row],[NUM]]+1,2)),\"\",INDEX(DetalhesDoProjeto[#Data],Última_entrada_do_projeto-Linha_de_início_do_projeto-DadosdeLinhadoTempodoProjeto[[#This Row],[NUM]]+1,2)),\"\")","v":""},{"$f":"IFERROR(IF(ISBLANK(INDEX(DetalhesDoProjeto[#Data],Última_entrada_do_projeto-Linha_de_início_do_projeto-DadosdeLinhadoTempodoProjeto[[#This Row],[NUM]]+1,3)),\"\",INDEX(DetalhesDoProjeto[#Data],Última_entrada_do_projeto-Linha_de_início_do_projeto-DadosdeLinhadoTempodoProjeto[[#This Row],[NUM]]+1,3)),\"\")","v":""},{"$f":"IFERROR(IF(ISBLANK(INDEX(DetalhesDoProjeto[#Data],ROW(A53)+1,1)),\"\",IF($J57-1<=-1,\"\",$J57-1)),\"\")","v":""},null,null,{"$f":"IFERROR(DadosdeLinhadoTempodoProjeto[[#This Row],[NUM]]+1,\"\")","v":""},{"$f":"IFERROR(VLOOKUP(LinhadoTempoClassificada[[#This Row],[POSIÇÃO classificada]],DadosdeLinhadoTempodoProjeto[],3,0),\"\")","v":""},{"$f":"IFERROR(VLOOKUP(LinhadoTempoClassificada[[#This Row],[POSIÇÃO classificada]],DadosdeLinhadoTempodoProjeto[],4,0),\"\")","v":""},{"$f":"IFERROR(VLOOKUP(LinhadoTempoClassificada[[#This Row],[POSIÇÃO classificada]],DadosdeLinhadoTempodoProjeto[],5,0),\"\")","v":""}]
[{"$nulls":4},{"$f":"IFERROR(RANK(F59,DadosdeLinhadoTempodoProjeto[CLASSIFICAÇÃO])+SUMPRODUCT(--(F59=DadosdeLinhadoTempodoProjeto[CLASSIFICAÇÃO]),--(J59<DadosdeLinhadoTempodoProjeto[NUM])),\"\")","v":""},{"$f":"IFERROR(RANK(DadosdeLinhadoTempodoProjeto[[#This Row],[DATA]],DadosdeLinhadoTempodoProjeto[DATA],1),\"\")","v":""},{"$f":"IFERROR(IF(ISBLANK(INDEX(DetalhesDoProjeto[#Data],Última_entrada_do_projeto-Linha_de_início_do_projeto-DadosdeLinhadoTempodoProjeto[[#This Row],[NUM]]+1,1)),\"\",INDEX(DetalhesDoProjeto[#Data],Última_entrada_do_projeto-Linha_de_início_do_projeto-DadosdeLinhadoTempodoProjeto[[#This Row],[NUM]]+1,1)),\"\")","v":""},{"$f":"IFERROR(IF(ISBLANK(INDEX(DetalhesDoProjeto[#Data],Última_entrada_do_projeto-Linha_de_início_do_projeto-DadosdeLinhadoTempodoProjeto[[#This Row],[NUM]]+1,2)),\"\",INDEX(DetalhesDoProjeto[#Data],Última_entrada_do_projeto-Linha_de_início_do_projeto-DadosdeLinhadoTempodoProjeto[[#This Row],[NUM]]+1,2)),\"\")","v":""},{"$f":"IFERROR(IF(ISBLANK(INDEX(DetalhesDoProjeto[#Data],Última_entrada_do_projeto-Linha_de_início_do_projeto-DadosdeLinhadoTempodoProjeto[[#This Row],[NUM]]+1,3)),\"\",INDEX(DetalhesDoProjeto[#Data],Última_entrada_do_projeto-Linha_de_início_do_projeto-DadosdeLinhadoTempodoProjeto[[#This Row],[NUM]]+1,3)),\"\")","v":""},{"$f":"IFERROR(IF(ISBLANK(INDEX(DetalhesDoProjeto[#Data],ROW(A54)+1,1)),\"\",IF($J58-1<=-1,\"\",$J58-1)),\"\")","v":""},null,null,{"$f":"IFERROR(DadosdeLinhadoTempodoProjeto[[#This Row],[NUM]]+1,\"\")","v":""},{"$f":"IFERROR(VLOOKUP(LinhadoTempoClassificada[[#This Row],[POSIÇÃO classificada]],DadosdeLinhadoTempodoProjeto[],3,0),\"\")","v":""},{"$f":"IFERROR(VLOOKUP(LinhadoTempoClassificada[[#This Row],[POSIÇÃO classificada]],DadosdeLinhadoTempodoProjeto[],4,0),\"\")","v":""},{"$f":"IFERROR(VLOOKUP(LinhadoTempoClassificada[[#This Row],[POSIÇÃO classificada]],DadosdeLinhadoTempodoProjeto[],5,0),\"\")","v":""}]
[{"$nulls":4},{"$f":"IFERROR(RANK(F60,DadosdeLinhadoTempodoProjeto[CLASSIFICAÇÃO])+SUMPRODUCT(--(F60=DadosdeLinhadoTempodoProjeto[CLASSIFICAÇÃO]),--(J60<DadosdeLinhadoTempodoProjeto[NUM])),\"\")","v":""},{"$f":"IFERROR(RANK(DadosdeLinhadoTempodoProjeto[[#This Row],[DATA]],DadosdeLinhadoTempodoProjeto[DATA],1),\"\")","v":""},{"$f":"IFERROR(IF(ISBLANK(INDEX(DetalhesDoProjeto[#Data],Última_entrada_do_projeto-Linha_de_início_do_projeto-DadosdeLinhadoTempodoProjeto[[#This Row],[NUM]]+1,1)),\"\",INDEX(DetalhesDoProjeto[#Data],Última_entrada_do_projeto-Linha_de_início_do_projeto-DadosdeLinhadoTempodoProjeto[[#This Row],[NUM]]+1,1)),\"\")","v":""},{"$f":"IFERROR(IF(ISBLANK(INDEX(DetalhesDoProjeto[#Data],Última_entrada_do_projeto-Linha_de_início_do_projeto-DadosdeLinhadoTempodoProjeto[[#This Row],[NUM]]+1,2)),\"\",INDEX(DetalhesDoProjeto[#Data],Última_entrada_do_projeto-Linha_de_início_do_projeto-DadosdeLinhadoTempodoProjeto[[#This Row],[NUM]]+1,2)),\"\")","v":""},{"$f":"IFERROR(IF(ISBLANK(INDEX(DetalhesDoProjeto[#Data],Última_entrada_do_projeto-Linha_de_início_do_projeto-DadosdeLinhadoTempodoProjeto[[#This Row],[NUM]]+1,3)),\"\",INDEX(DetalhesDoProjeto[#Data],Última_entrada_do_projeto-Linha_de_início_do_projeto-DadosdeLinhadoTempodoProjeto[[#This Row],[NUM]]+1,3)),\"\")","v":""},{"$f":"IFERROR(IF(ISBLANK(INDEX(DetalhesDoProjeto[#Data],ROW(A55)+1,1)),\"\",IF($J59-1<=-1,\"\",$J59-1)),\"\")","v":""},null,null,{"$f":"IFERROR(DadosdeLinhadoTempodoProjeto[[#This Row],[NUM]]+1,\"\")","v":""},{"$f":"IFERROR(VLOOKUP(LinhadoTempoClassificada[[#This Row],[POSIÇÃO classificada]],DadosdeLinhadoTempodoProjeto[],3,0),\"\")","v":""},{"$f":"IFERROR(VLOOKUP(LinhadoTempoClassificada[[#This Row],[POSIÇÃO classificada]],DadosdeLinhadoTempodoProjeto[],4,0),\"\")","v":""},{"$f":"IFERROR(VLOOKUP(LinhadoTempoClassificada[[#This Row],[POSIÇÃO classificada]],DadosdeLinhadoTempodoProjeto[],5,0),\"\")","v":""}]
[{"$nulls":4},{"$f":"IFERROR(RANK(F61,DadosdeLinhadoTempodoProjeto[CLASSIFICAÇÃO])+SUMPRODUCT(--(F61=DadosdeLinhadoTempodoProjeto[CLASSIFICAÇÃO]),--(J61<DadosdeLinhadoTempodoProjeto[NUM])),\"\")","v":""},{"$f":"IFERROR(RANK(DadosdeLinhadoTempodoProjeto[[#This Row],[DATA]],DadosdeLinhadoTempodoProjeto[DATA],1),\"\")","v":""},{"$f":"IFERROR(IF(ISBLANK(INDEX(DetalhesDoProjeto[#Data],Última_entrada_do_projeto-Linha_de_início_do_projeto-DadosdeLinhadoTempodoProjeto[[#This Row],[NUM]]+1,1)),\"\",INDEX(DetalhesDoProjeto[#Data],Última_entrada_do_projeto-Linha_de_início_do_projeto-DadosdeLinhadoTempodoProjeto[[#This Row],[NUM]]+1,1)),\"\")","v":""},{"$f":"IFERROR(IF(ISBLANK(INDEX(DetalhesDoProjeto[#Data],Última_entrada_do_projeto-Linha_de_início_do_projeto-DadosdeLinhadoTempodoProjeto[[#This Row],[NUM]]+1,2)),\"\",INDEX(DetalhesDoProjeto[#Data],Última_entrada_do_projeto-Linha_de_início_do_projeto-DadosdeLinhadoTempodoProjeto[[#This Row],[NUM]]+1,2)),\"\")","v":""},{"$f":"IFERROR(IF(ISBLANK(INDEX(DetalhesDoProjeto[#Data],Última_entrada_do_projeto-Linha_de_início_do_projeto-DadosdeLinhadoTempodoProjeto[[#This Row],[NUM]]+1,3)),\"\",INDEX(DetalhesDoProjeto[#Data],Última_entrada_do_projeto-Linha_de_início_do_projeto-DadosdeLinhadoTempodoProjeto[[#This Row],[NUM]]+1,3)),\"\")","v":""},{"$f":"IFERROR(IF(ISBLANK(INDEX(DetalhesDoProjeto[#Data],ROW(A56)+1,1)),\"\",IF($J60-1<=-1,\"\",$J60-1)),\"\")","v":""},null,null,{"$f":"IFERROR(DadosdeLinhadoTempodoProjeto[[#This Row],[NUM]]+1,\"\")","v":""},{"$f":"IFERROR(VLOOKUP(LinhadoTempoClassificada[[#This Row],[POSIÇÃO classificada]],DadosdeLinhadoTempodoProjeto[],3,0),\"\")","v":""},{"$f":"IFERROR(VLOOKUP(LinhadoTempoClassificada[[#This Row],[POSIÇÃO classificada]],DadosdeLinhadoTempodoProjeto[],4,0),\"\")","v":""},{"$f":"IFERROR(VLOOKUP(LinhadoTempoClassificada[[#This Row],[POSIÇÃO classificada]],DadosdeLinhadoTempodoProjeto[],5,0),\"\")","v":""}]
[{"$nulls":4},{"$f":"IFERROR(RANK(F62,DadosdeLinhadoTempodoProjeto[CLASSIFICAÇÃO])+SUMPRODUCT(--(F62=DadosdeLinhadoTempodoProjeto[CLASSIFICAÇÃO]),--(J62<DadosdeLinhadoTempodoProjeto[NUM])),\"\")","v":""},{"$f":"IFERROR(RANK(DadosdeLinhadoTempodoProjeto[[#This Row],[DATA]],DadosdeLinhadoTempodoProjeto[DATA],1),\"\")","v":""},{"$f":"IFERROR(IF(ISBLANK(INDEX(DetalhesDoProjeto[#Data],Última_entrada_do_projeto-Linha_de_início_do_projeto-DadosdeLinhadoTempodoProjeto[[#This Row],[NUM]]+1,1)),\"\",INDEX(DetalhesDoProjeto[#Data],Última_entrada_do_projeto-Linha_de_início_do_projeto-DadosdeLinhadoTempodoProjeto[[#This Row],[NUM]]+1,1)),\"\")","v":""},{"$f":"IFERROR(IF(ISBLANK(INDEX(DetalhesDoProjeto[#Data],Última_entrada_do_projeto-Linha_de_início_do_projeto-DadosdeLinhadoTempodoProjeto[[#This Row],[NUM]]+1,2)),\"\",INDEX(DetalhesDoProjeto[#Data],Última_entrada_do_projeto-Linha_de_início_do_projeto-DadosdeLinhadoTempodoProjeto[[#This Row],[NUM]]+1,2)),\"\")","v":""},{"$f":"IFERROR(IF(ISBLANK(INDEX(DetalhesDoProjeto[#Data],Última_entrada_do_projeto-Linha_de_início_do_projeto-DadosdeLinhadoTempodoProjeto[[#This Row],[NUM]]+1,3)),\"\",INDEX(DetalhesDoProjeto[#Data],Última_entrada_do_projeto-Linha_de_início_do_projeto-DadosdeLinhadoTempodoProjeto[[#This Row],[NUM]]+1,3)),\"\")","v":""},{"$f":"IFERROR(IF(ISBLANK(INDEX(DetalhesDoProjeto[#Data],ROW(A57)+1,1)),\"\",IF($J61-1<=-1,\"\",$J61-1)),\"\")","v":""},null,null,{"$f":"IFERROR(DadosdeLinhadoTempodoProjeto[[#This Row],[NUM]]+1,\"\")","v":""},{"$f":"IFERROR(VLOOKUP(LinhadoTempoClassificada[[#This Row],[POSIÇÃO classificada]],DadosdeLinhadoTempodoProjeto[],3,0),\"\")","v":""},{"$f":"IFERROR(VLOOKUP(LinhadoTempoClassificada[[#This Row],[POSIÇÃO classificada]],DadosdeLinhadoTempodoProjeto[],4,0),\"\")","v":""},{"$f":"IFERROR(VLOOKUP(LinhadoTempoClassificada[[#This Row],[POSIÇÃO classificada]],DadosdeLinhadoTempodoProjeto[],5,0),\"\")","v":""}]
[{"$nulls":4},{"$f":"IFERROR(RANK(F63,DadosdeLinhadoTempodoProjeto[CLASSIFICAÇÃO])+SUMPRODUCT(--(F63=DadosdeLinhadoTempodoProjeto[CLASSIFICAÇÃO]),--(J63<DadosdeLinhadoTempodoProjeto[NUM])),\"\")","v":""},{"$f":"IFERROR(RANK(DadosdeLinhadoTempodoProjeto[[#This Row],[DATA]],DadosdeLinhadoTempodoProjeto[DATA],1),\"\")","v":""},{"$f":"IFERROR(IF(ISBLANK(INDEX(DetalhesDoProjeto[#Data],Última_entrada_do_projeto-Linha_de_início_do_projeto-DadosdeLinhadoTempodoProjeto[[#This Row],[NUM]]+1,1)),\"\",INDEX(DetalhesDoProjeto[#Data],Última_entrada_do_projeto-Linha_de_início_do_projeto-DadosdeLinhadoTempodoProjeto[[#This Row],[NUM]]+1,1)),\"\")","v":""},{"$f":"IFERROR(IF(ISBLANK(INDEX(DetalhesDoProjeto[#Data],Última_entrada_do_projeto-Linha_de_início_do_projeto-DadosdeLinhadoTempodoProjeto[[#This Row],[NUM]]+1,2)),\"\",INDEX(DetalhesDoProjeto[#Data],Última_entrada_do_projeto-Linha_de_início_do_projeto-DadosdeLinhadoTempodoProjeto[[#This Row],[NUM]]+1,2)),\"\")","v":""},{"$f":"IFERROR(IF(ISBLANK(INDEX(DetalhesDoProjeto[#Data],Última_entrada_do_projeto-Linha_de_início_do_projeto-DadosdeLinhadoTempodoProjeto[[#This Row],[NUM]]+1,3)),\"\",INDEX(DetalhesDoProjeto[#Data],Última_entrada_do_projeto-Linha_de_início_do_projeto-DadosdeLinhadoTempodoProjeto[[#This Row],[NUM]]+1,3)),\"\")","v":""},{"$f":"IFERROR(IF(ISBLANK(INDEX(DetalhesDoProjeto[#Data],ROW(A58)+1,1)),\"\",IF($J62-1<=-1,\"\",$J62-1)),\"\")","v":""},null,null,{"$f":"IFERROR(DadosdeLinhadoTempodoProjeto[[#This Row],[NUM]]+1,\"\")","v":""},{"$f":"IFERROR(VLOOKUP(LinhadoTempoClassificada[[#This Row],[POSIÇÃO classificada]],DadosdeLinhadoTempodoProjeto[],3,0),\"\")","v":""},{"$f":"IFERROR(VLOOKUP(LinhadoTempoClassificada[[#This Row],[POSIÇÃO classificada]],DadosdeLinhadoTempodoProjeto[],4,0),\"\")","v":""},{"$f":"IFERROR(VLOOKUP(LinhadoTempoClassificada[[#This Row],[POSIÇÃO classificada]],DadosdeLinhadoTempodoProjeto[],5,0),\"\")","v":""}]
[{"$nulls":4},{"$f":"IFERROR(RANK(F64,DadosdeLinhadoTempodoProjeto[CLASSIFICAÇÃO])+SUMPRODUCT(--(F64=DadosdeLinhadoTempodoProjeto[CLASSIFICAÇÃO]),--(J64<DadosdeLinhadoTempodoProjeto[NUM])),\"\")","v":""},{"$f":"IFERROR(RANK(DadosdeLinhadoTempodoProjeto[[#This Row],[DATA]],DadosdeLinhadoTempodoProjeto[DATA],1),\"\")","v":""},{"$f":"IFERROR(IF(ISBLANK(INDEX(DetalhesDoProjeto[#Data],Última_entrada_do_projeto-Linha_de_início_do_projeto-DadosdeLinhadoTempodoProjeto[[#This Row],[NUM]]+1,1)),\"\",INDEX(DetalhesDoProjeto[#Data],Última_entrada_do_projeto-Linha_de_início_do_projeto-DadosdeLinhadoTempodoProjeto[[#This Row],[NUM]]+1,1)),\"\")","v":""},{"$f":"IFERROR(IF(ISBLANK(INDEX(DetalhesDoProjeto[#Data],Última_entrada_do_projeto-Linha_de_início_do_projeto-DadosdeLinhadoTempodoProjeto[[#This Row],[NUM]]+1,2)),\"\",INDEX(DetalhesDoProjeto[#Data],Última_entrada_do_projeto-Linha_de_início_do_projeto-DadosdeLinhadoTempodoProjeto[[#This Row],[NUM]]+1,2)),\"\")","v":""},{"$f":"IFERROR(IF(ISBLANK(INDEX(DetalhesDoProjeto[#Data],Última_entrada_do_projeto-Linha_de_início_do_projeto-DadosdeLinhadoTempodoProjeto[[#This Row],[NUM]]+1,3)),\"\",INDEX(DetalhesDoProjeto[#Data],Última_entrada_do_projeto-Linha_de_início_do_projeto-DadosdeLinhadoTempodoProjeto[[#This Row],[NUM]]+1,3)),\"\")","v":""},{"$f":"IFERROR(IF(ISBLANK(INDEX(DetalhesDoProjeto[#Data],ROW(A59)+1,1)),\"\",IF($J63-1<=-1,\"\",$J63-1)),\"\")","v":""},null,null,{"$f":"IFERROR(DadosdeLinhadoTempodoProjeto[[#This Row],[NUM]]+1,\"\")","v":""},{"$f":"IFERROR(VLOOKUP(LinhadoTempoClassificada[[#This Row],[POSIÇÃO classificada]],DadosdeLinhadoTempodoProjeto[],3,0),\"\")","v":""},{"$f":"IFERROR(VLOOKUP(LinhadoTempoClassificada[[#This Row],[POSIÇÃO classificada]],DadosdeLinhadoTempodoProjeto[],4,0),\"\")","v":""},{"$f":"IFERROR(VLOOKUP(LinhadoTempoClassificada[[#This Row],[POSIÇÃO classificada]],DadosdeLinhadoTempodoProjeto[],5,0),\"\")","v":""}]
[{"$nulls":4},{"$f":"IFERROR(RANK(F65,DadosdeLinhadoTempodoProjeto[CLASSIFICAÇÃO])+SUMPRODUCT(--(F65=DadosdeLinhadoTempodoProjeto[CLASSIFICAÇÃO]),--(J65<DadosdeLinhadoTempodoProjeto[NUM])),\"\")","v":""},{"$f":"IFERROR(RANK(DadosdeLinhadoTempodoProjeto[[#This Row],[DATA]],DadosdeLinhadoTempodoProjeto[DATA],1),\"\")","v":""},{"$f":"IFERROR(IF(ISBLANK(INDEX(DetalhesDoProjeto[#Data],Última_entrada_do_projeto-Linha_de_início_do_projeto-DadosdeLinhadoTempodoProjeto[[#This Row],[NUM]]+1,1)),\"\",INDEX(DetalhesDoProjeto[#Data],Última_entrada_do_projeto-Linha_de_início_do_projeto-DadosdeLinhadoTempodoProjeto[[#This Row],[NUM]]+1,1)),\"\")","v":""},{"$f":"IFERROR(IF(ISBLANK(INDEX(DetalhesDoProjeto[#Data],Última_entrada_do_projeto-Linha_de_início_do_projeto-DadosdeLinhadoTempodoProjeto[[#This Row],[NUM]]+1,2)),\"\",INDEX(DetalhesDoProjeto[#Data],Última_entrada_do_projeto-Linha_de_início_do_projeto-DadosdeLinhadoTempodoProjeto[[#This Row],[NUM]]+1,2)),\"\")","v":""},{"$f":"IFERROR(IF(ISBLANK(INDEX(DetalhesDoProjeto[#Data],Última_entrada_do_projeto-Linha_de_início_do_projeto-DadosdeLinhadoTempodoProjeto[[#This Row],[NUM]]+1,3)),\"\",INDEX(DetalhesDoProjeto[#Data],Última_entrada_do_projeto-Linha_de_início_do_projeto-DadosdeLinhadoTempodoProjeto[[#This Row],[NUM]]+1,3)),\"\")","v":""},{"$f":"IFERROR(IF(ISBLANK(INDEX(DetalhesDoProjeto[#Data],ROW(A60)+1,1)),\"\",IF($J64-1<=-1,\"\",$J64-1)),\"\")","v":""},null,null,{"$f":"IFERROR(DadosdeLinhadoTempodoProjeto[[#This Row],[NUM]]+1,\"\")","v":""},{"$f":"IFERROR(VLOOKUP(LinhadoTempoClassificada[[#This Row],[POSIÇÃO classificada]],DadosdeLinhadoTempodoProjeto[],3,0),\"\")","v":""},{"$f":"IFERROR(VLOOKUP(LinhadoTempoClassificada[[#This Row],[POSIÇÃO classificada]],DadosdeLinhadoTempodoProjeto[],4,0),\"\")","v":""},{"$f":"IFERROR(VLOOKUP(LinhadoTempoClassificada[[#This Row],[POSIÇÃO classificada]],DadosdeLinhadoTempodoProjeto[],5,0),\"\")","v":""}]
[{"$nulls":4},{"$f":"IFERROR(RANK(F66,DadosdeLinhadoTempodoProjeto[CLASSIFICAÇÃO])+SUMPRODUCT(--(F66=DadosdeLinhadoTempodoProjeto[CLASSIFICAÇÃO]),--(J66<DadosdeLinhadoTempodoProjeto[NUM])),\"\")","v":""},{"$f":"IFERROR(RANK(DadosdeLinhadoTempodoProjeto[[#This Row],[DATA]],DadosdeLinhadoTempodoProjeto[DATA],1),\"\")","v":""},{"$f":"IFERROR(IF(ISBLANK(INDEX(DetalhesDoProjeto[#Data],Última_entrada_do_projeto-Linha_de_início_do_projeto-DadosdeLinhadoTempodoProjeto[[#This Row],[NUM]]+1,1)),\"\",INDEX(DetalhesDoProjeto[#Data],Última_entrada_do_projeto-Linha_de_início_do_projeto-DadosdeLinhadoTempodoProjeto[[#This Row],[NUM]]+1,1)),\"\")","v":""},{"$f":"IFERROR(IF(ISBLANK(INDEX(DetalhesDoProjeto[#Data],Última_entrada_do_projeto-Linha_de_início_do_projeto-DadosdeLinhadoTempodoProjeto[[#This Row],[NUM]]+1,2)),\"\",INDEX(DetalhesDoProjeto[#Data],Última_entrada_do_projeto-Linha_de_início_do_projeto-DadosdeLinhadoTempodoProjeto[[#This Row],[NUM]]+1,2)),\"\")","v":""},{"$f":"IFERROR(IF(ISBLANK(INDEX(DetalhesDoProjeto[#Data],Última_entrada_do_projeto-Linha_de_início_do_projeto-DadosdeLinhadoTempodoProjeto[[#This Row],[NUM]]+1,3)),\"\",INDEX(DetalhesDoProjeto[#Data],Última_entrada_do_projeto-Linha_de_início_do_projeto-DadosdeLinhadoTempodoProjeto[[#This Row],[NUM]]+1,3)),\"\")","v":""},{"$f":"IFERROR(IF(ISBLANK(INDEX(DetalhesDoProjeto[#Data],ROW(A61)+1,1)),\"\",IF($J65-1<=-1,\"\",$J65-1)),\"\")","v":""},null,null,{"$f":"IFERROR(DadosdeLinhadoTempodoProjeto[[#This Row],[NUM]]+1,\"\")","v":""},{"$f":"IFERROR(VLOOKUP(LinhadoTempoClassificada[[#This Row],[POSIÇÃO classificada]],DadosdeLinhadoTempodoProjeto[],3,0),\"\")","v":""},{"$f":"IFERROR(VLOOKUP(LinhadoTempoClassificada[[#This Row],[POSIÇÃO classificada]],DadosdeLinhadoTempodoProjeto[],4,0),\"\")","v":""},{"$f":"IFERROR(VLOOKUP(LinhadoTempoClassificada[[#This Row],[POSIÇÃO classificada]],DadosdeLinhadoTempodoProjeto[],5,0),\"\")","v":""}]
[{"$nulls":4},{"$f":"IFERROR(RANK(F67,DadosdeLinhadoTempodoProjeto[CLASSIFICAÇÃO])+SUMPRODUCT(--(F67=DadosdeLinhadoTempodoProjeto[CLASSIFICAÇÃO]),--(J67<DadosdeLinhadoTempodoProjeto[NUM])),\"\")","v":""},{"$f":"IFERROR(RANK(DadosdeLinhadoTempodoProjeto[[#This Row],[DATA]],DadosdeLinhadoTempodoProjeto[DATA],1),\"\")","v":""},{"$f":"IFERROR(IF(ISBLANK(INDEX(DetalhesDoProjeto[#Data],Última_entrada_do_projeto-Linha_de_início_do_projeto-DadosdeLinhadoTempodoProjeto[[#This Row],[NUM]]+1,1)),\"\",INDEX(DetalhesDoProjeto[#Data],Última_entrada_do_projeto-Linha_de_início_do_projeto-DadosdeLinhadoTempodoProjeto[[#This Row],[NUM]]+1,1)),\"\")","v":""},{"$f":"IFERROR(IF(ISBLANK(INDEX(DetalhesDoProjeto[#Data],Última_entrada_do_projeto-Linha_de_início_do_projeto-DadosdeLinhadoTempodoProjeto[[#This Row],[NUM]]+1,2)),\"\",INDEX(DetalhesDoProjeto[#Data],Última_entrada_do_projeto-Linha_de_início_do_projeto-DadosdeLinhadoTempodoProjeto[[#This Row],[NUM]]+1,2)),\"\")","v":""},{"$f":"IFERROR(IF(ISBLANK(INDEX(DetalhesDoProjeto[#Data],Última_entrada_do_projeto-Linha_de_início_do_projeto-DadosdeLinhadoTempodoProjeto[[#This Row],[NUM]]+1,3)),\"\",INDEX(DetalhesDoProjeto[#Data],Última_entrada_do_projeto-Linha_de_início_do_projeto-DadosdeLinhadoTempodoProjeto[[#This Row],[NUM]]+1,3)),\"\")","v":""},{"$f":"IFERROR(IF(ISBLANK(INDEX(DetalhesDoProjeto[#Data],ROW(A62)+1,1)),\"\",IF($J66-1<=-1,\"\",$J66-1)),\"\")","v":""},null,null,{"$f":"IFERROR(DadosdeLinhadoTempodoProjeto[[#This Row],[NUM]]+1,\"\")","v":""},{"$f":"IFERROR(VLOOKUP(LinhadoTempoClassificada[[#This Row],[POSIÇÃO classificada]],DadosdeLinhadoTempodoProjeto[],3,0),\"\")","v":""},{"$f":"IFERROR(VLOOKUP(LinhadoTempoClassificada[[#This Row],[POSIÇÃO classificada]],DadosdeLinhadoTempodoProjeto[],4,0),\"\")","v":""},{"$f":"IFERROR(VLOOKUP(LinhadoTempoClassificada[[#This Row],[POSIÇÃO classificada]],DadosdeLinhadoTempodoProjeto[],5,0),\"\")","v":""}]
[{"$nulls":4},{"$f":"IFERROR(RANK(F68,DadosdeLinhadoTempodoProjeto[CLASSIFICAÇÃO])+SUMPRODUCT(--(F68=DadosdeLinhadoTempodoProjeto[CLASSIFICAÇÃO]),--(J68<DadosdeLinhadoTempodoProjeto[NUM])),\"\")","v":""},{"$f":"IFERROR(RANK(DadosdeLinhadoTempodoProjeto[[#This Row],[DATA]],DadosdeLinhadoTempodoProjeto[DATA],1),\"\")","v":""},{"$f":"IFERROR(IF(ISBLANK(INDEX(DetalhesDoProjeto[#Data],Última_entrada_do_projeto-Linha_de_início_do_projeto-DadosdeLinhadoTempodoProjeto[[#This Row],[NUM]]+1,1)),\"\",INDEX(DetalhesDoProjeto[#Data],Última_entrada_do_projeto-Linha_de_início_do_projeto-DadosdeLinhadoTempodoProjeto[[#This Row],[NUM]]+1,1)),\"\")","v":""},{"$f":"IFERROR(IF(ISBLANK(INDEX(DetalhesDoProjeto[#Data],Última_entrada_do_projeto-Linha_de_início_do_projeto-DadosdeLinhadoTempodoProjeto[[#This Row],[NUM]]+1,2)),\"\",INDEX(DetalhesDoProjeto[#Data],Última_entrada_do_projeto-Linha_de_início_do_projeto-DadosdeLinhadoTempodoProjeto[[#This Row],[NUM]]+1,2)),\"\")","v":""},{"$f":"IFERROR(IF(ISBLANK(INDEX(DetalhesDoProjeto[#Data],Última_entrada_do_projeto-Linha_de_início_do_projeto-DadosdeLinhadoTempodoProjeto[[#This Row],[NUM]]+1,3)),\"\",INDEX(DetalhesDoProjeto[#Data],Última_entrada_do_projeto-Linha_de_início_do_projeto-DadosdeLinhadoTempodoProjeto[[#This Row],[NUM]]+1,3)),\"\")","v":""},{"$f":"IFERROR(IF(ISBLANK(INDEX(DetalhesDoProjeto[#Data],ROW(A63)+1,1)),\"\",IF($J67-1<=-1,\"\",$J67-1)),\"\")","v":""},null,null,{"$f":"IFERROR(DadosdeLinhadoTempodoProjeto[[#This Row],[NUM]]+1,\"\")","v":""},{"$f":"IFERROR(VLOOKUP(LinhadoTempoClassificada[[#This Row],[POSIÇÃO classificada]],DadosdeLinhadoTempodoProjeto[],3,0),\"\")","v":""},{"$f":"IFERROR(VLOOKUP(LinhadoTempoClassificada[[#This Row],[POSIÇÃO classificada]],DadosdeLinhadoTempodoProjeto[],4,0),\"\")","v":""},{"$f":"IFERROR(VLOOKUP(LinhadoTempoClassificada[[#This Row],[POSIÇÃO classificada]],DadosdeLinhadoTempodoProjeto[],5,0),\"\")","v":""}]
[{"$nulls":4},{"$f":"IFERROR(RANK(F69,DadosdeLinhadoTempodoProjeto[CLASSIFICAÇÃO])+SUMPRODUCT(--(F69=DadosdeLinhadoTempodoProjeto[CLASSIFICAÇÃO]),--(J69<DadosdeLinhadoTempodoProjeto[NUM])),\"\")","v":""},{"$f":"IFERROR(RANK(DadosdeLinhadoTempodoProjeto[[#This Row],[DATA]],DadosdeLinhadoTempodoProjeto[DATA],1),\"\")","v":""},{"$f":"IFERROR(IF(ISBLANK(INDEX(DetalhesDoProjeto[#Data],Última_entrada_do_projeto-Linha_de_início_do_projeto-DadosdeLinhadoTempodoProjeto[[#This Row],[NUM]]+1,1)),\"\",INDEX(DetalhesDoProjeto[#Data],Última_entrada_do_projeto-Linha_de_início_do_projeto-DadosdeLinhadoTempodoProjeto[[#This Row],[NUM]]+1,1)),\"\")","v":""},{"$f":"IFERROR(IF(ISBLANK(INDEX(DetalhesDoProjeto[#Data],Última_entrada_do_projeto-Linha_de_início_do_projeto-DadosdeLinhadoTempodoProjeto[[#This Row],[NUM]]+1,2)),\"\",INDEX(DetalhesDoProjeto[#Data],Última_entrada_do_projeto-Linha_de_início_do_projeto-DadosdeLinhadoTempodoProjeto[[#This Row],[NUM]]+1,2)),\"\")","v":""},{"$f":"IFERROR(IF(ISBLANK(INDEX(DetalhesDoProjeto[#Data],Última_entrada_do_projeto-Linha_de_início_do_projeto-DadosdeLinhadoTempodoProjeto[[#This Row],[NUM]]+1,3)),\"\",INDEX(DetalhesDoProjeto[#Data],Última_entrada_do_projeto-Linha_de_início_do_projeto-DadosdeLinhadoTempodoProjeto[[#This Row],[NUM]]+1,3)),\"\")","v":""},{"$f":"IFERROR(IF(ISBLANK(INDEX(DetalhesDoProjeto[#Data],ROW(A64)+1,1)),\"\",IF($J68-1<=-1,\"\",$J68-1)),\"\")","v":""},null,null,{"$f":"IFERROR(DadosdeLinhadoTempodoProjeto[[#This Row],[NUM]]+1,\"\")","v":""},{"$f":"IFERROR(VLOOKUP(LinhadoTempoClassificada[[#This Row],[POSIÇÃO classificada]],DadosdeLinhadoTempodoProjeto[],3,0),\"\")","v":""},{"$f":"IFERROR(VLOOKUP(LinhadoTempoClassificada[[#This Row],[POSIÇÃO classificada]],DadosdeLinhadoTempodoProjeto[],4,0),\"\")","v":""},{"$f":"IFERROR(VLOOKUP(LinhadoTempoClassificada[[#This Row],[POSIÇÃO classificada]],DadosdeLinhadoTempodoProjeto[],5,0),\"\")","v":""}]
[{"$nulls":4},{"$f":"IFERROR(RANK(F70,DadosdeLinhadoTempodoProjeto[CLASSIFICAÇÃO])+SUMPRODUCT(--(F70=DadosdeLinhadoTempodoProjeto[CLASSIFICAÇÃO]),--(J70<DadosdeLinhadoTempodoProjeto[NUM])),\"\")","v":""},{"$f":"IFERROR(RANK(DadosdeLinhadoTempodoProjeto[[#This Row],[DATA]],DadosdeLinhadoTempodoProjeto[DATA],1),\"\")","v":""},{"$f":"IFERROR(IF(ISBLANK(INDEX(DetalhesDoProjeto[#Data],Última_entrada_do_projeto-Linha_de_início_do_projeto-DadosdeLinhadoTempodoProjeto[[#This Row],[NUM]]+1,1)),\"\",INDEX(DetalhesDoProjeto[#Data],Última_entrada_do_projeto-Linha_de_início_do_projeto-DadosdeLinhadoTempodoProjeto[[#This Row],[NUM]]+1,1)),\"\")","v":""},{"$f":"IFERROR(IF(ISBLANK(INDEX(DetalhesDoProjeto[#Data],Última_entrada_do_projeto-Linha_de_início_do_projeto-DadosdeLinhadoTempodoProjeto[[#This Row],[NUM]]+1,2)),\"\",INDEX(DetalhesDoProjeto[#Data],Última_entrada_do_projeto-Linha_de_início_do_projeto-DadosdeLinhadoTempodoProjeto[[#This Row],[NUM]]+1,2)),\"\")","v":""},{"$f":"IFERROR(IF(ISBLANK(INDEX(DetalhesDoProjeto[#Data],Última_entrada_do_projeto-Linha_de_início_do_projeto-DadosdeLinhadoTempodoProjeto[[#This Row],[NUM]]+1,3)),\"\",INDEX(DetalhesDoProjeto[#Data],Última_entrada_do_projeto-Linha_de_início_do_projeto-DadosdeLinhadoTempodoProjeto[[#This Row],[NUM]]+1,3)),\"\")","v":""},{"$f":"IFERROR(IF(ISBLANK(INDEX(DetalhesDoProjeto[#Data],ROW(A65)+1,1)),\"\",IF($J69-1<=-1,\"\",$J69-1)),\"\")","v":""},null,null,{"$f":"IFERROR(DadosdeLinhadoTempodoProjeto[[#This Row],[NUM]]+1,\"\")","v":""},{"$f":"IFERROR(VLOOKUP(LinhadoTempoClassificada[[#This Row],[POSIÇÃO classificada]],DadosdeLinhadoTempodoProjeto[],3,0),\"\")","v":""},{"$f":"IFERROR(VLOOKUP(LinhadoTempoClassificada[[#This Row],[POSIÇÃO classificada]],DadosdeLinhadoTempodoProjeto[],4,0),\"\")","v":""},{"$f":"IFERROR(VLOOKUP(LinhadoTempoClassificada[[#This Row],[POSIÇÃO classificada]],DadosdeLinhadoTempodoProjeto[],5,0),\"\")","v":""}]
[{"$nulls":4},{"$f":"IFERROR(RANK(F71,DadosdeLinhadoTempodoProjeto[CLASSIFICAÇÃO])+SUMPRODUCT(--(F71=DadosdeLinhadoTempodoProjeto[CLASSIFICAÇÃO]),--(J71<DadosdeLinhadoTempodoProjeto[NUM])),\"\")","v":""},{"$f":"IFERROR(RANK(DadosdeLinhadoTempodoProjeto[[#This Row],[DATA]],DadosdeLinhadoTempodoProjeto[DATA],1),\"\")","v":""},{"$f":"IFERROR(IF(ISBLANK(INDEX(DetalhesDoProjeto[#Data],Última_entrada_do_projeto-Linha_de_início_do_projeto-DadosdeLinhadoTempodoProjeto[[#This Row],[NUM]]+1,1)),\"\",INDEX(DetalhesDoProjeto[#Data],Última_entrada_do_projeto-Linha_de_início_do_projeto-DadosdeLinhadoTempodoProjeto[[#This Row],[NUM]]+1,1)),\"\")","v":""},{"$f":"IFERROR(IF(ISBLANK(INDEX(DetalhesDoProjeto[#Data],Última_entrada_do_projeto-Linha_de_início_do_projeto-DadosdeLinhadoTempodoProjeto[[#This Row],[NUM]]+1,2)),\"\",INDEX(DetalhesDoProjeto[#Data],Última_entrada_do_projeto-Linha_de_início_do_projeto-DadosdeLinhadoTempodoProjeto[[#This Row],[NUM]]+1,2)),\"\")","v":""},{"$f":"IFERROR(IF(ISBLANK(INDEX(DetalhesDoProjeto[#Data],Última_entrada_do_projeto-Linha_de_início_do_projeto-DadosdeLinhadoTempodoProjeto[[#This Row],[NUM]]+1,3)),\"\",INDEX(DetalhesDoProjeto[#Data],Última_entrada_do_projeto-Linha_de_início_do_projeto-DadosdeLinhadoTempodoProjeto[[#This Row],[NUM]]+1,3)),\"\")","v":""},{"$f":"IFERROR(IF(ISBLANK(INDEX(DetalhesDoProjeto[#Data],ROW(A66)+1,1)),\"\",IF($J70-1<=-1,\"\",$J70-1)),\"\")","v":""},null,null,{"$f":"IFERROR(DadosdeLinhadoTempodoProjeto[[#This Row],[NUM]]+1,\"\")","v":""},{"$f":"IFERROR(VLOOKUP(LinhadoTempoClassificada[[#This Row],[POSIÇÃO classificada]],DadosdeLinhadoTempodoProjeto[],3,0),\"\")","v":""},{"$f":"IFERROR(VLOOKUP(LinhadoTempoClassificada[[#This Row],[POSIÇÃO classificada]],DadosdeLinhadoTempodoProjeto[],4,0),\"\")","v":""},{"$f":"IFERROR(VLOOKUP(LinhadoTempoClassificada[[#This Row],[POSIÇÃO classificada]],DadosdeLinhadoTempodoProjeto[],5,0),\"\")","v":""}]
[{"$nulls":4},{"$f":"IFERROR(RANK(F72,DadosdeLinhadoTempodoProjeto[CLASSIFICAÇÃO])+SUMPRODUCT(--(F72=DadosdeLinhadoTempodoProjeto[CLASSIFICAÇÃO]),--(J72<DadosdeLinhadoTempodoProjeto[NUM])),\"\")","v":""},{"$f":"IFERROR(RANK(DadosdeLinhadoTempodoProjeto[[#This Row],[DATA]],DadosdeLinhadoTempodoProjeto[DATA],1),\"\")","v":""},{"$f":"IFERROR(IF(ISBLANK(INDEX(DetalhesDoProjeto[#Data],Última_entrada_do_projeto-Linha_de_início_do_projeto-DadosdeLinhadoTempodoProjeto[[#This Row],[NUM]]+1,1)),\"\",INDEX(DetalhesDoProjeto[#Data],Última_entrada_do_projeto-Linha_de_início_do_projeto-DadosdeLinhadoTempodoProjeto[[#This Row],[NUM]]+1,1)),\"\")","v":""},{"$f":"IFERROR(IF(ISBLANK(INDEX(DetalhesDoProjeto[#Data],Última_entrada_do_projeto-Linha_de_início_do_projeto-DadosdeLinhadoTempodoProjeto[[#This Row],[NUM]]+1,2)),\"\",INDEX(DetalhesDoProjeto[#Data],Última_entrada_do_projeto-Linha_de_início_do_projeto-DadosdeLinhadoTempodoProjeto[[#This Row],[NUM]]+1,2)),\"\")","v":""},{"$f":"IFERROR(IF(ISBLANK(INDEX(DetalhesDoProjeto[#Data],Última_entrada_do_projeto-Linha_de_início_do_projeto-DadosdeLinhadoTempodoProjeto[[#This Row],[NUM]]+1,3)),\"\",INDEX(DetalhesDoProjeto[#Data],Última_entrada_do_projeto-Linha_de_início_do_projeto-DadosdeLinhadoTempodoProjeto[[#This Row],[NUM]]+1,3)),\"\")","v":""},{"$f":"IFERROR(IF(ISBLANK(INDEX(DetalhesDoProjeto[#Data],ROW(A67)+1,1)),\"\",IF($J71-1<=-1,\"\",$J71-1)),\"\")","v":""},null,null,{"$f":"IFERROR(DadosdeLinhadoTempodoProjeto[[#This Row],[NUM]]+1,\"\")","v":""},{"$f":"IFERROR(VLOOKUP(LinhadoTempoClassificada[[#This Row],[POSIÇÃO classificada]],DadosdeLinhadoTempodoProjeto[],3,0),\"\")","v":""},{"$f":"IFERROR(VLOOKUP(LinhadoTempoClassificada[[#This Row],[POSIÇÃO classificada]],DadosdeLinhadoTempodoProjeto[],4,0),\"\")","v":""},{"$f":"IFERROR(VLOOKUP(LinhadoTempoClassificada[[#This Row],[POSIÇÃO classificada]],DadosdeLinhadoTempodoProjeto[],5,0),\"\")","v":""}]
[{"$nulls":4},{"$f":"IFERROR(RANK(F73,DadosdeLinhadoTempodoProjeto[CLASSIFICAÇÃO])+SUMPRODUCT(--(F73=DadosdeLinhadoTempodoProjeto[CLASSIFICAÇÃO]),--(J73<DadosdeLinhadoTempodoProjeto[NUM])),\"\")","v":""},{"$f":"IFERROR(RANK(DadosdeLinhadoTempodoProjeto[[#This Row],[DATA]],DadosdeLinhadoTempodoProjeto[DATA],1),\"\")","v":""},{"$f":"IFERROR(IF(ISBLANK(INDEX(DetalhesDoProjeto[#Data],Última_entrada_do_projeto-Linha_de_início_do_projeto-DadosdeLinhadoTempodoProjeto[[#This Row],[NUM]]+1,1)),\"\",INDEX(DetalhesDoProjeto[#Data],Última_entrada_do_projeto-Linha_de_início_do_projeto-DadosdeLinhadoTempodoProjeto[[#This Row],[NUM]]+1,1)),\"\")","v":""},{"$f":"IFERROR(IF(ISBLANK(INDEX(DetalhesDoProjeto[#Data],Última_entrada_do_projeto-Linha_de_início_do_projeto-DadosdeLinhadoTempodoProjeto[[#This Row],[NUM]]+1,2)),\"\",INDEX(DetalhesDoProjeto[#Data],Última_entrada_do_projeto-Linha_de_início_do_projeto-DadosdeLinhadoTempodoProjeto[[#This Row],[NUM]]+1,2)),\"\")","v":""},{"$f":"IFERROR(IF(ISBLANK(INDEX(DetalhesDoProjeto[#Data],Última_entrada_do_projeto-Linha_de_início_do_projeto-DadosdeLinhadoTempodoProjeto[[#This Row],[NUM]]+1,3)),\"\",INDEX(DetalhesDoProjeto[#Data],Última_entrada_do_projeto-Linha_de_início_do_projeto-DadosdeLinhadoTempodoProjeto[[#This Row],[NUM]]+1,3)),\"\")","v":""},{"$f":"IFERROR(IF(ISBLANK(INDEX(DetalhesDoProjeto[#Data],ROW(A68)+1,1)),\"\",IF($J72-1<=-1,\"\",$J72-1)),\"\")","v":""},null,null,{"$f":"IFERROR(DadosdeLinhadoTempodoProjeto[[#This Row],[NUM]]+1,\"\")","v":""},{"$f":"IFERROR(VLOOKUP(LinhadoTempoClassificada[[#This Row],[POSIÇÃO classificada]],DadosdeLinhadoTempodoProjeto[],3,0),\"\")","v":""},{"$f":"IFERROR(VLOOKUP(LinhadoTempoClassificada[[#This Row],[POSIÇÃO classificada]],DadosdeLinhadoTempodoProjeto[],4,0),\"\")","v":""},{"$f":"IFERROR(VLOOKUP(LinhadoTempoClassificada[[#This Row],[POSIÇÃO classificada]],DadosdeLinhadoTempodoProjeto[],5,0),\"\")","v":""}]
[{"$nulls":4},{"$f":"IFERROR(RANK(F74,DadosdeLinhadoTempodoProjeto[CLASSIFICAÇÃO])+SUMPRODUCT(--(F74=DadosdeLinhadoTempodoProjeto[CLASSIFICAÇÃO]),--(J74<DadosdeLinhadoTempodoProjeto[NUM])),\"\")","v":""},{"$f":"IFERROR(RANK(DadosdeLinhadoTempodoProjeto[[#This Row],[DATA]],DadosdeLinhadoTempodoProjeto[DATA],1),\"\")","v":""},{"$f":"IFERROR(IF(ISBLANK(INDEX(DetalhesDoProjeto[#Data],Última_entrada_do_projeto-Linha_de_início_do_projeto-DadosdeLinhadoTempodoProjeto[[#This Row],[NUM]]+1,1)),\"\",INDEX(DetalhesDoProjeto[#Data],Última_entrada_do_projeto-Linha_de_início_do_projeto-DadosdeLinhadoTempodoProjeto[[#This Row],[NUM]]+1,1)),\"\")","v":""},{"$f":"IFERROR(IF(ISBLANK(INDEX(DetalhesDoProjeto[#Data],Última_entrada_do_projeto-Linha_de_início_do_projeto-DadosdeLinhadoTempodoProjeto[[#This Row],[NUM]]+1,2)),\"\",INDEX(DetalhesDoProjeto[#Data],Última_entrada_do_projeto-Linha_de_início_do_projeto-DadosdeLinhadoTempodoProjeto[[#This Row],[NUM]]+1,2)),\"\")","v":""},{"$f":"IFERROR(IF(ISBLANK(INDEX(DetalhesDoProjeto[#Data],Última_entrada_do_projeto-Linha_de_início_do_projeto-DadosdeLinhadoTempodoProjeto[[#This Row],[NUM]]+1,3)),\"\",INDEX(DetalhesDoProjeto[#Data],Última_entrada_do_projeto-Linha_de_início_do_projeto-DadosdeLinhadoTempodoProjeto[[#This Row],[NUM]]+1,3)),\"\")","v":""},{"$f":"IFERROR(IF(ISBLANK(INDEX(DetalhesDoProjeto[#Data],ROW(A69)+1,1)),\"\",IF($J73-1<=-1,\"\",$J73-1)),\"\")","v":""},null,null,{"$f":"IFERROR(DadosdeLinhadoTempodoProjeto[[#This Row],[NUM]]+1,\"\")","v":""},{"$f":"IFERROR(VLOOKUP(LinhadoTempoClassificada[[#This Row],[POSIÇÃO classificada]],DadosdeLinhadoTempodoProjeto[],3,0),\"\")","v":""},{"$f":"IFERROR(VLOOKUP(LinhadoTempoClassificada[[#This Row],[POSIÇÃO classificada]],DadosdeLinhadoTempodoProjeto[],4,0),\"\")","v":""},{"$f":"IFERROR(VLOOKUP(LinhadoTempoClassificada[[#This Row],[POSIÇÃO classificada]],DadosdeLinhadoTempodoProjeto[],5,0),\"\")","v":""}]
[{"$nulls":4},{"$f":"IFERROR(RANK(F75,DadosdeLinhadoTempodoProjeto[CLASSIFICAÇÃO])+SUMPRODUCT(--(F75=DadosdeLinhadoTempodoProjeto[CLASSIFICAÇÃO]),--(J75<DadosdeLinhadoTempodoProjeto[NUM])),\"\")","v":""},{"$f":"IFERROR(RANK(DadosdeLinhadoTempodoProjeto[[#This Row],[DATA]],DadosdeLinhadoTempodoProjeto[DATA],1),\"\")","v":""},{"$f":"IFERROR(IF(ISBLANK(INDEX(DetalhesDoProjeto[#Data],Última_entrada_do_projeto-Linha_de_início_do_projeto-DadosdeLinhadoTempodoProjeto[[#This Row],[NUM]]+1,1)),\"\",INDEX(DetalhesDoProjeto[#Data],Última_entrada_do_projeto-Linha_de_início_do_projeto-DadosdeLinhadoTempodoProjeto[[#This Row],[NUM]]+1,1)),\"\")","v":""},{"$f":"IFERROR(IF(ISBLANK(INDEX(DetalhesDoProjeto[#Data],Última_entrada_do_projeto-Linha_de_início_do_projeto-DadosdeLinhadoTempodoProjeto[[#This Row],[NUM]]+1,2)),\"\",INDEX(DetalhesDoProjeto[#Data],Última_entrada_do_projeto-Linha_de_início_do_projeto-DadosdeLinhadoTempodoProjeto[[#This Row],[NUM]]+1,2)),\"\")","v":""},{"$f":"IFERROR(IF(ISBLANK(INDEX(DetalhesDoProjeto[#Data],Última_entrada_do_projeto-Linha_de_início_do_projeto-DadosdeLinhadoTempodoProjeto[[#This Row],[NUM]]+1,3)),\"\",INDEX(DetalhesDoProjeto[#Data],Última_entrada_do_projeto-Linha_de_início_do_projeto-DadosdeLinhadoTempodoProjeto[[#This Row],[NUM]]+1,3)),\"\")","v":""},{"$f":"IFERROR(IF(ISBLANK(INDEX(DetalhesDoProjeto[#Data],ROW(A70)+1,1)),\"\",IF($J74-1<=-1,\"\",$J74-1)),\"\")","v":""},null,null,{"$f":"IFERROR(DadosdeLinhadoTempodoProjeto[[#This Row],[NUM]]+1,\"\")","v":""},{"$f":"IFERROR(VLOOKUP(LinhadoTempoClassificada[[#This Row],[POSIÇÃO classificada]],DadosdeLinhadoTempodoProjeto[],3,0),\"\")","v":""},{"$f":"IFERROR(VLOOKUP(LinhadoTempoClassificada[[#This Row],[POSIÇÃO classificada]],DadosdeLinhadoTempodoProjeto[],4,0),\"\")","v":""},{"$f":"IFERROR(VLOOKUP(LinhadoTempoClassificada[[#This Row],[POSIÇÃO classificada]],DadosdeLinhadoTempodoProjeto[],5,0),\"\")","v":""}]
[{"$nulls":4},{"$f":"IFERROR(RANK(F76,DadosdeLinhadoTempodoProjeto[CLASSIFICAÇÃO])+SUMPRODUCT(--(F76=DadosdeLinhadoTempodoProjeto[CLASSIFICAÇÃO]),--(J76<DadosdeLinhadoTempodoProjeto[NUM])),\"\")","v":""},{"$f":"IFERROR(RANK(DadosdeLinhadoTempodoProjeto[[#This Row],[DATA]],DadosdeLinhadoTempodoProjeto[DATA],1),\"\")","v":""},{"$f":"IFERROR(IF(ISBLANK(INDEX(DetalhesDoProjeto[#Data],Última_entrada_do_projeto-Linha_de_início_do_projeto-DadosdeLinhadoTempodoProjeto[[#This Row],[NUM]]+1,1)),\"\",INDEX(DetalhesDoProjeto[#Data],Última_entrada_do_projeto-Linha_de_início_do_projeto-DadosdeLinhadoTempodoProjeto[[#This Row],[NUM]]+1,1)),\"\")","v":""},{"$f":"IFERROR(IF(ISBLANK(INDEX(DetalhesDoProjeto[#Data],Última_entrada_do_projeto-Linha_de_início_do_projeto-DadosdeLinhadoTempodoProjeto[[#This Row],[NUM]]+1,2)),\"\",INDEX(DetalhesDoProjeto[#Data],Última_entrada_do_projeto-Linha_de_início_do_projeto-DadosdeLinhadoTempodoProjeto[[#This Row],[NUM]]+1,2)),\"\")","v":""},{"$f":"IFERROR(IF(ISBLANK(INDEX(DetalhesDoProjeto[#Data],Última_entrada_do_projeto-Linha_de_início_do_projeto-DadosdeLinhadoTempodoProjeto[[#This Row],[NUM]]+1,3)),\"\",INDEX(DetalhesDoProjeto[#Data],Última_entrada_do_projeto-Linha_de_início_do_projeto-DadosdeLinhadoTempodoProjeto[[#This Row],[NUM]]+1,3)),\"\")","v":""},{"$f":"IFERROR(IF(ISBLANK(INDEX(DetalhesDoProjeto[#Data],ROW(A71)+1,1)),\"\",IF($J75-1<=-1,\"\",$J75-1)),\"\")","v":""},null,null,{"$f":"IFERROR(DadosdeLinhadoTempodoProjeto[[#This Row],[NUM]]+1,\"\")","v":""},{"$f":"IFERROR(VLOOKUP(LinhadoTempoClassificada[[#This Row],[POSIÇÃO classificada]],DadosdeLinhadoTempodoProjeto[],3,0),\"\")","v":""},{"$f":"IFERROR(VLOOKUP(LinhadoTempoClassificada[[#This Row],[POSIÇÃO classificada]],DadosdeLinhadoTempodoProjeto[],4,0),\"\")","v":""},{"$f":"IFERROR(VLOOKUP(LinhadoTempoClassificada[[#This Row],[POSIÇÃO classificada]],DadosdeLinhadoTempodoProjeto[],5,0),\"\")","v":""}]
[{"$nulls":4},{"$f":"IFERROR(RANK(F77,DadosdeLinhadoTempodoProjeto[CLASSIFICAÇÃO])+SUMPRODUCT(--(F77=DadosdeLinhadoTempodoProjeto[CLASSIFICAÇÃO]),--(J77<DadosdeLinhadoTempodoProjeto[NUM])),\"\")","v":""},{"$f":"IFERROR(RANK(DadosdeLinhadoTempodoProjeto[[#This Row],[DATA]],DadosdeLinhadoTempodoProjeto[DATA],1),\"\")","v":""},{"$f":"IFERROR(IF(ISBLANK(INDEX(DetalhesDoProjeto[#Data],Última_entrada_do_projeto-Linha_de_início_do_projeto-DadosdeLinhadoTempodoProjeto[[#This Row],[NUM]]+1,1)),\"\",INDEX(DetalhesDoProjeto[#Data],Última_entrada_do_projeto-Linha_de_início_do_projeto-DadosdeLinhadoTempodoProjeto[[#This Row],[NUM]]+1,1)),\"\")","v":""},{"$f":"IFERROR(IF(ISBLANK(INDEX(DetalhesDoProjeto[#Data],Última_entrada_do_projeto-Linha_de_início_do_projeto-DadosdeLinhadoTempodoProjeto[[#This Row],[NUM]]+1,2)),\"\",INDEX(DetalhesDoProjeto[#Data],Última_entrada_do_projeto-Linha_de_início_do_projeto-DadosdeLinhadoTempodoProjeto[[#This Row],[NUM]]+1,2)),\"\")","v":""},{"$f":"IFERROR(IF(ISBLANK(INDEX(DetalhesDoProjeto[#Data],Última_entrada_do_projeto-Linha_de_início_do_projeto-DadosdeLinhadoTempodoProjeto[[#This Row],[NUM]]+1,3)),\"\",INDEX(DetalhesDoProjeto[#Data],Última_entrada_do_projeto-Linha_de_início_do_projeto-DadosdeLinhadoTempodoProjeto[[#This Row],[NUM]]+1,3)),\"\")","v":""},{"$f":"IFERROR(IF(ISBLANK(INDEX(DetalhesDoProjeto[#Data],ROW(A72)+1,1)),\"\",IF($J76-1<=-1,\"\",$J76-1)),\"\")","v":""},null,null,{"$f":"IFERROR(DadosdeLinhadoTempodoProjeto[[#This Row],[NUM]]+1,\"\")","v":""},{"$f":"IFERROR(VLOOKUP(LinhadoTempoClassificada[[#This Row],[POSIÇÃO classificada]],DadosdeLinhadoTempodoProjeto[],3,0),\"\")","v":""},{"$f":"IFERROR(VLOOKUP(LinhadoTempoClassificada[[#This Row],[POSIÇÃO classificada]],DadosdeLinhadoTempodoProjeto[],4,0),\"\")","v":""},{"$f":"IFERROR(VLOOKUP(LinhadoTempoClassificada[[#This Row],[POSIÇÃO classificada]],DadosdeLinhadoTempodoProjeto[],5,0),\"\")","v":""}]
[{"$nulls":4},{"$f":"IFERROR(RANK(F78,DadosdeLinhadoTempodoProjeto[CLASSIFICAÇÃO])+SUMPRODUCT(--(F78=DadosdeLinhadoTempodoProjeto[CLASSIFICAÇÃO]),--(J78<DadosdeLinhadoTempodoProjeto[NUM])),\"\")","v":""},{"$f":"IFERROR(RANK(DadosdeLinhadoTempodoProjeto[[#This Row],[DATA]],DadosdeLinhadoTempodoProjeto[DATA],1),\"\")","v":""},{"$f":"IFERROR(IF(ISBLANK(INDEX(DetalhesDoProjeto[#Data],Última_entrada_do_projeto-Linha_de_início_do_projeto-DadosdeLinhadoTempodoProjeto[[#This Row],[NUM]]+1,1)),\"\",INDEX(DetalhesDoProjeto[#Data],Última_entrada_do_projeto-Linha_de_início_do_projeto-DadosdeLinhadoTempodoProjeto[[#This Row],[NUM]]+1,1)),\"\")","v":""},{"$f":"IFERROR(IF(ISBLANK(INDEX(DetalhesDoProjeto[#Data],Última_entrada_do_projeto-Linha_de_início_do_projeto-DadosdeLinhadoTempodoProjeto[[#This Row],[NUM]]+1,2)),\"\",INDEX(DetalhesDoProjeto[#Data],Última_entrada_do_projeto-Linha_de_início_do_projeto-DadosdeLinhadoTempodoProjeto[[#This Row],[NUM]]+1,2)),\"\")","v":""},{"$f":"IFERROR(IF(ISBLANK(INDEX(DetalhesDoProjeto[#Data],Última_entrada_do_projeto-Linha_de_início_do_projeto-DadosdeLinhadoTempodoProjeto[[#This Row],[NUM]]+1,3)),\"\",INDEX(DetalhesDoProjeto[#Data],Última_entrada_do_projeto-Linha_de_início_do_projeto-DadosdeLinhadoTempodoProjeto[[#This Row],[NUM]]+1,3)),\"\")","v":""},{"$f":"IFERROR(IF(ISBLANK(INDEX(DetalhesDoProjeto[#Data],ROW(A73)+1,1)),\"\",IF($J77-1<=-1,\"\",$J77-1)),\"\")","v":""},null,null,{"$f":"IFERROR(DadosdeLinhadoTempodoProjeto[[#This Row],[NUM]]+1,\"\")","v":""},{"$f":"IFERROR(VLOOKUP(LinhadoTempoClassificada[[#This Row],[POSIÇÃO classificada]],DadosdeLinhadoTempodoProjeto[],3,0),\"\")","v":""},{"$f":"IFERROR(VLOOKUP(LinhadoTempoClassificada[[#This Row],[POSIÇÃO classificada]],DadosdeLinhadoTempodoProjeto[],4,0),\"\")","v":""},{"$f":"IFERROR(VLOOKUP(LinhadoTempoClassificada[[#This Row],[POSIÇÃO classificada]],DadosdeLinhadoTempodoProjeto[],5,0),\"\")","v":""}]
[{"$nulls":4},{"$f":"IFERROR(RANK(F79,DadosdeLinhadoTempodoProjeto[CLASSIFICAÇÃO])+SUMPRODUCT(--(F79=DadosdeLinhadoTempodoProjeto[CLASSIFICAÇÃO]),--(J79<DadosdeLinhadoTempodoProjeto[NUM])),\"\")","v":""},{"$f":"IFERROR(RANK(DadosdeLinhadoTempodoProjeto[[#This Row],[DATA]],DadosdeLinhadoTempodoProjeto[DATA],1),\"\")","v":""},{"$f":"IFERROR(IF(ISBLANK(INDEX(DetalhesDoProjeto[#Data],Última_entrada_do_projeto-Linha_de_início_do_projeto-DadosdeLinhadoTempodoProjeto[[#This Row],[NUM]]+1,1)),\"\",INDEX(DetalhesDoProjeto[#Data],Última_entrada_do_projeto-Linha_de_início_do_projeto-DadosdeLinhadoTempodoProjeto[[#This Row],[NUM]]+1,1)),\"\")","v":""},{"$f":"IFERROR(IF(ISBLANK(INDEX(DetalhesDoProjeto[#Data],Última_entrada_do_projeto-Linha_de_início_do_projeto-DadosdeLinhadoTempodoProjeto[[#This Row],[NUM]]+1,2)),\"\",INDEX(DetalhesDoProjeto[#Data],Última_entrada_do_projeto-Linha_de_início_do_projeto-DadosdeLinhadoTempodoProjeto[[#This Row],[NUM]]+1,2)),\"\")","v":""},{"$f":"IFERROR(IF(ISBLANK(INDEX(DetalhesDoProjeto[#Data],Última_entrada_do_projeto-Linha_de_início_do_projeto-DadosdeLinhadoTempodoProjeto[[#This Row],[NUM]]+1,3)),\"\",INDEX(DetalhesDoProjeto[#Data],Última_entrada_do_projeto-Linha_de_início_do_projeto-DadosdeLinhadoTempodoProjeto[[#This Row],[NUM]]+1,3)),\"\")","v":""},{"$f":"IFERROR(IF(ISBLANK(INDEX(DetalhesDoProjeto[#Data],ROW(A74)+1,1)),\"\",IF($J78-1<=-1,\"\",$J78-1)),\"\")","v":""},null,null,{"$f":"IFERROR(DadosdeLinhadoTempodoProjeto[[#This Row],[NUM]]+1,\"\")","v":""},{"$f":"IFERROR(VLOOKUP(LinhadoTempoClassificada[[#This Row],[POSIÇÃO classificada]],DadosdeLinhadoTempodoProjeto[],3,0),\"\")","v":""},{"$f":"IFERROR(VLOOKUP(LinhadoTempoClassificada[[#This Row],[POSIÇÃO classificada]],DadosdeLinhadoTempodoProjeto[],4,0),\"\")","v":""},{"$f":"IFERROR(VLOOKUP(LinhadoTempoClassificada[[#This Row],[POSIÇÃO classificada]],DadosdeLinhadoTempodoProjeto[],5,0),\"\")","v":""}]
[{"$nulls":4},{"$f":"IFERROR(RANK(F80,DadosdeLinhadoTempodoProjeto[CLASSIFICAÇÃO])+SUMPRODUCT(--(F80=DadosdeLinhadoTempodoProjeto[CLASSIFICAÇÃO]),--(J80<DadosdeLinhadoTempodoProjeto[NUM])),\"\")","v":""},{"$f":"IFERROR(RANK(DadosdeLinhadoTempodoProjeto[[#This Row],[DATA]],DadosdeLinhadoTempodoProjeto[DATA],1),\"\")","v":""},{"$f":"IFERROR(IF(ISBLANK(INDEX(DetalhesDoProjeto[#Data],Última_entrada_do_projeto-Linha_de_início_do_projeto-DadosdeLinhadoTempodoProjeto[[#This Row],[NUM]]+1,1)),\"\",INDEX(DetalhesDoProjeto[#Data],Última_entrada_do_projeto-Linha_de_início_do_projeto-DadosdeLinhadoTempodoProjeto[[#This Row],[NUM]]+1,1)),\"\")","v":""},{"$f":"IFERROR(IF(ISBLANK(INDEX(DetalhesDoProjeto[#Data],Última_entrada_do_projeto-Linha_de_início_do_projeto-DadosdeLinhadoTempodoProjeto[[#This Row],[NUM]]+1,2)),\"\",INDEX(DetalhesDoProjeto[#Data],Última_entrada_do_projeto-Linha_de_início_do_projeto-DadosdeLinhadoTempodoProjeto[[#This Row],[NUM]]+1,2)),\"\")","v":""},{"$f":"IFERROR(IF(ISBLANK(INDEX(DetalhesDoProjeto[#Data],Última_entrada_do_projeto-Linha_de_início_do_projeto-DadosdeLinhadoTempodoProjeto[[#This Row],[NUM]]+1,3)),\"\",INDEX(DetalhesDoProjeto[#Data],Última_entrada_do_projeto-Linha_de_início_do_projeto-DadosdeLinhadoTempodoProjeto[[#This Row],[NUM]]+1,3)),\"\")","v":""},{"$f":"IFERROR(IF(ISBLANK(INDEX(DetalhesDoProjeto[#Data],ROW(A75)+1,1)),\"\",IF($J79-1<=-1,\"\",$J79-1)),\"\")","v":""},null,null,{"$f":"IFERROR(DadosdeLinhadoTempodoProjeto[[#This Row],[NUM]]+1,\"\")","v":""},{"$f":"IFERROR(VLOOKUP(LinhadoTempoClassificada[[#This Row],[POSIÇÃO classificada]],DadosdeLinhadoTempodoProjeto[],3,0),\"\")","v":""},{"$f":"IFERROR(VLOOKUP(LinhadoTempoClassificada[[#This Row],[POSIÇÃO classificada]],DadosdeLinhadoTempodoProjeto[],4,0),\"\")","v":""},{"$f":"IFERROR(VLOOKUP(LinhadoTempoClassificada[[#This Row],[POSIÇÃO classificada]],DadosdeLinhadoTempodoProjeto[],5,0),\"\")","v":""}]
[{"$nulls":4},{"$f":"IFERROR(RANK(F81,DadosdeLinhadoTempodoProjeto[CLASSIFICAÇÃO])+SUMPRODUCT(--(F81=DadosdeLinhadoTempodoProjeto[CLASSIFICAÇÃO]),--(J81<DadosdeLinhadoTempodoProjeto[NUM])),\"\")","v":""},{"$f":"IFERROR(RANK(DadosdeLinhadoTempodoProjeto[[#This Row],[DATA]],DadosdeLinhadoTempodoProjeto[DATA],1),\"\")","v":""},{"$f":"IFERROR(IF(ISBLANK(INDEX(DetalhesDoProjeto[#Data],Última_entrada_do_projeto-Linha_de_início_do_projeto-DadosdeLinhadoTempodoProjeto[[#This Row],[NUM]]+1,1)),\"\",INDEX(DetalhesDoProjeto[#Data],Última_entrada_do_projeto-Linha_de_início_do_projeto-DadosdeLinhadoTempodoProjeto[[#This Row],[NUM]]+1,1)),\"\")","v":""},{"$f":"IFERROR(IF(ISBLANK(INDEX(DetalhesDoProjeto[#Data],Última_entrada_do_projeto-Linha_de_início_do_projeto-DadosdeLinhadoTempodoProjeto[[#This Row],[NUM]]+1,2)),\"\",INDEX(DetalhesDoProjeto[#Data],Última_entrada_do_projeto-Linha_de_início_do_projeto-DadosdeLinhadoTempodoProjeto[[#This Row],[NUM]]+1,2)),\"\")","v":""},{"$f":"IFERROR(IF(ISBLANK(INDEX(DetalhesDoProjeto[#Data],Última_entrada_do_projeto-Linha_de_início_do_projeto-DadosdeLinhadoTempodoProjeto[[#This Row],[NUM]]+1,3)),\"\",INDEX(DetalhesDoProjeto[#Data],Última_entrada_do_projeto-Linha_de_início_do_projeto-DadosdeLinhadoTempodoProjeto[[#This Row],[NUM]]+1,3)),\"\")","v":""},{"$f":"IFERROR(IF(ISBLANK(INDEX(DetalhesDoProjeto[#Data],ROW(A76)+1,1)),\"\",IF($J80-1<=-1,\"\",$J80-1)),\"\")","v":""},null,null,{"$f":"IFERROR(DadosdeLinhadoTempodoProjeto[[#This Row],[NUM]]+1,\"\")","v":""},{"$f":"IFERROR(VLOOKUP(LinhadoTempoClassificada[[#This Row],[POSIÇÃO classificada]],DadosdeLinhadoTempodoProjeto[],3,0),\"\")","v":""},{"$f":"IFERROR(VLOOKUP(LinhadoTempoClassificada[[#This Row],[POSIÇÃO classificada]],DadosdeLinhadoTempodoProjeto[],4,0),\"\")","v":""},{"$f":"IFERROR(VLOOKUP(LinhadoTempoClassificada[[#This Row],[POSIÇÃO classificada]],DadosdeLinhadoTempodoProjeto[],5,0),\"\")","v":""}]
[{"$nulls":4},{"$f":"IFERROR(RANK(F82,DadosdeLinhadoTempodoProjeto[CLASSIFICAÇÃO])+SUMPRODUCT(--(F82=DadosdeLinhadoTempodoProjeto[CLASSIFICAÇÃO]),--(J82<DadosdeLinhadoTempodoProjeto[NUM])),\"\")","v":""},{"$f":"IFERROR(RANK(DadosdeLinhadoTempodoProjeto[[#This Row],[DATA]],DadosdeLinhadoTempodoProjeto[DATA],1),\"\")","v":""},{"$f":"IFERROR(IF(ISBLANK(INDEX(DetalhesDoProjeto[#Data],Última_entrada_do_projeto-Linha_de_início_do_projeto-DadosdeLinhadoTempodoProjeto[[#This Row],[NUM]]+1,1)),\"\",INDEX(DetalhesDoProjeto[#Data],Última_entrada_do_projeto-Linha_de_início_do_projeto-DadosdeLinhadoTempodoProjeto[[#This Row],[NUM]]+1,1)),\"\")","v":""},{"$f":"IFERROR(IF(ISBLANK(INDEX(DetalhesDoProjeto[#Data],Última_entrada_do_projeto-Linha_de_início_do_projeto-DadosdeLinhadoTempodoProjeto[[#This Row],[NUM]]+1,2)),\"\",INDEX(DetalhesDoProjeto[#Data],Última_entrada_do_projeto-Linha_de_início_do_projeto-DadosdeLinhadoTempodoProjeto[[#This Row],[NUM]]+1,2)),\"\")","v":""},{"$f":"IFERROR(IF(ISBLANK(INDEX(DetalhesDoProjeto[#Data],Última_entrada_do_projeto-Linha_de_início_do_projeto-DadosdeLinhadoTempodoProjeto[[#This Row],[NUM]]+1,3)),\"\",INDEX(DetalhesDoProjeto[#Data],Última_entrada_do_projeto-Linha_de_início_do_projeto-DadosdeLinhadoTempodoProjeto[[#This Row],[NUM]]+1,3)),\"\")","v":""},{"$f":"IFERROR(IF(ISBLANK(INDEX(DetalhesDoProjeto[#Data],ROW(A77)+1,1)),\"\",IF($J81-1<=-1,\"\",$J81-1)),\"\")","v":""},null,null,{"$f":"IFERROR(DadosdeLinhadoTempodoProjeto[[#This Row],[NUM]]+1,\"\")","v":""},{"$f":"IFERROR(VLOOKUP(LinhadoTempoClassificada[[#This Row],[POSIÇÃO classificada]],DadosdeLinhadoTempodoProjeto[],3,0),\"\")","v":""},{"$f":"IFERROR(VLOOKUP(LinhadoTempoClassificada[[#This Row],[POSIÇÃO classificada]],DadosdeLinhadoTempodoProjeto[],4,0),\"\")","v":""},{"$f":"IFERROR(VLOOKUP(LinhadoTempoClassificada[[#This Row],[POSIÇÃO classificada]],DadosdeLinhadoTempodoProjeto[],5,0),\"\")","v":""}]
[{"$nulls":4},{"$f":"IFERROR(RANK(F83,DadosdeLinhadoTempodoProjeto[CLASSIFICAÇÃO])+SUMPRODUCT(--(F83=DadosdeLinhadoTempodoProjeto[CLASSIFICAÇÃO]),--(J83<DadosdeLinhadoTempodoProjeto[NUM])),\"\")","v":""},{"$f":"IFERROR(RANK(DadosdeLinhadoTempodoProjeto[[#This Row],[DATA]],DadosdeLinhadoTempodoProjeto[DATA],1),\"\")","v":""},{"$f":"IFERROR(IF(ISBLANK(INDEX(DetalhesDoProjeto[#Data],Última_entrada_do_projeto-Linha_de_início_do_projeto-DadosdeLinhadoTempodoProjeto[[#This Row],[NUM]]+1,1)),\"\",INDEX(DetalhesDoProjeto[#Data],Última_entrada_do_projeto-Linha_de_início_do_projeto-DadosdeLinhadoTempodoProjeto[[#This Row],[NUM]]+1,1)),\"\")","v":""},{"$f":"IFERROR(IF(ISBLANK(INDEX(DetalhesDoProjeto[#Data],Última_entrada_do_projeto-Linha_de_início_do_projeto-DadosdeLinhadoTempodoProjeto[[#This Row],[NUM]]+1,2)),\"\",INDEX(DetalhesDoProjeto[#Data],Última_entrada_do_projeto-Linha_de_início_do_projeto-DadosdeLinhadoTempodoProjeto[[#This Row],[NUM]]+1,2)),\"\")","v":""},{"$f":"IFERROR(IF(ISBLANK(INDEX(DetalhesDoProjeto[#Data],Última_entrada_do_projeto-Linha_de_início_do_projeto-DadosdeLinhadoTempodoProjeto[[#This Row],[NUM]]+1,3)),\"\",INDEX(DetalhesDoProjeto[#Data],Última_entrada_do_projeto-Linha_de_início_do_projeto-DadosdeLinhadoTempodoProjeto[[#This Row],[NUM]]+1,3)),\"\")","v":""},{"$f":"IFERROR(IF(ISBLANK(INDEX(DetalhesDoProjeto[#Data],ROW(A78)+1,1)),\"\",IF($J82-1<=-1,\"\",$J82-1)),\"\")","v":""},null,null,{"$f":"IFERROR(DadosdeLinhadoTempodoProjeto[[#This Row],[NUM]]+1,\"\")","v":""},{"$f":"IFERROR(VLOOKUP(LinhadoTempoClassificada[[#This Row],[POSIÇÃO classificada]],DadosdeLinhadoTempodoProjeto[],3,0),\"\")","v":""},{"$f":"IFERROR(VLOOKUP(LinhadoTempoClassificada[[#This Row],[POSIÇÃO classificada]],DadosdeLinhadoTempodoProjeto[],4,0),\"\")","v":""},{"$f":"IFERROR(VLOOKUP(LinhadoTempoClassificada[[#This Row],[POSIÇÃO classificada]],DadosdeLinhadoTempodoProjeto[],5,0),\"\")","v":""}]
[{"$nulls":4},{"$f":"IFERROR(RANK(F84,DadosdeLinhadoTempodoProjeto[CLASSIFICAÇÃO])+SUMPRODUCT(--(F84=DadosdeLinhadoTempodoProjeto[CLASSIFICAÇÃO]),--(J84<DadosdeLinhadoTempodoProjeto[NUM])),\"\")","v":""},{"$f":"IFERROR(RANK(DadosdeLinhadoTempodoProjeto[[#This Row],[DATA]],DadosdeLinhadoTempodoProjeto[DATA],1),\"\")","v":""},{"$f":"IFERROR(IF(ISBLANK(INDEX(DetalhesDoProjeto[#Data],Última_entrada_do_projeto-Linha_de_início_do_projeto-DadosdeLinhadoTempodoProjeto[[#This Row],[NUM]]+1,1)),\"\",INDEX(DetalhesDoProjeto[#Data],Última_entrada_do_projeto-Linha_de_início_do_projeto-DadosdeLinhadoTempodoProjeto[[#This Row],[NUM]]+1,1)),\"\")","v":""},{"$f":"IFERROR(IF(ISBLANK(INDEX(DetalhesDoProjeto[#Data],Última_entrada_do_projeto-Linha_de_início_do_projeto-DadosdeLinhadoTempodoProjeto[[#This Row],[NUM]]+1,2)),\"\",INDEX(DetalhesDoProjeto[#Data],Última_entrada_do_projeto-Linha_de_início_do_projeto-DadosdeLinhadoTempodoProjeto[[#This Row],[NUM]]+1,2)),\"\")","v":""},{"$f":"IFERROR(IF(ISBLANK(INDEX(DetalhesDoProjeto[#Data],Última_entrada_do_projeto-Linha_de_início_do_projeto-DadosdeLinhadoTempodoProjeto[[#This Row],[NUM]]+1,3)),\"\",INDEX(DetalhesDoProjeto[#Data],Última_entrada_do_projeto-Linha_de_início_do_projeto-DadosdeLinhadoTempodoProjeto[[#This Row],[NUM]]+1,3)),\"\")","v":""},{"$f":"IFERROR(IF(ISBLANK(INDEX(DetalhesDoProjeto[#Data],ROW(A79)+1,1)),\"\",IF($J83-1<=-1,\"\",$J83-1)),\"\")","v":""},null,null,{"$f":"IFERROR(DadosdeLinhadoTempodoProjeto[[#This Row],[NUM]]+1,\"\")","v":""},{"$f":"IFERROR(VLOOKUP(LinhadoTempoClassificada[[#This Row],[POSIÇÃO classificada]],DadosdeLinhadoTempodoProjeto[],3,0),\"\")","v":""},{"$f":"IFERROR(VLOOKUP(LinhadoTempoClassificada[[#This Row],[POSIÇÃO classificada]],DadosdeLinhadoTempodoProjeto[],4,0),\"\")","v":""},{"$f":"IFERROR(VLOOKUP(LinhadoTempoClassificada[[#This Row],[POSIÇÃO classificada]],DadosdeLinhadoTempodoProjeto[],5,0),\"\")","v":""}]
[{"$nulls":4},{"$f":"IFERROR(RANK(F85,DadosdeLinhadoTempodoProjeto[CLASSIFICAÇÃO])+SUMPRODUCT(--(F85=DadosdeLinhadoTempodoProjeto[CLASSIFICAÇÃO]),--(J85<DadosdeLinhadoTempodoProjeto[NUM])),\"\")","v":""},{"$f":"IFERROR(RANK(DadosdeLinhadoTempodoProjeto[[#This Row],[DATA]],DadosdeLinhadoTempodoProjeto[DATA],1),\"\")","v":""},{"$f":"IFERROR(IF(ISBLANK(INDEX(DetalhesDoProjeto[#Data],Última_entrada_do_projeto-Linha_de_início_do_projeto-DadosdeLinhadoTempodoProjeto[[#This Row],[NUM]]+1,1)),\"\",INDEX(DetalhesDoProjeto[#Data],Última_entrada_do_projeto-Linha_de_início_do_projeto-DadosdeLinhadoTempodoProjeto[[#This Row],[NUM]]+1,1)),\"\")","v":""},{"$f":"IFERROR(IF(ISBLANK(INDEX(DetalhesDoProjeto[#Data],Última_entrada_do_projeto-Linha_de_início_do_projeto-DadosdeLinhadoTempodoProjeto[[#This Row],[NUM]]+1,2)),\"\",INDEX(DetalhesDoProjeto[#Data],Última_entrada_do_projeto-Linha_de_início_do_projeto-DadosdeLinhadoTempodoProjeto[[#This Row],[NUM]]+1,2)),\"\")","v":""},{"$f":"IFERROR(IF(ISBLANK(INDEX(DetalhesDoProjeto[#Data],Última_entrada_do_projeto-Linha_de_início_do_projeto-DadosdeLinhadoTempodoProjeto[[#This Row],[NUM]]+1,3)),\"\",INDEX(DetalhesDoProjeto[#Data],Última_entrada_do_projeto-Linha_de_início_do_projeto-DadosdeLinhadoTempodoProjeto[[#This Row],[NUM]]+1,3)),\"\")","v":""},{"$f":"IFERROR(IF(ISBLANK(INDEX(DetalhesDoProjeto[#Data],ROW(A80)+1,1)),\"\",IF($J84-1<=-1,\"\",$J84-1)),\"\")","v":""},null,null,{"$f":"IFERROR(DadosdeLinhadoTempodoProjeto[[#This Row],[NUM]]+1,\"\")","v":""},{"$f":"IFERROR(VLOOKUP(LinhadoTempoClassificada[[#This Row],[POSIÇÃO classificada]],DadosdeLinhadoTempodoProjeto[],3,0),\"\")","v":""},{"$f":"IFERROR(VLOOKUP(LinhadoTempoClassificada[[#This Row],[POSIÇÃO classificada]],DadosdeLinhadoTempodoProjeto[],4,0),\"\")","v":""},{"$f":"IFERROR(VLOOKUP(LinhadoTempoClassificada[[#This Row],[POSIÇÃO classificada]],DadosdeLinhadoTempodoProjeto[],5,0),\"\")","v":""}]
[{"$nulls":4},{"$f":"IFERROR(RANK(F86,DadosdeLinhadoTempodoProjeto[CLASSIFICAÇÃO])+SUMPRODUCT(--(F86=DadosdeLinhadoTempodoProjeto[CLASSIFICAÇÃO]),--(J86<DadosdeLinhadoTempodoProjeto[NUM])),\"\")","v":""},{"$f":"IFERROR(RANK(DadosdeLinhadoTempodoProjeto[[#This Row],[DATA]],DadosdeLinhadoTempodoProjeto[DATA],1),\"\")","v":""},{"$f":"IFERROR(IF(ISBLANK(INDEX(DetalhesDoProjeto[#Data],Última_entrada_do_projeto-Linha_de_início_do_projeto-DadosdeLinhadoTempodoProjeto[[#This Row],[NUM]]+1,1)),\"\",INDEX(DetalhesDoProjeto[#Data],Última_entrada_do_projeto-Linha_de_início_do_projeto-DadosdeLinhadoTempodoProjeto[[#This Row],[NUM]]+1,1)),\"\")","v":""},{"$f":"IFERROR(IF(ISBLANK(INDEX(DetalhesDoProjeto[#Data],Última_entrada_do_projeto-Linha_de_início_do_projeto-DadosdeLinhadoTempodoProjeto[[#This Row],[NUM]]+1,2)),\"\",INDEX(DetalhesDoProjeto[#Data],Última_entrada_do_projeto-Linha_de_início_do_projeto-DadosdeLinhadoTempodoProjeto[[#This Row],[NUM]]+1,2)),\"\")","v":""},{"$f":"IFERROR(IF(ISBLANK(INDEX(DetalhesDoProjeto[#Data],Última_entrada_do_projeto-Linha_de_início_do_projeto-DadosdeLinhadoTempodoProjeto[[#This Row],[NUM]]+1,3)),\"\",INDEX(DetalhesDoProjeto[#Data],Última_entrada_do_projeto-Linha_de_início_do_projeto-DadosdeLinhadoTempodoProjeto[[#This Row],[NUM]]+1,3)),\"\")","v":""},{"$f":"IFERROR(IF(ISBLANK(INDEX(DetalhesDoProjeto[#Data],ROW(A81)+1,1)),\"\",IF($J85-1<=-1,\"\",$J85-1)),\"\")","v":""},null,null,{"$f":"IFERROR(DadosdeLinhadoTempodoProjeto[[#This Row],[NUM]]+1,\"\")","v":""},{"$f":"IFERROR(VLOOKUP(LinhadoTempoClassificada[[#This Row],[POSIÇÃO classificada]],DadosdeLinhadoTempodoProjeto[],3,0),\"\")","v":""},{"$f":"IFERROR(VLOOKUP(LinhadoTempoClassificada[[#This Row],[POSIÇÃO classificada]],DadosdeLinhadoTempodoProjeto[],4,0),\"\")","v":""},{"$f":"IFERROR(VLOOKUP(LinhadoTempoClassificada[[#This Row],[POSIÇÃO classificada]],DadosdeLinhadoTempodoProjeto[],5,0),\"\")","v":""}]
[{"$nulls":4},{"$f":"IFERROR(RANK(F87,DadosdeLinhadoTempodoProjeto[CLASSIFICAÇÃO])+SUMPRODUCT(--(F87=DadosdeLinhadoTempodoProjeto[CLASSIFICAÇÃO]),--(J87<DadosdeLinhadoTempodoProjeto[NUM])),\"\")","v":""},{"$f":"IFERROR(RANK(DadosdeLinhadoTempodoProjeto[[#This Row],[DATA]],DadosdeLinhadoTempodoProjeto[DATA],1),\"\")","v":""},{"$f":"IFERROR(IF(ISBLANK(INDEX(DetalhesDoProjeto[#Data],Última_entrada_do_projeto-Linha_de_início_do_projeto-DadosdeLinhadoTempodoProjeto[[#This Row],[NUM]]+1,1)),\"\",INDEX(DetalhesDoProjeto[#Data],Última_entrada_do_projeto-Linha_de_início_do_projeto-DadosdeLinhadoTempodoProjeto[[#This Row],[NUM]]+1,1)),\"\")","v":""},{"$f":"IFERROR(IF(ISBLANK(INDEX(DetalhesDoProjeto[#Data],Última_entrada_do_projeto-Linha_de_início_do_projeto-DadosdeLinhadoTempodoProjeto[[#This Row],[NUM]]+1,2)),\"\",INDEX(DetalhesDoProjeto[#Data],Última_entrada_do_projeto-Linha_de_início_do_projeto-DadosdeLinhadoTempodoProjeto[[#This Row],[NUM]]+1,2)),\"\")","v":""},{"$f":"IFERROR(IF(ISBLANK(INDEX(DetalhesDoProjeto[#Data],Última_entrada_do_projeto-Linha_de_início_do_projeto-DadosdeLinhadoTempodoProjeto[[#This Row],[NUM]]+1,3)),\"\",INDEX(DetalhesDoProjeto[#Data],Última_entrada_do_projeto-Linha_de_início_do_projeto-DadosdeLinhadoTempodoProjeto[[#This Row],[NUM]]+1,3)),\"\")","v":""},{"$f":"IFERROR(IF(ISBLANK(INDEX(DetalhesDoProjeto[#Data],ROW(A82)+1,1)),\"\",IF($J86-1<=-1,\"\",$J86-1)),\"\")","v":""},null,null,{"$f":"IFERROR(DadosdeLinhadoTempodoProjeto[[#This Row],[NUM]]+1,\"\")","v":""},{"$f":"IFERROR(VLOOKUP(LinhadoTempoClassificada[[#This Row],[POSIÇÃO classificada]],DadosdeLinhadoTempodoProjeto[],3,0),\"\")","v":""},{"$f":"IFERROR(VLOOKUP(LinhadoTempoClassificada[[#This Row],[POSIÇÃO classificada]],DadosdeLinhadoTempodoProjeto[],4,0),\"\")","v":""},{"$f":"IFERROR(VLOOKUP(LinhadoTempoClassificada[[#This Row],[POSIÇÃO classificada]],DadosdeLinhadoTempodoProjeto[],5,0),\"\")","v":""}]
[{"$nulls":4},{"$f":"IFERROR(RANK(F88,DadosdeLinhadoTempodoProjeto[CLASSIFICAÇÃO])+SUMPRODUCT(--(F88=DadosdeLinhadoTempodoProjeto[CLASSIFICAÇÃO]),--(J88<DadosdeLinhadoTempodoProjeto[NUM])),\"\")","v":""},{"$f":"IFERROR(RANK(DadosdeLinhadoTempodoProjeto[[#This Row],[DATA]],DadosdeLinhadoTempodoProjeto[DATA],1),\"\")","v":""},{"$f":"IFERROR(IF(ISBLANK(INDEX(DetalhesDoProjeto[#Data],Última_entrada_do_projeto-Linha_de_início_do_projeto-DadosdeLinhadoTempodoProjeto[[#This Row],[NUM]]+1,1)),\"\",INDEX(DetalhesDoProjeto[#Data],Última_entrada_do_projeto-Linha_de_início_do_projeto-DadosdeLinhadoTempodoProjeto[[#This Row],[NUM]]+1,1)),\"\")","v":""},{"$f":"IFERROR(IF(ISBLANK(INDEX(DetalhesDoProjeto[#Data],Última_entrada_do_projeto-Linha_de_início_do_projeto-DadosdeLinhadoTempodoProjeto[[#This Row],[NUM]]+1,2)),\"\",INDEX(DetalhesDoProjeto[#Data],Última_entrada_do_projeto-Linha_de_início_do_projeto-DadosdeLinhadoTempodoProjeto[[#This Row],[NUM]]+1,2)),\"\")","v":""},{"$f":"IFERROR(IF(ISBLANK(INDEX(DetalhesDoProjeto[#Data],Última_entrada_do_projeto-Linha_de_início_do_projeto-DadosdeLinhadoTempodoProjeto[[#This Row],[NUM]]+1,3)),\"\",INDEX(DetalhesDoProjeto[#Data],Última_entrada_do_projeto-Linha_de_início_do_projeto-DadosdeLinhadoTempodoProjeto[[#This Row],[NUM]]+1,3)),\"\")","v":""},{"$f":"IFERROR(IF(ISBLANK(INDEX(DetalhesDoProjeto[#Data],ROW(A83)+1,1)),\"\",IF($J87-1<=-1,\"\",$J87-1)),\"\")","v":""},null,null,{"$f":"IFERROR(DadosdeLinhadoTempodoProjeto[[#This Row],[NUM]]+1,\"\")","v":""},{"$f":"IFERROR(VLOOKUP(LinhadoTempoClassificada[[#This Row],[POSIÇÃO classificada]],DadosdeLinhadoTempodoProjeto[],3,0),\"\")","v":""},{"$f":"IFERROR(VLOOKUP(LinhadoTempoClassificada[[#This Row],[POSIÇÃO classificada]],DadosdeLinhadoTempodoProjeto[],4,0),\"\")","v":""},{"$f":"IFERROR(VLOOKUP(LinhadoTempoClassificada[[#This Row],[POSIÇÃO classificada]],DadosdeLinhadoTempodoProjeto[],5,0),\"\")","v":""}]
[{"$nulls":4},{"$f":"IFERROR(RANK(F89,DadosdeLinhadoTempodoProjeto[CLASSIFICAÇÃO])+SUMPRODUCT(--(F89=DadosdeLinhadoTempodoProjeto[CLASSIFICAÇÃO]),--(J89<DadosdeLinhadoTempodoProjeto[NUM])),\"\")","v":""},{"$f":"IFERROR(RANK(DadosdeLinhadoTempodoProjeto[[#This Row],[DATA]],DadosdeLinhadoTempodoProjeto[DATA],1),\"\")","v":""},{"$f":"IFERROR(IF(ISBLANK(INDEX(DetalhesDoProjeto[#Data],Última_entrada_do_projeto-Linha_de_início_do_projeto-DadosdeLinhadoTempodoProjeto[[#This Row],[NUM]]+1,1)),\"\",INDEX(DetalhesDoProjeto[#Data],Última_entrada_do_projeto-Linha_de_início_do_projeto-DadosdeLinhadoTempodoProjeto[[#This Row],[NUM]]+1,1)),\"\")","v":""},{"$f":"IFERROR(IF(ISBLANK(INDEX(DetalhesDoProjeto[#Data],Última_entrada_do_projeto-Linha_de_início_do_projeto-DadosdeLinhadoTempodoProjeto[[#This Row],[NUM]]+1,2)),\"\",INDEX(DetalhesDoProjeto[#Data],Última_entrada_do_projeto-Linha_de_início_do_projeto-DadosdeLinhadoTempodoProjeto[[#This Row],[NUM]]+1,2)),\"\")","v":""},{"$f":"IFERROR(IF(ISBLANK(INDEX(DetalhesDoProjeto[#Data],Última_entrada_do_projeto-Linha_de_início_do_projeto-DadosdeLinhadoTempodoProjeto[[#This Row],[NUM]]+1,3)),\"\",INDEX(DetalhesDoProjeto[#Data],Última_entrada_do_projeto-Linha_de_início_do_projeto-DadosdeLinhadoTempodoProjeto[[#This Row],[NUM]]+1,3)),\"\")","v":""},{"$f":"IFERROR(IF(ISBLANK(INDEX(DetalhesDoProjeto[#Data],ROW(A84)+1,1)),\"\",IF($J88-1<=-1,\"\",$J88-1)),\"\")","v":""},null,null,{"$f":"IFERROR(DadosdeLinhadoTempodoProjeto[[#This Row],[NUM]]+1,\"\")","v":""},{"$f":"IFERROR(VLOOKUP(LinhadoTempoClassificada[[#This Row],[POSIÇÃO classificada]],DadosdeLinhadoTempodoProjeto[],3,0),\"\")","v":""},{"$f":"IFERROR(VLOOKUP(LinhadoTempoClassificada[[#This Row],[POSIÇÃO classificada]],DadosdeLinhadoTempodoProjeto[],4,0),\"\")","v":""},{"$f":"IFERROR(VLOOKUP(LinhadoTempoClassificada[[#This Row],[POSIÇÃO classificada]],DadosdeLinhadoTempodoProjeto[],5,0),\"\")","v":""}]
[{"$nulls":4},{"$f":"IFERROR(RANK(F90,DadosdeLinhadoTempodoProjeto[CLASSIFICAÇÃO])+SUMPRODUCT(--(F90=DadosdeLinhadoTempodoProjeto[CLASSIFICAÇÃO]),--(J90<DadosdeLinhadoTempodoProjeto[NUM])),\"\")","v":""},{"$f":"IFERROR(RANK(DadosdeLinhadoTempodoProjeto[[#This Row],[DATA]],DadosdeLinhadoTempodoProjeto[DATA],1),\"\")","v":""},{"$f":"IFERROR(IF(ISBLANK(INDEX(DetalhesDoProjeto[#Data],Última_entrada_do_projeto-Linha_de_início_do_projeto-DadosdeLinhadoTempodoProjeto[[#This Row],[NUM]]+1,1)),\"\",INDEX(DetalhesDoProjeto[#Data],Última_entrada_do_projeto-Linha_de_início_do_projeto-DadosdeLinhadoTempodoProjeto[[#This Row],[NUM]]+1,1)),\"\")","v":""},{"$f":"IFERROR(IF(ISBLANK(INDEX(DetalhesDoProjeto[#Data],Última_entrada_do_projeto-Linha_de_início_do_projeto-DadosdeLinhadoTempodoProjeto[[#This Row],[NUM]]+1,2)),\"\",INDEX(DetalhesDoProjeto[#Data],Última_entrada_do_projeto-Linha_de_início_do_projeto-DadosdeLinhadoTempodoProjeto[[#This Row],[NUM]]+1,2)),\"\")","v":""},{"$f":"IFERROR(IF(ISBLANK(INDEX(DetalhesDoProjeto[#Data],Última_entrada_do_projeto-Linha_de_início_do_projeto-DadosdeLinhadoTempodoProjeto[[#This Row],[NUM]]+1,3)),\"\",INDEX(DetalhesDoProjeto[#Data],Última_entrada_do_projeto-Linha_de_início_do_projeto-DadosdeLinhadoTempodoProjeto[[#This Row],[NUM]]+1,3)),\"\")","v":""},{"$f":"IFERROR(IF(ISBLANK(INDEX(DetalhesDoProjeto[#Data],ROW(A85)+1,1)),\"\",IF($J89-1<=-1,\"\",$J89-1)),\"\")","v":""},null,null,{"$f":"IFERROR(DadosdeLinhadoTempodoProjeto[[#This Row],[NUM]]+1,\"\")","v":""},{"$f":"IFERROR(VLOOKUP(LinhadoTempoClassificada[[#This Row],[POSIÇÃO classificada]],DadosdeLinhadoTempodoProjeto[],3,0),\"\")","v":""},{"$f":"IFERROR(VLOOKUP(LinhadoTempoClassificada[[#This Row],[POSIÇÃO classificada]],DadosdeLinhadoTempodoProjeto[],4,0),\"\")","v":""},{"$f":"IFERROR(VLOOKUP(LinhadoTempoClassificada[[#This Row],[POSIÇÃO classificada]],DadosdeLinhadoTempodoProjeto[],5,0),\"\")","v":""}]
[{"$nulls":4},{"$f":"IFERROR(RANK(F91,DadosdeLinhadoTempodoProjeto[CLASSIFICAÇÃO])+SUMPRODUCT(--(F91=DadosdeLinhadoTempodoProjeto[CLASSIFICAÇÃO]),--(J91<DadosdeLinhadoTempodoProjeto[NUM])),\"\")","v":""},{"$f":"IFERROR(RANK(DadosdeLinhadoTempodoProjeto[[#This Row],[DATA]],DadosdeLinhadoTempodoProjeto[DATA],1),\"\")","v":""},{"$f":"IFERROR(IF(ISBLANK(INDEX(DetalhesDoProjeto[#Data],Última_entrada_do_projeto-Linha_de_início_do_projeto-DadosdeLinhadoTempodoProjeto[[#This Row],[NUM]]+1,1)),\"\",INDEX(DetalhesDoProjeto[#Data],Última_entrada_do_projeto-Linha_de_início_do_projeto-DadosdeLinhadoTempodoProjeto[[#This Row],[NUM]]+1,1)),\"\")","v":""},{"$f":"IFERROR(IF(ISBLANK(INDEX(DetalhesDoProjeto[#Data],Última_entrada_do_projeto-Linha_de_início_do_projeto-DadosdeLinhadoTempodoProjeto[[#This Row],[NUM]]+1,2)),\"\",INDEX(DetalhesDoProjeto[#Data],Última_entrada_do_projeto-Linha_de_início_do_projeto-DadosdeLinhadoTempodoProjeto[[#This Row],[NUM]]+1,2)),\"\")","v":""},{"$f":"IFERROR(IF(ISBLANK(INDEX(DetalhesDoProjeto[#Data],Última_entrada_do_projeto-Linha_de_início_do_projeto-DadosdeLinhadoTempodoProjeto[[#This Row],[NUM]]+1,3)),\"\",INDEX(DetalhesDoProjeto[#Data],Última_entrada_do_projeto-Linha_de_início_do_projeto-DadosdeLinhadoTempodoProjeto[[#This Row],[NUM]]+1,3)),\"\")","v":""},{"$f":"IFERROR(IF(ISBLANK(INDEX(DetalhesDoProjeto[#Data],ROW(A86)+1,1)),\"\",IF($J90-1<=-1,\"\",$J90-1)),\"\")","v":""},null,null,{"$f":"IFERROR(DadosdeLinhadoTempodoProjeto[[#This Row],[NUM]]+1,\"\")","v":""},{"$f":"IFERROR(VLOOKUP(LinhadoTempoClassificada[[#This Row],[POSIÇÃO classificada]],DadosdeLinhadoTempodoProjeto[],3,0),\"\")","v":""},{"$f":"IFERROR(VLOOKUP(LinhadoTempoClassificada[[#This Row],[POSIÇÃO classificada]],DadosdeLinhadoTempodoProjeto[],4,0),\"\")","v":""},{"$f":"IFERROR(VLOOKUP(LinhadoTempoClassificada[[#This Row],[POSIÇÃO classificada]],DadosdeLinhadoTempodoProjeto[],5,0),\"\")","v":""}]
[{"$nulls":4},{"$f":"IFERROR(RANK(F92,DadosdeLinhadoTempodoProjeto[CLASSIFICAÇÃO])+SUMPRODUCT(--(F92=DadosdeLinhadoTempodoProjeto[CLASSIFICAÇÃO]),--(J92<DadosdeLinhadoTempodoProjeto[NUM])),\"\")","v":""},{"$f":"IFERROR(RANK(DadosdeLinhadoTempodoProjeto[[#This Row],[DATA]],DadosdeLinhadoTempodoProjeto[DATA],1),\"\")","v":""},{"$f":"IFERROR(IF(ISBLANK(INDEX(DetalhesDoProjeto[#Data],Última_entrada_do_projeto-Linha_de_início_do_projeto-DadosdeLinhadoTempodoProjeto[[#This Row],[NUM]]+1,1)),\"\",INDEX(DetalhesDoProjeto[#Data],Última_entrada_do_projeto-Linha_de_início_do_projeto-DadosdeLinhadoTempodoProjeto[[#This Row],[NUM]]+1,1)),\"\")","v":""},{"$f":"IFERROR(IF(ISBLANK(INDEX(DetalhesDoProjeto[#Data],Última_entrada_do_projeto-Linha_de_início_do_projeto-DadosdeLinhadoTempodoProjeto[[#This Row],[NUM]]+1,2)),\"\",INDEX(DetalhesDoProjeto[#Data],Última_entrada_do_projeto-Linha_de_início_do_projeto-DadosdeLinhadoTempodoProjeto[[#This Row],[NUM]]+1,2)),\"\")","v":""},{"$f":"IFERROR(IF(ISBLANK(INDEX(DetalhesDoProjeto[#Data],Última_entrada_do_projeto-Linha_de_início_do_projeto-DadosdeLinhadoTempodoProjeto[[#This Row],[NUM]]+1,3)),\"\",INDEX(DetalhesDoProjeto[#Data],Última_entrada_do_projeto-Linha_de_início_do_projeto-DadosdeLinhadoTempodoProjeto[[#This Row],[NUM]]+1,3)),\"\")","v":""},{"$f":"IFERROR(IF(ISBLANK(INDEX(DetalhesDoProjeto[#Data],ROW(A87)+1,1)),\"\",IF($J91-1<=-1,\"\",$J91-1)),\"\")","v":""},null,null,{"$f":"IFERROR(DadosdeLinhadoTempodoProjeto[[#This Row],[NUM]]+1,\"\")","v":""},{"$f":"IFERROR(VLOOKUP(LinhadoTempoClassificada[[#This Row],[POSIÇÃO classificada]],DadosdeLinhadoTempodoProjeto[],3,0),\"\")","v":""},{"$f":"IFERROR(VLOOKUP(LinhadoTempoClassificada[[#This Row],[POSIÇÃO classificada]],DadosdeLinhadoTempodoProjeto[],4,0),\"\")","v":""},{"$f":"IFERROR(VLOOKUP(LinhadoTempoClassificada[[#This Row],[POSIÇÃO classificada]],DadosdeLinhadoTempodoProjeto[],5,0),\"\")","v":""}]
[{"$nulls":4},{"$f":"IFERROR(RANK(F93,DadosdeLinhadoTempodoProjeto[CLASSIFICAÇÃO])+SUMPRODUCT(--(F93=DadosdeLinhadoTempodoProjeto[CLASSIFICAÇÃO]),--(J93<DadosdeLinhadoTempodoProjeto[NUM])),\"\")","v":""},{"$f":"IFERROR(RANK(DadosdeLinhadoTempodoProjeto[[#This Row],[DATA]],DadosdeLinhadoTempodoProjeto[DATA],1),\"\")","v":""},{"$f":"IFERROR(IF(ISBLANK(INDEX(DetalhesDoProjeto[#Data],Última_entrada_do_projeto-Linha_de_início_do_projeto-DadosdeLinhadoTempodoProjeto[[#This Row],[NUM]]+1,1)),\"\",INDEX(DetalhesDoProjeto[#Data],Última_entrada_do_projeto-Linha_de_início_do_projeto-DadosdeLinhadoTempodoProjeto[[#This Row],[NUM]]+1,1)),\"\")","v":""},{"$f":"IFERROR(IF(ISBLANK(INDEX(DetalhesDoProjeto[#Data],Última_entrada_do_projeto-Linha_de_início_do_projeto-DadosdeLinhadoTempodoProjeto[[#This Row],[NUM]]+1,2)),\"\",INDEX(DetalhesDoProjeto[#Data],Última_entrada_do_projeto-Linha_de_início_do_projeto-DadosdeLinhadoTempodoProjeto[[#This Row],[NUM]]+1,2)),\"\")","v":""},{"$f":"IFERROR(IF(ISBLANK(INDEX(DetalhesDoProjeto[#Data],Última_entrada_do_projeto-Linha_de_início_do_projeto-DadosdeLinhadoTempodoProjeto[[#This Row],[NUM]]+1,3)),\"\",INDEX(DetalhesDoProjeto[#Data],Última_entrada_do_projeto-Linha_de_início_do_projeto-DadosdeLinhadoTempodoProjeto[[#This Row],[NUM]]+1,3)),\"\")","v":""},{"$f":"IFERROR(IF(ISBLANK(INDEX(DetalhesDoProjeto[#Data],ROW(A88)+1,1)),\"\",IF($J92-1<=-1,\"\",$J92-1)),\"\")","v":""},null,null,{"$f":"IFERROR(DadosdeLinhadoTempodoProjeto[[#This Row],[NUM]]+1,\"\")","v":""},{"$f":"IFERROR(VLOOKUP(LinhadoTempoClassificada[[#This Row],[POSIÇÃO classificada]],DadosdeLinhadoTempodoProjeto[],3,0),\"\")","v":""},{"$f":"IFERROR(VLOOKUP(LinhadoTempoClassificada[[#This Row],[POSIÇÃO classificada]],DadosdeLinhadoTempodoProjeto[],4,0),\"\")","v":""},{"$f":"IFERROR(VLOOKUP(LinhadoTempoClassificada[[#This Row],[POSIÇÃO classificada]],DadosdeLinhadoTempodoProjeto[],5,0),\"\")","v":""}]
[{"$nulls":4},{"$f":"IFERROR(RANK(F94,DadosdeLinhadoTempodoProjeto[CLASSIFICAÇÃO])+SUMPRODUCT(--(F94=DadosdeLinhadoTempodoProjeto[CLASSIFICAÇÃO]),--(J94<DadosdeLinhadoTempodoProjeto[NUM])),\"\")","v":""},{"$f":"IFERROR(RANK(DadosdeLinhadoTempodoProjeto[[#This Row],[DATA]],DadosdeLinhadoTempodoProjeto[DATA],1),\"\")","v":""},{"$f":"IFERROR(IF(ISBLANK(INDEX(DetalhesDoProjeto[#Data],Última_entrada_do_projeto-Linha_de_início_do_projeto-DadosdeLinhadoTempodoProjeto[[#This Row],[NUM]]+1,1)),\"\",INDEX(DetalhesDoProjeto[#Data],Última_entrada_do_projeto-Linha_de_início_do_projeto-DadosdeLinhadoTempodoProjeto[[#This Row],[NUM]]+1,1)),\"\")","v":""},{"$f":"IFERROR(IF(ISBLANK(INDEX(DetalhesDoProjeto[#Data],Última_entrada_do_projeto-Linha_de_início_do_projeto-DadosdeLinhadoTempodoProjeto[[#This Row],[NUM]]+1,2)),\"\",INDEX(DetalhesDoProjeto[#Data],Última_entrada_do_projeto-Linha_de_início_do_projeto-DadosdeLinhadoTempodoProjeto[[#This Row],[NUM]]+1,2)),\"\")","v":""},{"$f":"IFERROR(IF(ISBLANK(INDEX(DetalhesDoProjeto[#Data],Última_entrada_do_projeto-Linha_de_início_do_projeto-DadosdeLinhadoTempodoProjeto[[#This Row],[NUM]]+1,3)),\"\",INDEX(DetalhesDoProjeto[#Data],Última_entrada_do_projeto-Linha_de_início_do_projeto-DadosdeLinhadoTempodoProjeto[[#This Row],[NUM]]+1,3)),\"\")","v":""},{"$f":"IFERROR(IF(ISBLANK(INDEX(DetalhesDoProjeto[#Data],ROW(A89)+1,1)),\"\",IF($J93-1<=-1,\"\",$J93-1)),\"\")","v":""},null,null,{"$f":"IFERROR(DadosdeLinhadoTempodoProjeto[[#This Row],[NUM]]+1,\"\")","v":""},{"$f":"IFERROR(VLOOKUP(LinhadoTempoClassificada[[#This Row],[POSIÇÃO classificada]],DadosdeLinhadoTempodoProjeto[],3,0),\"\")","v":""},{"$f":"IFERROR(VLOOKUP(LinhadoTempoClassificada[[#This Row],[POSIÇÃO classificada]],DadosdeLinhadoTempodoProjeto[],4,0),\"\")","v":""},{"$f":"IFERROR(VLOOKUP(LinhadoTempoClassificada[[#This Row],[POSIÇÃO classificada]],DadosdeLinhadoTempodoProjeto[],5,0),\"\")","v":""}]
[{"$nulls":4},{"$f":"IFERROR(RANK(F95,DadosdeLinhadoTempodoProjeto[CLASSIFICAÇÃO])+SUMPRODUCT(--(F95=DadosdeLinhadoTempodoProjeto[CLASSIFICAÇÃO]),--(J95<DadosdeLinhadoTempodoProjeto[NUM])),\"\")","v":""},{"$f":"IFERROR(RANK(DadosdeLinhadoTempodoProjeto[[#This Row],[DATA]],DadosdeLinhadoTempodoProjeto[DATA],1),\"\")","v":""},{"$f":"IFERROR(IF(ISBLANK(INDEX(DetalhesDoProjeto[#Data],Última_entrada_do_projeto-Linha_de_início_do_projeto-DadosdeLinhadoTempodoProjeto[[#This Row],[NUM]]+1,1)),\"\",INDEX(DetalhesDoProjeto[#Data],Última_entrada_do_projeto-Linha_de_início_do_projeto-DadosdeLinhadoTempodoProjeto[[#This Row],[NUM]]+1,1)),\"\")","v":""},{"$f":"IFERROR(IF(ISBLANK(INDEX(DetalhesDoProjeto[#Data],Última_entrada_do_projeto-Linha_de_início_do_projeto-DadosdeLinhadoTempodoProjeto[[#This Row],[NUM]]+1,2)),\"\",INDEX(DetalhesDoProjeto[#Data],Última_entrada_do_projeto-Linha_de_início_do_projeto-DadosdeLinhadoTempodoProjeto[[#This Row],[NUM]]+1,2)),\"\")","v":""},{"$f":"IFERROR(IF(ISBLANK(INDEX(DetalhesDoProjeto[#Data],Última_entrada_do_projeto-Linha_de_início_do_projeto-DadosdeLinhadoTempodoProjeto[[#This Row],[NUM]]+1,3)),\"\",INDEX(DetalhesDoProjeto[#Data],Última_entrada_do_projeto-Linha_de_início_do_projeto-DadosdeLinhadoTempodoProjeto[[#This Row],[NUM]]+1,3)),\"\")","v":""},{"$f":"IFERROR(IF(ISBLANK(INDEX(DetalhesDoProjeto[#Data],ROW(A90)+1,1)),\"\",IF($J94-1<=-1,\"\",$J94-1)),\"\")","v":""},null,null,{"$f":"IFERROR(DadosdeLinhadoTempodoProjeto[[#This Row],[NUM]]+1,\"\")","v":""},{"$f":"IFERROR(VLOOKUP(LinhadoTempoClassificada[[#This Row],[POSIÇÃO classificada]],DadosdeLinhadoTempodoProjeto[],3,0),\"\")","v":""},{"$f":"IFERROR(VLOOKUP(LinhadoTempoClassificada[[#This Row],[POSIÇÃO classificada]],DadosdeLinhadoTempodoProjeto[],4,0),\"\")","v":""},{"$f":"IFERROR(VLOOKUP(LinhadoTempoClassificada[[#This Row],[POSIÇÃO classificada]],DadosdeLinhadoTempodoProjeto[],5,0),\"\")","v":""}]
[{"$nulls":4},{"$f":"IFERROR(RANK(F96,DadosdeLinhadoTempodoProjeto[CLASSIFICAÇÃO])+SUMPRODUCT(--(F96=DadosdeLinhadoTempodoProjeto[CLASSIFICAÇÃO]),--(J96<DadosdeLinhadoTempodoProjeto[NUM])),\"\")","v":""},{"$f":"IFERROR(RANK(DadosdeLinhadoTempodoProjeto[[#This Row],[DATA]],DadosdeLinhadoTempodoProjeto[DATA],1),\"\")","v":""},{"$f":"IFERROR(IF(ISBLANK(INDEX(DetalhesDoProjeto[#Data],Última_entrada_do_projeto-Linha_de_início_do_projeto-DadosdeLinhadoTempodoProjeto[[#This Row],[NUM]]+1,1)),\"\",INDEX(DetalhesDoProjeto[#Data],Última_entrada_do_projeto-Linha_de_início_do_projeto-DadosdeLinhadoTempodoProjeto[[#This Row],[NUM]]+1,1)),\"\")","v":""},{"$f":"IFERROR(IF(ISBLANK(INDEX(DetalhesDoProjeto[#Data],Última_entrada_do_projeto-Linha_de_início_do_projeto-DadosdeLinhadoTempodoProjeto[[#This Row],[NUM]]+1,2)),\"\",INDEX(DetalhesDoProjeto[#Data],Última_entrada_do_projeto-Linha_de_início_do_projeto-DadosdeLinhadoTempodoProjeto[[#This Row],[NUM]]+1,2)),\"\")","v":""},{"$f":"IFERROR(IF(ISBLANK(INDEX(DetalhesDoProjeto[#Data],Última_entrada_do_projeto-Linha_de_início_do_projeto-DadosdeLinhadoTempodoProjeto[[#This Row],[NUM]]+1,3)),\"\",INDEX(DetalhesDoProjeto[#Data],Última_entrada_do_projeto-Linha_de_início_do_projeto-DadosdeLinhadoTempodoProjeto[[#This Row],[NUM]]+1,3)),\"\")","v":""},{"$f":"IFERROR(IF(ISBLANK(INDEX(DetalhesDoProjeto[#Data],ROW(A91)+1,1)),\"\",IF($J95-1<=-1,\"\",$J95-1)),\"\")","v":""},null,null,{"$f":"IFERROR(DadosdeLinhadoTempodoProjeto[[#This Row],[NUM]]+1,\"\")","v":""},{"$f":"IFERROR(VLOOKUP(LinhadoTempoClassificada[[#This Row],[POSIÇÃO classificada]],DadosdeLinhadoTempodoProjeto[],3,0),\"\")","v":""},{"$f":"IFERROR(VLOOKUP(LinhadoTempoClassificada[[#This Row],[POSIÇÃO classificada]],DadosdeLinhadoTempodoProjeto[],4,0),\"\")","v":""},{"$f":"IFERROR(VLOOKUP(LinhadoTempoClassificada[[#This Row],[POSIÇÃO classificada]],DadosdeLinhadoTempodoProjeto[],5,0),\"\")","v":""}]
[{"$nulls":4},{"$f":"IFERROR(RANK(F97,DadosdeLinhadoTempodoProjeto[CLASSIFICAÇÃO])+SUMPRODUCT(--(F97=DadosdeLinhadoTempodoProjeto[CLASSIFICAÇÃO]),--(J97<DadosdeLinhadoTempodoProjeto[NUM])),\"\")","v":""},{"$f":"IFERROR(RANK(DadosdeLinhadoTempodoProjeto[[#This Row],[DATA]],DadosdeLinhadoTempodoProjeto[DATA],1),\"\")","v":""},{"$f":"IFERROR(IF(ISBLANK(INDEX(DetalhesDoProjeto[#Data],Última_entrada_do_projeto-Linha_de_início_do_projeto-DadosdeLinhadoTempodoProjeto[[#This Row],[NUM]]+1,1)),\"\",INDEX(DetalhesDoProjeto[#Data],Última_entrada_do_projeto-Linha_de_início_do_projeto-DadosdeLinhadoTempodoProjeto[[#This Row],[NUM]]+1,1)),\"\")","v":""},{"$f":"IFERROR(IF(ISBLANK(INDEX(DetalhesDoProjeto[#Data],Última_entrada_do_projeto-Linha_de_início_do_projeto-DadosdeLinhadoTempodoProjeto[[#This Row],[NUM]]+1,2)),\"\",INDEX(DetalhesDoProjeto[#Data],Última_entrada_do_projeto-Linha_de_início_do_projeto-DadosdeLinhadoTempodoProjeto[[#This Row],[NUM]]+1,2)),\"\")","v":""},{"$f":"IFERROR(IF(ISBLANK(INDEX(DetalhesDoProjeto[#Data],Última_entrada_do_projeto-Linha_de_início_do_projeto-DadosdeLinhadoTempodoProjeto[[#This Row],[NUM]]+1,3)),\"\",INDEX(DetalhesDoProjeto[#Data],Última_entrada_do_projeto-Linha_de_início_do_projeto-DadosdeLinhadoTempodoProjeto[[#This Row],[NUM]]+1,3)),\"\")","v":""},{"$f":"IFERROR(IF(ISBLANK(INDEX(DetalhesDoProjeto[#Data],ROW(A92)+1,1)),\"\",IF($J96-1<=-1,\"\",$J96-1)),\"\")","v":""},null,null,{"$f":"IFERROR(DadosdeLinhadoTempodoProjeto[[#This Row],[NUM]]+1,\"\")","v":""},{"$f":"IFERROR(VLOOKUP(LinhadoTempoClassificada[[#This Row],[POSIÇÃO classificada]],DadosdeLinhadoTempodoProjeto[],3,0),\"\")","v":""},{"$f":"IFERROR(VLOOKUP(LinhadoTempoClassificada[[#This Row],[POSIÇÃO classificada]],DadosdeLinhadoTempodoProjeto[],4,0),\"\")","v":""},{"$f":"IFERROR(VLOOKUP(LinhadoTempoClassificada[[#This Row],[POSIÇÃO classificada]],DadosdeLinhadoTempodoProjeto[],5,0),\"\")","v":""}]
[{"$nulls":4},{"$f":"IFERROR(RANK(F98,DadosdeLinhadoTempodoProjeto[CLASSIFICAÇÃO])+SUMPRODUCT(--(F98=DadosdeLinhadoTempodoProjeto[CLASSIFICAÇÃO]),--(J98<DadosdeLinhadoTempodoProjeto[NUM])),\"\")","v":""},{"$f":"IFERROR(RANK(DadosdeLinhadoTempodoProjeto[[#This Row],[DATA]],DadosdeLinhadoTempodoProjeto[DATA],1),\"\")","v":""},{"$f":"IFERROR(IF(ISBLANK(INDEX(DetalhesDoProjeto[#Data],Última_entrada_do_projeto-Linha_de_início_do_projeto-DadosdeLinhadoTempodoProjeto[[#This Row],[NUM]]+1,1)),\"\",INDEX(DetalhesDoProjeto[#Data],Última_entrada_do_projeto-Linha_de_início_do_projeto-DadosdeLinhadoTempodoProjeto[[#This Row],[NUM]]+1,1)),\"\")","v":""},{"$f":"IFERROR(IF(ISBLANK(INDEX(DetalhesDoProjeto[#Data],Última_entrada_do_projeto-Linha_de_início_do_projeto-DadosdeLinhadoTempodoProjeto[[#This Row],[NUM]]+1,2)),\"\",INDEX(DetalhesDoProjeto[#Data],Última_entrada_do_projeto-Linha_de_início_do_projeto-DadosdeLinhadoTempodoProjeto[[#This Row],[NUM]]+1,2)),\"\")","v":""},{"$f":"IFERROR(IF(ISBLANK(INDEX(DetalhesDoProjeto[#Data],Última_entrada_do_projeto-Linha_de_início_do_projeto-DadosdeLinhadoTempodoProjeto[[#This Row],[NUM]]+1,3)),\"\",INDEX(DetalhesDoProjeto[#Data],Última_entrada_do_projeto-Linha_de_início_do_projeto-DadosdeLinhadoTempodoProjeto[[#This Row],[NUM]]+1,3)),\"\")","v":""},{"$f":"IFERROR(IF(ISBLANK(INDEX(DetalhesDoProjeto[#Data],ROW(A93)+1,1)),\"\",IF($J97-1<=-1,\"\",$J97-1)),\"\")","v":""},null,null,{"$f":"IFERROR(DadosdeLinhadoTempodoProjeto[[#This Row],[NUM]]+1,\"\")","v":""},{"$f":"IFERROR(VLOOKUP(LinhadoTempoClassificada[[#This Row],[POSIÇÃO classificada]],DadosdeLinhadoTempodoProjeto[],3,0),\"\")","v":""},{"$f":"IFERROR(VLOOKUP(LinhadoTempoClassificada[[#This Row],[POSIÇÃO classificada]],DadosdeLinhadoTempodoProjeto[],4,0),\"\")","v":""},{"$f":"IFERROR(VLOOKUP(LinhadoTempoClassificada[[#This Row],[POSIÇÃO classificada]],DadosdeLinhadoTempodoProjeto[],5,0),\"\")","v":""}]
[{"$nulls":4},{"$f":"IFERROR(RANK(F99,DadosdeLinhadoTempodoProjeto[CLASSIFICAÇÃO])+SUMPRODUCT(--(F99=DadosdeLinhadoTempodoProjeto[CLASSIFICAÇÃO]),--(J99<DadosdeLinhadoTempodoProjeto[NUM])),\"\")","v":""},{"$f":"IFERROR(RANK(DadosdeLinhadoTempodoProjeto[[#This Row],[DATA]],DadosdeLinhadoTempodoProjeto[DATA],1),\"\")","v":""},{"$f":"IFERROR(IF(ISBLANK(INDEX(DetalhesDoProjeto[#Data],Última_entrada_do_projeto-Linha_de_início_do_projeto-DadosdeLinhadoTempodoProjeto[[#This Row],[NUM]]+1,1)),\"\",INDEX(DetalhesDoProjeto[#Data],Última_entrada_do_projeto-Linha_de_início_do_projeto-DadosdeLinhadoTempodoProjeto[[#This Row],[NUM]]+1,1)),\"\")","v":""},{"$f":"IFERROR(IF(ISBLANK(INDEX(DetalhesDoProjeto[#Data],Última_entrada_do_projeto-Linha_de_início_do_projeto-DadosdeLinhadoTempodoProjeto[[#This Row],[NUM]]+1,2)),\"\",INDEX(DetalhesDoProjeto[#Data],Última_entrada_do_projeto-Linha_de_início_do_projeto-DadosdeLinhadoTempodoProjeto[[#This Row],[NUM]]+1,2)),\"\")","v":""},{"$f":"IFERROR(IF(ISBLANK(INDEX(DetalhesDoProjeto[#Data],Última_entrada_do_projeto-Linha_de_início_do_projeto-DadosdeLinhadoTempodoProjeto[[#This Row],[NUM]]+1,3)),\"\",INDEX(DetalhesDoProjeto[#Data],Última_entrada_do_projeto-Linha_de_início_do_projeto-DadosdeLinhadoTempodoProjeto[[#This Row],[NUM]]+1,3)),\"\")","v":""},{"$f":"IFERROR(IF(ISBLANK(INDEX(DetalhesDoProjeto[#Data],ROW(A94)+1,1)),\"\",IF($J98-1<=-1,\"\",$J98-1)),\"\")","v":""},null,null,{"$f":"IFERROR(DadosdeLinhadoTempodoProjeto[[#This Row],[NUM]]+1,\"\")","v":""},{"$f":"IFERROR(VLOOKUP(LinhadoTempoClassificada[[#This Row],[POSIÇÃO classificada]],DadosdeLinhadoTempodoProjeto[],3,0),\"\")","v":""},{"$f":"IFERROR(VLOOKUP(LinhadoTempoClassificada[[#This Row],[POSIÇÃO classificada]],DadosdeLinhadoTempodoProjeto[],4,0),\"\")","v":""},{"$f":"IFERROR(VLOOKUP(LinhadoTempoClassificada[[#This Row],[POSIÇÃO classificada]],DadosdeLinhadoTempodoProjeto[],5,0),\"\")","v":""}]
[{"$nulls":4},{"$f":"IFERROR(RANK(F100,DadosdeLinhadoTempodoProjeto[CLASSIFICAÇÃO])+SUMPRODUCT(--(F100=DadosdeLinhadoTempodoProjeto[CLASSIFICAÇÃO]),--(J100<DadosdeLinhadoTempodoProjeto[NUM])),\"\")","v":""},{"$f":"IFERROR(RANK(DadosdeLinhadoTempodoProjeto[[#This Row],[DATA]],DadosdeLinhadoTempodoProjeto[DATA],1),\"\")","v":""},{"$f":"IFERROR(IF(ISBLANK(INDEX(DetalhesDoProjeto[#Data],Última_entrada_do_projeto-Linha_de_início_do_projeto-DadosdeLinhadoTempodoProjeto[[#This Row],[NUM]]+1,1)),\"\",INDEX(DetalhesDoProjeto[#Data],Última_entrada_do_projeto-Linha_de_início_do_projeto-DadosdeLinhadoTempodoProjeto[[#This Row],[NUM]]+1,1)),\"\")","v":""},{"$f":"IFERROR(IF(ISBLANK(INDEX(DetalhesDoProjeto[#Data],Última_entrada_do_projeto-Linha_de_início_do_projeto-DadosdeLinhadoTempodoProjeto[[#This Row],[NUM]]+1,2)),\"\",INDEX(DetalhesDoProjeto[#Data],Última_entrada_do_projeto-Linha_de_início_do_projeto-DadosdeLinhadoTempodoProjeto[[#This Row],[NUM]]+1,2)),\"\")","v":""},{"$f":"IFERROR(IF(ISBLANK(INDEX(DetalhesDoProjeto[#Data],Última_entrada_do_projeto-Linha_de_início_do_projeto-DadosdeLinhadoTempodoProjeto[[#This Row],[NUM]]+1,3)),\"\",INDEX(DetalhesDoProjeto[#Data],Última_entrada_do_projeto-Linha_de_início_do_projeto-DadosdeLinhadoTempodoProjeto[[#This Row],[NUM]]+1,3)),\"\")","v":""},{"$f":"IFERROR(IF(ISBLANK(INDEX(DetalhesDoProjeto[#Data],ROW(A95)+1,1)),\"\",IF($J99-1<=-1,\"\",$J99-1)),\"\")","v":""},null,null,{"$f":"IFERROR(DadosdeLinhadoTempodoProjeto[[#This Row],[NUM]]+1,\"\")","v":""},{"$f":"IFERROR(VLOOKUP(LinhadoTempoClassificada[[#This Row],[POSIÇÃO classificada]],DadosdeLinhadoTempodoProjeto[],3,0),\"\")","v":""},{"$f":"IFERROR(VLOOKUP(LinhadoTempoClassificada[[#This Row],[POSIÇÃO classificada]],DadosdeLinhadoTempodoProjeto[],4,0),\"\")","v":""},{"$f":"IFERROR(VLOOKUP(LinhadoTempoClassificada[[#This Row],[POSIÇÃO classificada]],DadosdeLinhadoTempodoProjeto[],5,0),\"\")","v":""}]
[{"$nulls":4},{"$f":"IFERROR(RANK(F101,DadosdeLinhadoTempodoProjeto[CLASSIFICAÇÃO])+SUMPRODUCT(--(F101=DadosdeLinhadoTempodoProjeto[CLASSIFICAÇÃO]),--(J101<DadosdeLinhadoTempodoProjeto[NUM])),\"\")","v":""},{"$f":"IFERROR(RANK(DadosdeLinhadoTempodoProjeto[[#This Row],[DATA]],DadosdeLinhadoTempodoProjeto[DATA],1),\"\")","v":""},{"$f":"IFERROR(IF(ISBLANK(INDEX(DetalhesDoProjeto[#Data],Última_entrada_do_projeto-Linha_de_início_do_projeto-DadosdeLinhadoTempodoProjeto[[#This Row],[NUM]]+1,1)),\"\",INDEX(DetalhesDoProjeto[#Data],Última_entrada_do_projeto-Linha_de_início_do_projeto-DadosdeLinhadoTempodoProjeto[[#This Row],[NUM]]+1,1)),\"\")","v":""},{"$f":"IFERROR(IF(ISBLANK(INDEX(DetalhesDoProjeto[#Data],Última_entrada_do_projeto-Linha_de_início_do_projeto-DadosdeLinhadoTempodoProjeto[[#This Row],[NUM]]+1,2)),\"\",INDEX(DetalhesDoProjeto[#Data],Última_entrada_do_projeto-Linha_de_início_do_projeto-DadosdeLinhadoTempodoProjeto[[#This Row],[NUM]]+1,2)),\"\")","v":""},{"$f":"IFERROR(IF(ISBLANK(INDEX(DetalhesDoProjeto[#Data],Última_entrada_do_projeto-Linha_de_início_do_projeto-DadosdeLinhadoTempodoProjeto[[#This Row],[NUM]]+1,3)),\"\",INDEX(DetalhesDoProjeto[#Data],Última_entrada_do_projeto-Linha_de_início_do_projeto-DadosdeLinhadoTempodoProjeto[[#This Row],[NUM]]+1,3)),\"\")","v":""},{"$f":"IFERROR(IF(ISBLANK(INDEX(DetalhesDoProjeto[#Data],ROW(A96)+1,1)),\"\",IF($J100-1<=-1,\"\",$J100-1)),\"\")","v":""},null,null,{"$f":"IFERROR(DadosdeLinhadoTempodoProjeto[[#This Row],[NUM]]+1,\"\")","v":""},{"$f":"IFERROR(VLOOKUP(LinhadoTempoClassificada[[#This Row],[POSIÇÃO classificada]],DadosdeLinhadoTempodoProjeto[],3,0),\"\")","v":""},{"$f":"IFERROR(VLOOKUP(LinhadoTempoClassificada[[#This Row],[POSIÇÃO classificada]],DadosdeLinhadoTempodoProjeto[],4,0),\"\")","v":""},{"$f":"IFERROR(VLOOKUP(LinhadoTempoClassificada[[#This Row],[POSIÇÃO classificada]],DadosdeLinhadoTempodoProjeto[],5,0),\"\")","v":""}]
[{"$nulls":4},{"$f":"IFERROR(RANK(F102,DadosdeLinhadoTempodoProjeto[CLASSIFICAÇÃO])+SUMPRODUCT(--(F102=DadosdeLinhadoTempodoProjeto[CLASSIFICAÇÃO]),--(J102<DadosdeLinhadoTempodoProjeto[NUM])),\"\")","v":""},{"$f":"IFERROR(RANK(DadosdeLinhadoTempodoProjeto[[#This Row],[DATA]],DadosdeLinhadoTempodoProjeto[DATA],1),\"\")","v":""},{"$f":"IFERROR(IF(ISBLANK(INDEX(DetalhesDoProjeto[#Data],Última_entrada_do_projeto-Linha_de_início_do_projeto-DadosdeLinhadoTempodoProjeto[[#This Row],[NUM]]+1,1)),\"\",INDEX(DetalhesDoProjeto[#Data],Última_entrada_do_projeto-Linha_de_início_do_projeto-DadosdeLinhadoTempodoProjeto[[#This Row],[NUM]]+1,1)),\"\")","v":""},{"$f":"IFERROR(IF(ISBLANK(INDEX(DetalhesDoProjeto[#Data],Última_entrada_do_projeto-Linha_de_início_do_projeto-DadosdeLinhadoTempodoProjeto[[#This Row],[NUM]]+1,2)),\"\",INDEX(DetalhesDoProjeto[#Data],Última_entrada_do_projeto-Linha_de_início_do_projeto-DadosdeLinhadoTempodoProjeto[[#This Row],[NUM]]+1,2)),\"\")","v":""},{"$f":"IFERROR(IF(ISBLANK(INDEX(DetalhesDoProjeto[#Data],Última_entrada_do_projeto-Linha_de_início_do_projeto-DadosdeLinhadoTempodoProjeto[[#This Row],[NUM]]+1,3)),\"\",INDEX(DetalhesDoProjeto[#Data],Última_entrada_do_projeto-Linha_de_início_do_projeto-DadosdeLinhadoTempodoProjeto[[#This Row],[NUM]]+1,3)),\"\")","v":""},{"$f":"IFERROR(IF(ISBLANK(INDEX(DetalhesDoProjeto[#Data],ROW(A97)+1,1)),\"\",IF($J101-1<=-1,\"\",$J101-1)),\"\")","v":""},null,null,{"$f":"IFERROR(DadosdeLinhadoTempodoProjeto[[#This Row],[NUM]]+1,\"\")","v":""},{"$f":"IFERROR(VLOOKUP(LinhadoTempoClassificada[[#This Row],[POSIÇÃO classificada]],DadosdeLinhadoTempodoProjeto[],3,0),\"\")","v":""},{"$f":"IFERROR(VLOOKUP(LinhadoTempoClassificada[[#This Row],[POSIÇÃO classificada]],DadosdeLinhadoTempodoProjeto[],4,0),\"\")","v":""},{"$f":"IFERROR(VLOOKUP(LinhadoTempoClassificada[[#This Row],[POSIÇÃO classificada]],DadosdeLinhadoTempodoProjeto[],5,0),\"\")","v":""}]
[{"$nulls":4},{"$f":"IFERROR(RANK(F103,DadosdeLinhadoTempodoProjeto[CLASSIFICAÇÃO])+SUMPRODUCT(--(F103=DadosdeLinhadoTempodoProjeto[CLASSIFICAÇÃO]),--(J103<DadosdeLinhadoTempodoProjeto[NUM])),\"\")","v":""},{"$f":"IFERROR(RANK(DadosdeLinhadoTempodoProjeto[[#This Row],[DATA]],DadosdeLinhadoTempodoProjeto[DATA],1),\"\")","v":""},{"$f":"IFERROR(IF(ISBLANK(INDEX(DetalhesDoProjeto[#Data],Última_entrada_do_projeto-Linha_de_início_do_projeto-DadosdeLinhadoTempodoProjeto[[#This Row],[NUM]]+1,1)),\"\",INDEX(DetalhesDoProjeto[#Data],Última_entrada_do_projeto-Linha_de_início_do_projeto-DadosdeLinhadoTempodoProjeto[[#This Row],[NUM]]+1,1)),\"\")","v":""},{"$f":"IFERROR(IF(ISBLANK(INDEX(DetalhesDoProjeto[#Data],Última_entrada_do_projeto-Linha_de_início_do_projeto-DadosdeLinhadoTempodoProjeto[[#This Row],[NUM]]+1,2)),\"\",INDEX(DetalhesDoProjeto[#Data],Última_entrada_do_projeto-Linha_de_início_do_projeto-DadosdeLinhadoTempodoProjeto[[#This Row],[NUM]]+1,2)),\"\")","v":""},{"$f":"IFERROR(IF(ISBLANK(INDEX(DetalhesDoProjeto[#Data],Última_entrada_do_projeto-Linha_de_início_do_projeto-DadosdeLinhadoTempodoProjeto[[#This Row],[NUM]]+1,3)),\"\",INDEX(DetalhesDoProjeto[#Data],Última_entrada_do_projeto-Linha_de_início_do_projeto-DadosdeLinhadoTempodoProjeto[[#This Row],[NUM]]+1,3)),\"\")","v":""},{"$f":"IFERROR(IF(ISBLANK(INDEX(DetalhesDoProjeto[#Data],ROW(A98)+1,1)),\"\",IF($J102-1<=-1,\"\",$J102-1)),\"\")","v":""},null,null,{"$f":"IFERROR(DadosdeLinhadoTempodoProjeto[[#This Row],[NUM]]+1,\"\")","v":""},{"$f":"IFERROR(VLOOKUP(LinhadoTempoClassificada[[#This Row],[POSIÇÃO classificada]],DadosdeLinhadoTempodoProjeto[],3,0),\"\")","v":""},{"$f":"IFERROR(VLOOKUP(LinhadoTempoClassificada[[#This Row],[POSIÇÃO classificada]],DadosdeLinhadoTempodoProjeto[],4,0),\"\")","v":""},{"$f":"IFERROR(VLOOKUP(LinhadoTempoClassificada[[#This Row],[POSIÇÃO classificada]],DadosdeLinhadoTempodoProjeto[],5,0),\"\")","v":""}]
[{"$nulls":4},{"$f":"IFERROR(RANK(F104,DadosdeLinhadoTempodoProjeto[CLASSIFICAÇÃO])+SUMPRODUCT(--(F104=DadosdeLinhadoTempodoProjeto[CLASSIFICAÇÃO]),--(J104<DadosdeLinhadoTempodoProjeto[NUM])),\"\")","v":""},{"$f":"IFERROR(RANK(DadosdeLinhadoTempodoProjeto[[#This Row],[DATA]],DadosdeLinhadoTempodoProjeto[DATA],1),\"\")","v":""},{"$f":"IFERROR(IF(ISBLANK(INDEX(DetalhesDoProjeto[#Data],Última_entrada_do_projeto-Linha_de_início_do_projeto-DadosdeLinhadoTempodoProjeto[[#This Row],[NUM]]+1,1)),\"\",INDEX(DetalhesDoProjeto[#Data],Última_entrada_do_projeto-Linha_de_início_do_projeto-DadosdeLinhadoTempodoProjeto[[#This Row],[NUM]]+1,1)),\"\")","v":""},{"$f":"IFERROR(IF(ISBLANK(INDEX(DetalhesDoProjeto[#Data],Última_entrada_do_projeto-Linha_de_início_do_projeto-DadosdeLinhadoTempodoProjeto[[#This Row],[NUM]]+1,2)),\"\",INDEX(DetalhesDoProjeto[#Data],Última_entrada_do_projeto-Linha_de_início_do_projeto-DadosdeLinhadoTempodoProjeto[[#This Row],[NUM]]+1,2)),\"\")","v":""},{"$f":"IFERROR(IF(ISBLANK(INDEX(DetalhesDoProjeto[#Data],Última_entrada_do_projeto-Linha_de_início_do_projeto-DadosdeLinhadoTempodoProjeto[[#This Row],[NUM]]+1,3)),\"\",INDEX(DetalhesDoProjeto[#Data],Última_entrada_do_projeto-Linha_de_início_do_projeto-DadosdeLinhadoTempodoProjeto[[#This Row],[NUM]]+1,3)),\"\")","v":""},{"$f":"IFERROR(IF(ISBLANK(INDEX(DetalhesDoProjeto[#Data],ROW(A99)+1,1)),\"\",IF($J103-1<=-1,\"\",$J103-1)),\"\")","v":""},null,null,{"$f":"IFERROR(DadosdeLinhadoTempodoProjeto[[#This Row],[NUM]]+1,\"\")","v":""},{"$f":"IFERROR(VLOOKUP(LinhadoTempoClassificada[[#This Row],[POSIÇÃO classificada]],DadosdeLinhadoTempodoProjeto[],3,0),\"\")","v":""},{"$f":"IFERROR(VLOOKUP(LinhadoTempoClassificada[[#This Row],[POSIÇÃO classificada]],DadosdeLinhadoTempodoProjeto[],4,0),\"\")","v":""},{"$f":"IFERROR(VLOOKUP(LinhadoTempoClassificada[[#This Row],[POSIÇÃO classificada]],DadosdeLinhadoTempodoProjeto[],5,0),\"\")","v":""}]
[{"$nulls":4},{"$f":"IFERROR(RANK(F105,DadosdeLinhadoTempodoProjeto[CLASSIFICAÇÃO])+SUMPRODUCT(--(F105=DadosdeLinhadoTempodoProjeto[CLASSIFICAÇÃO]),--(J105<DadosdeLinhadoTempodoProjeto[NUM])),\"\")","v":""},{"$f":"IFERROR(RANK(DadosdeLinhadoTempodoProjeto[[#This Row],[DATA]],DadosdeLinhadoTempodoProjeto[DATA],1),\"\")","v":""},{"$f":"IFERROR(IF(ISBLANK(INDEX(DetalhesDoProjeto[#Data],Última_entrada_do_projeto-Linha_de_início_do_projeto-DadosdeLinhadoTempodoProjeto[[#This Row],[NUM]]+1,1)),\"\",INDEX(DetalhesDoProjeto[#Data],Última_entrada_do_projeto-Linha_de_início_do_projeto-DadosdeLinhadoTempodoProjeto[[#This Row],[NUM]]+1,1)),\"\")","v":""},{"$f":"IFERROR(IF(ISBLANK(INDEX(DetalhesDoProjeto[#Data],Última_entrada_do_projeto-Linha_de_início_do_projeto-DadosdeLinhadoTempodoProjeto[[#This Row],[NUM]]+1,2)),\"\",INDEX(DetalhesDoProjeto[#Data],Última_entrada_do_projeto-Linha_de_início_do_projeto-DadosdeLinhadoTempodoProjeto[[#This Row],[NUM]]+1,2)),\"\")","v":""},{"$f":"IFERROR(IF(ISBLANK(INDEX(DetalhesDoProjeto[#Data],Última_entrada_do_projeto-Linha_de_início_do_projeto-DadosdeLinhadoTempodoProjeto[[#This Row],[NUM]]+1,3)),\"\",INDEX(DetalhesDoProjeto[#Data],Última_entrada_do_projeto-Linha_de_início_do_projeto-DadosdeLinhadoTempodoProjeto[[#This Row],[NUM]]+1,3)),\"\")","v":""},{"$f":"IFERROR(IF(ISBLANK(INDEX(DetalhesDoProjeto[#Data],ROW(A100)+1,1)),\"\",IF($J104-1<=-1,\"\",$J104-1)),\"\")","v":""},null,null,{"$f":"IFERROR(DadosdeLinhadoTempodoProjeto[[#This Row],[NUM]]+1,\"\")","v":""},{"$f":"IFERROR(VLOOKUP(LinhadoTempoClassificada[[#This Row],[POSIÇÃO classificada]],DadosdeLinhadoTempodoProjeto[],3,0),\"\")","v":""},{"$f":"IFERROR(VLOOKUP(LinhadoTempoClassificada[[#This Row],[POSIÇÃO classificada]],DadosdeLinhadoTempodoProjeto[],4,0),\"\")","v":""},{"$f":"IFERROR(VLOOKUP(LinhadoTempoClassificada[[#This Row],[POSIÇÃO classificada]],DadosdeLinhadoTempodoProjeto[],5,0),\"\")","v":""}]
[{"$nulls":4},{"$f":"IFERROR(RANK(F106,DadosdeLinhadoTempodoProjeto[CLASSIFICAÇÃO])+SUMPRODUCT(--(F106=DadosdeLinhadoTempodoProjeto[CLASSIFICAÇÃO]),--(J106<DadosdeLinhadoTempodoProjeto[NUM])),\"\")","v":""},{"$f":"IFERROR(RANK(DadosdeLinhadoTempodoProjeto[[#This Row],[DATA]],DadosdeLinhadoTempodoProjeto[DATA],1),\"\")","v":""},{"$f":"IFERROR(IF(ISBLANK(INDEX(DetalhesDoProjeto[#Data],Última_entrada_do_projeto-Linha_de_início_do_projeto-DadosdeLinhadoTempodoProjeto[[#This Row],[NUM]]+1,1)),\"\",INDEX(DetalhesDoProjeto[#Data],Última_entrada_do_projeto-Linha_de_início_do_projeto-DadosdeLinhadoTempodoProjeto[[#This Row],[NUM]]+1,1)),\"\")","v":""},{"$f":"IFERROR(IF(ISBLANK(INDEX(DetalhesDoProjeto[#Data],Última_entrada_do_projeto-Linha_de_início_do_projeto-DadosdeLinhadoTempodoProjeto[[#This Row],[NUM]]+1,2)),\"\",INDEX(DetalhesDoProjeto[#Data],Última_entrada_do_projeto-Linha_de_início_do_projeto-DadosdeLinhadoTempodoProjeto[[#This Row],[NUM]]+1,2)),\"\")","v":""},{"$f":"IFERROR(IF(ISBLANK(INDEX(DetalhesDoProjeto[#Data],Última_entrada_do_projeto-Linha_de_início_do_projeto-DadosdeLinhadoTempodoProjeto[[#This Row],[NUM]]+1,3)),\"\",INDEX(DetalhesDoProjeto[#Data],Última_entrada_do_projeto-Linha_de_início_do_projeto-DadosdeLinhadoTempodoProjeto[[#This Row],[NUM]]+1,3)),\"\")","v":""},{"$f":"IFERROR(IF(ISBLANK(INDEX(DetalhesDoProjeto[#Data],ROW(A101)+1,1)),\"\",IF($J105-1<=-1,\"\",$J105-1)),\"\")","v":""},null,null,{"$f":"IFERROR(DadosdeLinhadoTempodoProjeto[[#This Row],[NUM]]+1,\"\")","v":""},{"$f":"IFERROR(VLOOKUP(LinhadoTempoClassificada[[#This Row],[POSIÇÃO classificada]],DadosdeLinhadoTempodoProjeto[],3,0),\"\")","v":""},{"$f":"IFERROR(VLOOKUP(LinhadoTempoClassificada[[#This Row],[POSIÇÃO classificada]],DadosdeLinhadoTempodoProjeto[],4,0),\"\")","v":""},{"$f":"IFERROR(VLOOKUP(LinhadoTempoClassificada[[#This Row],[POSIÇÃO classificada]],DadosdeLinhadoTempodoProjeto[],5,0),\"\")","v":""}]
[{"$nulls":4},{"$f":"IFERROR(RANK(F107,DadosdeLinhadoTempodoProjeto[CLASSIFICAÇÃO])+SUMPRODUCT(--(F107=DadosdeLinhadoTempodoProjeto[CLASSIFICAÇÃO]),--(J107<DadosdeLinhadoTempodoProjeto[NUM])),\"\")","v":""},{"$f":"IFERROR(RANK(DadosdeLinhadoTempodoProjeto[[#This Row],[DATA]],DadosdeLinhadoTempodoProjeto[DATA],1),\"\")","v":""},{"$f":"IFERROR(IF(ISBLANK(INDEX(DetalhesDoProjeto[#Data],Última_entrada_do_projeto-Linha_de_início_do_projeto-DadosdeLinhadoTempodoProjeto[[#This Row],[NUM]]+1,1)),\"\",INDEX(DetalhesDoProjeto[#Data],Última_entrada_do_projeto-Linha_de_início_do_projeto-DadosdeLinhadoTempodoProjeto[[#This Row],[NUM]]+1,1)),\"\")","v":""},{"$f":"IFERROR(IF(ISBLANK(INDEX(DetalhesDoProjeto[#Data],Última_entrada_do_projeto-Linha_de_início_do_projeto-DadosdeLinhadoTempodoProjeto[[#This Row],[NUM]]+1,2)),\"\",INDEX(DetalhesDoProjeto[#Data],Última_entrada_do_projeto-Linha_de_início_do_projeto-DadosdeLinhadoTempodoProjeto[[#This Row],[NUM]]+1,2)),\"\")","v":""},{"$f":"IFERROR(IF(ISBLANK(INDEX(DetalhesDoProjeto[#Data],Última_entrada_do_projeto-Linha_de_início_do_projeto-DadosdeLinhadoTempodoProjeto[[#This Row],[NUM]]+1,3)),\"\",INDEX(DetalhesDoProjeto[#Data],Última_entrada_do_projeto-Linha_de_início_do_projeto-DadosdeLinhadoTempodoProjeto[[#This Row],[NUM]]+1,3)),\"\")","v":""},{"$f":"IFERROR(IF(ISBLANK(INDEX(DetalhesDoProjeto[#Data],ROW(A102)+1,1)),\"\",IF($J106-1<=-1,\"\",$J106-1)),\"\")","v":""},null,null,{"$f":"IFERROR(DadosdeLinhadoTempodoProjeto[[#This Row],[NUM]]+1,\"\")","v":""},{"$f":"IFERROR(VLOOKUP(LinhadoTempoClassificada[[#This Row],[POSIÇÃO classificada]],DadosdeLinhadoTempodoProjeto[],3,0),\"\")","v":""},{"$f":"IFERROR(VLOOKUP(LinhadoTempoClassificada[[#This Row],[POSIÇÃO classificada]],DadosdeLinhadoTempodoProjeto[],4,0),\"\")","v":""},{"$f":"IFERROR(VLOOKUP(LinhadoTempoClassificada[[#This Row],[POSIÇÃO classificada]],DadosdeLinhadoTempodoProjeto[],5,0),\"\")","v":""}]
[{"$nulls":4},{"$f":"IFERROR(RANK(F108,DadosdeLinhadoTempodoProjeto[CLASSIFICAÇÃO])+SUMPRODUCT(--(F108=DadosdeLinhadoTempodoProjeto[CLASSIFICAÇÃO]),--(J108<DadosdeLinhadoTempodoProjeto[NUM])),\"\")","v":""},{"$f":"IFERROR(RANK(DadosdeLinhadoTempodoProjeto[[#This Row],[DATA]],DadosdeLinhadoTempodoProjeto[DATA],1),\"\")","v":""},{"$f":"IFERROR(IF(ISBLANK(INDEX(DetalhesDoProjeto[#Data],Última_entrada_do_projeto-Linha_de_início_do_projeto-DadosdeLinhadoTempodoProjeto[[#This Row],[NUM]]+1,1)),\"\",INDEX(DetalhesDoProjeto[#Data],Última_entrada_do_projeto-Linha_de_início_do_projeto-DadosdeLinhadoTempodoProjeto[[#This Row],[NUM]]+1,1)),\"\")","v":""},{"$f":"IFERROR(IF(ISBLANK(INDEX(DetalhesDoProjeto[#Data],Última_entrada_do_projeto-Linha_de_início_do_projeto-DadosdeLinhadoTempodoProjeto[[#This Row],[NUM]]+1,2)),\"\",INDEX(DetalhesDoProjeto[#Data],Última_entrada_do_projeto-Linha_de_início_do_projeto-DadosdeLinhadoTempodoProjeto[[#This Row],[NUM]]+1,2)),\"\")","v":""},{"$f":"IFERROR(IF(ISBLANK(INDEX(DetalhesDoProjeto[#Data],Última_entrada_do_projeto-Linha_de_início_do_projeto-DadosdeLinhadoTempodoProjeto[[#This Row],[NUM]]+1,3)),\"\",INDEX(DetalhesDoProjeto[#Data],Última_entrada_do_projeto-Linha_de_início_do_projeto-DadosdeLinhadoTempodoProjeto[[#This Row],[NUM]]+1,3)),\"\")","v":""},{"$f":"IFERROR(IF(ISBLANK(INDEX(DetalhesDoProjeto[#Data],ROW(A103)+1,1)),\"\",IF($J107-1<=-1,\"\",$J107-1)),\"\")","v":""},null,null,{"$f":"IFERROR(DadosdeLinhadoTempodoProjeto[[#This Row],[NUM]]+1,\"\")","v":""},{"$f":"IFERROR(VLOOKUP(LinhadoTempoClassificada[[#This Row],[POSIÇÃO classificada]],DadosdeLinhadoTempodoProjeto[],3,0),\"\")","v":""},{"$f":"IFERROR(VLOOKUP(LinhadoTempoClassificada[[#This Row],[POSIÇÃO classificada]],DadosdeLinhadoTempodoProjeto[],4,0),\"\")","v":""},{"$f":"IFERROR(VLOOKUP(LinhadoTempoClassificada[[#This Row],[POSIÇÃO classificada]],DadosdeLinhadoTempodoProjeto[],5,0),\"\")","v":""}]
[{"$nulls":4},{"$f":"IFERROR(RANK(F109,DadosdeLinhadoTempodoProjeto[CLASSIFICAÇÃO])+SUMPRODUCT(--(F109=DadosdeLinhadoTempodoProjeto[CLASSIFICAÇÃO]),--(J109<DadosdeLinhadoTempodoProjeto[NUM])),\"\")","v":""},{"$f":"IFERROR(RANK(DadosdeLinhadoTempodoProjeto[[#This Row],[DATA]],DadosdeLinhadoTempodoProjeto[DATA],1),\"\")","v":""},{"$f":"IFERROR(IF(ISBLANK(INDEX(DetalhesDoProjeto[#Data],Última_entrada_do_projeto-Linha_de_início_do_projeto-DadosdeLinhadoTempodoProjeto[[#This Row],[NUM]]+1,1)),\"\",INDEX(DetalhesDoProjeto[#Data],Última_entrada_do_projeto-Linha_de_início_do_projeto-DadosdeLinhadoTempodoProjeto[[#This Row],[NUM]]+1,1)),\"\")","v":""},{"$f":"IFERROR(IF(ISBLANK(INDEX(DetalhesDoProjeto[#Data],Última_entrada_do_projeto-Linha_de_início_do_projeto-DadosdeLinhadoTempodoProjeto[[#This Row],[NUM]]+1,2)),\"\",INDEX(DetalhesDoProjeto[#Data],Última_entrada_do_projeto-Linha_de_início_do_projeto-DadosdeLinhadoTempodoProjeto[[#This Row],[NUM]]+1,2)),\"\")","v":""},{"$f":"IFERROR(IF(ISBLANK(INDEX(DetalhesDoProjeto[#Data],Última_entrada_do_projeto-Linha_de_início_do_projeto-DadosdeLinhadoTempodoProjeto[[#This Row],[NUM]]+1,3)),\"\",INDEX(DetalhesDoProjeto[#Data],Última_entrada_do_projeto-Linha_de_início_do_projeto-DadosdeLinhadoTempodoProjeto[[#This Row],[NUM]]+1,3)),\"\")","v":""},{"$f":"IFERROR(IF(ISBLANK(INDEX(DetalhesDoProjeto[#Data],ROW(A104)+1,1)),\"\",IF($J108-1<=-1,\"\",$J108-1)),\"\")","v":""},null,null,{"$f":"IFERROR(DadosdeLinhadoTempodoProjeto[[#This Row],[NUM]]+1,\"\")","v":""},{"$f":"IFERROR(VLOOKUP(LinhadoTempoClassificada[[#This Row],[POSIÇÃO classificada]],DadosdeLinhadoTempodoProjeto[],3,0),\"\")","v":""},{"$f":"IFERROR(VLOOKUP(LinhadoTempoClassificada[[#This Row],[POSIÇÃO classificada]],DadosdeLinhadoTempodoProjeto[],4,0),\"\")","v":""},{"$f":"IFERROR(VLOOKUP(LinhadoTempoClassificada[[#This Row],[POSIÇÃO classificada]],DadosdeLinhadoTempodoProjeto[],5,0),\"\")","v":""}]
[{"$nulls":4},{"$f":"IFERROR(RANK(F110,DadosdeLinhadoTempodoProjeto[CLASSIFICAÇÃO])+SUMPRODUCT(--(F110=DadosdeLinhadoTempodoProjeto[CLASSIFICAÇÃO]),--(J110<DadosdeLinhadoTempodoProjeto[NUM])),\"\")","v":""},{"$f":"IFERROR(RANK(DadosdeLinhadoTempodoProjeto[[#This Row],[DATA]],DadosdeLinhadoTempodoProjeto[DATA],1),\"\")","v":""},{"$f":"IFERROR(IF(ISBLANK(INDEX(DetalhesDoProjeto[#Data],Última_entrada_do_projeto-Linha_de_início_do_projeto-DadosdeLinhadoTempodoProjeto[[#This Row],[NUM]]+1,1)),\"\",INDEX(DetalhesDoProjeto[#Data],Última_entrada_do_projeto-Linha_de_início_do_projeto-DadosdeLinhadoTempodoProjeto[[#This Row],[NUM]]+1,1)),\"\")","v":""},{"$f":"IFERROR(IF(ISBLANK(INDEX(DetalhesDoProjeto[#Data],Última_entrada_do_projeto-Linha_de_início_do_projeto-DadosdeLinhadoTempodoProjeto[[#This Row],[NUM]]+1,2)),\"\",INDEX(DetalhesDoProjeto[#Data],Última_entrada_do_projeto-Linha_de_início_do_projeto-DadosdeLinhadoTempodoProjeto[[#This Row],[NUM]]+1,2)),\"\")","v":""},{"$f":"IFERROR(IF(ISBLANK(INDEX(DetalhesDoProjeto[#Data],Última_entrada_do_projeto-Linha_de_início_do_projeto-DadosdeLinhadoTempodoProjeto[[#This Row],[NUM]]+1,3)),\"\",INDEX(DetalhesDoProjeto[#Data],Última_entrada_do_projeto-Linha_de_início_do_projeto-DadosdeLinhadoTempodoProjeto[[#This Row],[NUM]]+1,3)),\"\")","v":""},{"$f":"IFERROR(IF(ISBLANK(INDEX(DetalhesDoProjeto[#Data],ROW(A105)+1,1)),\"\",IF($J109-1<=-1,\"\",$J109-1)),\"\")","v":""},null,null,{"$f":"IFERROR(DadosdeLinhadoTempodoProjeto[[#This Row],[NUM]]+1,\"\")","v":""},{"$f":"IFERROR(VLOOKUP(LinhadoTempoClassificada[[#This Row],[POSIÇÃO classificada]],DadosdeLinhadoTempodoProjeto[],3,0),\"\")","v":""},{"$f":"IFERROR(VLOOKUP(LinhadoTempoClassificada[[#This Row],[POSIÇÃO classificada]],DadosdeLinhadoTempodoProjeto[],4,0),\"\")","v":""},{"$f":"IFERROR(VLOOKUP(LinhadoTempoClassificada[[#This Row],[POSIÇÃO classificada]],DadosdeLinhadoTempodoProjeto[],5,0),\"\")","v":""}]
[{"$nulls":4},{"$f":"IFERROR(RANK(F111,DadosdeLinhadoTempodoProjeto[CLASSIFICAÇÃO])+SUMPRODUCT(--(F111=DadosdeLinhadoTempodoProjeto[CLASSIFICAÇÃO]),--(J111<DadosdeLinhadoTempodoProjeto[NUM])),\"\")","v":""},{"$f":"IFERROR(RANK(DadosdeLinhadoTempodoProjeto[[#This Row],[DATA]],DadosdeLinhadoTempodoProjeto[DATA],1),\"\")","v":""},{"$f":"IFERROR(IF(ISBLANK(INDEX(DetalhesDoProjeto[#Data],Última_entrada_do_projeto-Linha_de_início_do_projeto-DadosdeLinhadoTempodoProjeto[[#This Row],[NUM]]+1,1)),\"\",INDEX(DetalhesDoProjeto[#Data],Última_entrada_do_projeto-Linha_de_início_do_projeto-DadosdeLinhadoTempodoProjeto[[#This Row],[NUM]]+1,1)),\"\")","v":""},{"$f":"IFERROR(IF(ISBLANK(INDEX(DetalhesDoProjeto[#Data],Última_entrada_do_projeto-Linha_de_início_do_projeto-DadosdeLinhadoTempodoProjeto[[#This Row],[NUM]]+1,2)),\"\",INDEX(DetalhesDoProjeto[#Data],Última_entrada_do_projeto-Linha_de_início_do_projeto-DadosdeLinhadoTempodoProjeto[[#This Row],[NUM]]+1,2)),\"\")","v":""},{"$f":"IFERROR(IF(ISBLANK(INDEX(DetalhesDoProjeto[#Data],Última_entrada_do_projeto-Linha_de_início_do_projeto-DadosdeLinhadoTempodoProjeto[[#This Row],[NUM]]+1,3)),\"\",INDEX(DetalhesDoProjeto[#Data],Última_entrada_do_projeto-Linha_de_início_do_projeto-DadosdeLinhadoTempodoProjeto[[#This Row],[NUM]]+1,3)),\"\")","v":""},{"$f":"IFERROR(IF(ISBLANK(INDEX(DetalhesDoProjeto[#Data],ROW(A106)+1,1)),\"\",IF($J110-1<=-1,\"\",$J110-1)),\"\")","v":""},null,null,{"$f":"IFERROR(DadosdeLinhadoTempodoProjeto[[#This Row],[NUM]]+1,\"\")","v":""},{"$f":"IFERROR(VLOOKUP(LinhadoTempoClassificada[[#This Row],[POSIÇÃO classificada]],DadosdeLinhadoTempodoProjeto[],3,0),\"\")","v":""},{"$f":"IFERROR(VLOOKUP(LinhadoTempoClassificada[[#This Row],[POSIÇÃO classificada]],DadosdeLinhadoTempodoProjeto[],4,0),\"\")","v":""},{"$f":"IFERROR(VLOOKUP(LinhadoTempoClassificada[[#This Row],[POSIÇÃO classificada]],DadosdeLinhadoTempodoProjeto[],5,0),\"\")","v":""}]
[{"$nulls":4},{"$f":"IFERROR(RANK(F112,DadosdeLinhadoTempodoProjeto[CLASSIFICAÇÃO])+SUMPRODUCT(--(F112=DadosdeLinhadoTempodoProjeto[CLASSIFICAÇÃO]),--(J112<DadosdeLinhadoTempodoProjeto[NUM])),\"\")","v":""},{"$f":"IFERROR(RANK(DadosdeLinhadoTempodoProjeto[[#This Row],[DATA]],DadosdeLinhadoTempodoProjeto[DATA],1),\"\")","v":""},{"$f":"IFERROR(IF(ISBLANK(INDEX(DetalhesDoProjeto[#Data],Última_entrada_do_projeto-Linha_de_início_do_projeto-DadosdeLinhadoTempodoProjeto[[#This Row],[NUM]]+1,1)),\"\",INDEX(DetalhesDoProjeto[#Data],Última_entrada_do_projeto-Linha_de_início_do_projeto-DadosdeLinhadoTempodoProjeto[[#This Row],[NUM]]+1,1)),\"\")","v":""},{"$f":"IFERROR(IF(ISBLANK(INDEX(DetalhesDoProjeto[#Data],Última_entrada_do_projeto-Linha_de_início_do_projeto-DadosdeLinhadoTempodoProjeto[[#This Row],[NUM]]+1,2)),\"\",INDEX(DetalhesDoProjeto[#Data],Última_entrada_do_projeto-Linha_de_início_do_projeto-DadosdeLinhadoTempodoProjeto[[#This Row],[NUM]]+1,2)),\"\")","v":""},{"$f":"IFERROR(IF(ISBLANK(INDEX(DetalhesDoProjeto[#Data],Última_entrada_do_projeto-Linha_de_início_do_projeto-DadosdeLinhadoTempodoProjeto[[#This Row],[NUM]]+1,3)),\"\",INDEX(DetalhesDoProjeto[#Data],Última_entrada_do_projeto-Linha_de_início_do_projeto-DadosdeLinhadoTempodoProjeto[[#This Row],[NUM]]+1,3)),\"\")","v":""},{"$f":"IFERROR(IF(ISBLANK(INDEX(DetalhesDoProjeto[#Data],ROW(A107)+1,1)),\"\",IF($J111-1<=-1,\"\",$J111-1)),\"\")","v":""},null,null,{"$f":"IFERROR(DadosdeLinhadoTempodoProjeto[[#This Row],[NUM]]+1,\"\")","v":""},{"$f":"IFERROR(VLOOKUP(LinhadoTempoClassificada[[#This Row],[POSIÇÃO classificada]],DadosdeLinhadoTempodoProjeto[],3,0),\"\")","v":""},{"$f":"IFERROR(VLOOKUP(LinhadoTempoClassificada[[#This Row],[POSIÇÃO classificada]],DadosdeLinhadoTempodoProjeto[],4,0),\"\")","v":""},{"$f":"IFERROR(VLOOKUP(LinhadoTempoClassificada[[#This Row],[POSIÇÃO classificada]],DadosdeLinhadoTempodoProjeto[],5,0),\"\")","v":""}]
[{"$nulls":4},{"$f":"IFERROR(RANK(F113,DadosdeLinhadoTempodoProjeto[CLASSIFICAÇÃO])+SUMPRODUCT(--(F113=DadosdeLinhadoTempodoProjeto[CLASSIFICAÇÃO]),--(J113<DadosdeLinhadoTempodoProjeto[NUM])),\"\")","v":""},{"$f":"IFERROR(RANK(DadosdeLinhadoTempodoProjeto[[#This Row],[DATA]],DadosdeLinhadoTempodoProjeto[DATA],1),\"\")","v":""},{"$f":"IFERROR(IF(ISBLANK(INDEX(DetalhesDoProjeto[#Data],Última_entrada_do_projeto-Linha_de_início_do_projeto-DadosdeLinhadoTempodoProjeto[[#This Row],[NUM]]+1,1)),\"\",INDEX(DetalhesDoProjeto[#Data],Última_entrada_do_projeto-Linha_de_início_do_projeto-DadosdeLinhadoTempodoProjeto[[#This Row],[NUM]]+1,1)),\"\")","v":""},{"$f":"IFERROR(IF(ISBLANK(INDEX(DetalhesDoProjeto[#Data],Última_entrada_do_projeto-Linha_de_início_do_projeto-DadosdeLinhadoTempodoProjeto[[#This Row],[NUM]]+1,2)),\"\",INDEX(DetalhesDoProjeto[#Data],Última_entrada_do_projeto-Linha_de_início_do_projeto-DadosdeLinhadoTempodoProjeto[[#This Row],[NUM]]+1,2)),\"\")","v":""},{"$f":"IFERROR(IF(ISBLANK(INDEX(DetalhesDoProjeto[#Data],Última_entrada_do_projeto-Linha_de_início_do_projeto-DadosdeLinhadoTempodoProjeto[[#This Row],[NUM]]+1,3)),\"\",INDEX(DetalhesDoProjeto[#Data],Última_entrada_do_projeto-Linha_de_início_do_projeto-DadosdeLinhadoTempodoProjeto[[#This Row],[NUM]]+1,3)),\"\")","v":""},{"$f":"IFERROR(IF(ISBLANK(INDEX(DetalhesDoProjeto[#Data],ROW(A108)+1,1)),\"\",IF($J112-1<=-1,\"\",$J112-1)),\"\")","v":""},null,null,{"$f":"IFERROR(DadosdeLinhadoTempodoProjeto[[#This Row],[NUM]]+1,\"\")","v":""},{"$f":"IFERROR(VLOOKUP(LinhadoTempoClassificada[[#This Row],[POSIÇÃO classificada]],DadosdeLinhadoTempodoProjeto[],3,0),\"\")","v":""},{"$f":"IFERROR(VLOOKUP(LinhadoTempoClassificada[[#This Row],[POSIÇÃO classificada]],DadosdeLinhadoTempodoProjeto[],4,0),\"\")","v":""},{"$f":"IFERROR(VLOOKUP(LinhadoTempoClassificada[[#This Row],[POSIÇÃO classificada]],DadosdeLinhadoTempodoProjeto[],5,0),\"\")","v":""}]
[{"$nulls":4},{"$f":"IFERROR(RANK(F114,DadosdeLinhadoTempodoProjeto[CLASSIFICAÇÃO])+SUMPRODUCT(--(F114=DadosdeLinhadoTempodoProjeto[CLASSIFICAÇÃO]),--(J114<DadosdeLinhadoTempodoProjeto[NUM])),\"\")","v":""},{"$f":"IFERROR(RANK(DadosdeLinhadoTempodoProjeto[[#This Row],[DATA]],DadosdeLinhadoTempodoProjeto[DATA],1),\"\")","v":""},{"$f":"IFERROR(IF(ISBLANK(INDEX(DetalhesDoProjeto[#Data],Última_entrada_do_projeto-Linha_de_início_do_projeto-DadosdeLinhadoTempodoProjeto[[#This Row],[NUM]]+1,1)),\"\",INDEX(DetalhesDoProjeto[#Data],Última_entrada_do_projeto-Linha_de_início_do_projeto-DadosdeLinhadoTempodoProjeto[[#This Row],[NUM]]+1,1)),\"\")","v":""},{"$f":"IFERROR(IF(ISBLANK(INDEX(DetalhesDoProjeto[#Data],Última_entrada_do_projeto-Linha_de_início_do_projeto-DadosdeLinhadoTempodoProjeto[[#This Row],[NUM]]+1,2)),\"\",INDEX(DetalhesDoProjeto[#Data],Última_entrada_do_projeto-Linha_de_início_do_projeto-DadosdeLinhadoTempodoProjeto[[#This Row],[NUM]]+1,2)),\"\")","v":""},{"$f":"IFERROR(IF(ISBLANK(INDEX(DetalhesDoProjeto[#Data],Última_entrada_do_projeto-Linha_de_início_do_projeto-DadosdeLinhadoTempodoProjeto[[#This Row],[NUM]]+1,3)),\"\",INDEX(DetalhesDoProjeto[#Data],Última_entrada_do_projeto-Linha_de_início_do_projeto-DadosdeLinhadoTempodoProjeto[[#This Row],[NUM]]+1,3)),\"\")","v":""},{"$f":"IFERROR(IF(ISBLANK(INDEX(DetalhesDoProjeto[#Data],ROW(A109)+1,1)),\"\",IF($J113-1<=-1,\"\",$J113-1)),\"\")","v":""},null,null,{"$f":"IFERROR(DadosdeLinhadoTempodoProjeto[[#This Row],[NUM]]+1,\"\")","v":""},{"$f":"IFERROR(VLOOKUP(LinhadoTempoClassificada[[#This Row],[POSIÇÃO classificada]],DadosdeLinhadoTempodoProjeto[],3,0),\"\")","v":""},{"$f":"IFERROR(VLOOKUP(LinhadoTempoClassificada[[#This Row],[POSIÇÃO classificada]],DadosdeLinhadoTempodoProjeto[],4,0),\"\")","v":""},{"$f":"IFERROR(VLOOKUP(LinhadoTempoClassificada[[#This Row],[POSIÇÃO classificada]],DadosdeLinhadoTempodoProjeto[],5,0),\"\")","v":""}]
[{"$nulls":4},{"$f":"IFERROR(RANK(F115,DadosdeLinhadoTempodoProjeto[CLASSIFICAÇÃO])+SUMPRODUCT(--(F115=DadosdeLinhadoTempodoProjeto[CLASSIFICAÇÃO]),--(J115<DadosdeLinhadoTempodoProjeto[NUM])),\"\")","v":""},{"$f":"IFERROR(RANK(DadosdeLinhadoTempodoProjeto[[#This Row],[DATA]],DadosdeLinhadoTempodoProjeto[DATA],1),\"\")","v":""},{"$f":"IFERROR(IF(ISBLANK(INDEX(DetalhesDoProjeto[#Data],Última_entrada_do_projeto-Linha_de_início_do_projeto-DadosdeLinhadoTempodoProjeto[[#This Row],[NUM]]+1,1)),\"\",INDEX(DetalhesDoProjeto[#Data],Última_entrada_do_projeto-Linha_de_início_do_projeto-DadosdeLinhadoTempodoProjeto[[#This Row],[NUM]]+1,1)),\"\")","v":""},{"$f":"IFERROR(IF(ISBLANK(INDEX(DetalhesDoProjeto[#Data],Última_entrada_do_projeto-Linha_de_início_do_projeto-DadosdeLinhadoTempodoProjeto[[#This Row],[NUM]]+1,2)),\"\",INDEX(DetalhesDoProjeto[#Data],Última_entrada_do_projeto-Linha_de_início_do_projeto-DadosdeLinhadoTempodoProjeto[[#This Row],[NUM]]+1,2)),\"\")","v":""},{"$f":"IFERROR(IF(ISBLANK(INDEX(DetalhesDoProjeto[#Data],Última_entrada_do_projeto-Linha_de_início_do_projeto-DadosdeLinhadoTempodoProjeto[[#This Row],[NUM]]+1,3)),\"\",INDEX(DetalhesDoProjeto[#Data],Última_entrada_do_projeto-Linha_de_início_do_projeto-DadosdeLinhadoTempodoProjeto[[#This Row],[NUM]]+1,3)),\"\")","v":""},{"$f":"IFERROR(IF(ISBLANK(INDEX(DetalhesDoProjeto[#Data],ROW(A110)+1,1)),\"\",IF($J114-1<=-1,\"\",$J114-1)),\"\")","v":""},null,null,{"$f":"IFERROR(DadosdeLinhadoTempodoProjeto[[#This Row],[NUM]]+1,\"\")","v":""},{"$f":"IFERROR(VLOOKUP(LinhadoTempoClassificada[[#This Row],[POSIÇÃO classificada]],DadosdeLinhadoTempodoProjeto[],3,0),\"\")","v":""},{"$f":"IFERROR(VLOOKUP(LinhadoTempoClassificada[[#This Row],[POSIÇÃO classificada]],DadosdeLinhadoTempodoProjeto[],4,0),\"\")","v":""},{"$f":"IFERROR(VLOOKUP(LinhadoTempoClassificada[[#This Row],[POSIÇÃO classificada]],DadosdeLinhadoTempodoProjeto[],5,0),\"\")","v":""}]
[{"$nulls":4},{"$f":"IFERROR(RANK(F116,DadosdeLinhadoTempodoProjeto[CLASSIFICAÇÃO])+SUMPRODUCT(--(F116=DadosdeLinhadoTempodoProjeto[CLASSIFICAÇÃO]),--(J116<DadosdeLinhadoTempodoProjeto[NUM])),\"\")","v":""},{"$f":"IFERROR(RANK(DadosdeLinhadoTempodoProjeto[[#This Row],[DATA]],DadosdeLinhadoTempodoProjeto[DATA],1),\"\")","v":""},{"$f":"IFERROR(IF(ISBLANK(INDEX(DetalhesDoProjeto[#Data],Última_entrada_do_projeto-Linha_de_início_do_projeto-DadosdeLinhadoTempodoProjeto[[#This Row],[NUM]]+1,1)),\"\",INDEX(DetalhesDoProjeto[#Data],Última_entrada_do_projeto-Linha_de_início_do_projeto-DadosdeLinhadoTempodoProjeto[[#This Row],[NUM]]+1,1)),\"\")","v":""},{"$f":"IFERROR(IF(ISBLANK(INDEX(DetalhesDoProjeto[#Data],Última_entrada_do_projeto-Linha_de_início_do_projeto-DadosdeLinhadoTempodoProjeto[[#This Row],[NUM]]+1,2)),\"\",INDEX(DetalhesDoProjeto[#Data],Última_entrada_do_projeto-Linha_de_início_do_projeto-DadosdeLinhadoTempodoProjeto[[#This Row],[NUM]]+1,2)),\"\")","v":""},{"$f":"IFERROR(IF(ISBLANK(INDEX(DetalhesDoProjeto[#Data],Última_entrada_do_projeto-Linha_de_início_do_projeto-DadosdeLinhadoTempodoProjeto[[#This Row],[NUM]]+1,3)),\"\",INDEX(DetalhesDoProjeto[#Data],Última_entrada_do_projeto-Linha_de_início_do_projeto-DadosdeLinhadoTempodoProjeto[[#This Row],[NUM]]+1,3)),\"\")","v":""},{"$f":"IFERROR(IF(ISBLANK(INDEX(DetalhesDoProjeto[#Data],ROW(A111)+1,1)),\"\",IF($J115-1<=-1,\"\",$J115-1)),\"\")","v":""},null,null,{"$f":"IFERROR(DadosdeLinhadoTempodoProjeto[[#This Row],[NUM]]+1,\"\")","v":""},{"$f":"IFERROR(VLOOKUP(LinhadoTempoClassificada[[#This Row],[POSIÇÃO classificada]],DadosdeLinhadoTempodoProjeto[],3,0),\"\")","v":""},{"$f":"IFERROR(VLOOKUP(LinhadoTempoClassificada[[#This Row],[POSIÇÃO classificada]],DadosdeLinhadoTempodoProjeto[],4,0),\"\")","v":""},{"$f":"IFERROR(VLOOKUP(LinhadoTempoClassificada[[#This Row],[POSIÇÃO classificada]],DadosdeLinhadoTempodoProjeto[],5,0),\"\")","v":""}]
[{"$nulls":4},{"$f":"IFERROR(RANK(F117,DadosdeLinhadoTempodoProjeto[CLASSIFICAÇÃO])+SUMPRODUCT(--(F117=DadosdeLinhadoTempodoProjeto[CLASSIFICAÇÃO]),--(J117<DadosdeLinhadoTempodoProjeto[NUM])),\"\")","v":""},{"$f":"IFERROR(RANK(DadosdeLinhadoTempodoProjeto[[#This Row],[DATA]],DadosdeLinhadoTempodoProjeto[DATA],1),\"\")","v":""},{"$f":"IFERROR(IF(ISBLANK(INDEX(DetalhesDoProjeto[#Data],Última_entrada_do_projeto-Linha_de_início_do_projeto-DadosdeLinhadoTempodoProjeto[[#This Row],[NUM]]+1,1)),\"\",INDEX(DetalhesDoProjeto[#Data],Última_entrada_do_projeto-Linha_de_início_do_projeto-DadosdeLinhadoTempodoProjeto[[#This Row],[NUM]]+1,1)),\"\")","v":""},{"$f":"IFERROR(IF(ISBLANK(INDEX(DetalhesDoProjeto[#Data],Última_entrada_do_projeto-Linha_de_início_do_projeto-DadosdeLinhadoTempodoProjeto[[#This Row],[NUM]]+1,2)),\"\",INDEX(DetalhesDoProjeto[#Data],Última_entrada_do_projeto-Linha_de_início_do_projeto-DadosdeLinhadoTempodoProjeto[[#This Row],[NUM]]+1,2)),\"\")","v":""},{"$f":"IFERROR(IF(ISBLANK(INDEX(DetalhesDoProjeto[#Data],Última_entrada_do_projeto-Linha_de_início_do_projeto-DadosdeLinhadoTempodoProjeto[[#This Row],[NUM]]+1,3)),\"\",INDEX(DetalhesDoProjeto[#Data],Última_entrada_do_projeto-Linha_de_início_do_projeto-DadosdeLinhadoTempodoProjeto[[#This Row],[NUM]]+1,3)),\"\")","v":""},{"$f":"IFERROR(IF(ISBLANK(INDEX(DetalhesDoProjeto[#Data],ROW(A112)+1,1)),\"\",IF($J116-1<=-1,\"\",$J116-1)),\"\")","v":""},null,null,{"$f":"IFERROR(DadosdeLinhadoTempodoProjeto[[#This Row],[NUM]]+1,\"\")","v":""},{"$f":"IFERROR(VLOOKUP(LinhadoTempoClassificada[[#This Row],[POSIÇÃO classificada]],DadosdeLinhadoTempodoProjeto[],3,0),\"\")","v":""},{"$f":"IFERROR(VLOOKUP(LinhadoTempoClassificada[[#This Row],[POSIÇÃO classificada]],DadosdeLinhadoTempodoProjeto[],4,0),\"\")","v":""},{"$f":"IFERROR(VLOOKUP(LinhadoTempoClassificada[[#This Row],[POSIÇÃO classificada]],DadosdeLinhadoTempodoProjeto[],5,0),\"\")","v":""}]
[{"$nulls":4},{"$f":"IFERROR(RANK(F118,DadosdeLinhadoTempodoProjeto[CLASSIFICAÇÃO])+SUMPRODUCT(--(F118=DadosdeLinhadoTempodoProjeto[CLASSIFICAÇÃO]),--(J118<DadosdeLinhadoTempodoProjeto[NUM])),\"\")","v":""},{"$f":"IFERROR(RANK(DadosdeLinhadoTempodoProjeto[[#This Row],[DATA]],DadosdeLinhadoTempodoProjeto[DATA],1),\"\")","v":""},{"$f":"IFERROR(IF(ISBLANK(INDEX(DetalhesDoProjeto[#Data],Última_entrada_do_projeto-Linha_de_início_do_projeto-DadosdeLinhadoTempodoProjeto[[#This Row],[NUM]]+1,1)),\"\",INDEX(DetalhesDoProjeto[#Data],Última_entrada_do_projeto-Linha_de_início_do_projeto-DadosdeLinhadoTempodoProjeto[[#This Row],[NUM]]+1,1)),\"\")","v":""},{"$f":"IFERROR(IF(ISBLANK(INDEX(DetalhesDoProjeto[#Data],Última_entrada_do_projeto-Linha_de_início_do_projeto-DadosdeLinhadoTempodoProjeto[[#This Row],[NUM]]+1,2)),\"\",INDEX(DetalhesDoProjeto[#Data],Última_entrada_do_projeto-Linha_de_início_do_projeto-DadosdeLinhadoTempodoProjeto[[#This Row],[NUM]]+1,2)),\"\")","v":""},{"$f":"IFERROR(IF(ISBLANK(INDEX(DetalhesDoProjeto[#Data],Última_entrada_do_projeto-Linha_de_início_do_projeto-DadosdeLinhadoTempodoProjeto[[#This Row],[NUM]]+1,3)),\"\",INDEX(DetalhesDoProjeto[#Data],Última_entrada_do_projeto-Linha_de_início_do_projeto-DadosdeLinhadoTempodoProjeto[[#This Row],[NUM]]+1,3)),\"\")","v":""},{"$f":"IFERROR(IF(ISBLANK(INDEX(DetalhesDoProjeto[#Data],ROW(A113)+1,1)),\"\",IF($J117-1<=-1,\"\",$J117-1)),\"\")","v":""},null,null,{"$f":"IFERROR(DadosdeLinhadoTempodoProjeto[[#This Row],[NUM]]+1,\"\")","v":""},{"$f":"IFERROR(VLOOKUP(LinhadoTempoClassificada[[#This Row],[POSIÇÃO classificada]],DadosdeLinhadoTempodoProjeto[],3,0),\"\")","v":""},{"$f":"IFERROR(VLOOKUP(LinhadoTempoClassificada[[#This Row],[POSIÇÃO classificada]],DadosdeLinhadoTempodoProjeto[],4,0),\"\")","v":""},{"$f":"IFERROR(VLOOKUP(LinhadoTempoClassificada[[#This Row],[POSIÇÃO classificada]],DadosdeLinhadoTempodoProjeto[],5,0),\"\")","v":""}]
[{"$nulls":4},{"$f":"IFERROR(RANK(F119,DadosdeLinhadoTempodoProjeto[CLASSIFICAÇÃO])+SUMPRODUCT(--(F119=DadosdeLinhadoTempodoProjeto[CLASSIFICAÇÃO]),--(J119<DadosdeLinhadoTempodoProjeto[NUM])),\"\")","v":""},{"$f":"IFERROR(RANK(DadosdeLinhadoTempodoProjeto[[#This Row],[DATA]],DadosdeLinhadoTempodoProjeto[DATA],1),\"\")","v":""},{"$f":"IFERROR(IF(ISBLANK(INDEX(DetalhesDoProjeto[#Data],Última_entrada_do_projeto-Linha_de_início_do_projeto-DadosdeLinhadoTempodoProjeto[[#This Row],[NUM]]+1,1)),\"\",INDEX(DetalhesDoProjeto[#Data],Última_entrada_do_projeto-Linha_de_início_do_projeto-DadosdeLinhadoTempodoProjeto[[#This Row],[NUM]]+1,1)),\"\")","v":""},{"$f":"IFERROR(IF(ISBLANK(INDEX(DetalhesDoProjeto[#Data],Última_entrada_do_projeto-Linha_de_início_do_projeto-DadosdeLinhadoTempodoProjeto[[#This Row],[NUM]]+1,2)),\"\",INDEX(DetalhesDoProjeto[#Data],Última_entrada_do_projeto-Linha_de_início_do_projeto-DadosdeLinhadoTempodoProjeto[[#This Row],[NUM]]+1,2)),\"\")","v":""},{"$f":"IFERROR(IF(ISBLANK(INDEX(DetalhesDoProjeto[#Data],Última_entrada_do_projeto-Linha_de_início_do_projeto-DadosdeLinhadoTempodoProjeto[[#This Row],[NUM]]+1,3)),\"\",INDEX(DetalhesDoProjeto[#Data],Última_entrada_do_projeto-Linha_de_início_do_projeto-DadosdeLinhadoTempodoProjeto[[#This Row],[NUM]]+1,3)),\"\")","v":""},{"$f":"IFERROR(IF(ISBLANK(INDEX(DetalhesDoProjeto[#Data],ROW(A114)+1,1)),\"\",IF($J118-1<=-1,\"\",$J118-1)),\"\")","v":""},null,null,{"$f":"IFERROR(DadosdeLinhadoTempodoProjeto[[#This Row],[NUM]]+1,\"\")","v":""},{"$f":"IFERROR(VLOOKUP(LinhadoTempoClassificada[[#This Row],[POSIÇÃO classificada]],DadosdeLinhadoTempodoProjeto[],3,0),\"\")","v":""},{"$f":"IFERROR(VLOOKUP(LinhadoTempoClassificada[[#This Row],[POSIÇÃO classificada]],DadosdeLinhadoTempodoProjeto[],4,0),\"\")","v":""},{"$f":"IFERROR(VLOOKUP(LinhadoTempoClassificada[[#This Row],[POSIÇÃO classificada]],DadosdeLinhadoTempodoProjeto[],5,0),\"\")","v":""}]
[{"$nulls":4},{"$f":"IFERROR(RANK(F120,DadosdeLinhadoTempodoProjeto[CLASSIFICAÇÃO])+SUMPRODUCT(--(F120=DadosdeLinhadoTempodoProjeto[CLASSIFICAÇÃO]),--(J120<DadosdeLinhadoTempodoProjeto[NUM])),\"\")","v":""},{"$f":"IFERROR(RANK(DadosdeLinhadoTempodoProjeto[[#This Row],[DATA]],DadosdeLinhadoTempodoProjeto[DATA],1),\"\")","v":""},{"$f":"IFERROR(IF(ISBLANK(INDEX(DetalhesDoProjeto[#Data],Última_entrada_do_projeto-Linha_de_início_do_projeto-DadosdeLinhadoTempodoProjeto[[#This Row],[NUM]]+1,1)),\"\",INDEX(DetalhesDoProjeto[#Data],Última_entrada_do_projeto-Linha_de_início_do_projeto-DadosdeLinhadoTempodoProjeto[[#This Row],[NUM]]+1,1)),\"\")","v":""},{"$f":"IFERROR(IF(ISBLANK(INDEX(DetalhesDoProjeto[#Data],Última_entrada_do_projeto-Linha_de_início_do_projeto-DadosdeLinhadoTempodoProjeto[[#This Row],[NUM]]+1,2)),\"\",INDEX(DetalhesDoProjeto[#Data],Última_entrada_do_projeto-Linha_de_início_do_projeto-DadosdeLinhadoTempodoProjeto[[#This Row],[NUM]]+1,2)),\"\")","v":""},{"$f":"IFERROR(IF(ISBLANK(INDEX(DetalhesDoProjeto[#Data],Última_entrada_do_projeto-Linha_de_início_do_projeto-DadosdeLinhadoTempodoProjeto[[#This Row],[NUM]]+1,3)),\"\",INDEX(DetalhesDoProjeto[#Data],Última_entrada_do_projeto-Linha_de_início_do_projeto-DadosdeLinhadoTempodoProjeto[[#This Row],[NUM]]+1,3)),\"\")","v":""},{"$f":"IFERROR(IF(ISBLANK(INDEX(DetalhesDoProjeto[#Data],ROW(A115)+1,1)),\"\",IF($J119-1<=-1,\"\",$J119-1)),\"\")","v":""},null,null,{"$f":"IFERROR(DadosdeLinhadoTempodoProjeto[[#This Row],[NUM]]+1,\"\")","v":""},{"$f":"IFERROR(VLOOKUP(LinhadoTempoClassificada[[#This Row],[POSIÇÃO classificada]],DadosdeLinhadoTempodoProjeto[],3,0),\"\")","v":""},{"$f":"IFERROR(VLOOKUP(LinhadoTempoClassificada[[#This Row],[POSIÇÃO classificada]],DadosdeLinhadoTempodoProjeto[],4,0),\"\")","v":""},{"$f":"IFERROR(VLOOKUP(LinhadoTempoClassificada[[#This Row],[POSIÇÃO classificada]],DadosdeLinhadoTempodoProjeto[],5,0),\"\")","v":""}]
[{"$nulls":4},{"$f":"IFERROR(RANK(F121,DadosdeLinhadoTempodoProjeto[CLASSIFICAÇÃO])+SUMPRODUCT(--(F121=DadosdeLinhadoTempodoProjeto[CLASSIFICAÇÃO]),--(J121<DadosdeLinhadoTempodoProjeto[NUM])),\"\")","v":""},{"$f":"IFERROR(RANK(DadosdeLinhadoTempodoProjeto[[#This Row],[DATA]],DadosdeLinhadoTempodoProjeto[DATA],1),\"\")","v":""},{"$f":"IFERROR(IF(ISBLANK(INDEX(DetalhesDoProjeto[#Data],Última_entrada_do_projeto-Linha_de_início_do_projeto-DadosdeLinhadoTempodoProjeto[[#This Row],[NUM]]+1,1)),\"\",INDEX(DetalhesDoProjeto[#Data],Última_entrada_do_projeto-Linha_de_início_do_projeto-DadosdeLinhadoTempodoProjeto[[#This Row],[NUM]]+1,1)),\"\")","v":""},{"$f":"IFERROR(IF(ISBLANK(INDEX(DetalhesDoProjeto[#Data],Última_entrada_do_projeto-Linha_de_início_do_projeto-DadosdeLinhadoTempodoProjeto[[#This Row],[NUM]]+1,2)),\"\",INDEX(DetalhesDoProjeto[#Data],Última_entrada_do_projeto-Linha_de_início_do_projeto-DadosdeLinhadoTempodoProjeto[[#This Row],[NUM]]+1,2)),\"\")","v":""},{"$f":"IFERROR(IF(ISBLANK(INDEX(DetalhesDoProjeto[#Data],Última_entrada_do_projeto-Linha_de_início_do_projeto-DadosdeLinhadoTempodoProjeto[[#This Row],[NUM]]+1,3)),\"\",INDEX(DetalhesDoProjeto[#Data],Última_entrada_do_projeto-Linha_de_início_do_projeto-DadosdeLinhadoTempodoProjeto[[#This Row],[NUM]]+1,3)),\"\")","v":""},{"$f":"IFERROR(IF(ISBLANK(INDEX(DetalhesDoProjeto[#Data],ROW(A116)+1,1)),\"\",IF($J120-1<=-1,\"\",$J120-1)),\"\")","v":""},null,null,{"$f":"IFERROR(DadosdeLinhadoTempodoProjeto[[#This Row],[NUM]]+1,\"\")","v":""},{"$f":"IFERROR(VLOOKUP(LinhadoTempoClassificada[[#This Row],[POSIÇÃO classificada]],DadosdeLinhadoTempodoProjeto[],3,0),\"\")","v":""},{"$f":"IFERROR(VLOOKUP(LinhadoTempoClassificada[[#This Row],[POSIÇÃO classificada]],DadosdeLinhadoTempodoProjeto[],4,0),\"\")","v":""},{"$f":"IFERROR(VLOOKUP(LinhadoTempoClassificada[[#This Row],[POSIÇÃO classificada]],DadosdeLinhadoTempodoProjeto[],5,0),\"\")","v":""}]
[{"$nulls":4},{"$f":"IFERROR(RANK(F122,DadosdeLinhadoTempodoProjeto[CLASSIFICAÇÃO])+SUMPRODUCT(--(F122=DadosdeLinhadoTempodoProjeto[CLASSIFICAÇÃO]),--(J122<DadosdeLinhadoTempodoProjeto[NUM])),\"\")","v":""},{"$f":"IFERROR(RANK(DadosdeLinhadoTempodoProjeto[[#This Row],[DATA]],DadosdeLinhadoTempodoProjeto[DATA],1),\"\")","v":""},{"$f":"IFERROR(IF(ISBLANK(INDEX(DetalhesDoProjeto[#Data],Última_entrada_do_projeto-Linha_de_início_do_projeto-DadosdeLinhadoTempodoProjeto[[#This Row],[NUM]]+1,1)),\"\",INDEX(DetalhesDoProjeto[#Data],Última_entrada_do_projeto-Linha_de_início_do_projeto-DadosdeLinhadoTempodoProjeto[[#This Row],[NUM]]+1,1)),\"\")","v":""},{"$f":"IFERROR(IF(ISBLANK(INDEX(DetalhesDoProjeto[#Data],Última_entrada_do_projeto-Linha_de_início_do_projeto-DadosdeLinhadoTempodoProjeto[[#This Row],[NUM]]+1,2)),\"\",INDEX(DetalhesDoProjeto[#Data],Última_entrada_do_projeto-Linha_de_início_do_projeto-DadosdeLinhadoTempodoProjeto[[#This Row],[NUM]]+1,2)),\"\")","v":""},{"$f":"IFERROR(IF(ISBLANK(INDEX(DetalhesDoProjeto[#Data],Última_entrada_do_projeto-Linha_de_início_do_projeto-DadosdeLinhadoTempodoProjeto[[#This Row],[NUM]]+1,3)),\"\",INDEX(DetalhesDoProjeto[#Data],Última_entrada_do_projeto-Linha_de_início_do_projeto-DadosdeLinhadoTempodoProjeto[[#This Row],[NUM]]+1,3)),\"\")","v":""},{"$f":"IFERROR(IF(ISBLANK(INDEX(DetalhesDoProjeto[#Data],ROW(A117)+1,1)),\"\",IF($J121-1<=-1,\"\",$J121-1)),\"\")","v":""},null,null,{"$f":"IFERROR(DadosdeLinhadoTempodoProjeto[[#This Row],[NUM]]+1,\"\")","v":""},{"$f":"IFERROR(VLOOKUP(LinhadoTempoClassificada[[#This Row],[POSIÇÃO classificada]],DadosdeLinhadoTempodoProjeto[],3,0),\"\")","v":""},{"$f":"IFERROR(VLOOKUP(LinhadoTempoClassificada[[#This Row],[POSIÇÃO classificada]],DadosdeLinhadoTempodoProjeto[],4,0),\"\")","v":""},{"$f":"IFERROR(VLOOKUP(LinhadoTempoClassificada[[#This Row],[POSIÇÃO classificada]],DadosdeLinhadoTempodoProjeto[],5,0),\"\")","v":""}]
[{"$nulls":4},{"$f":"IFERROR(RANK(F123,DadosdeLinhadoTempodoProjeto[CLASSIFICAÇÃO])+SUMPRODUCT(--(F123=DadosdeLinhadoTempodoProjeto[CLASSIFICAÇÃO]),--(J123<DadosdeLinhadoTempodoProjeto[NUM])),\"\")","v":""},{"$f":"IFERROR(RANK(DadosdeLinhadoTempodoProjeto[[#This Row],[DATA]],DadosdeLinhadoTempodoProjeto[DATA],1),\"\")","v":""},{"$f":"IFERROR(IF(ISBLANK(INDEX(DetalhesDoProjeto[#Data],Última_entrada_do_projeto-Linha_de_início_do_projeto-DadosdeLinhadoTempodoProjeto[[#This Row],[NUM]]+1,1)),\"\",INDEX(DetalhesDoProjeto[#Data],Última_entrada_do_projeto-Linha_de_início_do_projeto-DadosdeLinhadoTempodoProjeto[[#This Row],[NUM]]+1,1)),\"\")","v":""},{"$f":"IFERROR(IF(ISBLANK(INDEX(DetalhesDoProjeto[#Data],Última_entrada_do_projeto-Linha_de_início_do_projeto-DadosdeLinhadoTempodoProjeto[[#This Row],[NUM]]+1,2)),\"\",INDEX(DetalhesDoProjeto[#Data],Última_entrada_do_projeto-Linha_de_início_do_projeto-DadosdeLinhadoTempodoProjeto[[#This Row],[NUM]]+1,2)),\"\")","v":""},{"$f":"IFERROR(IF(ISBLANK(INDEX(DetalhesDoProjeto[#Data],Última_entrada_do_projeto-Linha_de_início_do_projeto-DadosdeLinhadoTempodoProjeto[[#This Row],[NUM]]+1,3)),\"\",INDEX(DetalhesDoProjeto[#Data],Última_entrada_do_projeto-Linha_de_início_do_projeto-DadosdeLinhadoTempodoProjeto[[#This Row],[NUM]]+1,3)),\"\")","v":""},{"$f":"IFERROR(IF(ISBLANK(INDEX(DetalhesDoProjeto[#Data],ROW(A118)+1,1)),\"\",IF($J122-1<=-1,\"\",$J122-1)),\"\")","v":""},null,null,{"$f":"IFERROR(DadosdeLinhadoTempodoProjeto[[#This Row],[NUM]]+1,\"\")","v":""},{"$f":"IFERROR(VLOOKUP(LinhadoTempoClassificada[[#This Row],[POSIÇÃO classificada]],DadosdeLinhadoTempodoProjeto[],3,0),\"\")","v":""},{"$f":"IFERROR(VLOOKUP(LinhadoTempoClassificada[[#This Row],[POSIÇÃO classificada]],DadosdeLinhadoTempodoProjeto[],4,0),\"\")","v":""},{"$f":"IFERROR(VLOOKUP(LinhadoTempoClassificada[[#This Row],[POSIÇÃO classificada]],DadosdeLinhadoTempodoProjeto[],5,0),\"\")","v":""}]
[{"$nulls":4},{"$f":"IFERROR(RANK(F124,DadosdeLinhadoTempodoProjeto[CLASSIFICAÇÃO])+SUMPRODUCT(--(F124=DadosdeLinhadoTempodoProjeto[CLASSIFICAÇÃO]),--(J124<DadosdeLinhadoTempodoProjeto[NUM])),\"\")","v":""},{"$f":"IFERROR(RANK(DadosdeLinhadoTempodoProjeto[[#This Row],[DATA]],DadosdeLinhadoTempodoProjeto[DATA],1),\"\")","v":""},{"$f":"IFERROR(IF(ISBLANK(INDEX(DetalhesDoProjeto[#Data],Última_entrada_do_projeto-Linha_de_início_do_projeto-DadosdeLinhadoTempodoProjeto[[#This Row],[NUM]]+1,1)),\"\",INDEX(DetalhesDoProjeto[#Data],Última_entrada_do_projeto-Linha_de_início_do_projeto-DadosdeLinhadoTempodoProjeto[[#This Row],[NUM]]+1,1)),\"\")","v":""},{"$f":"IFERROR(IF(ISBLANK(INDEX(DetalhesDoProjeto[#Data],Última_entrada_do_projeto-Linha_de_início_do_projeto-DadosdeLinhadoTempodoProjeto[[#This Row],[NUM]]+1,2)),\"\",INDEX(DetalhesDoProjeto[#Data],Última_entrada_do_projeto-Linha_de_início_do_projeto-DadosdeLinhadoTempodoProjeto[[#This Row],[NUM]]+1,2)),\"\")","v":""},{"$f":"IFERROR(IF(ISBLANK(INDEX(DetalhesDoProjeto[#Data],Última_entrada_do_projeto-Linha_de_início_do_projeto-DadosdeLinhadoTempodoProjeto[[#This Row],[NUM]]+1,3)),\"\",INDEX(DetalhesDoProjeto[#Data],Última_entrada_do_projeto-Linha_de_início_do_projeto-DadosdeLinhadoTempodoProjeto[[#This Row],[NUM]]+1,3)),\"\")","v":""},{"$f":"IFERROR(IF(ISBLANK(INDEX(DetalhesDoProjeto[#Data],ROW(A119)+1,1)),\"\",IF($J123-1<=-1,\"\",$J123-1)),\"\")","v":""},null,null,{"$f":"IFERROR(DadosdeLinhadoTempodoProjeto[[#This Row],[NUM]]+1,\"\")","v":""},{"$f":"IFERROR(VLOOKUP(LinhadoTempoClassificada[[#This Row],[POSIÇÃO classificada]],DadosdeLinhadoTempodoProjeto[],3,0),\"\")","v":""},{"$f":"IFERROR(VLOOKUP(LinhadoTempoClassificada[[#This Row],[POSIÇÃO classificada]],DadosdeLinhadoTempodoProjeto[],4,0),\"\")","v":""},{"$f":"IFERROR(VLOOKUP(LinhadoTempoClassificada[[#This Row],[POSIÇÃO classificada]],DadosdeLinhadoTempodoProjeto[],5,0),\"\")","v":""}]
[{"$nulls":4},{"$f":"IFERROR(RANK(F125,DadosdeLinhadoTempodoProjeto[CLASSIFICAÇÃO])+SUMPRODUCT(--(F125=DadosdeLinhadoTempodoProjeto[CLASSIFICAÇÃO]),--(J125<DadosdeLinhadoTempodoProjeto[NUM])),\"\")","v":""},{"$f":"IFERROR(RANK(DadosdeLinhadoTempodoProjeto[[#This Row],[DATA]],DadosdeLinhadoTempodoProjeto[DATA],1),\"\")","v":""},{"$f":"IFERROR(IF(ISBLANK(INDEX(DetalhesDoProjeto[#Data],Última_entrada_do_projeto-Linha_de_início_do_projeto-DadosdeLinhadoTempodoProjeto[[#This Row],[NUM]]+1,1)),\"\",INDEX(DetalhesDoProjeto[#Data],Última_entrada_do_projeto-Linha_de_início_do_projeto-DadosdeLinhadoTempodoProjeto[[#This Row],[NUM]]+1,1)),\"\")","v":""},{"$f":"IFERROR(IF(ISBLANK(INDEX(DetalhesDoProjeto[#Data],Última_entrada_do_projeto-Linha_de_início_do_projeto-DadosdeLinhadoTempodoProjeto[[#This Row],[NUM]]+1,2)),\"\",INDEX(DetalhesDoProjeto[#Data],Última_entrada_do_projeto-Linha_de_início_do_projeto-DadosdeLinhadoTempodoProjeto[[#This Row],[NUM]]+1,2)),\"\")","v":""},{"$f":"IFERROR(IF(ISBLANK(INDEX(DetalhesDoProjeto[#Data],Última_entrada_do_projeto-Linha_de_início_do_projeto-DadosdeLinhadoTempodoProjeto[[#This Row],[NUM]]+1,3)),\"\",INDEX(DetalhesDoProjeto[#Data],Última_entrada_do_projeto-Linha_de_início_do_projeto-DadosdeLinhadoTempodoProjeto[[#This Row],[NUM]]+1,3)),\"\")","v":""},{"$f":"IFERROR(IF(ISBLANK(INDEX(DetalhesDoProjeto[#Data],ROW(A120)+1,1)),\"\",IF($J124-1<=-1,\"\",$J124-1)),\"\")","v":""},null,null,{"$f":"IFERROR(DadosdeLinhadoTempodoProjeto[[#This Row],[NUM]]+1,\"\")","v":""},{"$f":"IFERROR(VLOOKUP(LinhadoTempoClassificada[[#This Row],[POSIÇÃO classificada]],DadosdeLinhadoTempodoProjeto[],3,0),\"\")","v":""},{"$f":"IFERROR(VLOOKUP(LinhadoTempoClassificada[[#This Row],[POSIÇÃO classificada]],DadosdeLinhadoTempodoProjeto[],4,0),\"\")","v":""},{"$f":"IFERROR(VLOOKUP(LinhadoTempoClassificada[[#This Row],[POSIÇÃO classificada]],DadosdeLinhadoTempodoProjeto[],5,0),\"\")","v":""}]
[{"$nulls":4},{"$f":"IFERROR(RANK(F126,DadosdeLinhadoTempodoProjeto[CLASSIFICAÇÃO])+SUMPRODUCT(--(F126=DadosdeLinhadoTempodoProjeto[CLASSIFICAÇÃO]),--(J126<DadosdeLinhadoTempodoProjeto[NUM])),\"\")","v":""},{"$f":"IFERROR(RANK(DadosdeLinhadoTempodoProjeto[[#This Row],[DATA]],DadosdeLinhadoTempodoProjeto[DATA],1),\"\")","v":""},{"$f":"IFERROR(IF(ISBLANK(INDEX(DetalhesDoProjeto[#Data],Última_entrada_do_projeto-Linha_de_início_do_projeto-DadosdeLinhadoTempodoProjeto[[#This Row],[NUM]]+1,1)),\"\",INDEX(DetalhesDoProjeto[#Data],Última_entrada_do_projeto-Linha_de_início_do_projeto-DadosdeLinhadoTempodoProjeto[[#This Row],[NUM]]+1,1)),\"\")","v":""},{"$f":"IFERROR(IF(ISBLANK(INDEX(DetalhesDoProjeto[#Data],Última_entrada_do_projeto-Linha_de_início_do_projeto-DadosdeLinhadoTempodoProjeto[[#This Row],[NUM]]+1,2)),\"\",INDEX(DetalhesDoProjeto[#Data],Última_entrada_do_projeto-Linha_de_início_do_projeto-DadosdeLinhadoTempodoProjeto[[#This Row],[NUM]]+1,2)),\"\")","v":""},{"$f":"IFERROR(IF(ISBLANK(INDEX(DetalhesDoProjeto[#Data],Última_entrada_do_projeto-Linha_de_início_do_projeto-DadosdeLinhadoTempodoProjeto[[#This Row],[NUM]]+1,3)),\"\",INDEX(DetalhesDoProjeto[#Data],Última_entrada_do_projeto-Linha_de_início_do_projeto-DadosdeLinhadoTempodoProjeto[[#This Row],[NUM]]+1,3)),\"\")","v":""},{"$f":"IFERROR(IF(ISBLANK(INDEX(DetalhesDoProjeto[#Data],ROW(A121)+1,1)),\"\",IF($J125-1<=-1,\"\",$J125-1)),\"\")","v":""},null,null,{"$f":"IFERROR(DadosdeLinhadoTempodoProjeto[[#This Row],[NUM]]+1,\"\")","v":""},{"$f":"IFERROR(VLOOKUP(LinhadoTempoClassificada[[#This Row],[POSIÇÃO classificada]],DadosdeLinhadoTempodoProjeto[],3,0),\"\")","v":""},{"$f":"IFERROR(VLOOKUP(LinhadoTempoClassificada[[#This Row],[POSIÇÃO classificada]],DadosdeLinhadoTempodoProjeto[],4,0),\"\")","v":""},{"$f":"IFERROR(VLOOKUP(LinhadoTempoClassificada[[#This Row],[POSIÇÃO classificada]],DadosdeLinhadoTempodoProjeto[],5,0),\"\")","v":""}]
[{"$nulls":4},{"$f":"IFERROR(RANK(F127,DadosdeLinhadoTempodoProjeto[CLASSIFICAÇÃO])+SUMPRODUCT(--(F127=DadosdeLinhadoTempodoProjeto[CLASSIFICAÇÃO]),--(J127<DadosdeLinhadoTempodoProjeto[NUM])),\"\")","v":""},{"$f":"IFERROR(RANK(DadosdeLinhadoTempodoProjeto[[#This Row],[DATA]],DadosdeLinhadoTempodoProjeto[DATA],1),\"\")","v":""},{"$f":"IFERROR(IF(ISBLANK(INDEX(DetalhesDoProjeto[#Data],Última_entrada_do_projeto-Linha_de_início_do_projeto-DadosdeLinhadoTempodoProjeto[[#This Row],[NUM]]+1,1)),\"\",INDEX(DetalhesDoProjeto[#Data],Última_entrada_do_projeto-Linha_de_início_do_projeto-DadosdeLinhadoTempodoProjeto[[#This Row],[NUM]]+1,1)),\"\")","v":""},{"$f":"IFERROR(IF(ISBLANK(INDEX(DetalhesDoProjeto[#Data],Última_entrada_do_projeto-Linha_de_início_do_projeto-DadosdeLinhadoTempodoProjeto[[#This Row],[NUM]]+1,2)),\"\",INDEX(DetalhesDoProjeto[#Data],Última_entrada_do_projeto-Linha_de_início_do_projeto-DadosdeLinhadoTempodoProjeto[[#This Row],[NUM]]+1,2)),\"\")","v":""},{"$f":"IFERROR(IF(ISBLANK(INDEX(DetalhesDoProjeto[#Data],Última_entrada_do_projeto-Linha_de_início_do_projeto-DadosdeLinhadoTempodoProjeto[[#This Row],[NUM]]+1,3)),\"\",INDEX(DetalhesDoProjeto[#Data],Última_entrada_do_projeto-Linha_de_início_do_projeto-DadosdeLinhadoTempodoProjeto[[#This Row],[NUM]]+1,3)),\"\")","v":""},{"$f":"IFERROR(IF(ISBLANK(INDEX(DetalhesDoProjeto[#Data],ROW(A122)+1,1)),\"\",IF($J126-1<=-1,\"\",$J126-1)),\"\")","v":""},null,null,{"$f":"IFERROR(DadosdeLinhadoTempodoProjeto[[#This Row],[NUM]]+1,\"\")","v":""},{"$f":"IFERROR(VLOOKUP(LinhadoTempoClassificada[[#This Row],[POSIÇÃO classificada]],DadosdeLinhadoTempodoProjeto[],3,0),\"\")","v":""},{"$f":"IFERROR(VLOOKUP(LinhadoTempoClassificada[[#This Row],[POSIÇÃO classificada]],DadosdeLinhadoTempodoProjeto[],4,0),\"\")","v":""},{"$f":"IFERROR(VLOOKUP(LinhadoTempoClassificada[[#This Row],[POSIÇÃO classificada]],DadosdeLinhadoTempodoProjeto[],5,0),\"\")","v":""}]
[{"$nulls":4},{"$f":"IFERROR(RANK(F128,DadosdeLinhadoTempodoProjeto[CLASSIFICAÇÃO])+SUMPRODUCT(--(F128=DadosdeLinhadoTempodoProjeto[CLASSIFICAÇÃO]),--(J128<DadosdeLinhadoTempodoProjeto[NUM])),\"\")","v":""},{"$f":"IFERROR(RANK(DadosdeLinhadoTempodoProjeto[[#This Row],[DATA]],DadosdeLinhadoTempodoProjeto[DATA],1),\"\")","v":""},{"$f":"IFERROR(IF(ISBLANK(INDEX(DetalhesDoProjeto[#Data],Última_entrada_do_projeto-Linha_de_início_do_projeto-DadosdeLinhadoTempodoProjeto[[#This Row],[NUM]]+1,1)),\"\",INDEX(DetalhesDoProjeto[#Data],Última_entrada_do_projeto-Linha_de_início_do_projeto-DadosdeLinhadoTempodoProjeto[[#This Row],[NUM]]+1,1)),\"\")","v":""},{"$f":"IFERROR(IF(ISBLANK(INDEX(DetalhesDoProjeto[#Data],Última_entrada_do_projeto-Linha_de_início_do_projeto-DadosdeLinhadoTempodoProjeto[[#This Row],[NUM]]+1,2)),\"\",INDEX(DetalhesDoProjeto[#Data],Última_entrada_do_projeto-Linha_de_início_do_projeto-DadosdeLinhadoTempodoProjeto[[#This Row],[NUM]]+1,2)),\"\")","v":""},{"$f":"IFERROR(IF(ISBLANK(INDEX(DetalhesDoProjeto[#Data],Última_entrada_do_projeto-Linha_de_início_do_projeto-DadosdeLinhadoTempodoProjeto[[#This Row],[NUM]]+1,3)),\"\",INDEX(DetalhesDoProjeto[#Data],Última_entrada_do_projeto-Linha_de_início_do_projeto-DadosdeLinhadoTempodoProjeto[[#This Row],[NUM]]+1,3)),\"\")","v":""},{"$f":"IFERROR(IF(ISBLANK(INDEX(DetalhesDoProjeto[#Data],ROW(A123)+1,1)),\"\",IF($J127-1<=-1,\"\",$J127-1)),\"\")","v":""},null,null,{"$f":"IFERROR(DadosdeLinhadoTempodoProjeto[[#This Row],[NUM]]+1,\"\")","v":""},{"$f":"IFERROR(VLOOKUP(LinhadoTempoClassificada[[#This Row],[POSIÇÃO classificada]],DadosdeLinhadoTempodoProjeto[],3,0),\"\")","v":""},{"$f":"IFERROR(VLOOKUP(LinhadoTempoClassificada[[#This Row],[POSIÇÃO classificada]],DadosdeLinhadoTempodoProjeto[],4,0),\"\")","v":""},{"$f":"IFERROR(VLOOKUP(LinhadoTempoClassificada[[#This Row],[POSIÇÃO classificada]],DadosdeLinhadoTempodoProjeto[],5,0),\"\")","v":""}]
[{"$nulls":4},{"$f":"IFERROR(RANK(F129,DadosdeLinhadoTempodoProjeto[CLASSIFICAÇÃO])+SUMPRODUCT(--(F129=DadosdeLinhadoTempodoProjeto[CLASSIFICAÇÃO]),--(J129<DadosdeLinhadoTempodoProjeto[NUM])),\"\")","v":""},{"$f":"IFERROR(RANK(DadosdeLinhadoTempodoProjeto[[#This Row],[DATA]],DadosdeLinhadoTempodoProjeto[DATA],1),\"\")","v":""},{"$f":"IFERROR(IF(ISBLANK(INDEX(DetalhesDoProjeto[#Data],Última_entrada_do_projeto-Linha_de_início_do_projeto-DadosdeLinhadoTempodoProjeto[[#This Row],[NUM]]+1,1)),\"\",INDEX(DetalhesDoProjeto[#Data],Última_entrada_do_projeto-Linha_de_início_do_projeto-DadosdeLinhadoTempodoProjeto[[#This Row],[NUM]]+1,1)),\"\")","v":""},{"$f":"IFERROR(IF(ISBLANK(INDEX(DetalhesDoProjeto[#Data],Última_entrada_do_projeto-Linha_de_início_do_projeto-DadosdeLinhadoTempodoProjeto[[#This Row],[NUM]]+1,2)),\"\",INDEX(DetalhesDoProjeto[#Data],Última_entrada_do_projeto-Linha_de_início_do_projeto-DadosdeLinhadoTempodoProjeto[[#This Row],[NUM]]+1,2)),\"\")","v":""},{"$f":"IFERROR(IF(ISBLANK(INDEX(DetalhesDoProjeto[#Data],Última_entrada_do_projeto-Linha_de_início_do_projeto-DadosdeLinhadoTempodoProjeto[[#This Row],[NUM]]+1,3)),\"\",INDEX(DetalhesDoProjeto[#Data],Última_entrada_do_projeto-Linha_de_início_do_projeto-DadosdeLinhadoTempodoProjeto[[#This Row],[NUM]]+1,3)),\"\")","v":""},{"$f":"IFERROR(IF(ISBLANK(INDEX(DetalhesDoProjeto[#Data],ROW(A124)+1,1)),\"\",IF($J128-1<=-1,\"\",$J128-1)),\"\")","v":""},null,null,{"$f":"IFERROR(DadosdeLinhadoTempodoProjeto[[#This Row],[NUM]]+1,\"\")","v":""},{"$f":"IFERROR(VLOOKUP(LinhadoTempoClassificada[[#This Row],[POSIÇÃO classificada]],DadosdeLinhadoTempodoProjeto[],3,0),\"\")","v":""},{"$f":"IFERROR(VLOOKUP(LinhadoTempoClassificada[[#This Row],[POSIÇÃO classificada]],DadosdeLinhadoTempodoProjeto[],4,0),\"\")","v":""},{"$f":"IFERROR(VLOOKUP(LinhadoTempoClassificada[[#This Row],[POSIÇÃO classificada]],DadosdeLinhadoTempodoProjeto[],5,0),\"\")","v":""}]
[{"$nulls":4},{"$f":"IFERROR(RANK(F130,DadosdeLinhadoTempodoProjeto[CLASSIFICAÇÃO])+SUMPRODUCT(--(F130=DadosdeLinhadoTempodoProjeto[CLASSIFICAÇÃO]),--(J130<DadosdeLinhadoTempodoProjeto[NUM])),\"\")","v":""},{"$f":"IFERROR(RANK(DadosdeLinhadoTempodoProjeto[[#This Row],[DATA]],DadosdeLinhadoTempodoProjeto[DATA],1),\"\")","v":""},{"$f":"IFERROR(IF(ISBLANK(INDEX(DetalhesDoProjeto[#Data],Última_entrada_do_projeto-Linha_de_início_do_projeto-DadosdeLinhadoTempodoProjeto[[#This Row],[NUM]]+1,1)),\"\",INDEX(DetalhesDoProjeto[#Data],Última_entrada_do_projeto-Linha_de_início_do_projeto-DadosdeLinhadoTempodoProjeto[[#This Row],[NUM]]+1,1)),\"\")","v":""},{"$f":"IFERROR(IF(ISBLANK(INDEX(DetalhesDoProjeto[#Data],Última_entrada_do_projeto-Linha_de_início_do_projeto-DadosdeLinhadoTempodoProjeto[[#This Row],[NUM]]+1,2)),\"\",INDEX(DetalhesDoProjeto[#Data],Última_entrada_do_projeto-Linha_de_início_do_projeto-DadosdeLinhadoTempodoProjeto[[#This Row],[NUM]]+1,2)),\"\")","v":""},{"$f":"IFERROR(IF(ISBLANK(INDEX(DetalhesDoProjeto[#Data],Última_entrada_do_projeto-Linha_de_início_do_projeto-DadosdeLinhadoTempodoProjeto[[#This Row],[NUM]]+1,3)),\"\",INDEX(DetalhesDoProjeto[#Data],Última_entrada_do_projeto-Linha_de_início_do_projeto-DadosdeLinhadoTempodoProjeto[[#This Row],[NUM]]+1,3)),\"\")","v":""},{"$f":"IFERROR(IF(ISBLANK(INDEX(DetalhesDoProjeto[#Data],ROW(A125)+1,1)),\"\",IF($J129-1<=-1,\"\",$J129-1)),\"\")","v":""},null,null,{"$f":"IFERROR(DadosdeLinhadoTempodoProjeto[[#This Row],[NUM]]+1,\"\")","v":""},{"$f":"IFERROR(VLOOKUP(LinhadoTempoClassificada[[#This Row],[POSIÇÃO classificada]],DadosdeLinhadoTempodoProjeto[],3,0),\"\")","v":""},{"$f":"IFERROR(VLOOKUP(LinhadoTempoClassificada[[#This Row],[POSIÇÃO classificada]],DadosdeLinhadoTempodoProjeto[],4,0),\"\")","v":""},{"$f":"IFERROR(VLOOKUP(LinhadoTempoClassificada[[#This Row],[POSIÇÃO classificada]],DadosdeLinhadoTempodoProjeto[],5,0),\"\")","v":""}]
[{"$nulls":4},{"$f":"IFERROR(RANK(F131,DadosdeLinhadoTempodoProjeto[CLASSIFICAÇÃO])+SUMPRODUCT(--(F131=DadosdeLinhadoTempodoProjeto[CLASSIFICAÇÃO]),--(J131<DadosdeLinhadoTempodoProjeto[NUM])),\"\")","v":""},{"$f":"IFERROR(RANK(DadosdeLinhadoTempodoProjeto[[#This Row],[DATA]],DadosdeLinhadoTempodoProjeto[DATA],1),\"\")","v":""},{"$f":"IFERROR(IF(ISBLANK(INDEX(DetalhesDoProjeto[#Data],Última_entrada_do_projeto-Linha_de_início_do_projeto-DadosdeLinhadoTempodoProjeto[[#This Row],[NUM]]+1,1)),\"\",INDEX(DetalhesDoProjeto[#Data],Última_entrada_do_projeto-Linha_de_início_do_projeto-DadosdeLinhadoTempodoProjeto[[#This Row],[NUM]]+1,1)),\"\")","v":""},{"$f":"IFERROR(IF(ISBLANK(INDEX(DetalhesDoProjeto[#Data],Última_entrada_do_projeto-Linha_de_início_do_projeto-DadosdeLinhadoTempodoProjeto[[#This Row],[NUM]]+1,2)),\"\",INDEX(DetalhesDoProjeto[#Data],Última_entrada_do_projeto-Linha_de_início_do_projeto-DadosdeLinhadoTempodoProjeto[[#This Row],[NUM]]+1,2)),\"\")","v":""},{"$f":"IFERROR(IF(ISBLANK(INDEX(DetalhesDoProjeto[#Data],Última_entrada_do_projeto-Linha_de_início_do_projeto-DadosdeLinhadoTempodoProjeto[[#This Row],[NUM]]+1,3)),\"\",INDEX(DetalhesDoProjeto[#Data],Última_entrada_do_projeto-Linha_de_início_do_projeto-DadosdeLinhadoTempodoProjeto[[#This Row],[NUM]]+1,3)),\"\")","v":""},{"$f":"IFERROR(IF(ISBLANK(INDEX(DetalhesDoProjeto[#Data],ROW(A126)+1,1)),\"\",IF($J130-1<=-1,\"\",$J130-1)),\"\")","v":""},null,null,{"$f":"IFERROR(DadosdeLinhadoTempodoProjeto[[#This Row],[NUM]]+1,\"\")","v":""},{"$f":"IFERROR(VLOOKUP(LinhadoTempoClassificada[[#This Row],[POSIÇÃO classificada]],DadosdeLinhadoTempodoProjeto[],3,0),\"\")","v":""},{"$f":"IFERROR(VLOOKUP(LinhadoTempoClassificada[[#This Row],[POSIÇÃO classificada]],DadosdeLinhadoTempodoProjeto[],4,0),\"\")","v":""},{"$f":"IFERROR(VLOOKUP(LinhadoTempoClassificada[[#This Row],[POSIÇÃO classificada]],DadosdeLinhadoTempodoProjeto[],5,0),\"\")","v":""}]
[{"$nulls":4},{"$f":"IFERROR(RANK(F132,DadosdeLinhadoTempodoProjeto[CLASSIFICAÇÃO])+SUMPRODUCT(--(F132=DadosdeLinhadoTempodoProjeto[CLASSIFICAÇÃO]),--(J132<DadosdeLinhadoTempodoProjeto[NUM])),\"\")","v":""},{"$f":"IFERROR(RANK(DadosdeLinhadoTempodoProjeto[[#This Row],[DATA]],DadosdeLinhadoTempodoProjeto[DATA],1),\"\")","v":""},{"$f":"IFERROR(IF(ISBLANK(INDEX(DetalhesDoProjeto[#Data],Última_entrada_do_projeto-Linha_de_início_do_projeto-DadosdeLinhadoTempodoProjeto[[#This Row],[NUM]]+1,1)),\"\",INDEX(DetalhesDoProjeto[#Data],Última_entrada_do_projeto-Linha_de_início_do_projeto-DadosdeLinhadoTempodoProjeto[[#This Row],[NUM]]+1,1)),\"\")","v":""},{"$f":"IFERROR(IF(ISBLANK(INDEX(DetalhesDoProjeto[#Data],Última_entrada_do_projeto-Linha_de_início_do_projeto-DadosdeLinhadoTempodoProjeto[[#This Row],[NUM]]+1,2)),\"\",INDEX(DetalhesDoProjeto[#Data],Última_entrada_do_projeto-Linha_de_início_do_projeto-DadosdeLinhadoTempodoProjeto[[#This Row],[NUM]]+1,2)),\"\")","v":""},{"$f":"IFERROR(IF(ISBLANK(INDEX(DetalhesDoProjeto[#Data],Última_entrada_do_projeto-Linha_de_início_do_projeto-DadosdeLinhadoTempodoProjeto[[#This Row],[NUM]]+1,3)),\"\",INDEX(DetalhesDoProjeto[#Data],Última_entrada_do_projeto-Linha_de_início_do_projeto-DadosdeLinhadoTempodoProjeto[[#This Row],[NUM]]+1,3)),\"\")","v":""},{"$f":"IFERROR(IF(ISBLANK(INDEX(DetalhesDoProjeto[#Data],ROW(A127)+1,1)),\"\",IF($J131-1<=-1,\"\",$J131-1)),\"\")","v":""},null,null,{"$f":"IFERROR(DadosdeLinhadoTempodoProjeto[[#This Row],[NUM]]+1,\"\")","v":""},{"$f":"IFERROR(VLOOKUP(LinhadoTempoClassificada[[#This Row],[POSIÇÃO classificada]],DadosdeLinhadoTempodoProjeto[],3,0),\"\")","v":""},{"$f":"IFERROR(VLOOKUP(LinhadoTempoClassificada[[#This Row],[POSIÇÃO classificada]],DadosdeLinhadoTempodoProjeto[],4,0),\"\")","v":""},{"$f":"IFERROR(VLOOKUP(LinhadoTempoClassificada[[#This Row],[POSIÇÃO classificada]],DadosdeLinhadoTempodoProjeto[],5,0),\"\")","v":""}]
[{"$nulls":4},{"$f":"IFERROR(RANK(F133,DadosdeLinhadoTempodoProjeto[CLASSIFICAÇÃO])+SUMPRODUCT(--(F133=DadosdeLinhadoTempodoProjeto[CLASSIFICAÇÃO]),--(J133<DadosdeLinhadoTempodoProjeto[NUM])),\"\")","v":""},{"$f":"IFERROR(RANK(DadosdeLinhadoTempodoProjeto[[#This Row],[DATA]],DadosdeLinhadoTempodoProjeto[DATA],1),\"\")","v":""},{"$f":"IFERROR(IF(ISBLANK(INDEX(DetalhesDoProjeto[#Data],Última_entrada_do_projeto-Linha_de_início_do_projeto-DadosdeLinhadoTempodoProjeto[[#This Row],[NUM]]+1,1)),\"\",INDEX(DetalhesDoProjeto[#Data],Última_entrada_do_projeto-Linha_de_início_do_projeto-DadosdeLinhadoTempodoProjeto[[#This Row],[NUM]]+1,1)),\"\")","v":""},{"$f":"IFERROR(IF(ISBLANK(INDEX(DetalhesDoProjeto[#Data],Última_entrada_do_projeto-Linha_de_início_do_projeto-DadosdeLinhadoTempodoProjeto[[#This Row],[NUM]]+1,2)),\"\",INDEX(DetalhesDoProjeto[#Data],Última_entrada_do_projeto-Linha_de_início_do_projeto-DadosdeLinhadoTempodoProjeto[[#This Row],[NUM]]+1,2)),\"\")","v":""},{"$f":"IFERROR(IF(ISBLANK(INDEX(DetalhesDoProjeto[#Data],Última_entrada_do_projeto-Linha_de_início_do_projeto-DadosdeLinhadoTempodoProjeto[[#This Row],[NUM]]+1,3)),\"\",INDEX(DetalhesDoProjeto[#Data],Última_entrada_do_projeto-Linha_de_início_do_projeto-DadosdeLinhadoTempodoProjeto[[#This Row],[NUM]]+1,3)),\"\")","v":""},{"$f":"IFERROR(IF(ISBLANK(INDEX(DetalhesDoProjeto[#Data],ROW(A128)+1,1)),\"\",IF($J132-1<=-1,\"\",$J132-1)),\"\")","v":""},null,null,{"$f":"IFERROR(DadosdeLinhadoTempodoProjeto[[#This Row],[NUM]]+1,\"\")","v":""},{"$f":"IFERROR(VLOOKUP(LinhadoTempoClassificada[[#This Row],[POSIÇÃO classificada]],DadosdeLinhadoTempodoProjeto[],3,0),\"\")","v":""},{"$f":"IFERROR(VLOOKUP(LinhadoTempoClassificada[[#This Row],[POSIÇÃO classificada]],DadosdeLinhadoTempodoProjeto[],4,0),\"\")","v":""},{"$f":"IFERROR(VLOOKUP(LinhadoTempoClassificada[[#This Row],[POSIÇÃO classificada]],DadosdeLinhadoTempodoProjeto[],5,0),\"\")","v":""}]
[{"$nulls":4},{"$f":"IFERROR(RANK(F134,DadosdeLinhadoTempodoProjeto[CLASSIFICAÇÃO])+SUMPRODUCT(--(F134=DadosdeLinhadoTempodoProjeto[CLASSIFICAÇÃO]),--(J134<DadosdeLinhadoTempodoProjeto[NUM])),\"\")","v":""},{"$f":"IFERROR(RANK(DadosdeLinhadoTempodoProjeto[[#This Row],[DATA]],DadosdeLinhadoTempodoProjeto[DATA],1),\"\")","v":""},{"$f":"IFERROR(IF(ISBLANK(INDEX(DetalhesDoProjeto[#Data],Última_entrada_do_projeto-Linha_de_início_do_projeto-DadosdeLinhadoTempodoProjeto[[#This Row],[NUM]]+1,1)),\"\",INDEX(DetalhesDoProjeto[#Data],Última_entrada_do_projeto-Linha_de_início_do_projeto-DadosdeLinhadoTempodoProjeto[[#This Row],[NUM]]+1,1)),\"\")","v":""},{"$f":"IFERROR(IF(ISBLANK(INDEX(DetalhesDoProjeto[#Data],Última_entrada_do_projeto-Linha_de_início_do_projeto-DadosdeLinhadoTempodoProjeto[[#This Row],[NUM]]+1,2)),\"\",INDEX(DetalhesDoProjeto[#Data],Última_entrada_do_projeto-Linha_de_início_do_projeto-DadosdeLinhadoTempodoProjeto[[#This Row],[NUM]]+1,2)),\"\")","v":""},{"$f":"IFERROR(IF(ISBLANK(INDEX(DetalhesDoProjeto[#Data],Última_entrada_do_projeto-Linha_de_início_do_projeto-DadosdeLinhadoTempodoProjeto[[#This Row],[NUM]]+1,3)),\"\",INDEX(DetalhesDoProjeto[#Data],Última_entrada_do_projeto-Linha_de_início_do_projeto-DadosdeLinhadoTempodoProjeto[[#This Row],[NUM]]+1,3)),\"\")","v":""},{"$f":"IFERROR(IF(ISBLANK(INDEX(DetalhesDoProjeto[#Data],ROW(A129)+1,1)),\"\",IF($J133-1<=-1,\"\",$J133-1)),\"\")","v":""},null,null,{"$f":"IFERROR(DadosdeLinhadoTempodoProjeto[[#This Row],[NUM]]+1,\"\")","v":""},{"$f":"IFERROR(VLOOKUP(LinhadoTempoClassificada[[#This Row],[POSIÇÃO classificada]],DadosdeLinhadoTempodoProjeto[],3,0),\"\")","v":""},{"$f":"IFERROR(VLOOKUP(LinhadoTempoClassificada[[#This Row],[POSIÇÃO classificada]],DadosdeLinhadoTempodoProjeto[],4,0),\"\")","v":""},{"$f":"IFERROR(VLOOKUP(LinhadoTempoClassificada[[#This Row],[POSIÇÃO classificada]],DadosdeLinhadoTempodoProjeto[],5,0),\"\")","v":""}]
[{"$nulls":4},{"$f":"IFERROR(RANK(F135,DadosdeLinhadoTempodoProjeto[CLASSIFICAÇÃO])+SUMPRODUCT(--(F135=DadosdeLinhadoTempodoProjeto[CLASSIFICAÇÃO]),--(J135<DadosdeLinhadoTempodoProjeto[NUM])),\"\")","v":""},{"$f":"IFERROR(RANK(DadosdeLinhadoTempodoProjeto[[#This Row],[DATA]],DadosdeLinhadoTempodoProjeto[DATA],1),\"\")","v":""},{"$f":"IFERROR(IF(ISBLANK(INDEX(DetalhesDoProjeto[#Data],Última_entrada_do_projeto-Linha_de_início_do_projeto-DadosdeLinhadoTempodoProjeto[[#This Row],[NUM]]+1,1)),\"\",INDEX(DetalhesDoProjeto[#Data],Última_entrada_do_projeto-Linha_de_início_do_projeto-DadosdeLinhadoTempodoProjeto[[#This Row],[NUM]]+1,1)),\"\")","v":""},{"$f":"IFERROR(IF(ISBLANK(INDEX(DetalhesDoProjeto[#Data],Última_entrada_do_projeto-Linha_de_início_do_projeto-DadosdeLinhadoTempodoProjeto[[#This Row],[NUM]]+1,2)),\"\",INDEX(DetalhesDoProjeto[#Data],Última_entrada_do_projeto-Linha_de_início_do_projeto-DadosdeLinhadoTempodoProjeto[[#This Row],[NUM]]+1,2)),\"\")","v":""},{"$f":"IFERROR(IF(ISBLANK(INDEX(DetalhesDoProjeto[#Data],Última_entrada_do_projeto-Linha_de_início_do_projeto-DadosdeLinhadoTempodoProjeto[[#This Row],[NUM]]+1,3)),\"\",INDEX(DetalhesDoProjeto[#Data],Última_entrada_do_projeto-Linha_de_início_do_projeto-DadosdeLinhadoTempodoProjeto[[#This Row],[NUM]]+1,3)),\"\")","v":""},{"$f":"IFERROR(IF(ISBLANK(INDEX(DetalhesDoProjeto[#Data],ROW(A130)+1,1)),\"\",IF($J134-1<=-1,\"\",$J134-1)),\"\")","v":""},null,null,{"$f":"IFERROR(DadosdeLinhadoTempodoProjeto[[#This Row],[NUM]]+1,\"\")","v":""},{"$f":"IFERROR(VLOOKUP(LinhadoTempoClassificada[[#This Row],[POSIÇÃO classificada]],DadosdeLinhadoTempodoProjeto[],3,0),\"\")","v":""},{"$f":"IFERROR(VLOOKUP(LinhadoTempoClassificada[[#This Row],[POSIÇÃO classificada]],DadosdeLinhadoTempodoProjeto[],4,0),\"\")","v":""},{"$f":"IFERROR(VLOOKUP(LinhadoTempoClassificada[[#This Row],[POSIÇÃO classificada]],DadosdeLinhadoTempodoProjeto[],5,0),\"\")","v":""}]
[{"$nulls":4},{"$f":"IFERROR(RANK(F136,DadosdeLinhadoTempodoProjeto[CLASSIFICAÇÃO])+SUMPRODUCT(--(F136=DadosdeLinhadoTempodoProjeto[CLASSIFICAÇÃO]),--(J136<DadosdeLinhadoTempodoProjeto[NUM])),\"\")","v":""},{"$f":"IFERROR(RANK(DadosdeLinhadoTempodoProjeto[[#This Row],[DATA]],DadosdeLinhadoTempodoProjeto[DATA],1),\"\")","v":""},{"$f":"IFERROR(IF(ISBLANK(INDEX(DetalhesDoProjeto[#Data],Última_entrada_do_projeto-Linha_de_início_do_projeto-DadosdeLinhadoTempodoProjeto[[#This Row],[NUM]]+1,1)),\"\",INDEX(DetalhesDoProjeto[#Data],Última_entrada_do_projeto-Linha_de_início_do_projeto-DadosdeLinhadoTempodoProjeto[[#This Row],[NUM]]+1,1)),\"\")","v":""},{"$f":"IFERROR(IF(ISBLANK(INDEX(DetalhesDoProjeto[#Data],Última_entrada_do_projeto-Linha_de_início_do_projeto-DadosdeLinhadoTempodoProjeto[[#This Row],[NUM]]+1,2)),\"\",INDEX(DetalhesDoProjeto[#Data],Última_entrada_do_projeto-Linha_de_início_do_projeto-DadosdeLinhadoTempodoProjeto[[#This Row],[NUM]]+1,2)),\"\")","v":""},{"$f":"IFERROR(IF(ISBLANK(INDEX(DetalhesDoProjeto[#Data],Última_entrada_do_projeto-Linha_de_início_do_projeto-DadosdeLinhadoTempodoProjeto[[#This Row],[NUM]]+1,3)),\"\",INDEX(DetalhesDoProjeto[#Data],Última_entrada_do_projeto-Linha_de_início_do_projeto-DadosdeLinhadoTempodoProjeto[[#This Row],[NUM]]+1,3)),\"\")","v":""},{"$f":"IFERROR(IF(ISBLANK(INDEX(DetalhesDoProjeto[#Data],ROW(A131)+1,1)),\"\",IF($J135-1<=-1,\"\",$J135-1)),\"\")","v":""},null,null,{"$f":"IFERROR(DadosdeLinhadoTempodoProjeto[[#This Row],[NUM]]+1,\"\")","v":""},{"$f":"IFERROR(VLOOKUP(LinhadoTempoClassificada[[#This Row],[POSIÇÃO classificada]],DadosdeLinhadoTempodoProjeto[],3,0),\"\")","v":""},{"$f":"IFERROR(VLOOKUP(LinhadoTempoClassificada[[#This Row],[POSIÇÃO classificada]],DadosdeLinhadoTempodoProjeto[],4,0),\"\")","v":""},{"$f":"IFERROR(VLOOKUP(LinhadoTempoClassificada[[#This Row],[POSIÇÃO classificada]],DadosdeLinhadoTempodoProjeto[],5,0),\"\")","v":""}]
[{"$nulls":4},{"$f":"IFERROR(RANK(F137,DadosdeLinhadoTempodoProjeto[CLASSIFICAÇÃO])+SUMPRODUCT(--(F137=DadosdeLinhadoTempodoProjeto[CLASSIFICAÇÃO]),--(J137<DadosdeLinhadoTempodoProjeto[NUM])),\"\")","v":""},{"$f":"IFERROR(RANK(DadosdeLinhadoTempodoProjeto[[#This Row],[DATA]],DadosdeLinhadoTempodoProjeto[DATA],1),\"\")","v":""},{"$f":"IFERROR(IF(ISBLANK(INDEX(DetalhesDoProjeto[#Data],Última_entrada_do_projeto-Linha_de_início_do_projeto-DadosdeLinhadoTempodoProjeto[[#This Row],[NUM]]+1,1)),\"\",INDEX(DetalhesDoProjeto[#Data],Última_entrada_do_projeto-Linha_de_início_do_projeto-DadosdeLinhadoTempodoProjeto[[#This Row],[NUM]]+1,1)),\"\")","v":""},{"$f":"IFERROR(IF(ISBLANK(INDEX(DetalhesDoProjeto[#Data],Última_entrada_do_projeto-Linha_de_início_do_projeto-DadosdeLinhadoTempodoProjeto[[#This Row],[NUM]]+1,2)),\"\",INDEX(DetalhesDoProjeto[#Data],Última_entrada_do_projeto-Linha_de_início_do_projeto-DadosdeLinhadoTempodoProjeto[[#This Row],[NUM]]+1,2)),\"\")","v":""},{"$f":"IFERROR(IF(ISBLANK(INDEX(DetalhesDoProjeto[#Data],Última_entrada_do_projeto-Linha_de_início_do_projeto-DadosdeLinhadoTempodoProjeto[[#This Row],[NUM]]+1,3)),\"\",INDEX(DetalhesDoProjeto[#Data],Última_entrada_do_projeto-Linha_de_início_do_projeto-DadosdeLinhadoTempodoProjeto[[#This Row],[NUM]]+1,3)),\"\")","v":""},{"$f":"IFERROR(IF(ISBLANK(INDEX(DetalhesDoProjeto[#Data],ROW(A132)+1,1)),\"\",IF($J136-1<=-1,\"\",$J136-1)),\"\")","v":""},null,null,{"$f":"IFERROR(DadosdeLinhadoTempodoProjeto[[#This Row],[NUM]]+1,\"\")","v":""},{"$f":"IFERROR(VLOOKUP(LinhadoTempoClassificada[[#This Row],[POSIÇÃO classificada]],DadosdeLinhadoTempodoProjeto[],3,0),\"\")","v":""},{"$f":"IFERROR(VLOOKUP(LinhadoTempoClassificada[[#This Row],[POSIÇÃO classificada]],DadosdeLinhadoTempodoProjeto[],4,0),\"\")","v":""},{"$f":"IFERROR(VLOOKUP(LinhadoTempoClassificada[[#This Row],[POSIÇÃO classificada]],DadosdeLinhadoTempodoProjeto[],5,0),\"\")","v":""}]
[{"$nulls":4},{"$f":"IFERROR(RANK(F138,DadosdeLinhadoTempodoProjeto[CLASSIFICAÇÃO])+SUMPRODUCT(--(F138=DadosdeLinhadoTempodoProjeto[CLASSIFICAÇÃO]),--(J138<DadosdeLinhadoTempodoProjeto[NUM])),\"\")","v":""},{"$f":"IFERROR(RANK(DadosdeLinhadoTempodoProjeto[[#This Row],[DATA]],DadosdeLinhadoTempodoProjeto[DATA],1),\"\")","v":""},{"$f":"IFERROR(IF(ISBLANK(INDEX(DetalhesDoProjeto[#Data],Última_entrada_do_projeto-Linha_de_início_do_projeto-DadosdeLinhadoTempodoProjeto[[#This Row],[NUM]]+1,1)),\"\",INDEX(DetalhesDoProjeto[#Data],Última_entrada_do_projeto-Linha_de_início_do_projeto-DadosdeLinhadoTempodoProjeto[[#This Row],[NUM]]+1,1)),\"\")","v":""},{"$f":"IFERROR(IF(ISBLANK(INDEX(DetalhesDoProjeto[#Data],Última_entrada_do_projeto-Linha_de_início_do_projeto-DadosdeLinhadoTempodoProjeto[[#This Row],[NUM]]+1,2)),\"\",INDEX(DetalhesDoProjeto[#Data],Última_entrada_do_projeto-Linha_de_início_do_projeto-DadosdeLinhadoTempodoProjeto[[#This Row],[NUM]]+1,2)),\"\")","v":""},{"$f":"IFERROR(IF(ISBLANK(INDEX(DetalhesDoProjeto[#Data],Última_entrada_do_projeto-Linha_de_início_do_projeto-DadosdeLinhadoTempodoProjeto[[#This Row],[NUM]]+1,3)),\"\",INDEX(DetalhesDoProjeto[#Data],Última_entrada_do_projeto-Linha_de_início_do_projeto-DadosdeLinhadoTempodoProjeto[[#This Row],[NUM]]+1,3)),\"\")","v":""},{"$f":"IFERROR(IF(ISBLANK(INDEX(DetalhesDoProjeto[#Data],ROW(A133)+1,1)),\"\",IF($J137-1<=-1,\"\",$J137-1)),\"\")","v":""},null,null,{"$f":"IFERROR(DadosdeLinhadoTempodoProjeto[[#This Row],[NUM]]+1,\"\")","v":""},{"$f":"IFERROR(VLOOKUP(LinhadoTempoClassificada[[#This Row],[POSIÇÃO classificada]],DadosdeLinhadoTempodoProjeto[],3,0),\"\")","v":""},{"$f":"IFERROR(VLOOKUP(LinhadoTempoClassificada[[#This Row],[POSIÇÃO classificada]],DadosdeLinhadoTempodoProjeto[],4,0),\"\")","v":""},{"$f":"IFERROR(VLOOKUP(LinhadoTempoClassificada[[#This Row],[POSIÇÃO classificada]],DadosdeLinhadoTempodoProjeto[],5,0),\"\")","v":""}]
[{"$nulls":4},{"$f":"IFERROR(RANK(F139,DadosdeLinhadoTempodoProjeto[CLASSIFICAÇÃO])+SUMPRODUCT(--(F139=DadosdeLinhadoTempodoProjeto[CLASSIFICAÇÃO]),--(J139<DadosdeLinhadoTempodoProjeto[NUM])),\"\")","v":""},{"$f":"IFERROR(RANK(DadosdeLinhadoTempodoProjeto[[#This Row],[DATA]],DadosdeLinhadoTempodoProjeto[DATA],1),\"\")","v":""},{"$f":"IFERROR(IF(ISBLANK(INDEX(DetalhesDoProjeto[#Data],Última_entrada_do_projeto-Linha_de_início_do_projeto-DadosdeLinhadoTempodoProjeto[[#This Row],[NUM]]+1,1)),\"\",INDEX(DetalhesDoProjeto[#Data],Última_entrada_do_projeto-Linha_de_início_do_projeto-DadosdeLinhadoTempodoProjeto[[#This Row],[NUM]]+1,1)),\"\")","v":""},{"$f":"IFERROR(IF(ISBLANK(INDEX(DetalhesDoProjeto[#Data],Última_entrada_do_projeto-Linha_de_início_do_projeto-DadosdeLinhadoTempodoProjeto[[#This Row],[NUM]]+1,2)),\"\",INDEX(DetalhesDoProjeto[#Data],Última_entrada_do_projeto-Linha_de_início_do_projeto-DadosdeLinhadoTempodoProjeto[[#This Row],[NUM]]+1,2)),\"\")","v":""},{"$f":"IFERROR(IF(ISBLANK(INDEX(DetalhesDoProjeto[#Data],Última_entrada_do_projeto-Linha_de_início_do_projeto-DadosdeLinhadoTempodoProjeto[[#This Row],[NUM]]+1,3)),\"\",INDEX(DetalhesDoProjeto[#Data],Última_entrada_do_projeto-Linha_de_início_do_projeto-DadosdeLinhadoTempodoProjeto[[#This Row],[NUM]]+1,3)),\"\")","v":""},{"$f":"IFERROR(IF(ISBLANK(INDEX(DetalhesDoProjeto[#Data],ROW(A134)+1,1)),\"\",IF($J138-1<=-1,\"\",$J138-1)),\"\")","v":""},null,null,{"$f":"IFERROR(DadosdeLinhadoTempodoProjeto[[#This Row],[NUM]]+1,\"\")","v":""},{"$f":"IFERROR(VLOOKUP(LinhadoTempoClassificada[[#This Row],[POSIÇÃO classificada]],DadosdeLinhadoTempodoProjeto[],3,0),\"\")","v":""},{"$f":"IFERROR(VLOOKUP(LinhadoTempoClassificada[[#This Row],[POSIÇÃO classificada]],DadosdeLinhadoTempodoProjeto[],4,0),\"\")","v":""},{"$f":"IFERROR(VLOOKUP(LinhadoTempoClassificada[[#This Row],[POSIÇÃO classificada]],DadosdeLinhadoTempodoProjeto[],5,0),\"\")","v":""}]
[{"$nulls":4},{"$f":"IFERROR(RANK(F140,DadosdeLinhadoTempodoProjeto[CLASSIFICAÇÃO])+SUMPRODUCT(--(F140=DadosdeLinhadoTempodoProjeto[CLASSIFICAÇÃO]),--(J140<DadosdeLinhadoTempodoProjeto[NUM])),\"\")","v":""},{"$f":"IFERROR(RANK(DadosdeLinhadoTempodoProjeto[[#This Row],[DATA]],DadosdeLinhadoTempodoProjeto[DATA],1),\"\")","v":""},{"$f":"IFERROR(IF(ISBLANK(INDEX(DetalhesDoProjeto[#Data],Última_entrada_do_projeto-Linha_de_início_do_projeto-DadosdeLinhadoTempodoProjeto[[#This Row],[NUM]]+1,1)),\"\",INDEX(DetalhesDoProjeto[#Data],Última_entrada_do_projeto-Linha_de_início_do_projeto-DadosdeLinhadoTempodoProjeto[[#This Row],[NUM]]+1,1)),\"\")","v":""},{"$f":"IFERROR(IF(ISBLANK(INDEX(DetalhesDoProjeto[#Data],Última_entrada_do_projeto-Linha_de_início_do_projeto-DadosdeLinhadoTempodoProjeto[[#This Row],[NUM]]+1,2)),\"\",INDEX(DetalhesDoProjeto[#Data],Última_entrada_do_projeto-Linha_de_início_do_projeto-DadosdeLinhadoTempodoProjeto[[#This Row],[NUM]]+1,2)),\"\")","v":""},{"$f":"IFERROR(IF(ISBLANK(INDEX(DetalhesDoProjeto[#Data],Última_entrada_do_projeto-Linha_de_início_do_projeto-DadosdeLinhadoTempodoProjeto[[#This Row],[NUM]]+1,3)),\"\",INDEX(DetalhesDoProjeto[#Data],Última_entrada_do_projeto-Linha_de_início_do_projeto-DadosdeLinhadoTempodoProjeto[[#This Row],[NUM]]+1,3)),\"\")","v":""},{"$f":"IFERROR(IF(ISBLANK(INDEX(DetalhesDoProjeto[#Data],ROW(A135)+1,1)),\"\",IF($J139-1<=-1,\"\",$J139-1)),\"\")","v":""},null,null,{"$f":"IFERROR(DadosdeLinhadoTempodoProjeto[[#This Row],[NUM]]+1,\"\")","v":""},{"$f":"IFERROR(VLOOKUP(LinhadoTempoClassificada[[#This Row],[POSIÇÃO classificada]],DadosdeLinhadoTempodoProjeto[],3,0),\"\")","v":""},{"$f":"IFERROR(VLOOKUP(LinhadoTempoClassificada[[#This Row],[POSIÇÃO classificada]],DadosdeLinhadoTempodoProjeto[],4,0),\"\")","v":""},{"$f":"IFERROR(VLOOKUP(LinhadoTempoClassificada[[#This Row],[POSIÇÃO classificada]],DadosdeLinhadoTempodoProjeto[],5,0),\"\")","v":""}]
[{"$nulls":4},{"$f":"IFERROR(RANK(F141,DadosdeLinhadoTempodoProjeto[CLASSIFICAÇÃO])+SUMPRODUCT(--(F141=DadosdeLinhadoTempodoProjeto[CLASSIFICAÇÃO]),--(J141<DadosdeLinhadoTempodoProjeto[NUM])),\"\")","v":""},{"$f":"IFERROR(RANK(DadosdeLinhadoTempodoProjeto[[#This Row],[DATA]],DadosdeLinhadoTempodoProjeto[DATA],1),\"\")","v":""},{"$f":"IFERROR(IF(ISBLANK(INDEX(DetalhesDoProjeto[#Data],Última_entrada_do_projeto-Linha_de_início_do_projeto-DadosdeLinhadoTempodoProjeto[[#This Row],[NUM]]+1,1)),\"\",INDEX(DetalhesDoProjeto[#Data],Última_entrada_do_projeto-Linha_de_início_do_projeto-DadosdeLinhadoTempodoProjeto[[#This Row],[NUM]]+1,1)),\"\")","v":""},{"$f":"IFERROR(IF(ISBLANK(INDEX(DetalhesDoProjeto[#Data],Última_entrada_do_projeto-Linha_de_início_do_projeto-DadosdeLinhadoTempodoProjeto[[#This Row],[NUM]]+1,2)),\"\",INDEX(DetalhesDoProjeto[#Data],Última_entrada_do_projeto-Linha_de_início_do_projeto-DadosdeLinhadoTempodoProjeto[[#This Row],[NUM]]+1,2)),\"\")","v":""},{"$f":"IFERROR(IF(ISBLANK(INDEX(DetalhesDoProjeto[#Data],Última_entrada_do_projeto-Linha_de_início_do_projeto-DadosdeLinhadoTempodoProjeto[[#This Row],[NUM]]+1,3)),\"\",INDEX(DetalhesDoProjeto[#Data],Última_entrada_do_projeto-Linha_de_início_do_projeto-DadosdeLinhadoTempodoProjeto[[#This Row],[NUM]]+1,3)),\"\")","v":""},{"$f":"IFERROR(IF(ISBLANK(INDEX(DetalhesDoProjeto[#Data],ROW(A136)+1,1)),\"\",IF($J140-1<=-1,\"\",$J140-1)),\"\")","v":""},null,null,{"$f":"IFERROR(DadosdeLinhadoTempodoProjeto[[#This Row],[NUM]]+1,\"\")","v":""},{"$f":"IFERROR(VLOOKUP(LinhadoTempoClassificada[[#This Row],[POSIÇÃO classificada]],DadosdeLinhadoTempodoProjeto[],3,0),\"\")","v":""},{"$f":"IFERROR(VLOOKUP(LinhadoTempoClassificada[[#This Row],[POSIÇÃO classificada]],DadosdeLinhadoTempodoProjeto[],4,0),\"\")","v":""},{"$f":"IFERROR(VLOOKUP(LinhadoTempoClassificada[[#This Row],[POSIÇÃO classificada]],DadosdeLinhadoTempodoProjeto[],5,0),\"\")","v":""}]
[{"$nulls":4},{"$f":"IFERROR(RANK(F142,DadosdeLinhadoTempodoProjeto[CLASSIFICAÇÃO])+SUMPRODUCT(--(F142=DadosdeLinhadoTempodoProjeto[CLASSIFICAÇÃO]),--(J142<DadosdeLinhadoTempodoProjeto[NUM])),\"\")","v":""},{"$f":"IFERROR(RANK(DadosdeLinhadoTempodoProjeto[[#This Row],[DATA]],DadosdeLinhadoTempodoProjeto[DATA],1),\"\")","v":""},{"$f":"IFERROR(IF(ISBLANK(INDEX(DetalhesDoProjeto[#Data],Última_entrada_do_projeto-Linha_de_início_do_projeto-DadosdeLinhadoTempodoProjeto[[#This Row],[NUM]]+1,1)),\"\",INDEX(DetalhesDoProjeto[#Data],Última_entrada_do_projeto-Linha_de_início_do_projeto-DadosdeLinhadoTempodoProjeto[[#This Row],[NUM]]+1,1)),\"\")","v":""},{"$f":"IFERROR(IF(ISBLANK(INDEX(DetalhesDoProjeto[#Data],Última_entrada_do_projeto-Linha_de_início_do_projeto-DadosdeLinhadoTempodoProjeto[[#This Row],[NUM]]+1,2)),\"\",INDEX(DetalhesDoProjeto[#Data],Última_entrada_do_projeto-Linha_de_início_do_projeto-DadosdeLinhadoTempodoProjeto[[#This Row],[NUM]]+1,2)),\"\")","v":""},{"$f":"IFERROR(IF(ISBLANK(INDEX(DetalhesDoProjeto[#Data],Última_entrada_do_projeto-Linha_de_início_do_projeto-DadosdeLinhadoTempodoProjeto[[#This Row],[NUM]]+1,3)),\"\",INDEX(DetalhesDoProjeto[#Data],Última_entrada_do_projeto-Linha_de_início_do_projeto-DadosdeLinhadoTempodoProjeto[[#This Row],[NUM]]+1,3)),\"\")","v":""},{"$f":"IFERROR(IF(ISBLANK(INDEX(DetalhesDoProjeto[#Data],ROW(A137)+1,1)),\"\",IF($J141-1<=-1,\"\",$J141-1)),\"\")","v":""},null,null,{"$f":"IFERROR(DadosdeLinhadoTempodoProjeto[[#This Row],[NUM]]+1,\"\")","v":""},{"$f":"IFERROR(VLOOKUP(LinhadoTempoClassificada[[#This Row],[POSIÇÃO classificada]],DadosdeLinhadoTempodoProjeto[],3,0),\"\")","v":""},{"$f":"IFERROR(VLOOKUP(LinhadoTempoClassificada[[#This Row],[POSIÇÃO classificada]],DadosdeLinhadoTempodoProjeto[],4,0),\"\")","v":""},{"$f":"IFERROR(VLOOKUP(LinhadoTempoClassificada[[#This Row],[POSIÇÃO classificada]],DadosdeLinhadoTempodoProjeto[],5,0),\"\")","v":""}]
[{"$nulls":4},{"$f":"IFERROR(RANK(F143,DadosdeLinhadoTempodoProjeto[CLASSIFICAÇÃO])+SUMPRODUCT(--(F143=DadosdeLinhadoTempodoProjeto[CLASSIFICAÇÃO]),--(J143<DadosdeLinhadoTempodoProjeto[NUM])),\"\")","v":""},{"$f":"IFERROR(RANK(DadosdeLinhadoTempodoProjeto[[#This Row],[DATA]],DadosdeLinhadoTempodoProjeto[DATA],1),\"\")","v":""},{"$f":"IFERROR(IF(ISBLANK(INDEX(DetalhesDoProjeto[#Data],Última_entrada_do_projeto-Linha_de_início_do_projeto-DadosdeLinhadoTempodoProjeto[[#This Row],[NUM]]+1,1)),\"\",INDEX(DetalhesDoProjeto[#Data],Última_entrada_do_projeto-Linha_de_início_do_projeto-DadosdeLinhadoTempodoProjeto[[#This Row],[NUM]]+1,1)),\"\")","v":""},{"$f":"IFERROR(IF(ISBLANK(INDEX(DetalhesDoProjeto[#Data],Última_entrada_do_projeto-Linha_de_início_do_projeto-DadosdeLinhadoTempodoProjeto[[#This Row],[NUM]]+1,2)),\"\",INDEX(DetalhesDoProjeto[#Data],Última_entrada_do_projeto-Linha_de_início_do_projeto-DadosdeLinhadoTempodoProjeto[[#This Row],[NUM]]+1,2)),\"\")","v":""},{"$f":"IFERROR(IF(ISBLANK(INDEX(DetalhesDoProjeto[#Data],Última_entrada_do_projeto-Linha_de_início_do_projeto-DadosdeLinhadoTempodoProjeto[[#This Row],[NUM]]+1,3)),\"\",INDEX(DetalhesDoProjeto[#Data],Última_entrada_do_projeto-Linha_de_início_do_projeto-DadosdeLinhadoTempodoProjeto[[#This Row],[NUM]]+1,3)),\"\")","v":""},{"$f":"IFERROR(IF(ISBLANK(INDEX(DetalhesDoProjeto[#Data],ROW(A138)+1,1)),\"\",IF($J142-1<=-1,\"\",$J142-1)),\"\")","v":""},null,null,{"$f":"IFERROR(DadosdeLinhadoTempodoProjeto[[#This Row],[NUM]]+1,\"\")","v":""},{"$f":"IFERROR(VLOOKUP(LinhadoTempoClassificada[[#This Row],[POSIÇÃO classificada]],DadosdeLinhadoTempodoProjeto[],3,0),\"\")","v":""},{"$f":"IFERROR(VLOOKUP(LinhadoTempoClassificada[[#This Row],[POSIÇÃO classificada]],DadosdeLinhadoTempodoProjeto[],4,0),\"\")","v":""},{"$f":"IFERROR(VLOOKUP(LinhadoTempoClassificada[[#This Row],[POSIÇÃO classificada]],DadosdeLinhadoTempodoProjeto[],5,0),\"\")","v":""}]
[{"$nulls":4},{"$f":"IFERROR(RANK(F144,DadosdeLinhadoTempodoProjeto[CLASSIFICAÇÃO])+SUMPRODUCT(--(F144=DadosdeLinhadoTempodoProjeto[CLASSIFICAÇÃO]),--(J144<DadosdeLinhadoTempodoProjeto[NUM])),\"\")","v":""},{"$f":"IFERROR(RANK(DadosdeLinhadoTempodoProjeto[[#This Row],[DATA]],DadosdeLinhadoTempodoProjeto[DATA],1),\"\")","v":""},{"$f":"IFERROR(IF(ISBLANK(INDEX(DetalhesDoProjeto[#Data],Última_entrada_do_projeto-Linha_de_início_do_projeto-DadosdeLinhadoTempodoProjeto[[#This Row],[NUM]]+1,1)),\"\",INDEX(DetalhesDoProjeto[#Data],Última_entrada_do_projeto-Linha_de_início_do_projeto-DadosdeLinhadoTempodoProjeto[[#This Row],[NUM]]+1,1)),\"\")","v":""},{"$f":"IFERROR(IF(ISBLANK(INDEX(DetalhesDoProjeto[#Data],Última_entrada_do_projeto-Linha_de_início_do_projeto-DadosdeLinhadoTempodoProjeto[[#This Row],[NUM]]+1,2)),\"\",INDEX(DetalhesDoProjeto[#Data],Última_entrada_do_projeto-Linha_de_início_do_projeto-DadosdeLinhadoTempodoProjeto[[#This Row],[NUM]]+1,2)),\"\")","v":""},{"$f":"IFERROR(IF(ISBLANK(INDEX(DetalhesDoProjeto[#Data],Última_entrada_do_projeto-Linha_de_início_do_projeto-DadosdeLinhadoTempodoProjeto[[#This Row],[NUM]]+1,3)),\"\",INDEX(DetalhesDoProjeto[#Data],Última_entrada_do_projeto-Linha_de_início_do_projeto-DadosdeLinhadoTempodoProjeto[[#This Row],[NUM]]+1,3)),\"\")","v":""},{"$f":"IFERROR(IF(ISBLANK(INDEX(DetalhesDoProjeto[#Data],ROW(A139)+1,1)),\"\",IF($J143-1<=-1,\"\",$J143-1)),\"\")","v":""},null,null,{"$f":"IFERROR(DadosdeLinhadoTempodoProjeto[[#This Row],[NUM]]+1,\"\")","v":""},{"$f":"IFERROR(VLOOKUP(LinhadoTempoClassificada[[#This Row],[POSIÇÃO classificada]],DadosdeLinhadoTempodoProjeto[],3,0),\"\")","v":""},{"$f":"IFERROR(VLOOKUP(LinhadoTempoClassificada[[#This Row],[POSIÇÃO classificada]],DadosdeLinhadoTempodoProjeto[],4,0),\"\")","v":""},{"$f":"IFERROR(VLOOKUP(LinhadoTempoClassificada[[#This Row],[POSIÇÃO classificada]],DadosdeLinhadoTempodoProjeto[],5,0),\"\")","v":""}]
[{"$nulls":4},{"$f":"IFERROR(RANK(F145,DadosdeLinhadoTempodoProjeto[CLASSIFICAÇÃO])+SUMPRODUCT(--(F145=DadosdeLinhadoTempodoProjeto[CLASSIFICAÇÃO]),--(J145<DadosdeLinhadoTempodoProjeto[NUM])),\"\")","v":""},{"$f":"IFERROR(RANK(DadosdeLinhadoTempodoProjeto[[#This Row],[DATA]],DadosdeLinhadoTempodoProjeto[DATA],1),\"\")","v":""},{"$f":"IFERROR(IF(ISBLANK(INDEX(DetalhesDoProjeto[#Data],Última_entrada_do_projeto-Linha_de_início_do_projeto-DadosdeLinhadoTempodoProjeto[[#This Row],[NUM]]+1,1)),\"\",INDEX(DetalhesDoProjeto[#Data],Última_entrada_do_projeto-Linha_de_início_do_projeto-DadosdeLinhadoTempodoProjeto[[#This Row],[NUM]]+1,1)),\"\")","v":""},{"$f":"IFERROR(IF(ISBLANK(INDEX(DetalhesDoProjeto[#Data],Última_entrada_do_projeto-Linha_de_início_do_projeto-DadosdeLinhadoTempodoProjeto[[#This Row],[NUM]]+1,2)),\"\",INDEX(DetalhesDoProjeto[#Data],Última_entrada_do_projeto-Linha_de_início_do_projeto-DadosdeLinhadoTempodoProjeto[[#This Row],[NUM]]+1,2)),\"\")","v":""},{"$f":"IFERROR(IF(ISBLANK(INDEX(DetalhesDoProjeto[#Data],Última_entrada_do_projeto-Linha_de_início_do_projeto-DadosdeLinhadoTempodoProjeto[[#This Row],[NUM]]+1,3)),\"\",INDEX(DetalhesDoProjeto[#Data],Última_entrada_do_projeto-Linha_de_início_do_projeto-DadosdeLinhadoTempodoProjeto[[#This Row],[NUM]]+1,3)),\"\")","v":""},{"$f":"IFERROR(IF(ISBLANK(INDEX(DetalhesDoProjeto[#Data],ROW(A140)+1,1)),\"\",IF($J144-1<=-1,\"\",$J144-1)),\"\")","v":""},null,null,{"$f":"IFERROR(DadosdeLinhadoTempodoProjeto[[#This Row],[NUM]]+1,\"\")","v":""},{"$f":"IFERROR(VLOOKUP(LinhadoTempoClassificada[[#This Row],[POSIÇÃO classificada]],DadosdeLinhadoTempodoProjeto[],3,0),\"\")","v":""},{"$f":"IFERROR(VLOOKUP(LinhadoTempoClassificada[[#This Row],[POSIÇÃO classificada]],DadosdeLinhadoTempodoProjeto[],4,0),\"\")","v":""},{"$f":"IFERROR(VLOOKUP(LinhadoTempoClassificada[[#This Row],[POSIÇÃO classificada]],DadosdeLinhadoTempodoProjeto[],5,0),\"\")","v":""}]
[{"$nulls":4},{"$f":"IFERROR(RANK(F146,DadosdeLinhadoTempodoProjeto[CLASSIFICAÇÃO])+SUMPRODUCT(--(F146=DadosdeLinhadoTempodoProjeto[CLASSIFICAÇÃO]),--(J146<DadosdeLinhadoTempodoProjeto[NUM])),\"\")","v":""},{"$f":"IFERROR(RANK(DadosdeLinhadoTempodoProjeto[[#This Row],[DATA]],DadosdeLinhadoTempodoProjeto[DATA],1),\"\")","v":""},{"$f":"IFERROR(IF(ISBLANK(INDEX(DetalhesDoProjeto[#Data],Última_entrada_do_projeto-Linha_de_início_do_projeto-DadosdeLinhadoTempodoProjeto[[#This Row],[NUM]]+1,1)),\"\",INDEX(DetalhesDoProjeto[#Data],Última_entrada_do_projeto-Linha_de_início_do_projeto-DadosdeLinhadoTempodoProjeto[[#This Row],[NUM]]+1,1)),\"\")","v":""},{"$f":"IFERROR(IF(ISBLANK(INDEX(DetalhesDoProjeto[#Data],Última_entrada_do_projeto-Linha_de_início_do_projeto-DadosdeLinhadoTempodoProjeto[[#This Row],[NUM]]+1,2)),\"\",INDEX(DetalhesDoProjeto[#Data],Última_entrada_do_projeto-Linha_de_início_do_projeto-DadosdeLinhadoTempodoProjeto[[#This Row],[NUM]]+1,2)),\"\")","v":""},{"$f":"IFERROR(IF(ISBLANK(INDEX(DetalhesDoProjeto[#Data],Última_entrada_do_projeto-Linha_de_início_do_projeto-DadosdeLinhadoTempodoProjeto[[#This Row],[NUM]]+1,3)),\"\",INDEX(DetalhesDoProjeto[#Data],Última_entrada_do_projeto-Linha_de_início_do_projeto-DadosdeLinhadoTempodoProjeto[[#This Row],[NUM]]+1,3)),\"\")","v":""},{"$f":"IFERROR(IF(ISBLANK(INDEX(DetalhesDoProjeto[#Data],ROW(A141)+1,1)),\"\",IF($J145-1<=-1,\"\",$J145-1)),\"\")","v":""},null,null,{"$f":"IFERROR(DadosdeLinhadoTempodoProjeto[[#This Row],[NUM]]+1,\"\")","v":""},{"$f":"IFERROR(VLOOKUP(LinhadoTempoClassificada[[#This Row],[POSIÇÃO classificada]],DadosdeLinhadoTempodoProjeto[],3,0),\"\")","v":""},{"$f":"IFERROR(VLOOKUP(LinhadoTempoClassificada[[#This Row],[POSIÇÃO classificada]],DadosdeLinhadoTempodoProjeto[],4,0),\"\")","v":""},{"$f":"IFERROR(VLOOKUP(LinhadoTempoClassificada[[#This Row],[POSIÇÃO classificada]],DadosdeLinhadoTempodoProjeto[],5,0),\"\")","v":""}]
[{"$nulls":4},{"$f":"IFERROR(RANK(F147,DadosdeLinhadoTempodoProjeto[CLASSIFICAÇÃO])+SUMPRODUCT(--(F147=DadosdeLinhadoTempodoProjeto[CLASSIFICAÇÃO]),--(J147<DadosdeLinhadoTempodoProjeto[NUM])),\"\")","v":""},{"$f":"IFERROR(RANK(DadosdeLinhadoTempodoProjeto[[#This Row],[DATA]],DadosdeLinhadoTempodoProjeto[DATA],1),\"\")","v":""},{"$f":"IFERROR(IF(ISBLANK(INDEX(DetalhesDoProjeto[#Data],Última_entrada_do_projeto-Linha_de_início_do_projeto-DadosdeLinhadoTempodoProjeto[[#This Row],[NUM]]+1,1)),\"\",INDEX(DetalhesDoProjeto[#Data],Última_entrada_do_projeto-Linha_de_início_do_projeto-DadosdeLinhadoTempodoProjeto[[#This Row],[NUM]]+1,1)),\"\")","v":""},{"$f":"IFERROR(IF(ISBLANK(INDEX(DetalhesDoProjeto[#Data],Última_entrada_do_projeto-Linha_de_início_do_projeto-DadosdeLinhadoTempodoProjeto[[#This Row],[NUM]]+1,2)),\"\",INDEX(DetalhesDoProjeto[#Data],Última_entrada_do_projeto-Linha_de_início_do_projeto-DadosdeLinhadoTempodoProjeto[[#This Row],[NUM]]+1,2)),\"\")","v":""},{"$f":"IFERROR(IF(ISBLANK(INDEX(DetalhesDoProjeto[#Data],Última_entrada_do_projeto-Linha_de_início_do_projeto-DadosdeLinhadoTempodoProjeto[[#This Row],[NUM]]+1,3)),\"\",INDEX(DetalhesDoProjeto[#Data],Última_entrada_do_projeto-Linha_de_início_do_projeto-DadosdeLinhadoTempodoProjeto[[#This Row],[NUM]]+1,3)),\"\")","v":""},{"$f":"IFERROR(IF(ISBLANK(INDEX(DetalhesDoProjeto[#Data],ROW(A142)+1,1)),\"\",IF($J146-1<=-1,\"\",$J146-1)),\"\")","v":""},null,null,{"$f":"IFERROR(DadosdeLinhadoTempodoProjeto[[#This Row],[NUM]]+1,\"\")","v":""},{"$f":"IFERROR(VLOOKUP(LinhadoTempoClassificada[[#This Row],[POSIÇÃO classificada]],DadosdeLinhadoTempodoProjeto[],3,0),\"\")","v":""},{"$f":"IFERROR(VLOOKUP(LinhadoTempoClassificada[[#This Row],[POSIÇÃO classificada]],DadosdeLinhadoTempodoProjeto[],4,0),\"\")","v":""},{"$f":"IFERROR(VLOOKUP(LinhadoTempoClassificada[[#This Row],[POSIÇÃO classificada]],DadosdeLinhadoTempodoProjeto[],5,0),\"\")","v":""}]
[{"$nulls":4},{"$f":"IFERROR(RANK(F148,DadosdeLinhadoTempodoProjeto[CLASSIFICAÇÃO])+SUMPRODUCT(--(F148=DadosdeLinhadoTempodoProjeto[CLASSIFICAÇÃO]),--(J148<DadosdeLinhadoTempodoProjeto[NUM])),\"\")","v":""},{"$f":"IFERROR(RANK(DadosdeLinhadoTempodoProjeto[[#This Row],[DATA]],DadosdeLinhadoTempodoProjeto[DATA],1),\"\")","v":""},{"$f":"IFERROR(IF(ISBLANK(INDEX(DetalhesDoProjeto[#Data],Última_entrada_do_projeto-Linha_de_início_do_projeto-DadosdeLinhadoTempodoProjeto[[#This Row],[NUM]]+1,1)),\"\",INDEX(DetalhesDoProjeto[#Data],Última_entrada_do_projeto-Linha_de_início_do_projeto-DadosdeLinhadoTempodoProjeto[[#This Row],[NUM]]+1,1)),\"\")","v":""},{"$f":"IFERROR(IF(ISBLANK(INDEX(DetalhesDoProjeto[#Data],Última_entrada_do_projeto-Linha_de_início_do_projeto-DadosdeLinhadoTempodoProjeto[[#This Row],[NUM]]+1,2)),\"\",INDEX(DetalhesDoProjeto[#Data],Última_entrada_do_projeto-Linha_de_início_do_projeto-DadosdeLinhadoTempodoProjeto[[#This Row],[NUM]]+1,2)),\"\")","v":""},{"$f":"IFERROR(IF(ISBLANK(INDEX(DetalhesDoProjeto[#Data],Última_entrada_do_projeto-Linha_de_início_do_projeto-DadosdeLinhadoTempodoProjeto[[#This Row],[NUM]]+1,3)),\"\",INDEX(DetalhesDoProjeto[#Data],Última_entrada_do_projeto-Linha_de_início_do_projeto-DadosdeLinhadoTempodoProjeto[[#This Row],[NUM]]+1,3)),\"\")","v":""},{"$f":"IFERROR(IF(ISBLANK(INDEX(DetalhesDoProjeto[#Data],ROW(A143)+1,1)),\"\",IF($J147-1<=-1,\"\",$J147-1)),\"\")","v":""},null,null,{"$f":"IFERROR(DadosdeLinhadoTempodoProjeto[[#This Row],[NUM]]+1,\"\")","v":""},{"$f":"IFERROR(VLOOKUP(LinhadoTempoClassificada[[#This Row],[POSIÇÃO classificada]],DadosdeLinhadoTempodoProjeto[],3,0),\"\")","v":""},{"$f":"IFERROR(VLOOKUP(LinhadoTempoClassificada[[#This Row],[POSIÇÃO classificada]],DadosdeLinhadoTempodoProjeto[],4,0),\"\")","v":""},{"$f":"IFERROR(VLOOKUP(LinhadoTempoClassificada[[#This Row],[POSIÇÃO classificada]],DadosdeLinhadoTempodoProjeto[],5,0),\"\")","v":""}]
[{"$nulls":4},{"$f":"IFERROR(RANK(F149,DadosdeLinhadoTempodoProjeto[CLASSIFICAÇÃO])+SUMPRODUCT(--(F149=DadosdeLinhadoTempodoProjeto[CLASSIFICAÇÃO]),--(J149<DadosdeLinhadoTempodoProjeto[NUM])),\"\")","v":""},{"$f":"IFERROR(RANK(DadosdeLinhadoTempodoProjeto[[#This Row],[DATA]],DadosdeLinhadoTempodoProjeto[DATA],1),\"\")","v":""},{"$f":"IFERROR(IF(ISBLANK(INDEX(DetalhesDoProjeto[#Data],Última_entrada_do_projeto-Linha_de_início_do_projeto-DadosdeLinhadoTempodoProjeto[[#This Row],[NUM]]+1,1)),\"\",INDEX(DetalhesDoProjeto[#Data],Última_entrada_do_projeto-Linha_de_início_do_projeto-DadosdeLinhadoTempodoProjeto[[#This Row],[NUM]]+1,1)),\"\")","v":""},{"$f":"IFERROR(IF(ISBLANK(INDEX(DetalhesDoProjeto[#Data],Última_entrada_do_projeto-Linha_de_início_do_projeto-DadosdeLinhadoTempodoProjeto[[#This Row],[NUM]]+1,2)),\"\",INDEX(DetalhesDoProjeto[#Data],Última_entrada_do_projeto-Linha_de_início_do_projeto-DadosdeLinhadoTempodoProjeto[[#This Row],[NUM]]+1,2)),\"\")","v":""},{"$f":"IFERROR(IF(ISBLANK(INDEX(DetalhesDoProjeto[#Data],Última_entrada_do_projeto-Linha_de_início_do_projeto-DadosdeLinhadoTempodoProjeto[[#This Row],[NUM]]+1,3)),\"\",INDEX(DetalhesDoProjeto[#Data],Última_entrada_do_projeto-Linha_de_início_do_projeto-DadosdeLinhadoTempodoProjeto[[#This Row],[NUM]]+1,3)),\"\")","v":""},{"$f":"IFERROR(IF(ISBLANK(INDEX(DetalhesDoProjeto[#Data],ROW(A144)+1,1)),\"\",IF($J148-1<=-1,\"\",$J148-1)),\"\")","v":""},null,null,{"$f":"IFERROR(DadosdeLinhadoTempodoProjeto[[#This Row],[NUM]]+1,\"\")","v":""},{"$f":"IFERROR(VLOOKUP(LinhadoTempoClassificada[[#This Row],[POSIÇÃO classificada]],DadosdeLinhadoTempodoProjeto[],3,0),\"\")","v":""},{"$f":"IFERROR(VLOOKUP(LinhadoTempoClassificada[[#This Row],[POSIÇÃO classificada]],DadosdeLinhadoTempodoProjeto[],4,0),\"\")","v":""},{"$f":"IFERROR(VLOOKUP(LinhadoTempoClassificada[[#This Row],[POSIÇÃO classificada]],DadosdeLinhadoTempodoProjeto[],5,0),\"\")","v":""}]
[{"$nulls":4},{"$f":"IFERROR(RANK(F150,DadosdeLinhadoTempodoProjeto[CLASSIFICAÇÃO])+SUMPRODUCT(--(F150=DadosdeLinhadoTempodoProjeto[CLASSIFICAÇÃO]),--(J150<DadosdeLinhadoTempodoProjeto[NUM])),\"\")","v":""},{"$f":"IFERROR(RANK(DadosdeLinhadoTempodoProjeto[[#This Row],[DATA]],DadosdeLinhadoTempodoProjeto[DATA],1),\"\")","v":""},{"$f":"IFERROR(IF(ISBLANK(INDEX(DetalhesDoProjeto[#Data],Última_entrada_do_projeto-Linha_de_início_do_projeto-DadosdeLinhadoTempodoProjeto[[#This Row],[NUM]]+1,1)),\"\",INDEX(DetalhesDoProjeto[#Data],Última_entrada_do_projeto-Linha_de_início_do_projeto-DadosdeLinhadoTempodoProjeto[[#This Row],[NUM]]+1,1)),\"\")","v":""},{"$f":"IFERROR(IF(ISBLANK(INDEX(DetalhesDoProjeto[#Data],Última_entrada_do_projeto-Linha_de_início_do_projeto-DadosdeLinhadoTempodoProjeto[[#This Row],[NUM]]+1,2)),\"\",INDEX(DetalhesDoProjeto[#Data],Última_entrada_do_projeto-Linha_de_início_do_projeto-DadosdeLinhadoTempodoProjeto[[#This Row],[NUM]]+1,2)),\"\")","v":""},{"$f":"IFERROR(IF(ISBLANK(INDEX(DetalhesDoProjeto[#Data],Última_entrada_do_projeto-Linha_de_início_do_projeto-DadosdeLinhadoTempodoProjeto[[#This Row],[NUM]]+1,3)),\"\",INDEX(DetalhesDoProjeto[#Data],Última_entrada_do_projeto-Linha_de_início_do_projeto-DadosdeLinhadoTempodoProjeto[[#This Row],[NUM]]+1,3)),\"\")","v":""},{"$f":"IFERROR(IF(ISBLANK(INDEX(DetalhesDoProjeto[#Data],ROW(A145)+1,1)),\"\",IF($J149-1<=-1,\"\",$J149-1)),\"\")","v":""},null,null,{"$f":"IFERROR(DadosdeLinhadoTempodoProjeto[[#This Row],[NUM]]+1,\"\")","v":""},{"$f":"IFERROR(VLOOKUP(LinhadoTempoClassificada[[#This Row],[POSIÇÃO classificada]],DadosdeLinhadoTempodoProjeto[],3,0),\"\")","v":""},{"$f":"IFERROR(VLOOKUP(LinhadoTempoClassificada[[#This Row],[POSIÇÃO classificada]],DadosdeLinhadoTempodoProjeto[],4,0),\"\")","v":""},{"$f":"IFERROR(VLOOKUP(LinhadoTempoClassificada[[#This Row],[POSIÇÃO classificada]],DadosdeLinhadoTempodoProjeto[],5,0),\"\")","v":""}]
[{"$nulls":4},{"$f":"IFERROR(RANK(F151,DadosdeLinhadoTempodoProjeto[CLASSIFICAÇÃO])+SUMPRODUCT(--(F151=DadosdeLinhadoTempodoProjeto[CLASSIFICAÇÃO]),--(J151<DadosdeLinhadoTempodoProjeto[NUM])),\"\")","v":""},{"$f":"IFERROR(RANK(DadosdeLinhadoTempodoProjeto[[#This Row],[DATA]],DadosdeLinhadoTempodoProjeto[DATA],1),\"\")","v":""},{"$f":"IFERROR(IF(ISBLANK(INDEX(DetalhesDoProjeto[#Data],Última_entrada_do_projeto-Linha_de_início_do_projeto-DadosdeLinhadoTempodoProjeto[[#This Row],[NUM]]+1,1)),\"\",INDEX(DetalhesDoProjeto[#Data],Última_entrada_do_projeto-Linha_de_início_do_projeto-DadosdeLinhadoTempodoProjeto[[#This Row],[NUM]]+1,1)),\"\")","v":""},{"$f":"IFERROR(IF(ISBLANK(INDEX(DetalhesDoProjeto[#Data],Última_entrada_do_projeto-Linha_de_início_do_projeto-DadosdeLinhadoTempodoProjeto[[#This Row],[NUM]]+1,2)),\"\",INDEX(DetalhesDoProjeto[#Data],Última_entrada_do_projeto-Linha_de_início_do_projeto-DadosdeLinhadoTempodoProjeto[[#This Row],[NUM]]+1,2)),\"\")","v":""},{"$f":"IFERROR(IF(ISBLANK(INDEX(DetalhesDoProjeto[#Data],Última_entrada_do_projeto-Linha_de_início_do_projeto-DadosdeLinhadoTempodoProjeto[[#This Row],[NUM]]+1,3)),\"\",INDEX(DetalhesDoProjeto[#Data],Última_entrada_do_projeto-Linha_de_início_do_projeto-DadosdeLinhadoTempodoProjeto[[#This Row],[NUM]]+1,3)),\"\")","v":""},{"$f":"IFERROR(IF(ISBLANK(INDEX(DetalhesDoProjeto[#Data],ROW(A146)+1,1)),\"\",IF($J150-1<=-1,\"\",$J150-1)),\"\")","v":""},null,null,{"$f":"IFERROR(DadosdeLinhadoTempodoProjeto[[#This Row],[NUM]]+1,\"\")","v":""},{"$f":"IFERROR(VLOOKUP(LinhadoTempoClassificada[[#This Row],[POSIÇÃO classificada]],DadosdeLinhadoTempodoProjeto[],3,0),\"\")","v":""},{"$f":"IFERROR(VLOOKUP(LinhadoTempoClassificada[[#This Row],[POSIÇÃO classificada]],DadosdeLinhadoTempodoProjeto[],4,0),\"\")","v":""},{"$f":"IFERROR(VLOOKUP(LinhadoTempoClassificada[[#This Row],[POSIÇÃO classificada]],DadosdeLinhadoTempodoProjeto[],5,0),\"\")","v":""}]
[{"$nulls":4},{"$f":"IFERROR(RANK(F152,DadosdeLinhadoTempodoProjeto[CLASSIFICAÇÃO])+SUMPRODUCT(--(F152=DadosdeLinhadoTempodoProjeto[CLASSIFICAÇÃO]),--(J152<DadosdeLinhadoTempodoProjeto[NUM])),\"\")","v":""},{"$f":"IFERROR(RANK(DadosdeLinhadoTempodoProjeto[[#This Row],[DATA]],DadosdeLinhadoTempodoProjeto[DATA],1),\"\")","v":""},{"$f":"IFERROR(IF(ISBLANK(INDEX(DetalhesDoProjeto[#Data],Última_entrada_do_projeto-Linha_de_início_do_projeto-DadosdeLinhadoTempodoProjeto[[#This Row],[NUM]]+1,1)),\"\",INDEX(DetalhesDoProjeto[#Data],Última_entrada_do_projeto-Linha_de_início_do_projeto-DadosdeLinhadoTempodoProjeto[[#This Row],[NUM]]+1,1)),\"\")","v":""},{"$f":"IFERROR(IF(ISBLANK(INDEX(DetalhesDoProjeto[#Data],Última_entrada_do_projeto-Linha_de_início_do_projeto-DadosdeLinhadoTempodoProjeto[[#This Row],[NUM]]+1,2)),\"\",INDEX(DetalhesDoProjeto[#Data],Última_entrada_do_projeto-Linha_de_início_do_projeto-DadosdeLinhadoTempodoProjeto[[#This Row],[NUM]]+1,2)),\"\")","v":""},{"$f":"IFERROR(IF(ISBLANK(INDEX(DetalhesDoProjeto[#Data],Última_entrada_do_projeto-Linha_de_início_do_projeto-DadosdeLinhadoTempodoProjeto[[#This Row],[NUM]]+1,3)),\"\",INDEX(DetalhesDoProjeto[#Data],Última_entrada_do_projeto-Linha_de_início_do_projeto-DadosdeLinhadoTempodoProjeto[[#This Row],[NUM]]+1,3)),\"\")","v":""},{"$f":"IFERROR(IF(ISBLANK(INDEX(DetalhesDoProjeto[#Data],ROW(A147)+1,1)),\"\",IF($J151-1<=-1,\"\",$J151-1)),\"\")","v":""},null,null,{"$f":"IFERROR(DadosdeLinhadoTempodoProjeto[[#This Row],[NUM]]+1,\"\")","v":""},{"$f":"IFERROR(VLOOKUP(LinhadoTempoClassificada[[#This Row],[POSIÇÃO classificada]],DadosdeLinhadoTempodoProjeto[],3,0),\"\")","v":""},{"$f":"IFERROR(VLOOKUP(LinhadoTempoClassificada[[#This Row],[POSIÇÃO classificada]],DadosdeLinhadoTempodoProjeto[],4,0),\"\")","v":""},{"$f":"IFERROR(VLOOKUP(LinhadoTempoClassificada[[#This Row],[POSIÇÃO classificada]],DadosdeLinhadoTempodoProjeto[],5,0),\"\")","v":""}]
[{"$nulls":4},{"$f":"IFERROR(RANK(F153,DadosdeLinhadoTempodoProjeto[CLASSIFICAÇÃO])+SUMPRODUCT(--(F153=DadosdeLinhadoTempodoProjeto[CLASSIFICAÇÃO]),--(J153<DadosdeLinhadoTempodoProjeto[NUM])),\"\")","v":""},{"$f":"IFERROR(RANK(DadosdeLinhadoTempodoProjeto[[#This Row],[DATA]],DadosdeLinhadoTempodoProjeto[DATA],1),\"\")","v":""},{"$f":"IFERROR(IF(ISBLANK(INDEX(DetalhesDoProjeto[#Data],Última_entrada_do_projeto-Linha_de_início_do_projeto-DadosdeLinhadoTempodoProjeto[[#This Row],[NUM]]+1,1)),\"\",INDEX(DetalhesDoProjeto[#Data],Última_entrada_do_projeto-Linha_de_início_do_projeto-DadosdeLinhadoTempodoProjeto[[#This Row],[NUM]]+1,1)),\"\")","v":""},{"$f":"IFERROR(IF(ISBLANK(INDEX(DetalhesDoProjeto[#Data],Última_entrada_do_projeto-Linha_de_início_do_projeto-DadosdeLinhadoTempodoProjeto[[#This Row],[NUM]]+1,2)),\"\",INDEX(DetalhesDoProjeto[#Data],Última_entrada_do_projeto-Linha_de_início_do_projeto-DadosdeLinhadoTempodoProjeto[[#This Row],[NUM]]+1,2)),\"\")","v":""},{"$f":"IFERROR(IF(ISBLANK(INDEX(DetalhesDoProjeto[#Data],Última_entrada_do_projeto-Linha_de_início_do_projeto-DadosdeLinhadoTempodoProjeto[[#This Row],[NUM]]+1,3)),\"\",INDEX(DetalhesDoProjeto[#Data],Última_entrada_do_projeto-Linha_de_início_do_projeto-DadosdeLinhadoTempodoProjeto[[#This Row],[NUM]]+1,3)),\"\")","v":""},{"$f":"IFERROR(IF(ISBLANK(INDEX(DetalhesDoProjeto[#Data],ROW(A148)+1,1)),\"\",IF($J152-1<=-1,\"\",$J152-1)),\"\")","v":""},null,null,{"$f":"IFERROR(DadosdeLinhadoTempodoProjeto[[#This Row],[NUM]]+1,\"\")","v":""},{"$f":"IFERROR(VLOOKUP(LinhadoTempoClassificada[[#This Row],[POSIÇÃO classificada]],DadosdeLinhadoTempodoProjeto[],3,0),\"\")","v":""},{"$f":"IFERROR(VLOOKUP(LinhadoTempoClassificada[[#This Row],[POSIÇÃO classificada]],DadosdeLinhadoTempodoProjeto[],4,0),\"\")","v":""},{"$f":"IFERROR(VLOOKUP(LinhadoTempoClassificada[[#This Row],[POSIÇÃO classificada]],DadosdeLinhadoTempodoProjeto[],5,0),\"\")","v":""}]
[{"$nulls":4},{"$f":"IFERROR(RANK(F154,DadosdeLinhadoTempodoProjeto[CLASSIFICAÇÃO])+SUMPRODUCT(--(F154=DadosdeLinhadoTempodoProjeto[CLASSIFICAÇÃO]),--(J154<DadosdeLinhadoTempodoProjeto[NUM])),\"\")","v":""},{"$f":"IFERROR(RANK(DadosdeLinhadoTempodoProjeto[[#This Row],[DATA]],DadosdeLinhadoTempodoProjeto[DATA],1),\"\")","v":""},{"$f":"IFERROR(IF(ISBLANK(INDEX(DetalhesDoProjeto[#Data],Última_entrada_do_projeto-Linha_de_início_do_projeto-DadosdeLinhadoTempodoProjeto[[#This Row],[NUM]]+1,1)),\"\",INDEX(DetalhesDoProjeto[#Data],Última_entrada_do_projeto-Linha_de_início_do_projeto-DadosdeLinhadoTempodoProjeto[[#This Row],[NUM]]+1,1)),\"\")","v":""},{"$f":"IFERROR(IF(ISBLANK(INDEX(DetalhesDoProjeto[#Data],Última_entrada_do_projeto-Linha_de_início_do_projeto-DadosdeLinhadoTempodoProjeto[[#This Row],[NUM]]+1,2)),\"\",INDEX(DetalhesDoProjeto[#Data],Última_entrada_do_projeto-Linha_de_início_do_projeto-DadosdeLinhadoTempodoProjeto[[#This Row],[NUM]]+1,2)),\"\")","v":""},{"$f":"IFERROR(IF(ISBLANK(INDEX(DetalhesDoProjeto[#Data],Última_entrada_do_projeto-Linha_de_início_do_projeto-DadosdeLinhadoTempodoProjeto[[#This Row],[NUM]]+1,3)),\"\",INDEX(DetalhesDoProjeto[#Data],Última_entrada_do_projeto-Linha_de_início_do_projeto-DadosdeLinhadoTempodoProjeto[[#This Row],[NUM]]+1,3)),\"\")","v":""},{"$f":"IFERROR(IF(ISBLANK(INDEX(DetalhesDoProjeto[#Data],ROW(A149)+1,1)),\"\",IF($J153-1<=-1,\"\",$J153-1)),\"\")","v":""},null,null,{"$f":"IFERROR(DadosdeLinhadoTempodoProjeto[[#This Row],[NUM]]+1,\"\")","v":""},{"$f":"IFERROR(VLOOKUP(LinhadoTempoClassificada[[#This Row],[POSIÇÃO classificada]],DadosdeLinhadoTempodoProjeto[],3,0),\"\")","v":""},{"$f":"IFERROR(VLOOKUP(LinhadoTempoClassificada[[#This Row],[POSIÇÃO classificada]],DadosdeLinhadoTempodoProjeto[],4,0),\"\")","v":""},{"$f":"IFERROR(VLOOKUP(LinhadoTempoClassificada[[#This Row],[POSIÇÃO classificada]],DadosdeLinhadoTempodoProjeto[],5,0),\"\")","v":""}]
[{"$nulls":4},{"$f":"IFERROR(RANK(F155,DadosdeLinhadoTempodoProjeto[CLASSIFICAÇÃO])+SUMPRODUCT(--(F155=DadosdeLinhadoTempodoProjeto[CLASSIFICAÇÃO]),--(J155<DadosdeLinhadoTempodoProjeto[NUM])),\"\")","v":""},{"$f":"IFERROR(RANK(DadosdeLinhadoTempodoProjeto[[#This Row],[DATA]],DadosdeLinhadoTempodoProjeto[DATA],1),\"\")","v":""},{"$f":"IFERROR(IF(ISBLANK(INDEX(DetalhesDoProjeto[#Data],Última_entrada_do_projeto-Linha_de_início_do_projeto-DadosdeLinhadoTempodoProjeto[[#This Row],[NUM]]+1,1)),\"\",INDEX(DetalhesDoProjeto[#Data],Última_entrada_do_projeto-Linha_de_início_do_projeto-DadosdeLinhadoTempodoProjeto[[#This Row],[NUM]]+1,1)),\"\")","v":""},{"$f":"IFERROR(IF(ISBLANK(INDEX(DetalhesDoProjeto[#Data],Última_entrada_do_projeto-Linha_de_início_do_projeto-DadosdeLinhadoTempodoProjeto[[#This Row],[NUM]]+1,2)),\"\",INDEX(DetalhesDoProjeto[#Data],Última_entrada_do_projeto-Linha_de_início_do_projeto-DadosdeLinhadoTempodoProjeto[[#This Row],[NUM]]+1,2)),\"\")","v":""},{"$f":"IFERROR(IF(ISBLANK(INDEX(DetalhesDoProjeto[#Data],Última_entrada_do_projeto-Linha_de_início_do_projeto-DadosdeLinhadoTempodoProjeto[[#This Row],[NUM]]+1,3)),\"\",INDEX(DetalhesDoProjeto[#Data],Última_entrada_do_projeto-Linha_de_início_do_projeto-DadosdeLinhadoTempodoProjeto[[#This Row],[NUM]]+1,3)),\"\")","v":""},{"$f":"IFERROR(IF(ISBLANK(INDEX(DetalhesDoProjeto[#Data],ROW(A150)+1,1)),\"\",IF($J154-1<=-1,\"\",$J154-1)),\"\")","v":""},null,null,{"$f":"IFERROR(DadosdeLinhadoTempodoProjeto[[#This Row],[NUM]]+1,\"\")","v":""},{"$f":"IFERROR(VLOOKUP(LinhadoTempoClassificada[[#This Row],[POSIÇÃO classificada]],DadosdeLinhadoTempodoProjeto[],3,0),\"\")","v":""},{"$f":"IFERROR(VLOOKUP(LinhadoTempoClassificada[[#This Row],[POSIÇÃO classificada]],DadosdeLinhadoTempodoProjeto[],4,0),\"\")","v":""},{"$f":"IFERROR(VLOOKUP(LinhadoTempoClassificada[[#This Row],[POSIÇÃO classificada]],DadosdeLinhadoTempodoProjeto[],5,0),\"\")","v":""}]
[{"$nulls":4},{"$f":"IFERROR(RANK(F156,DadosdeLinhadoTempodoProjeto[CLASSIFICAÇÃO])+SUMPRODUCT(--(F156=DadosdeLinhadoTempodoProjeto[CLASSIFICAÇÃO]),--(J156<DadosdeLinhadoTempodoProjeto[NUM])),\"\")","v":""},{"$f":"IFERROR(RANK(DadosdeLinhadoTempodoProjeto[[#This Row],[DATA]],DadosdeLinhadoTempodoProjeto[DATA],1),\"\")","v":""},{"$f":"IFERROR(IF(ISBLANK(INDEX(DetalhesDoProjeto[#Data],Última_entrada_do_projeto-Linha_de_início_do_projeto-DadosdeLinhadoTempodoProjeto[[#This Row],[NUM]]+1,1)),\"\",INDEX(DetalhesDoProjeto[#Data],Última_entrada_do_projeto-Linha_de_início_do_projeto-DadosdeLinhadoTempodoProjeto[[#This Row],[NUM]]+1,1)),\"\")","v":""},{"$f":"IFERROR(IF(ISBLANK(INDEX(DetalhesDoProjeto[#Data],Última_entrada_do_projeto-Linha_de_início_do_projeto-DadosdeLinhadoTempodoProjeto[[#This Row],[NUM]]+1,2)),\"\",INDEX(DetalhesDoProjeto[#Data],Última_entrada_do_projeto-Linha_de_início_do_projeto-DadosdeLinhadoTempodoProjeto[[#This Row],[NUM]]+1,2)),\"\")","v":""},{"$f":"IFERROR(IF(ISBLANK(INDEX(DetalhesDoProjeto[#Data],Última_entrada_do_projeto-Linha_de_início_do_projeto-DadosdeLinhadoTempodoProjeto[[#This Row],[NUM]]+1,3)),\"\",INDEX(DetalhesDoProjeto[#Data],Última_entrada_do_projeto-Linha_de_início_do_projeto-DadosdeLinhadoTempodoProjeto[[#This Row],[NUM]]+1,3)),\"\")","v":""},{"$f":"IFERROR(IF(ISBLANK(INDEX(DetalhesDoProjeto[#Data],ROW(A151)+1,1)),\"\",IF($J155-1<=-1,\"\",$J155-1)),\"\")","v":""},null,null,{"$f":"IFERROR(DadosdeLinhadoTempodoProjeto[[#This Row],[NUM]]+1,\"\")","v":""},{"$f":"IFERROR(VLOOKUP(LinhadoTempoClassificada[[#This Row],[POSIÇÃO classificada]],DadosdeLinhadoTempodoProjeto[],3,0),\"\")","v":""},{"$f":"IFERROR(VLOOKUP(LinhadoTempoClassificada[[#This Row],[POSIÇÃO classificada]],DadosdeLinhadoTempodoProjeto[],4,0),\"\")","v":""},{"$f":"IFERROR(VLOOKUP(LinhadoTempoClassificada[[#This Row],[POSIÇÃO classificada]],DadosdeLinhadoTempodoProjeto[],5,0),\"\")","v":""}]
[{"$nulls":4},{"$f":"IFERROR(RANK(F157,DadosdeLinhadoTempodoProjeto[CLASSIFICAÇÃO])+SUMPRODUCT(--(F157=DadosdeLinhadoTempodoProjeto[CLASSIFICAÇÃO]),--(J157<DadosdeLinhadoTempodoProjeto[NUM])),\"\")","v":""},{"$f":"IFERROR(RANK(DadosdeLinhadoTempodoProjeto[[#This Row],[DATA]],DadosdeLinhadoTempodoProjeto[DATA],1),\"\")","v":""},{"$f":"IFERROR(IF(ISBLANK(INDEX(DetalhesDoProjeto[#Data],Última_entrada_do_projeto-Linha_de_início_do_projeto-DadosdeLinhadoTempodoProjeto[[#This Row],[NUM]]+1,1)),\"\",INDEX(DetalhesDoProjeto[#Data],Última_entrada_do_projeto-Linha_de_início_do_projeto-DadosdeLinhadoTempodoProjeto[[#This Row],[NUM]]+1,1)),\"\")","v":""},{"$f":"IFERROR(IF(ISBLANK(INDEX(DetalhesDoProjeto[#Data],Última_entrada_do_projeto-Linha_de_início_do_projeto-DadosdeLinhadoTempodoProjeto[[#This Row],[NUM]]+1,2)),\"\",INDEX(DetalhesDoProjeto[#Data],Última_entrada_do_projeto-Linha_de_início_do_projeto-DadosdeLinhadoTempodoProjeto[[#This Row],[NUM]]+1,2)),\"\")","v":""},{"$f":"IFERROR(IF(ISBLANK(INDEX(DetalhesDoProjeto[#Data],Última_entrada_do_projeto-Linha_de_início_do_projeto-DadosdeLinhadoTempodoProjeto[[#This Row],[NUM]]+1,3)),\"\",INDEX(DetalhesDoProjeto[#Data],Última_entrada_do_projeto-Linha_de_início_do_projeto-DadosdeLinhadoTempodoProjeto[[#This Row],[NUM]]+1,3)),\"\")","v":""},{"$f":"IFERROR(IF(ISBLANK(INDEX(DetalhesDoProjeto[#Data],ROW(A152)+1,1)),\"\",IF($J156-1<=-1,\"\",$J156-1)),\"\")","v":""},null,null,{"$f":"IFERROR(DadosdeLinhadoTempodoProjeto[[#This Row],[NUM]]+1,\"\")","v":""},{"$f":"IFERROR(VLOOKUP(LinhadoTempoClassificada[[#This Row],[POSIÇÃO classificada]],DadosdeLinhadoTempodoProjeto[],3,0),\"\")","v":""},{"$f":"IFERROR(VLOOKUP(LinhadoTempoClassificada[[#This Row],[POSIÇÃO classificada]],DadosdeLinhadoTempodoProjeto[],4,0),\"\")","v":""},{"$f":"IFERROR(VLOOKUP(LinhadoTempoClassificada[[#This Row],[POSIÇÃO classificada]],DadosdeLinhadoTempodoProjeto[],5,0),\"\")","v":""}]
[{"$nulls":4},{"$f":"IFERROR(RANK(F158,DadosdeLinhadoTempodoProjeto[CLASSIFICAÇÃO])+SUMPRODUCT(--(F158=DadosdeLinhadoTempodoProjeto[CLASSIFICAÇÃO]),--(J158<DadosdeLinhadoTempodoProjeto[NUM])),\"\")","v":""},{"$f":"IFERROR(RANK(DadosdeLinhadoTempodoProjeto[[#This Row],[DATA]],DadosdeLinhadoTempodoProjeto[DATA],1),\"\")","v":""},{"$f":"IFERROR(IF(ISBLANK(INDEX(DetalhesDoProjeto[#Data],Última_entrada_do_projeto-Linha_de_início_do_projeto-DadosdeLinhadoTempodoProjeto[[#This Row],[NUM]]+1,1)),\"\",INDEX(DetalhesDoProjeto[#Data],Última_entrada_do_projeto-Linha_de_início_do_projeto-DadosdeLinhadoTempodoProjeto[[#This Row],[NUM]]+1,1)),\"\")","v":""},{"$f":"IFERROR(IF(ISBLANK(INDEX(DetalhesDoProjeto[#Data],Última_entrada_do_projeto-Linha_de_início_do_projeto-DadosdeLinhadoTempodoProjeto[[#This Row],[NUM]]+1,2)),\"\",INDEX(DetalhesDoProjeto[#Data],Última_entrada_do_projeto-Linha_de_início_do_projeto-DadosdeLinhadoTempodoProjeto[[#This Row],[NUM]]+1,2)),\"\")","v":""},{"$f":"IFERROR(IF(ISBLANK(INDEX(DetalhesDoProjeto[#Data],Última_entrada_do_projeto-Linha_de_início_do_projeto-DadosdeLinhadoTempodoProjeto[[#This Row],[NUM]]+1,3)),\"\",INDEX(DetalhesDoProjeto[#Data],Última_entrada_do_projeto-Linha_de_início_do_projeto-DadosdeLinhadoTempodoProjeto[[#This Row],[NUM]]+1,3)),\"\")","v":""},{"$f":"IFERROR(IF(ISBLANK(INDEX(DetalhesDoProjeto[#Data],ROW(A153)+1,1)),\"\",IF($J157-1<=-1,\"\",$J157-1)),\"\")","v":""},null,null,{"$f":"IFERROR(DadosdeLinhadoTempodoProjeto[[#This Row],[NUM]]+1,\"\")","v":""},{"$f":"IFERROR(VLOOKUP(LinhadoTempoClassificada[[#This Row],[POSIÇÃO classificada]],DadosdeLinhadoTempodoProjeto[],3,0),\"\")","v":""},{"$f":"IFERROR(VLOOKUP(LinhadoTempoClassificada[[#This Row],[POSIÇÃO classificada]],DadosdeLinhadoTempodoProjeto[],4,0),\"\")","v":""},{"$f":"IFERROR(VLOOKUP(LinhadoTempoClassificada[[#This Row],[POSIÇÃO classificada]],DadosdeLinhadoTempodoProjeto[],5,0),\"\")","v":""}]
[{"$nulls":4},{"$f":"IFERROR(RANK(F159,DadosdeLinhadoTempodoProjeto[CLASSIFICAÇÃO])+SUMPRODUCT(--(F159=DadosdeLinhadoTempodoProjeto[CLASSIFICAÇÃO]),--(J159<DadosdeLinhadoTempodoProjeto[NUM])),\"\")","v":""},{"$f":"IFERROR(RANK(DadosdeLinhadoTempodoProjeto[[#This Row],[DATA]],DadosdeLinhadoTempodoProjeto[DATA],1),\"\")","v":""},{"$f":"IFERROR(IF(ISBLANK(INDEX(DetalhesDoProjeto[#Data],Última_entrada_do_projeto-Linha_de_início_do_projeto-DadosdeLinhadoTempodoProjeto[[#This Row],[NUM]]+1,1)),\"\",INDEX(DetalhesDoProjeto[#Data],Última_entrada_do_projeto-Linha_de_início_do_projeto-DadosdeLinhadoTempodoProjeto[[#This Row],[NUM]]+1,1)),\"\")","v":""},{"$f":"IFERROR(IF(ISBLANK(INDEX(DetalhesDoProjeto[#Data],Última_entrada_do_projeto-Linha_de_início_do_projeto-DadosdeLinhadoTempodoProjeto[[#This Row],[NUM]]+1,2)),\"\",INDEX(DetalhesDoProjeto[#Data],Última_entrada_do_projeto-Linha_de_início_do_projeto-DadosdeLinhadoTempodoProjeto[[#This Row],[NUM]]+1,2)),\"\")","v":""},{"$f":"IFERROR(IF(ISBLANK(INDEX(DetalhesDoProjeto[#Data],Última_entrada_do_projeto-Linha_de_início_do_projeto-DadosdeLinhadoTempodoProjeto[[#This Row],[NUM]]+1,3)),\"\",INDEX(DetalhesDoProjeto[#Data],Última_entrada_do_projeto-Linha_de_início_do_projeto-DadosdeLinhadoTempodoProjeto[[#This Row],[NUM]]+1,3)),\"\")","v":""},{"$f":"IFERROR(IF(ISBLANK(INDEX(DetalhesDoProjeto[#Data],ROW(A154)+1,1)),\"\",IF($J158-1<=-1,\"\",$J158-1)),\"\")","v":""},null,null,{"$f":"IFERROR(DadosdeLinhadoTempodoProjeto[[#This Row],[NUM]]+1,\"\")","v":""},{"$f":"IFERROR(VLOOKUP(LinhadoTempoClassificada[[#This Row],[POSIÇÃO classificada]],DadosdeLinhadoTempodoProjeto[],3,0),\"\")","v":""},{"$f":"IFERROR(VLOOKUP(LinhadoTempoClassificada[[#This Row],[POSIÇÃO classificada]],DadosdeLinhadoTempodoProjeto[],4,0),\"\")","v":""},{"$f":"IFERROR(VLOOKUP(LinhadoTempoClassificada[[#This Row],[POSIÇÃO classificada]],DadosdeLinhadoTempodoProjeto[],5,0),\"\")","v":""}]
[{"$nulls":4},{"$f":"IFERROR(RANK(F160,DadosdeLinhadoTempodoProjeto[CLASSIFICAÇÃO])+SUMPRODUCT(--(F160=DadosdeLinhadoTempodoProjeto[CLASSIFICAÇÃO]),--(J160<DadosdeLinhadoTempodoProjeto[NUM])),\"\")","v":""},{"$f":"IFERROR(RANK(DadosdeLinhadoTempodoProjeto[[#This Row],[DATA]],DadosdeLinhadoTempodoProjeto[DATA],1),\"\")","v":""},{"$f":"IFERROR(IF(ISBLANK(INDEX(DetalhesDoProjeto[#Data],Última_entrada_do_projeto-Linha_de_início_do_projeto-DadosdeLinhadoTempodoProjeto[[#This Row],[NUM]]+1,1)),\"\",INDEX(DetalhesDoProjeto[#Data],Última_entrada_do_projeto-Linha_de_início_do_projeto-DadosdeLinhadoTempodoProjeto[[#This Row],[NUM]]+1,1)),\"\")","v":""},{"$f":"IFERROR(IF(ISBLANK(INDEX(DetalhesDoProjeto[#Data],Última_entrada_do_projeto-Linha_de_início_do_projeto-DadosdeLinhadoTempodoProjeto[[#This Row],[NUM]]+1,2)),\"\",INDEX(DetalhesDoProjeto[#Data],Última_entrada_do_projeto-Linha_de_início_do_projeto-DadosdeLinhadoTempodoProjeto[[#This Row],[NUM]]+1,2)),\"\")","v":""},{"$f":"IFERROR(IF(ISBLANK(INDEX(DetalhesDoProjeto[#Data],Última_entrada_do_projeto-Linha_de_início_do_projeto-DadosdeLinhadoTempodoProjeto[[#This Row],[NUM]]+1,3)),\"\",INDEX(DetalhesDoProjeto[#Data],Última_entrada_do_projeto-Linha_de_início_do_projeto-DadosdeLinhadoTempodoProjeto[[#This Row],[NUM]]+1,3)),\"\")","v":""},{"$f":"IFERROR(IF(ISBLANK(INDEX(DetalhesDoProjeto[#Data],ROW(A155)+1,1)),\"\",IF($J159-1<=-1,\"\",$J159-1)),\"\")","v":""},null,null,{"$f":"IFERROR(DadosdeLinhadoTempodoProjeto[[#This Row],[NUM]]+1,\"\")","v":""},{"$f":"IFERROR(VLOOKUP(LinhadoTempoClassificada[[#This Row],[POSIÇÃO classificada]],DadosdeLinhadoTempodoProjeto[],3,0),\"\")","v":""},{"$f":"IFERROR(VLOOKUP(LinhadoTempoClassificada[[#This Row],[POSIÇÃO classificada]],DadosdeLinhadoTempodoProjeto[],4,0),\"\")","v":""},{"$f":"IFERROR(VLOOKUP(LinhadoTempoClassificada[[#This Row],[POSIÇÃO classificada]],DadosdeLinhadoTempodoProjeto[],5,0),\"\")","v":""}]
[{"$nulls":4},{"$f":"IFERROR(RANK(F161,DadosdeLinhadoTempodoProjeto[CLASSIFICAÇÃO])+SUMPRODUCT(--(F161=DadosdeLinhadoTempodoProjeto[CLASSIFICAÇÃO]),--(J161<DadosdeLinhadoTempodoProjeto[NUM])),\"\")","v":""},{"$f":"IFERROR(RANK(DadosdeLinhadoTempodoProjeto[[#This Row],[DATA]],DadosdeLinhadoTempodoProjeto[DATA],1),\"\")","v":""},{"$f":"IFERROR(IF(ISBLANK(INDEX(DetalhesDoProjeto[#Data],Última_entrada_do_projeto-Linha_de_início_do_projeto-DadosdeLinhadoTempodoProjeto[[#This Row],[NUM]]+1,1)),\"\",INDEX(DetalhesDoProjeto[#Data],Última_entrada_do_projeto-Linha_de_início_do_projeto-DadosdeLinhadoTempodoProjeto[[#This Row],[NUM]]+1,1)),\"\")","v":""},{"$f":"IFERROR(IF(ISBLANK(INDEX(DetalhesDoProjeto[#Data],Última_entrada_do_projeto-Linha_de_início_do_projeto-DadosdeLinhadoTempodoProjeto[[#This Row],[NUM]]+1,2)),\"\",INDEX(DetalhesDoProjeto[#Data],Última_entrada_do_projeto-Linha_de_início_do_projeto-DadosdeLinhadoTempodoProjeto[[#This Row],[NUM]]+1,2)),\"\")","v":""},{"$f":"IFERROR(IF(ISBLANK(INDEX(DetalhesDoProjeto[#Data],Última_entrada_do_projeto-Linha_de_início_do_projeto-DadosdeLinhadoTempodoProjeto[[#This Row],[NUM]]+1,3)),\"\",INDEX(DetalhesDoProjeto[#Data],Última_entrada_do_projeto-Linha_de_início_do_projeto-DadosdeLinhadoTempodoProjeto[[#This Row],[NUM]]+1,3)),\"\")","v":""},{"$f":"IFERROR(IF(ISBLANK(INDEX(DetalhesDoProjeto[#Data],ROW(A156)+1,1)),\"\",IF($J160-1<=-1,\"\",$J160-1)),\"\")","v":""},null,null,{"$f":"IFERROR(DadosdeLinhadoTempodoProjeto[[#This Row],[NUM]]+1,\"\")","v":""},{"$f":"IFERROR(VLOOKUP(LinhadoTempoClassificada[[#This Row],[POSIÇÃO classificada]],DadosdeLinhadoTempodoProjeto[],3,0),\"\")","v":""},{"$f":"IFERROR(VLOOKUP(LinhadoTempoClassificada[[#This Row],[POSIÇÃO classificada]],DadosdeLinhadoTempodoProjeto[],4,0),\"\")","v":""},{"$f":"IFERROR(VLOOKUP(LinhadoTempoClassificada[[#This Row],[POSIÇÃO classificada]],DadosdeLinhadoTempodoProjeto[],5,0),\"\")","v":""}]
[{"$nulls":4},{"$f":"IFERROR(RANK(F162,DadosdeLinhadoTempodoProjeto[CLASSIFICAÇÃO])+SUMPRODUCT(--(F162=DadosdeLinhadoTempodoProjeto[CLASSIFICAÇÃO]),--(J162<DadosdeLinhadoTempodoProjeto[NUM])),\"\")","v":""},{"$f":"IFERROR(RANK(DadosdeLinhadoTempodoProjeto[[#This Row],[DATA]],DadosdeLinhadoTempodoProjeto[DATA],1),\"\")","v":""},{"$f":"IFERROR(IF(ISBLANK(INDEX(DetalhesDoProjeto[#Data],Última_entrada_do_projeto-Linha_de_início_do_projeto-DadosdeLinhadoTempodoProjeto[[#This Row],[NUM]]+1,1)),\"\",INDEX(DetalhesDoProjeto[#Data],Última_entrada_do_projeto-Linha_de_início_do_projeto-DadosdeLinhadoTempodoProjeto[[#This Row],[NUM]]+1,1)),\"\")","v":""},{"$f":"IFERROR(IF(ISBLANK(INDEX(DetalhesDoProjeto[#Data],Última_entrada_do_projeto-Linha_de_início_do_projeto-DadosdeLinhadoTempodoProjeto[[#This Row],[NUM]]+1,2)),\"\",INDEX(DetalhesDoProjeto[#Data],Última_entrada_do_projeto-Linha_de_início_do_projeto-DadosdeLinhadoTempodoProjeto[[#This Row],[NUM]]+1,2)),\"\")","v":""},{"$f":"IFERROR(IF(ISBLANK(INDEX(DetalhesDoProjeto[#Data],Última_entrada_do_projeto-Linha_de_início_do_projeto-DadosdeLinhadoTempodoProjeto[[#This Row],[NUM]]+1,3)),\"\",INDEX(DetalhesDoProjeto[#Data],Última_entrada_do_projeto-Linha_de_início_do_projeto-DadosdeLinhadoTempodoProjeto[[#This Row],[NUM]]+1,3)),\"\")","v":""},{"$f":"IFERROR(IF(ISBLANK(INDEX(DetalhesDoProjeto[#Data],ROW(A157)+1,1)),\"\",IF($J161-1<=-1,\"\",$J161-1)),\"\")","v":""},null,null,{"$f":"IFERROR(DadosdeLinhadoTempodoProjeto[[#This Row],[NUM]]+1,\"\")","v":""},{"$f":"IFERROR(VLOOKUP(LinhadoTempoClassificada[[#This Row],[POSIÇÃO classificada]],DadosdeLinhadoTempodoProjeto[],3,0),\"\")","v":""},{"$f":"IFERROR(VLOOKUP(LinhadoTempoClassificada[[#This Row],[POSIÇÃO classificada]],DadosdeLinhadoTempodoProjeto[],4,0),\"\")","v":""},{"$f":"IFERROR(VLOOKUP(LinhadoTempoClassificada[[#This Row],[POSIÇÃO classificada]],DadosdeLinhadoTempodoProjeto[],5,0),\"\")","v":""}]
[{"$nulls":4},{"$f":"IFERROR(RANK(F163,DadosdeLinhadoTempodoProjeto[CLASSIFICAÇÃO])+SUMPRODUCT(--(F163=DadosdeLinhadoTempodoProjeto[CLASSIFICAÇÃO]),--(J163<DadosdeLinhadoTempodoProjeto[NUM])),\"\")","v":""},{"$f":"IFERROR(RANK(DadosdeLinhadoTempodoProjeto[[#This Row],[DATA]],DadosdeLinhadoTempodoProjeto[DATA],1),\"\")","v":""},{"$f":"IFERROR(IF(ISBLANK(INDEX(DetalhesDoProjeto[#Data],Última_entrada_do_projeto-Linha_de_início_do_projeto-DadosdeLinhadoTempodoProjeto[[#This Row],[NUM]]+1,1)),\"\",INDEX(DetalhesDoProjeto[#Data],Última_entrada_do_projeto-Linha_de_início_do_projeto-DadosdeLinhadoTempodoProjeto[[#This Row],[NUM]]+1,1)),\"\")","v":""},{"$f":"IFERROR(IF(ISBLANK(INDEX(DetalhesDoProjeto[#Data],Última_entrada_do_projeto-Linha_de_início_do_projeto-DadosdeLinhadoTempodoProjeto[[#This Row],[NUM]]+1,2)),\"\",INDEX(DetalhesDoProjeto[#Data],Última_entrada_do_projeto-Linha_de_início_do_projeto-DadosdeLinhadoTempodoProjeto[[#This Row],[NUM]]+1,2)),\"\")","v":""},{"$f":"IFERROR(IF(ISBLANK(INDEX(DetalhesDoProjeto[#Data],Última_entrada_do_projeto-Linha_de_início_do_projeto-DadosdeLinhadoTempodoProjeto[[#This Row],[NUM]]+1,3)),\"\",INDEX(DetalhesDoProjeto[#Data],Última_entrada_do_projeto-Linha_de_início_do_projeto-DadosdeLinhadoTempodoProjeto[[#This Row],[NUM]]+1,3)),\"\")","v":""},{"$f":"IFERROR(IF(ISBLANK(INDEX(DetalhesDoProjeto[#Data],ROW(A158)+1,1)),\"\",IF($J162-1<=-1,\"\",$J162-1)),\"\")","v":""},null,null,{"$f":"IFERROR(DadosdeLinhadoTempodoProjeto[[#This Row],[NUM]]+1,\"\")","v":""},{"$f":"IFERROR(VLOOKUP(LinhadoTempoClassificada[[#This Row],[POSIÇÃO classificada]],DadosdeLinhadoTempodoProjeto[],3,0),\"\")","v":""},{"$f":"IFERROR(VLOOKUP(LinhadoTempoClassificada[[#This Row],[POSIÇÃO classificada]],DadosdeLinhadoTempodoProjeto[],4,0),\"\")","v":""},{"$f":"IFERROR(VLOOKUP(LinhadoTempoClassificada[[#This Row],[POSIÇÃO classificada]],DadosdeLinhadoTempodoProjeto[],5,0),\"\")","v":""}]
[{"$nulls":4},{"$f":"IFERROR(RANK(F164,DadosdeLinhadoTempodoProjeto[CLASSIFICAÇÃO])+SUMPRODUCT(--(F164=DadosdeLinhadoTempodoProjeto[CLASSIFICAÇÃO]),--(J164<DadosdeLinhadoTempodoProjeto[NUM])),\"\")","v":""},{"$f":"IFERROR(RANK(DadosdeLinhadoTempodoProjeto[[#This Row],[DATA]],DadosdeLinhadoTempodoProjeto[DATA],1),\"\")","v":""},{"$f":"IFERROR(IF(ISBLANK(INDEX(DetalhesDoProjeto[#Data],Última_entrada_do_projeto-Linha_de_início_do_projeto-DadosdeLinhadoTempodoProjeto[[#This Row],[NUM]]+1,1)),\"\",INDEX(DetalhesDoProjeto[#Data],Última_entrada_do_projeto-Linha_de_início_do_projeto-DadosdeLinhadoTempodoProjeto[[#This Row],[NUM]]+1,1)),\"\")","v":""},{"$f":"IFERROR(IF(ISBLANK(INDEX(DetalhesDoProjeto[#Data],Última_entrada_do_projeto-Linha_de_início_do_projeto-DadosdeLinhadoTempodoProjeto[[#This Row],[NUM]]+1,2)),\"\",INDEX(DetalhesDoProjeto[#Data],Última_entrada_do_projeto-Linha_de_início_do_projeto-DadosdeLinhadoTempodoProjeto[[#This Row],[NUM]]+1,2)),\"\")","v":""},{"$f":"IFERROR(IF(ISBLANK(INDEX(DetalhesDoProjeto[#Data],Última_entrada_do_projeto-Linha_de_início_do_projeto-DadosdeLinhadoTempodoProjeto[[#This Row],[NUM]]+1,3)),\"\",INDEX(DetalhesDoProjeto[#Data],Última_entrada_do_projeto-Linha_de_início_do_projeto-DadosdeLinhadoTempodoProjeto[[#This Row],[NUM]]+1,3)),\"\")","v":""},{"$f":"IFERROR(IF(ISBLANK(INDEX(DetalhesDoProjeto[#Data],ROW(A159)+1,1)),\"\",IF($J163-1<=-1,\"\",$J163-1)),\"\")","v":""},null,null,{"$f":"IFERROR(DadosdeLinhadoTempodoProjeto[[#This Row],[NUM]]+1,\"\")","v":""},{"$f":"IFERROR(VLOOKUP(LinhadoTempoClassificada[[#This Row],[POSIÇÃO classificada]],DadosdeLinhadoTempodoProjeto[],3,0),\"\")","v":""},{"$f":"IFERROR(VLOOKUP(LinhadoTempoClassificada[[#This Row],[POSIÇÃO classificada]],DadosdeLinhadoTempodoProjeto[],4,0),\"\")","v":""},{"$f":"IFERROR(VLOOKUP(LinhadoTempoClassificada[[#This Row],[POSIÇÃO classificada]],DadosdeLinhadoTempodoProjeto[],5,0),\"\")","v":""}]
[{"$nulls":4},{"$f":"IFERROR(RANK(F165,DadosdeLinhadoTempodoProjeto[CLASSIFICAÇÃO])+SUMPRODUCT(--(F165=DadosdeLinhadoTempodoProjeto[CLASSIFICAÇÃO]),--(J165<DadosdeLinhadoTempodoProjeto[NUM])),\"\")","v":""},{"$f":"IFERROR(RANK(DadosdeLinhadoTempodoProjeto[[#This Row],[DATA]],DadosdeLinhadoTempodoProjeto[DATA],1),\"\")","v":""},{"$f":"IFERROR(IF(ISBLANK(INDEX(DetalhesDoProjeto[#Data],Última_entrada_do_projeto-Linha_de_início_do_projeto-DadosdeLinhadoTempodoProjeto[[#This Row],[NUM]]+1,1)),\"\",INDEX(DetalhesDoProjeto[#Data],Última_entrada_do_projeto-Linha_de_início_do_projeto-DadosdeLinhadoTempodoProjeto[[#This Row],[NUM]]+1,1)),\"\")","v":""},{"$f":"IFERROR(IF(ISBLANK(INDEX(DetalhesDoProjeto[#Data],Última_entrada_do_projeto-Linha_de_início_do_projeto-DadosdeLinhadoTempodoProjeto[[#This Row],[NUM]]+1,2)),\"\",INDEX(DetalhesDoProjeto[#Data],Última_entrada_do_projeto-Linha_de_início_do_projeto-DadosdeLinhadoTempodoProjeto[[#This Row],[NUM]]+1,2)),\"\")","v":""},{"$f":"IFERROR(IF(ISBLANK(INDEX(DetalhesDoProjeto[#Data],Última_entrada_do_projeto-Linha_de_início_do_projeto-DadosdeLinhadoTempodoProjeto[[#This Row],[NUM]]+1,3)),\"\",INDEX(DetalhesDoProjeto[#Data],Última_entrada_do_projeto-Linha_de_início_do_projeto-DadosdeLinhadoTempodoProjeto[[#This Row],[NUM]]+1,3)),\"\")","v":""},{"$f":"IFERROR(IF(ISBLANK(INDEX(DetalhesDoProjeto[#Data],ROW(A160)+1,1)),\"\",IF($J164-1<=-1,\"\",$J164-1)),\"\")","v":""},null,null,{"$f":"IFERROR(DadosdeLinhadoTempodoProjeto[[#This Row],[NUM]]+1,\"\")","v":""},{"$f":"IFERROR(VLOOKUP(LinhadoTempoClassificada[[#This Row],[POSIÇÃO classificada]],DadosdeLinhadoTempodoProjeto[],3,0),\"\")","v":""},{"$f":"IFERROR(VLOOKUP(LinhadoTempoClassificada[[#This Row],[POSIÇÃO classificada]],DadosdeLinhadoTempodoProjeto[],4,0),\"\")","v":""},{"$f":"IFERROR(VLOOKUP(LinhadoTempoClassificada[[#This Row],[POSIÇÃO classificada]],DadosdeLinhadoTempodoProjeto[],5,0),\"\")","v":""}]
[{"$nulls":4},{"$f":"IFERROR(RANK(F166,DadosdeLinhadoTempodoProjeto[CLASSIFICAÇÃO])+SUMPRODUCT(--(F166=DadosdeLinhadoTempodoProjeto[CLASSIFICAÇÃO]),--(J166<DadosdeLinhadoTempodoProjeto[NUM])),\"\")","v":""},{"$f":"IFERROR(RANK(DadosdeLinhadoTempodoProjeto[[#This Row],[DATA]],DadosdeLinhadoTempodoProjeto[DATA],1),\"\")","v":""},{"$f":"IFERROR(IF(ISBLANK(INDEX(DetalhesDoProjeto[#Data],Última_entrada_do_projeto-Linha_de_início_do_projeto-DadosdeLinhadoTempodoProjeto[[#This Row],[NUM]]+1,1)),\"\",INDEX(DetalhesDoProjeto[#Data],Última_entrada_do_projeto-Linha_de_início_do_projeto-DadosdeLinhadoTempodoProjeto[[#This Row],[NUM]]+1,1)),\"\")","v":""},{"$f":"IFERROR(IF(ISBLANK(INDEX(DetalhesDoProjeto[#Data],Última_entrada_do_projeto-Linha_de_início_do_projeto-DadosdeLinhadoTempodoProjeto[[#This Row],[NUM]]+1,2)),\"\",INDEX(DetalhesDoProjeto[#Data],Última_entrada_do_projeto-Linha_de_início_do_projeto-DadosdeLinhadoTempodoProjeto[[#This Row],[NUM]]+1,2)),\"\")","v":""},{"$f":"IFERROR(IF(ISBLANK(INDEX(DetalhesDoProjeto[#Data],Última_entrada_do_projeto-Linha_de_início_do_projeto-DadosdeLinhadoTempodoProjeto[[#This Row],[NUM]]+1,3)),\"\",INDEX(DetalhesDoProjeto[#Data],Última_entrada_do_projeto-Linha_de_início_do_projeto-DadosdeLinhadoTempodoProjeto[[#This Row],[NUM]]+1,3)),\"\")","v":""},{"$f":"IFERROR(IF(ISBLANK(INDEX(DetalhesDoProjeto[#Data],ROW(A161)+1,1)),\"\",IF($J165-1<=-1,\"\",$J165-1)),\"\")","v":""},null,null,{"$f":"IFERROR(DadosdeLinhadoTempodoProjeto[[#This Row],[NUM]]+1,\"\")","v":""},{"$f":"IFERROR(VLOOKUP(LinhadoTempoClassificada[[#This Row],[POSIÇÃO classificada]],DadosdeLinhadoTempodoProjeto[],3,0),\"\")","v":""},{"$f":"IFERROR(VLOOKUP(LinhadoTempoClassificada[[#This Row],[POSIÇÃO classificada]],DadosdeLinhadoTempodoProjeto[],4,0),\"\")","v":""},{"$f":"IFERROR(VLOOKUP(LinhadoTempoClassificada[[#This Row],[POSIÇÃO classificada]],DadosdeLinhadoTempodoProjeto[],5,0),\"\")","v":""}]
[{"$nulls":4},{"$f":"IFERROR(RANK(F167,DadosdeLinhadoTempodoProjeto[CLASSIFICAÇÃO])+SUMPRODUCT(--(F167=DadosdeLinhadoTempodoProjeto[CLASSIFICAÇÃO]),--(J167<DadosdeLinhadoTempodoProjeto[NUM])),\"\")","v":""},{"$f":"IFERROR(RANK(DadosdeLinhadoTempodoProjeto[[#This Row],[DATA]],DadosdeLinhadoTempodoProjeto[DATA],1),\"\")","v":""},{"$f":"IFERROR(IF(ISBLANK(INDEX(DetalhesDoProjeto[#Data],Última_entrada_do_projeto-Linha_de_início_do_projeto-DadosdeLinhadoTempodoProjeto[[#This Row],[NUM]]+1,1)),\"\",INDEX(DetalhesDoProjeto[#Data],Última_entrada_do_projeto-Linha_de_início_do_projeto-DadosdeLinhadoTempodoProjeto[[#This Row],[NUM]]+1,1)),\"\")","v":""},{"$f":"IFERROR(IF(ISBLANK(INDEX(DetalhesDoProjeto[#Data],Última_entrada_do_projeto-Linha_de_início_do_projeto-DadosdeLinhadoTempodoProjeto[[#This Row],[NUM]]+1,2)),\"\",INDEX(DetalhesDoProjeto[#Data],Última_entrada_do_projeto-Linha_de_início_do_projeto-DadosdeLinhadoTempodoProjeto[[#This Row],[NUM]]+1,2)),\"\")","v":""},{"$f":"IFERROR(IF(ISBLANK(INDEX(DetalhesDoProjeto[#Data],Última_entrada_do_projeto-Linha_de_início_do_projeto-DadosdeLinhadoTempodoProjeto[[#This Row],[NUM]]+1,3)),\"\",INDEX(DetalhesDoProjeto[#Data],Última_entrada_do_projeto-Linha_de_início_do_projeto-DadosdeLinhadoTempodoProjeto[[#This Row],[NUM]]+1,3)),\"\")","v":""},{"$f":"IFERROR(IF(ISBLANK(INDEX(DetalhesDoProjeto[#Data],ROW(A162)+1,1)),\"\",IF($J166-1<=-1,\"\",$J166-1)),\"\")","v":""},null,null,{"$f":"IFERROR(DadosdeLinhadoTempodoProjeto[[#This Row],[NUM]]+1,\"\")","v":""},{"$f":"IFERROR(VLOOKUP(LinhadoTempoClassificada[[#This Row],[POSIÇÃO classificada]],DadosdeLinhadoTempodoProjeto[],3,0),\"\")","v":""},{"$f":"IFERROR(VLOOKUP(LinhadoTempoClassificada[[#This Row],[POSIÇÃO classificada]],DadosdeLinhadoTempodoProjeto[],4,0),\"\")","v":""},{"$f":"IFERROR(VLOOKUP(LinhadoTempoClassificada[[#This Row],[POSIÇÃO classificada]],DadosdeLinhadoTempodoProjeto[],5,0),\"\")","v":""}]
[{"$nulls":4},{"$f":"IFERROR(RANK(F168,DadosdeLinhadoTempodoProjeto[CLASSIFICAÇÃO])+SUMPRODUCT(--(F168=DadosdeLinhadoTempodoProjeto[CLASSIFICAÇÃO]),--(J168<DadosdeLinhadoTempodoProjeto[NUM])),\"\")","v":""},{"$f":"IFERROR(RANK(DadosdeLinhadoTempodoProjeto[[#This Row],[DATA]],DadosdeLinhadoTempodoProjeto[DATA],1),\"\")","v":""},{"$f":"IFERROR(IF(ISBLANK(INDEX(DetalhesDoProjeto[#Data],Última_entrada_do_projeto-Linha_de_início_do_projeto-DadosdeLinhadoTempodoProjeto[[#This Row],[NUM]]+1,1)),\"\",INDEX(DetalhesDoProjeto[#Data],Última_entrada_do_projeto-Linha_de_início_do_projeto-DadosdeLinhadoTempodoProjeto[[#This Row],[NUM]]+1,1)),\"\")","v":""},{"$f":"IFERROR(IF(ISBLANK(INDEX(DetalhesDoProjeto[#Data],Última_entrada_do_projeto-Linha_de_início_do_projeto-DadosdeLinhadoTempodoProjeto[[#This Row],[NUM]]+1,2)),\"\",INDEX(DetalhesDoProjeto[#Data],Última_entrada_do_projeto-Linha_de_início_do_projeto-DadosdeLinhadoTempodoProjeto[[#This Row],[NUM]]+1,2)),\"\")","v":""},{"$f":"IFERROR(IF(ISBLANK(INDEX(DetalhesDoProjeto[#Data],Última_entrada_do_projeto-Linha_de_início_do_projeto-DadosdeLinhadoTempodoProjeto[[#This Row],[NUM]]+1,3)),\"\",INDEX(DetalhesDoProjeto[#Data],Última_entrada_do_projeto-Linha_de_início_do_projeto-DadosdeLinhadoTempodoProjeto[[#This Row],[NUM]]+1,3)),\"\")","v":""},{"$f":"IFERROR(IF(ISBLANK(INDEX(DetalhesDoProjeto[#Data],ROW(A163)+1,1)),\"\",IF($J167-1<=-1,\"\",$J167-1)),\"\")","v":""},null,null,{"$f":"IFERROR(DadosdeLinhadoTempodoProjeto[[#This Row],[NUM]]+1,\"\")","v":""},{"$f":"IFERROR(VLOOKUP(LinhadoTempoClassificada[[#This Row],[POSIÇÃO classificada]],DadosdeLinhadoTempodoProjeto[],3,0),\"\")","v":""},{"$f":"IFERROR(VLOOKUP(LinhadoTempoClassificada[[#This Row],[POSIÇÃO classificada]],DadosdeLinhadoTempodoProjeto[],4,0),\"\")","v":""},{"$f":"IFERROR(VLOOKUP(LinhadoTempoClassificada[[#This Row],[POSIÇÃO classificada]],DadosdeLinhadoTempodoProjeto[],5,0),\"\")","v":""}]
[{"$nulls":4},{"$f":"IFERROR(RANK(F169,DadosdeLinhadoTempodoProjeto[CLASSIFICAÇÃO])+SUMPRODUCT(--(F169=DadosdeLinhadoTempodoProjeto[CLASSIFICAÇÃO]),--(J169<DadosdeLinhadoTempodoProjeto[NUM])),\"\")","v":""},{"$f":"IFERROR(RANK(DadosdeLinhadoTempodoProjeto[[#This Row],[DATA]],DadosdeLinhadoTempodoProjeto[DATA],1),\"\")","v":""},{"$f":"IFERROR(IF(ISBLANK(INDEX(DetalhesDoProjeto[#Data],Última_entrada_do_projeto-Linha_de_início_do_projeto-DadosdeLinhadoTempodoProjeto[[#This Row],[NUM]]+1,1)),\"\",INDEX(DetalhesDoProjeto[#Data],Última_entrada_do_projeto-Linha_de_início_do_projeto-DadosdeLinhadoTempodoProjeto[[#This Row],[NUM]]+1,1)),\"\")","v":""},{"$f":"IFERROR(IF(ISBLANK(INDEX(DetalhesDoProjeto[#Data],Última_entrada_do_projeto-Linha_de_início_do_projeto-DadosdeLinhadoTempodoProjeto[[#This Row],[NUM]]+1,2)),\"\",INDEX(DetalhesDoProjeto[#Data],Última_entrada_do_projeto-Linha_de_início_do_projeto-DadosdeLinhadoTempodoProjeto[[#This Row],[NUM]]+1,2)),\"\")","v":""},{"$f":"IFERROR(IF(ISBLANK(INDEX(DetalhesDoProjeto[#Data],Última_entrada_do_projeto-Linha_de_início_do_projeto-DadosdeLinhadoTempodoProjeto[[#This Row],[NUM]]+1,3)),\"\",INDEX(DetalhesDoProjeto[#Data],Última_entrada_do_projeto-Linha_de_início_do_projeto-DadosdeLinhadoTempodoProjeto[[#This Row],[NUM]]+1,3)),\"\")","v":""},{"$f":"IFERROR(IF(ISBLANK(INDEX(DetalhesDoProjeto[#Data],ROW(A164)+1,1)),\"\",IF($J168-1<=-1,\"\",$J168-1)),\"\")","v":""},null,null,{"$f":"IFERROR(DadosdeLinhadoTempodoProjeto[[#This Row],[NUM]]+1,\"\")","v":""},{"$f":"IFERROR(VLOOKUP(LinhadoTempoClassificada[[#This Row],[POSIÇÃO classificada]],DadosdeLinhadoTempodoProjeto[],3,0),\"\")","v":""},{"$f":"IFERROR(VLOOKUP(LinhadoTempoClassificada[[#This Row],[POSIÇÃO classificada]],DadosdeLinhadoTempodoProjeto[],4,0),\"\")","v":""},{"$f":"IFERROR(VLOOKUP(LinhadoTempoClassificada[[#This Row],[POSIÇÃO classificada]],DadosdeLinhadoTempodoProjeto[],5,0),\"\")","v":""}]
[{"$nulls":4},{"$f":"IFERROR(RANK(F170,DadosdeLinhadoTempodoProjeto[CLASSIFICAÇÃO])+SUMPRODUCT(--(F170=DadosdeLinhadoTempodoProjeto[CLASSIFICAÇÃO]),--(J170<DadosdeLinhadoTempodoProjeto[NUM])),\"\")","v":""},{"$f":"IFERROR(RANK(DadosdeLinhadoTempodoProjeto[[#This Row],[DATA]],DadosdeLinhadoTempodoProjeto[DATA],1),\"\")","v":""},{"$f":"IFERROR(IF(ISBLANK(INDEX(DetalhesDoProjeto[#Data],Última_entrada_do_projeto-Linha_de_início_do_projeto-DadosdeLinhadoTempodoProjeto[[#This Row],[NUM]]+1,1)),\"\",INDEX(DetalhesDoProjeto[#Data],Última_entrada_do_projeto-Linha_de_início_do_projeto-DadosdeLinhadoTempodoProjeto[[#This Row],[NUM]]+1,1)),\"\")","v":""},{"$f":"IFERROR(IF(ISBLANK(INDEX(DetalhesDoProjeto[#Data],Última_entrada_do_projeto-Linha_de_início_do_projeto-DadosdeLinhadoTempodoProjeto[[#This Row],[NUM]]+1,2)),\"\",INDEX(DetalhesDoProjeto[#Data],Última_entrada_do_projeto-Linha_de_início_do_projeto-DadosdeLinhadoTempodoProjeto[[#This Row],[NUM]]+1,2)),\"\")","v":""},{"$f":"IFERROR(IF(ISBLANK(INDEX(DetalhesDoProjeto[#Data],Última_entrada_do_projeto-Linha_de_início_do_projeto-DadosdeLinhadoTempodoProjeto[[#This Row],[NUM]]+1,3)),\"\",INDEX(DetalhesDoProjeto[#Data],Última_entrada_do_projeto-Linha_de_início_do_projeto-DadosdeLinhadoTempodoProjeto[[#This Row],[NUM]]+1,3)),\"\")","v":""},{"$f":"IFERROR(IF(ISBLANK(INDEX(DetalhesDoProjeto[#Data],ROW(A165)+1,1)),\"\",IF($J169-1<=-1,\"\",$J169-1)),\"\")","v":""},null,null,{"$f":"IFERROR(DadosdeLinhadoTempodoProjeto[[#This Row],[NUM]]+1,\"\")","v":""},{"$f":"IFERROR(VLOOKUP(LinhadoTempoClassificada[[#This Row],[POSIÇÃO classificada]],DadosdeLinhadoTempodoProjeto[],3,0),\"\")","v":""},{"$f":"IFERROR(VLOOKUP(LinhadoTempoClassificada[[#This Row],[POSIÇÃO classificada]],DadosdeLinhadoTempodoProjeto[],4,0),\"\")","v":""},{"$f":"IFERROR(VLOOKUP(LinhadoTempoClassificada[[#This Row],[POSIÇÃO classificada]],DadosdeLinhadoTempodoProjeto[],5,0),\"\")","v":""}]
[{"$nulls":4},{"$f":"IFERROR(RANK(F171,DadosdeLinhadoTempodoProjeto[CLASSIFICAÇÃO])+SUMPRODUCT(--(F171=DadosdeLinhadoTempodoProjeto[CLASSIFICAÇÃO]),--(J171<DadosdeLinhadoTempodoProjeto[NUM])),\"\")","v":""},{"$f":"IFERROR(RANK(DadosdeLinhadoTempodoProjeto[[#This Row],[DATA]],DadosdeLinhadoTempodoProjeto[DATA],1),\"\")","v":""},{"$f":"IFERROR(IF(ISBLANK(INDEX(DetalhesDoProjeto[#Data],Última_entrada_do_projeto-Linha_de_início_do_projeto-DadosdeLinhadoTempodoProjeto[[#This Row],[NUM]]+1,1)),\"\",INDEX(DetalhesDoProjeto[#Data],Última_entrada_do_projeto-Linha_de_início_do_projeto-DadosdeLinhadoTempodoProjeto[[#This Row],[NUM]]+1,1)),\"\")","v":""},{"$f":"IFERROR(IF(ISBLANK(INDEX(DetalhesDoProjeto[#Data],Última_entrada_do_projeto-Linha_de_início_do_projeto-DadosdeLinhadoTempodoProjeto[[#This Row],[NUM]]+1,2)),\"\",INDEX(DetalhesDoProjeto[#Data],Última_entrada_do_projeto-Linha_de_início_do_projeto-DadosdeLinhadoTempodoProjeto[[#This Row],[NUM]]+1,2)),\"\")","v":""},{"$f":"IFERROR(IF(ISBLANK(INDEX(DetalhesDoProjeto[#Data],Última_entrada_do_projeto-Linha_de_início_do_projeto-DadosdeLinhadoTempodoProjeto[[#This Row],[NUM]]+1,3)),\"\",INDEX(DetalhesDoProjeto[#Data],Última_entrada_do_projeto-Linha_de_início_do_projeto-DadosdeLinhadoTempodoProjeto[[#This Row],[NUM]]+1,3)),\"\")","v":""},{"$f":"IFERROR(IF(ISBLANK(INDEX(DetalhesDoProjeto[#Data],ROW(A166)+1,1)),\"\",IF($J170-1<=-1,\"\",$J170-1)),\"\")","v":""},null,null,{"$f":"IFERROR(DadosdeLinhadoTempodoProjeto[[#This Row],[NUM]]+1,\"\")","v":""},{"$f":"IFERROR(VLOOKUP(LinhadoTempoClassificada[[#This Row],[POSIÇÃO classificada]],DadosdeLinhadoTempodoProjeto[],3,0),\"\")","v":""},{"$f":"IFERROR(VLOOKUP(LinhadoTempoClassificada[[#This Row],[POSIÇÃO classificada]],DadosdeLinhadoTempodoProjeto[],4,0),\"\")","v":""},{"$f":"IFERROR(VLOOKUP(LinhadoTempoClassificada[[#This Row],[POSIÇÃO classificada]],DadosdeLinhadoTempodoProjeto[],5,0),\"\")","v":""}]
[{"$nulls":4},{"$f":"IFERROR(RANK(F172,DadosdeLinhadoTempodoProjeto[CLASSIFICAÇÃO])+SUMPRODUCT(--(F172=DadosdeLinhadoTempodoProjeto[CLASSIFICAÇÃO]),--(J172<DadosdeLinhadoTempodoProjeto[NUM])),\"\")","v":""},{"$f":"IFERROR(RANK(DadosdeLinhadoTempodoProjeto[[#This Row],[DATA]],DadosdeLinhadoTempodoProjeto[DATA],1),\"\")","v":""},{"$f":"IFERROR(IF(ISBLANK(INDEX(DetalhesDoProjeto[#Data],Última_entrada_do_projeto-Linha_de_início_do_projeto-DadosdeLinhadoTempodoProjeto[[#This Row],[NUM]]+1,1)),\"\",INDEX(DetalhesDoProjeto[#Data],Última_entrada_do_projeto-Linha_de_início_do_projeto-DadosdeLinhadoTempodoProjeto[[#This Row],[NUM]]+1,1)),\"\")","v":""},{"$f":"IFERROR(IF(ISBLANK(INDEX(DetalhesDoProjeto[#Data],Última_entrada_do_projeto-Linha_de_início_do_projeto-DadosdeLinhadoTempodoProjeto[[#This Row],[NUM]]+1,2)),\"\",INDEX(DetalhesDoProjeto[#Data],Última_entrada_do_projeto-Linha_de_início_do_projeto-DadosdeLinhadoTempodoProjeto[[#This Row],[NUM]]+1,2)),\"\")","v":""},{"$f":"IFERROR(IF(ISBLANK(INDEX(DetalhesDoProjeto[#Data],Última_entrada_do_projeto-Linha_de_início_do_projeto-DadosdeLinhadoTempodoProjeto[[#This Row],[NUM]]+1,3)),\"\",INDEX(DetalhesDoProjeto[#Data],Última_entrada_do_projeto-Linha_de_início_do_projeto-DadosdeLinhadoTempodoProjeto[[#This Row],[NUM]]+1,3)),\"\")","v":""},{"$f":"IFERROR(IF(ISBLANK(INDEX(DetalhesDoProjeto[#Data],ROW(A167)+1,1)),\"\",IF($J171-1<=-1,\"\",$J171-1)),\"\")","v":""},null,null,{"$f":"IFERROR(DadosdeLinhadoTempodoProjeto[[#This Row],[NUM]]+1,\"\")","v":""},{"$f":"IFERROR(VLOOKUP(LinhadoTempoClassificada[[#This Row],[POSIÇÃO classificada]],DadosdeLinhadoTempodoProjeto[],3,0),\"\")","v":""},{"$f":"IFERROR(VLOOKUP(LinhadoTempoClassificada[[#This Row],[POSIÇÃO classificada]],DadosdeLinhadoTempodoProjeto[],4,0),\"\")","v":""},{"$f":"IFERROR(VLOOKUP(LinhadoTempoClassificada[[#This Row],[POSIÇÃO classificada]],DadosdeLinhadoTempodoProjeto[],5,0),\"\")","v":""}]
[{"$nulls":4},{"$f":"IFERROR(RANK(F173,DadosdeLinhadoTempodoProjeto[CLASSIFICAÇÃO])+SUMPRODUCT(--(F173=DadosdeLinhadoTempodoProjeto[CLASSIFICAÇÃO]),--(J173<DadosdeLinhadoTempodoProjeto[NUM])),\"\")","v":""},{"$f":"IFERROR(RANK(DadosdeLinhadoTempodoProjeto[[#This Row],[DATA]],DadosdeLinhadoTempodoProjeto[DATA],1),\"\")","v":""},{"$f":"IFERROR(IF(ISBLANK(INDEX(DetalhesDoProjeto[#Data],Última_entrada_do_projeto-Linha_de_início_do_projeto-DadosdeLinhadoTempodoProjeto[[#This Row],[NUM]]+1,1)),\"\",INDEX(DetalhesDoProjeto[#Data],Última_entrada_do_projeto-Linha_de_início_do_projeto-DadosdeLinhadoTempodoProjeto[[#This Row],[NUM]]+1,1)),\"\")","v":""},{"$f":"IFERROR(IF(ISBLANK(INDEX(DetalhesDoProjeto[#Data],Última_entrada_do_projeto-Linha_de_início_do_projeto-DadosdeLinhadoTempodoProjeto[[#This Row],[NUM]]+1,2)),\"\",INDEX(DetalhesDoProjeto[#Data],Última_entrada_do_projeto-Linha_de_início_do_projeto-DadosdeLinhadoTempodoProjeto[[#This Row],[NUM]]+1,2)),\"\")","v":""},{"$f":"IFERROR(IF(ISBLANK(INDEX(DetalhesDoProjeto[#Data],Última_entrada_do_projeto-Linha_de_início_do_projeto-DadosdeLinhadoTempodoProjeto[[#This Row],[NUM]]+1,3)),\"\",INDEX(DetalhesDoProjeto[#Data],Última_entrada_do_projeto-Linha_de_início_do_projeto-DadosdeLinhadoTempodoProjeto[[#This Row],[NUM]]+1,3)),\"\")","v":""},{"$f":"IFERROR(IF(ISBLANK(INDEX(DetalhesDoProjeto[#Data],ROW(A168)+1,1)),\"\",IF($J172-1<=-1,\"\",$J172-1)),\"\")","v":""},null,null,{"$f":"IFERROR(DadosdeLinhadoTempodoProjeto[[#This Row],[NUM]]+1,\"\")","v":""},{"$f":"IFERROR(VLOOKUP(LinhadoTempoClassificada[[#This Row],[POSIÇÃO classificada]],DadosdeLinhadoTempodoProjeto[],3,0),\"\")","v":""},{"$f":"IFERROR(VLOOKUP(LinhadoTempoClassificada[[#This Row],[POSIÇÃO classificada]],DadosdeLinhadoTempodoProjeto[],4,0),\"\")","v":""},{"$f":"IFERROR(VLOOKUP(LinhadoTempoClassificada[[#This Row],[POSIÇÃO classificada]],DadosdeLinhadoTempodoProjeto[],5,0),\"\")","v":""}]
[{"$nulls":4},{"$f":"IFERROR(RANK(F174,DadosdeLinhadoTempodoProjeto[CLASSIFICAÇÃO])+SUMPRODUCT(--(F174=DadosdeLinhadoTempodoProjeto[CLASSIFICAÇÃO]),--(J174<DadosdeLinhadoTempodoProjeto[NUM])),\"\")","v":""},{"$f":"IFERROR(RANK(DadosdeLinhadoTempodoProjeto[[#This Row],[DATA]],DadosdeLinhadoTempodoProjeto[DATA],1),\"\")","v":""},{"$f":"IFERROR(IF(ISBLANK(INDEX(DetalhesDoProjeto[#Data],Última_entrada_do_projeto-Linha_de_início_do_projeto-DadosdeLinhadoTempodoProjeto[[#This Row],[NUM]]+1,1)),\"\",INDEX(DetalhesDoProjeto[#Data],Última_entrada_do_projeto-Linha_de_início_do_projeto-DadosdeLinhadoTempodoProjeto[[#This Row],[NUM]]+1,1)),\"\")","v":""},{"$f":"IFERROR(IF(ISBLANK(INDEX(DetalhesDoProjeto[#Data],Última_entrada_do_projeto-Linha_de_início_do_projeto-DadosdeLinhadoTempodoProjeto[[#This Row],[NUM]]+1,2)),\"\",INDEX(DetalhesDoProjeto[#Data],Última_entrada_do_projeto-Linha_de_início_do_projeto-DadosdeLinhadoTempodoProjeto[[#This Row],[NUM]]+1,2)),\"\")","v":""},{"$f":"IFERROR(IF(ISBLANK(INDEX(DetalhesDoProjeto[#Data],Última_entrada_do_projeto-Linha_de_início_do_projeto-DadosdeLinhadoTempodoProjeto[[#This Row],[NUM]]+1,3)),\"\",INDEX(DetalhesDoProjeto[#Data],Última_entrada_do_projeto-Linha_de_início_do_projeto-DadosdeLinhadoTempodoProjeto[[#This Row],[NUM]]+1,3)),\"\")","v":""},{"$f":"IFERROR(IF(ISBLANK(INDEX(DetalhesDoProjeto[#Data],ROW(A169)+1,1)),\"\",IF($J173-1<=-1,\"\",$J173-1)),\"\")","v":""},null,null,{"$f":"IFERROR(DadosdeLinhadoTempodoProjeto[[#This Row],[NUM]]+1,\"\")","v":""},{"$f":"IFERROR(VLOOKUP(LinhadoTempoClassificada[[#This Row],[POSIÇÃO classificada]],DadosdeLinhadoTempodoProjeto[],3,0),\"\")","v":""},{"$f":"IFERROR(VLOOKUP(LinhadoTempoClassificada[[#This Row],[POSIÇÃO classificada]],DadosdeLinhadoTempodoProjeto[],4,0),\"\")","v":""},{"$f":"IFERROR(VLOOKUP(LinhadoTempoClassificada[[#This Row],[POSIÇÃO classificada]],DadosdeLinhadoTempodoProjeto[],5,0),\"\")","v":""}]
[{"$nulls":4},{"$f":"IFERROR(RANK(F175,DadosdeLinhadoTempodoProjeto[CLASSIFICAÇÃO])+SUMPRODUCT(--(F175=DadosdeLinhadoTempodoProjeto[CLASSIFICAÇÃO]),--(J175<DadosdeLinhadoTempodoProjeto[NUM])),\"\")","v":""},{"$f":"IFERROR(RANK(DadosdeLinhadoTempodoProjeto[[#This Row],[DATA]],DadosdeLinhadoTempodoProjeto[DATA],1),\"\")","v":""},{"$f":"IFERROR(IF(ISBLANK(INDEX(DetalhesDoProjeto[#Data],Última_entrada_do_projeto-Linha_de_início_do_projeto-DadosdeLinhadoTempodoProjeto[[#This Row],[NUM]]+1,1)),\"\",INDEX(DetalhesDoProjeto[#Data],Última_entrada_do_projeto-Linha_de_início_do_projeto-DadosdeLinhadoTempodoProjeto[[#This Row],[NUM]]+1,1)),\"\")","v":""},{"$f":"IFERROR(IF(ISBLANK(INDEX(DetalhesDoProjeto[#Data],Última_entrada_do_projeto-Linha_de_início_do_projeto-DadosdeLinhadoTempodoProjeto[[#This Row],[NUM]]+1,2)),\"\",INDEX(DetalhesDoProjeto[#Data],Última_entrada_do_projeto-Linha_de_início_do_projeto-DadosdeLinhadoTempodoProjeto[[#This Row],[NUM]]+1,2)),\"\")","v":""},{"$f":"IFERROR(IF(ISBLANK(INDEX(DetalhesDoProjeto[#Data],Última_entrada_do_projeto-Linha_de_início_do_projeto-DadosdeLinhadoTempodoProjeto[[#This Row],[NUM]]+1,3)),\"\",INDEX(DetalhesDoProjeto[#Data],Última_entrada_do_projeto-Linha_de_início_do_projeto-DadosdeLinhadoTempodoProjeto[[#This Row],[NUM]]+1,3)),\"\")","v":""},{"$f":"IFERROR(IF(ISBLANK(INDEX(DetalhesDoProjeto[#Data],ROW(A170)+1,1)),\"\",IF($J174-1<=-1,\"\",$J174-1)),\"\")","v":""},null,null,{"$f":"IFERROR(DadosdeLinhadoTempodoProjeto[[#This Row],[NUM]]+1,\"\")","v":""},{"$f":"IFERROR(VLOOKUP(LinhadoTempoClassificada[[#This Row],[POSIÇÃO classificada]],DadosdeLinhadoTempodoProjeto[],3,0),\"\")","v":""},{"$f":"IFERROR(VLOOKUP(LinhadoTempoClassificada[[#This Row],[POSIÇÃO classificada]],DadosdeLinhadoTempodoProjeto[],4,0),\"\")","v":""},{"$f":"IFERROR(VLOOKUP(LinhadoTempoClassificada[[#This Row],[POSIÇÃO classificada]],DadosdeLinhadoTempodoProjeto[],5,0),\"\")","v":""}]
[{"$nulls":4},{"$f":"IFERROR(RANK(F176,DadosdeLinhadoTempodoProjeto[CLASSIFICAÇÃO])+SUMPRODUCT(--(F176=DadosdeLinhadoTempodoProjeto[CLASSIFICAÇÃO]),--(J176<DadosdeLinhadoTempodoProjeto[NUM])),\"\")","v":""},{"$f":"IFERROR(RANK(DadosdeLinhadoTempodoProjeto[[#This Row],[DATA]],DadosdeLinhadoTempodoProjeto[DATA],1),\"\")","v":""},{"$f":"IFERROR(IF(ISBLANK(INDEX(DetalhesDoProjeto[#Data],Última_entrada_do_projeto-Linha_de_início_do_projeto-DadosdeLinhadoTempodoProjeto[[#This Row],[NUM]]+1,1)),\"\",INDEX(DetalhesDoProjeto[#Data],Última_entrada_do_projeto-Linha_de_início_do_projeto-DadosdeLinhadoTempodoProjeto[[#This Row],[NUM]]+1,1)),\"\")","v":""},{"$f":"IFERROR(IF(ISBLANK(INDEX(DetalhesDoProjeto[#Data],Última_entrada_do_projeto-Linha_de_início_do_projeto-DadosdeLinhadoTempodoProjeto[[#This Row],[NUM]]+1,2)),\"\",INDEX(DetalhesDoProjeto[#Data],Última_entrada_do_projeto-Linha_de_início_do_projeto-DadosdeLinhadoTempodoProjeto[[#This Row],[NUM]]+1,2)),\"\")","v":""},{"$f":"IFERROR(IF(ISBLANK(INDEX(DetalhesDoProjeto[#Data],Última_entrada_do_projeto-Linha_de_início_do_projeto-DadosdeLinhadoTempodoProjeto[[#This Row],[NUM]]+1,3)),\"\",INDEX(DetalhesDoProjeto[#Data],Última_entrada_do_projeto-Linha_de_início_do_projeto-DadosdeLinhadoTempodoProjeto[[#This Row],[NUM]]+1,3)),\"\")","v":""},{"$f":"IFERROR(IF(ISBLANK(INDEX(DetalhesDoProjeto[#Data],ROW(A171)+1,1)),\"\",IF($J175-1<=-1,\"\",$J175-1)),\"\")","v":""},null,null,{"$f":"IFERROR(DadosdeLinhadoTempodoProjeto[[#This Row],[NUM]]+1,\"\")","v":""},{"$f":"IFERROR(VLOOKUP(LinhadoTempoClassificada[[#This Row],[POSIÇÃO classificada]],DadosdeLinhadoTempodoProjeto[],3,0),\"\")","v":""},{"$f":"IFERROR(VLOOKUP(LinhadoTempoClassificada[[#This Row],[POSIÇÃO classificada]],DadosdeLinhadoTempodoProjeto[],4,0),\"\")","v":""},{"$f":"IFERROR(VLOOKUP(LinhadoTempoClassificada[[#This Row],[POSIÇÃO classificada]],DadosdeLinhadoTempodoProjeto[],5,0),\"\")","v":""}]
[{"$nulls":4},{"$f":"IFERROR(RANK(F177,DadosdeLinhadoTempodoProjeto[CLASSIFICAÇÃO])+SUMPRODUCT(--(F177=DadosdeLinhadoTempodoProjeto[CLASSIFICAÇÃO]),--(J177<DadosdeLinhadoTempodoProjeto[NUM])),\"\")","v":""},{"$f":"IFERROR(RANK(DadosdeLinhadoTempodoProjeto[[#This Row],[DATA]],DadosdeLinhadoTempodoProjeto[DATA],1),\"\")","v":""},{"$f":"IFERROR(IF(ISBLANK(INDEX(DetalhesDoProjeto[#Data],Última_entrada_do_projeto-Linha_de_início_do_projeto-DadosdeLinhadoTempodoProjeto[[#This Row],[NUM]]+1,1)),\"\",INDEX(DetalhesDoProjeto[#Data],Última_entrada_do_projeto-Linha_de_início_do_projeto-DadosdeLinhadoTempodoProjeto[[#This Row],[NUM]]+1,1)),\"\")","v":""},{"$f":"IFERROR(IF(ISBLANK(INDEX(DetalhesDoProjeto[#Data],Última_entrada_do_projeto-Linha_de_início_do_projeto-DadosdeLinhadoTempodoProjeto[[#This Row],[NUM]]+1,2)),\"\",INDEX(DetalhesDoProjeto[#Data],Última_entrada_do_projeto-Linha_de_início_do_projeto-DadosdeLinhadoTempodoProjeto[[#This Row],[NUM]]+1,2)),\"\")","v":""},{"$f":"IFERROR(IF(ISBLANK(INDEX(DetalhesDoProjeto[#Data],Última_entrada_do_projeto-Linha_de_início_do_projeto-DadosdeLinhadoTempodoProjeto[[#This Row],[NUM]]+1,3)),\"\",INDEX(DetalhesDoProjeto[#Data],Última_entrada_do_projeto-Linha_de_início_do_projeto-DadosdeLinhadoTempodoProjeto[[#This Row],[NUM]]+1,3)),\"\")","v":""},{"$f":"IFERROR(IF(ISBLANK(INDEX(DetalhesDoProjeto[#Data],ROW(A172)+1,1)),\"\",IF($J176-1<=-1,\"\",$J176-1)),\"\")","v":""},null,null,{"$f":"IFERROR(DadosdeLinhadoTempodoProjeto[[#This Row],[NUM]]+1,\"\")","v":""},{"$f":"IFERROR(VLOOKUP(LinhadoTempoClassificada[[#This Row],[POSIÇÃO classificada]],DadosdeLinhadoTempodoProjeto[],3,0),\"\")","v":""},{"$f":"IFERROR(VLOOKUP(LinhadoTempoClassificada[[#This Row],[POSIÇÃO classificada]],DadosdeLinhadoTempodoProjeto[],4,0),\"\")","v":""},{"$f":"IFERROR(VLOOKUP(LinhadoTempoClassificada[[#This Row],[POSIÇÃO classificada]],DadosdeLinhadoTempodoProjeto[],5,0),\"\")","v":""}]
[{"$nulls":4},{"$f":"IFERROR(RANK(F178,DadosdeLinhadoTempodoProjeto[CLASSIFICAÇÃO])+SUMPRODUCT(--(F178=DadosdeLinhadoTempodoProjeto[CLASSIFICAÇÃO]),--(J178<DadosdeLinhadoTempodoProjeto[NUM])),\"\")","v":""},{"$f":"IFERROR(RANK(DadosdeLinhadoTempodoProjeto[[#This Row],[DATA]],DadosdeLinhadoTempodoProjeto[DATA],1),\"\")","v":""},{"$f":"IFERROR(IF(ISBLANK(INDEX(DetalhesDoProjeto[#Data],Última_entrada_do_projeto-Linha_de_início_do_projeto-DadosdeLinhadoTempodoProjeto[[#This Row],[NUM]]+1,1)),\"\",INDEX(DetalhesDoProjeto[#Data],Última_entrada_do_projeto-Linha_de_início_do_projeto-DadosdeLinhadoTempodoProjeto[[#This Row],[NUM]]+1,1)),\"\")","v":""},{"$f":"IFERROR(IF(ISBLANK(INDEX(DetalhesDoProjeto[#Data],Última_entrada_do_projeto-Linha_de_início_do_projeto-DadosdeLinhadoTempodoProjeto[[#This Row],[NUM]]+1,2)),\"\",INDEX(DetalhesDoProjeto[#Data],Última_entrada_do_projeto-Linha_de_início_do_projeto-DadosdeLinhadoTempodoProjeto[[#This Row],[NUM]]+1,2)),\"\")","v":""},{"$f":"IFERROR(IF(ISBLANK(INDEX(DetalhesDoProjeto[#Data],Última_entrada_do_projeto-Linha_de_início_do_projeto-DadosdeLinhadoTempodoProjeto[[#This Row],[NUM]]+1,3)),\"\",INDEX(DetalhesDoProjeto[#Data],Última_entrada_do_projeto-Linha_de_início_do_projeto-DadosdeLinhadoTempodoProjeto[[#This Row],[NUM]]+1,3)),\"\")","v":""},{"$f":"IFERROR(IF(ISBLANK(INDEX(DetalhesDoProjeto[#Data],ROW(A173)+1,1)),\"\",IF($J177-1<=-1,\"\",$J177-1)),\"\")","v":""},null,null,{"$f":"IFERROR(DadosdeLinhadoTempodoProjeto[[#This Row],[NUM]]+1,\"\")","v":""},{"$f":"IFERROR(VLOOKUP(LinhadoTempoClassificada[[#This Row],[POSIÇÃO classificada]],DadosdeLinhadoTempodoProjeto[],3,0),\"\")","v":""},{"$f":"IFERROR(VLOOKUP(LinhadoTempoClassificada[[#This Row],[POSIÇÃO classificada]],DadosdeLinhadoTempodoProjeto[],4,0),\"\")","v":""},{"$f":"IFERROR(VLOOKUP(LinhadoTempoClassificada[[#This Row],[POSIÇÃO classificada]],DadosdeLinhadoTempodoProjeto[],5,0),\"\")","v":""}]
[{"$nulls":4},{"$f":"IFERROR(RANK(F179,DadosdeLinhadoTempodoProjeto[CLASSIFICAÇÃO])+SUMPRODUCT(--(F179=DadosdeLinhadoTempodoProjeto[CLASSIFICAÇÃO]),--(J179<DadosdeLinhadoTempodoProjeto[NUM])),\"\")","v":""},{"$f":"IFERROR(RANK(DadosdeLinhadoTempodoProjeto[[#This Row],[DATA]],DadosdeLinhadoTempodoProjeto[DATA],1),\"\")","v":""},{"$f":"IFERROR(IF(ISBLANK(INDEX(DetalhesDoProjeto[#Data],Última_entrada_do_projeto-Linha_de_início_do_projeto-DadosdeLinhadoTempodoProjeto[[#This Row],[NUM]]+1,1)),\"\",INDEX(DetalhesDoProjeto[#Data],Última_entrada_do_projeto-Linha_de_início_do_projeto-DadosdeLinhadoTempodoProjeto[[#This Row],[NUM]]+1,1)),\"\")","v":""},{"$f":"IFERROR(IF(ISBLANK(INDEX(DetalhesDoProjeto[#Data],Última_entrada_do_projeto-Linha_de_início_do_projeto-DadosdeLinhadoTempodoProjeto[[#This Row],[NUM]]+1,2)),\"\",INDEX(DetalhesDoProjeto[#Data],Última_entrada_do_projeto-Linha_de_início_do_projeto-DadosdeLinhadoTempodoProjeto[[#This Row],[NUM]]+1,2)),\"\")","v":""},{"$f":"IFERROR(IF(ISBLANK(INDEX(DetalhesDoProjeto[#Data],Última_entrada_do_projeto-Linha_de_início_do_projeto-DadosdeLinhadoTempodoProjeto[[#This Row],[NUM]]+1,3)),\"\",INDEX(DetalhesDoProjeto[#Data],Última_entrada_do_projeto-Linha_de_início_do_projeto-DadosdeLinhadoTempodoProjeto[[#This Row],[NUM]]+1,3)),\"\")","v":""},{"$f":"IFERROR(IF(ISBLANK(INDEX(DetalhesDoProjeto[#Data],ROW(A174)+1,1)),\"\",IF($J178-1<=-1,\"\",$J178-1)),\"\")","v":""},null,null,{"$f":"IFERROR(DadosdeLinhadoTempodoProjeto[[#This Row],[NUM]]+1,\"\")","v":""},{"$f":"IFERROR(VLOOKUP(LinhadoTempoClassificada[[#This Row],[POSIÇÃO classificada]],DadosdeLinhadoTempodoProjeto[],3,0),\"\")","v":""},{"$f":"IFERROR(VLOOKUP(LinhadoTempoClassificada[[#This Row],[POSIÇÃO classificada]],DadosdeLinhadoTempodoProjeto[],4,0),\"\")","v":""},{"$f":"IFERROR(VLOOKUP(LinhadoTempoClassificada[[#This Row],[POSIÇÃO classificada]],DadosdeLinhadoTempodoProjeto[],5,0),\"\")","v":""}]
[{"$nulls":4},{"$f":"IFERROR(RANK(F180,DadosdeLinhadoTempodoProjeto[CLASSIFICAÇÃO])+SUMPRODUCT(--(F180=DadosdeLinhadoTempodoProjeto[CLASSIFICAÇÃO]),--(J180<DadosdeLinhadoTempodoProjeto[NUM])),\"\")","v":""},{"$f":"IFERROR(RANK(DadosdeLinhadoTempodoProjeto[[#This Row],[DATA]],DadosdeLinhadoTempodoProjeto[DATA],1),\"\")","v":""},{"$f":"IFERROR(IF(ISBLANK(INDEX(DetalhesDoProjeto[#Data],Última_entrada_do_projeto-Linha_de_início_do_projeto-DadosdeLinhadoTempodoProjeto[[#This Row],[NUM]]+1,1)),\"\",INDEX(DetalhesDoProjeto[#Data],Última_entrada_do_projeto-Linha_de_início_do_projeto-DadosdeLinhadoTempodoProjeto[[#This Row],[NUM]]+1,1)),\"\")","v":""},{"$f":"IFERROR(IF(ISBLANK(INDEX(DetalhesDoProjeto[#Data],Última_entrada_do_projeto-Linha_de_início_do_projeto-DadosdeLinhadoTempodoProjeto[[#This Row],[NUM]]+1,2)),\"\",INDEX(DetalhesDoProjeto[#Data],Última_entrada_do_projeto-Linha_de_início_do_projeto-DadosdeLinhadoTempodoProjeto[[#This Row],[NUM]]+1,2)),\"\")","v":""},{"$f":"IFERROR(IF(ISBLANK(INDEX(DetalhesDoProjeto[#Data],Última_entrada_do_projeto-Linha_de_início_do_projeto-DadosdeLinhadoTempodoProjeto[[#This Row],[NUM]]+1,3)),\"\",INDEX(DetalhesDoProjeto[#Data],Última_entrada_do_projeto-Linha_de_início_do_projeto-DadosdeLinhadoTempodoProjeto[[#This Row],[NUM]]+1,3)),\"\")","v":""},{"$f":"IFERROR(IF(ISBLANK(INDEX(DetalhesDoProjeto[#Data],ROW(A175)+1,1)),\"\",IF($J179-1<=-1,\"\",$J179-1)),\"\")","v":""},null,null,{"$f":"IFERROR(DadosdeLinhadoTempodoProjeto[[#This Row],[NUM]]+1,\"\")","v":""},{"$f":"IFERROR(VLOOKUP(LinhadoTempoClassificada[[#This Row],[POSIÇÃO classificada]],DadosdeLinhadoTempodoProjeto[],3,0),\"\")","v":""},{"$f":"IFERROR(VLOOKUP(LinhadoTempoClassificada[[#This Row],[POSIÇÃO classificada]],DadosdeLinhadoTempodoProjeto[],4,0),\"\")","v":""},{"$f":"IFERROR(VLOOKUP(LinhadoTempoClassificada[[#This Row],[POSIÇÃO classificada]],DadosdeLinhadoTempodoProjeto[],5,0),\"\")","v":""}]
[{"$nulls":4},{"$f":"IFERROR(RANK(F181,DadosdeLinhadoTempodoProjeto[CLASSIFICAÇÃO])+SUMPRODUCT(--(F181=DadosdeLinhadoTempodoProjeto[CLASSIFICAÇÃO]),--(J181<DadosdeLinhadoTempodoProjeto[NUM])),\"\")","v":""},{"$f":"IFERROR(RANK(DadosdeLinhadoTempodoProjeto[[#This Row],[DATA]],DadosdeLinhadoTempodoProjeto[DATA],1),\"\")","v":""},{"$f":"IFERROR(IF(ISBLANK(INDEX(DetalhesDoProjeto[#Data],Última_entrada_do_projeto-Linha_de_início_do_projeto-DadosdeLinhadoTempodoProjeto[[#This Row],[NUM]]+1,1)),\"\",INDEX(DetalhesDoProjeto[#Data],Última_entrada_do_projeto-Linha_de_início_do_projeto-DadosdeLinhadoTempodoProjeto[[#This Row],[NUM]]+1,1)),\"\")","v":""},{"$f":"IFERROR(IF(ISBLANK(INDEX(DetalhesDoProjeto[#Data],Última_entrada_do_projeto-Linha_de_início_do_projeto-DadosdeLinhadoTempodoProjeto[[#This Row],[NUM]]+1,2)),\"\",INDEX(DetalhesDoProjeto[#Data],Última_entrada_do_projeto-Linha_de_início_do_projeto-DadosdeLinhadoTempodoProjeto[[#This Row],[NUM]]+1,2)),\"\")","v":""},{"$f":"IFERROR(IF(ISBLANK(INDEX(DetalhesDoProjeto[#Data],Última_entrada_do_projeto-Linha_de_início_do_projeto-DadosdeLinhadoTempodoProjeto[[#This Row],[NUM]]+1,3)),\"\",INDEX(DetalhesDoProjeto[#Data],Última_entrada_do_projeto-Linha_de_início_do_projeto-DadosdeLinhadoTempodoProjeto[[#This Row],[NUM]]+1,3)),\"\")","v":""},{"$f":"IFERROR(IF(ISBLANK(INDEX(DetalhesDoProjeto[#Data],ROW(A176)+1,1)),\"\",IF($J180-1<=-1,\"\",$J180-1)),\"\")","v":""},null,null,{"$f":"IFERROR(DadosdeLinhadoTempodoProjeto[[#This Row],[NUM]]+1,\"\")","v":""},{"$f":"IFERROR(VLOOKUP(LinhadoTempoClassificada[[#This Row],[POSIÇÃO classificada]],DadosdeLinhadoTempodoProjeto[],3,0),\"\")","v":""},{"$f":"IFERROR(VLOOKUP(LinhadoTempoClassificada[[#This Row],[POSIÇÃO classificada]],DadosdeLinhadoTempodoProjeto[],4,0),\"\")","v":""},{"$f":"IFERROR(VLOOKUP(LinhadoTempoClassificada[[#This Row],[POSIÇÃO classificada]],DadosdeLinhadoTempodoProjeto[],5,0),\"\")","v":""}]
[{"$nulls":4},{"$f":"IFERROR(RANK(F182,DadosdeLinhadoTempodoProjeto[CLASSIFICAÇÃO])+SUMPRODUCT(--(F182=DadosdeLinhadoTempodoProjeto[CLASSIFICAÇÃO]),--(J182<DadosdeLinhadoTempodoProjeto[NUM])),\"\")","v":""},{"$f":"IFERROR(RANK(DadosdeLinhadoTempodoProjeto[[#This Row],[DATA]],DadosdeLinhadoTempodoProjeto[DATA],1),\"\")","v":""},{"$f":"IFERROR(IF(ISBLANK(INDEX(DetalhesDoProjeto[#Data],Última_entrada_do_projeto-Linha_de_início_do_projeto-DadosdeLinhadoTempodoProjeto[[#This Row],[NUM]]+1,1)),\"\",INDEX(DetalhesDoProjeto[#Data],Última_entrada_do_projeto-Linha_de_início_do_projeto-DadosdeLinhadoTempodoProjeto[[#This Row],[NUM]]+1,1)),\"\")","v":""},{"$f":"IFERROR(IF(ISBLANK(INDEX(DetalhesDoProjeto[#Data],Última_entrada_do_projeto-Linha_de_início_do_projeto-DadosdeLinhadoTempodoProjeto[[#This Row],[NUM]]+1,2)),\"\",INDEX(DetalhesDoProjeto[#Data],Última_entrada_do_projeto-Linha_de_início_do_projeto-DadosdeLinhadoTempodoProjeto[[#This Row],[NUM]]+1,2)),\"\")","v":""},{"$f":"IFERROR(IF(ISBLANK(INDEX(DetalhesDoProjeto[#Data],Última_entrada_do_projeto-Linha_de_início_do_projeto-DadosdeLinhadoTempodoProjeto[[#This Row],[NUM]]+1,3)),\"\",INDEX(DetalhesDoProjeto[#Data],Última_entrada_do_projeto-Linha_de_início_do_projeto-DadosdeLinhadoTempodoProjeto[[#This Row],[NUM]]+1,3)),\"\")","v":""},{"$f":"IFERROR(IF(ISBLANK(INDEX(DetalhesDoProjeto[#Data],ROW(A177)+1,1)),\"\",IF($J181-1<=-1,\"\",$J181-1)),\"\")","v":""},null,null,{"$f":"IFERROR(DadosdeLinhadoTempodoProjeto[[#This Row],[NUM]]+1,\"\")","v":""},{"$f":"IFERROR(VLOOKUP(LinhadoTempoClassificada[[#This Row],[POSIÇÃO classificada]],DadosdeLinhadoTempodoProjeto[],3,0),\"\")","v":""},{"$f":"IFERROR(VLOOKUP(LinhadoTempoClassificada[[#This Row],[POSIÇÃO classificada]],DadosdeLinhadoTempodoProjeto[],4,0),\"\")","v":""},{"$f":"IFERROR(VLOOKUP(LinhadoTempoClassificada[[#This Row],[POSIÇÃO classificada]],DadosdeLinhadoTempodoProjeto[],5,0),\"\")","v":""}]
[{"$nulls":4},{"$f":"IFERROR(RANK(F183,DadosdeLinhadoTempodoProjeto[CLASSIFICAÇÃO])+SUMPRODUCT(--(F183=DadosdeLinhadoTempodoProjeto[CLASSIFICAÇÃO]),--(J183<DadosdeLinhadoTempodoProjeto[NUM])),\"\")","v":""},{"$f":"IFERROR(RANK(DadosdeLinhadoTempodoProjeto[[#This Row],[DATA]],DadosdeLinhadoTempodoProjeto[DATA],1),\"\")","v":""},{"$f":"IFERROR(IF(ISBLANK(INDEX(DetalhesDoProjeto[#Data],Última_entrada_do_projeto-Linha_de_início_do_projeto-DadosdeLinhadoTempodoProjeto[[#This Row],[NUM]]+1,1)),\"\",INDEX(DetalhesDoProjeto[#Data],Última_entrada_do_projeto-Linha_de_início_do_projeto-DadosdeLinhadoTempodoProjeto[[#This Row],[NUM]]+1,1)),\"\")","v":""},{"$f":"IFERROR(IF(ISBLANK(INDEX(DetalhesDoProjeto[#Data],Última_entrada_do_projeto-Linha_de_início_do_projeto-DadosdeLinhadoTempodoProjeto[[#This Row],[NUM]]+1,2)),\"\",INDEX(DetalhesDoProjeto[#Data],Última_entrada_do_projeto-Linha_de_início_do_projeto-DadosdeLinhadoTempodoProjeto[[#This Row],[NUM]]+1,2)),\"\")","v":""},{"$f":"IFERROR(IF(ISBLANK(INDEX(DetalhesDoProjeto[#Data],Última_entrada_do_projeto-Linha_de_início_do_projeto-DadosdeLinhadoTempodoProjeto[[#This Row],[NUM]]+1,3)),\"\",INDEX(DetalhesDoProjeto[#Data],Última_entrada_do_projeto-Linha_de_início_do_projeto-DadosdeLinhadoTempodoProjeto[[#This Row],[NUM]]+1,3)),\"\")","v":""},{"$f":"IFERROR(IF(ISBLANK(INDEX(DetalhesDoProjeto[#Data],ROW(A178)+1,1)),\"\",IF($J182-1<=-1,\"\",$J182-1)),\"\")","v":""},null,null,{"$f":"IFERROR(DadosdeLinhadoTempodoProjeto[[#This Row],[NUM]]+1,\"\")","v":""},{"$f":"IFERROR(VLOOKUP(LinhadoTempoClassificada[[#This Row],[POSIÇÃO classificada]],DadosdeLinhadoTempodoProjeto[],3,0),\"\")","v":""},{"$f":"IFERROR(VLOOKUP(LinhadoTempoClassificada[[#This Row],[POSIÇÃO classificada]],DadosdeLinhadoTempodoProjeto[],4,0),\"\")","v":""},{"$f":"IFERROR(VLOOKUP(LinhadoTempoClassificada[[#This Row],[POSIÇÃO classificada]],DadosdeLinhadoTempodoProjeto[],5,0),\"\")","v":""}]
[{"$nulls":4},{"$f":"IFERROR(RANK(F184,DadosdeLinhadoTempodoProjeto[CLASSIFICAÇÃO])+SUMPRODUCT(--(F184=DadosdeLinhadoTempodoProjeto[CLASSIFICAÇÃO]),--(J184<DadosdeLinhadoTempodoProjeto[NUM])),\"\")","v":""},{"$f":"IFERROR(RANK(DadosdeLinhadoTempodoProjeto[[#This Row],[DATA]],DadosdeLinhadoTempodoProjeto[DATA],1),\"\")","v":""},{"$f":"IFERROR(IF(ISBLANK(INDEX(DetalhesDoProjeto[#Data],Última_entrada_do_projeto-Linha_de_início_do_projeto-DadosdeLinhadoTempodoProjeto[[#This Row],[NUM]]+1,1)),\"\",INDEX(DetalhesDoProjeto[#Data],Última_entrada_do_projeto-Linha_de_início_do_projeto-DadosdeLinhadoTempodoProjeto[[#This Row],[NUM]]+1,1)),\"\")","v":""},{"$f":"IFERROR(IF(ISBLANK(INDEX(DetalhesDoProjeto[#Data],Última_entrada_do_projeto-Linha_de_início_do_projeto-DadosdeLinhadoTempodoProjeto[[#This Row],[NUM]]+1,2)),\"\",INDEX(DetalhesDoProjeto[#Data],Última_entrada_do_projeto-Linha_de_início_do_projeto-DadosdeLinhadoTempodoProjeto[[#This Row],[NUM]]+1,2)),\"\")","v":""},{"$f":"IFERROR(IF(ISBLANK(INDEX(DetalhesDoProjeto[#Data],Última_entrada_do_projeto-Linha_de_início_do_projeto-DadosdeLinhadoTempodoProjeto[[#This Row],[NUM]]+1,3)),\"\",INDEX(DetalhesDoProjeto[#Data],Última_entrada_do_projeto-Linha_de_início_do_projeto-DadosdeLinhadoTempodoProjeto[[#This Row],[NUM]]+1,3)),\"\")","v":""},{"$f":"IFERROR(IF(ISBLANK(INDEX(DetalhesDoProjeto[#Data],ROW(A179)+1,1)),\"\",IF($J183-1<=-1,\"\",$J183-1)),\"\")","v":""},null,null,{"$f":"IFERROR(DadosdeLinhadoTempodoProjeto[[#This Row],[NUM]]+1,\"\")","v":""},{"$f":"IFERROR(VLOOKUP(LinhadoTempoClassificada[[#This Row],[POSIÇÃO classificada]],DadosdeLinhadoTempodoProjeto[],3,0),\"\")","v":""},{"$f":"IFERROR(VLOOKUP(LinhadoTempoClassificada[[#This Row],[POSIÇÃO classificada]],DadosdeLinhadoTempodoProjeto[],4,0),\"\")","v":""},{"$f":"IFERROR(VLOOKUP(LinhadoTempoClassificada[[#This Row],[POSIÇÃO classificada]],DadosdeLinhadoTempodoProjeto[],5,0),\"\")","v":""}]
[{"$nulls":4},{"$f":"IFERROR(RANK(F185,DadosdeLinhadoTempodoProjeto[CLASSIFICAÇÃO])+SUMPRODUCT(--(F185=DadosdeLinhadoTempodoProjeto[CLASSIFICAÇÃO]),--(J185<DadosdeLinhadoTempodoProjeto[NUM])),\"\")","v":""},{"$f":"IFERROR(RANK(DadosdeLinhadoTempodoProjeto[[#This Row],[DATA]],DadosdeLinhadoTempodoProjeto[DATA],1),\"\")","v":""},{"$f":"IFERROR(IF(ISBLANK(INDEX(DetalhesDoProjeto[#Data],Última_entrada_do_projeto-Linha_de_início_do_projeto-DadosdeLinhadoTempodoProjeto[[#This Row],[NUM]]+1,1)),\"\",INDEX(DetalhesDoProjeto[#Data],Última_entrada_do_projeto-Linha_de_início_do_projeto-DadosdeLinhadoTempodoProjeto[[#This Row],[NUM]]+1,1)),\"\")","v":""},{"$f":"IFERROR(IF(ISBLANK(INDEX(DetalhesDoProjeto[#Data],Última_entrada_do_projeto-Linha_de_início_do_projeto-DadosdeLinhadoTempodoProjeto[[#This Row],[NUM]]+1,2)),\"\",INDEX(DetalhesDoProjeto[#Data],Última_entrada_do_projeto-Linha_de_início_do_projeto-DadosdeLinhadoTempodoProjeto[[#This Row],[NUM]]+1,2)),\"\")","v":""},{"$f":"IFERROR(IF(ISBLANK(INDEX(DetalhesDoProjeto[#Data],Última_entrada_do_projeto-Linha_de_início_do_projeto-DadosdeLinhadoTempodoProjeto[[#This Row],[NUM]]+1,3)),\"\",INDEX(DetalhesDoProjeto[#Data],Última_entrada_do_projeto-Linha_de_início_do_projeto-DadosdeLinhadoTempodoProjeto[[#This Row],[NUM]]+1,3)),\"\")","v":""},{"$f":"IFERROR(IF(ISBLANK(INDEX(DetalhesDoProjeto[#Data],ROW(A180)+1,1)),\"\",IF($J184-1<=-1,\"\",$J184-1)),\"\")","v":""},null,null,{"$f":"IFERROR(DadosdeLinhadoTempodoProjeto[[#This Row],[NUM]]+1,\"\")","v":""},{"$f":"IFERROR(VLOOKUP(LinhadoTempoClassificada[[#This Row],[POSIÇÃO classificada]],DadosdeLinhadoTempodoProjeto[],3,0),\"\")","v":""},{"$f":"IFERROR(VLOOKUP(LinhadoTempoClassificada[[#This Row],[POSIÇÃO classificada]],DadosdeLinhadoTempodoProjeto[],4,0),\"\")","v":""},{"$f":"IFERROR(VLOOKUP(LinhadoTempoClassificada[[#This Row],[POSIÇÃO classificada]],DadosdeLinhadoTempodoProjeto[],5,0),\"\")","v":""}]
[{"$nulls":4},{"$f":"IFERROR(RANK(F186,DadosdeLinhadoTempodoProjeto[CLASSIFICAÇÃO])+SUMPRODUCT(--(F186=DadosdeLinhadoTempodoProjeto[CLASSIFICAÇÃO]),--(J186<DadosdeLinhadoTempodoProjeto[NUM])),\"\")","v":""},{"$f":"IFERROR(RANK(DadosdeLinhadoTempodoProjeto[[#This Row],[DATA]],DadosdeLinhadoTempodoProjeto[DATA],1),\"\")","v":""},{"$f":"IFERROR(IF(ISBLANK(INDEX(DetalhesDoProjeto[#Data],Última_entrada_do_projeto-Linha_de_início_do_projeto-DadosdeLinhadoTempodoProjeto[[#This Row],[NUM]]+1,1)),\"\",INDEX(DetalhesDoProjeto[#Data],Última_entrada_do_projeto-Linha_de_início_do_projeto-DadosdeLinhadoTempodoProjeto[[#This Row],[NUM]]+1,1)),\"\")","v":""},{"$f":"IFERROR(IF(ISBLANK(INDEX(DetalhesDoProjeto[#Data],Última_entrada_do_projeto-Linha_de_início_do_projeto-DadosdeLinhadoTempodoProjeto[[#This Row],[NUM]]+1,2)),\"\",INDEX(DetalhesDoProjeto[#Data],Última_entrada_do_projeto-Linha_de_início_do_projeto-DadosdeLinhadoTempodoProjeto[[#This Row],[NUM]]+1,2)),\"\")","v":""},{"$f":"IFERROR(IF(ISBLANK(INDEX(DetalhesDoProjeto[#Data],Última_entrada_do_projeto-Linha_de_início_do_projeto-DadosdeLinhadoTempodoProjeto[[#This Row],[NUM]]+1,3)),\"\",INDEX(DetalhesDoProjeto[#Data],Última_entrada_do_projeto-Linha_de_início_do_projeto-DadosdeLinhadoTempodoProjeto[[#This Row],[NUM]]+1,3)),\"\")","v":""},{"$f":"IFERROR(IF(ISBLANK(INDEX(DetalhesDoProjeto[#Data],ROW(A181)+1,1)),\"\",IF($J185-1<=-1,\"\",$J185-1)),\"\")","v":""},null,null,{"$f":"IFERROR(DadosdeLinhadoTempodoProjeto[[#This Row],[NUM]]+1,\"\")","v":""},{"$f":"IFERROR(VLOOKUP(LinhadoTempoClassificada[[#This Row],[POSIÇÃO classificada]],DadosdeLinhadoTempodoProjeto[],3,0),\"\")","v":""},{"$f":"IFERROR(VLOOKUP(LinhadoTempoClassificada[[#This Row],[POSIÇÃO classificada]],DadosdeLinhadoTempodoProjeto[],4,0),\"\")","v":""},{"$f":"IFERROR(VLOOKUP(LinhadoTempoClassificada[[#This Row],[POSIÇÃO classificada]],DadosdeLinhadoTempodoProjeto[],5,0),\"\")","v":""}]
[{"$nulls":4},{"$f":"IFERROR(RANK(F187,DadosdeLinhadoTempodoProjeto[CLASSIFICAÇÃO])+SUMPRODUCT(--(F187=DadosdeLinhadoTempodoProjeto[CLASSIFICAÇÃO]),--(J187<DadosdeLinhadoTempodoProjeto[NUM])),\"\")","v":""},{"$f":"IFERROR(RANK(DadosdeLinhadoTempodoProjeto[[#This Row],[DATA]],DadosdeLinhadoTempodoProjeto[DATA],1),\"\")","v":""},{"$f":"IFERROR(IF(ISBLANK(INDEX(DetalhesDoProjeto[#Data],Última_entrada_do_projeto-Linha_de_início_do_projeto-DadosdeLinhadoTempodoProjeto[[#This Row],[NUM]]+1,1)),\"\",INDEX(DetalhesDoProjeto[#Data],Última_entrada_do_projeto-Linha_de_início_do_projeto-DadosdeLinhadoTempodoProjeto[[#This Row],[NUM]]+1,1)),\"\")","v":""},{"$f":"IFERROR(IF(ISBLANK(INDEX(DetalhesDoProjeto[#Data],Última_entrada_do_projeto-Linha_de_início_do_projeto-DadosdeLinhadoTempodoProjeto[[#This Row],[NUM]]+1,2)),\"\",INDEX(DetalhesDoProjeto[#Data],Última_entrada_do_projeto-Linha_de_início_do_projeto-DadosdeLinhadoTempodoProjeto[[#This Row],[NUM]]+1,2)),\"\")","v":""},{"$f":"IFERROR(IF(ISBLANK(INDEX(DetalhesDoProjeto[#Data],Última_entrada_do_projeto-Linha_de_início_do_projeto-DadosdeLinhadoTempodoProjeto[[#This Row],[NUM]]+1,3)),\"\",INDEX(DetalhesDoProjeto[#Data],Última_entrada_do_projeto-Linha_de_início_do_projeto-DadosdeLinhadoTempodoProjeto[[#This Row],[NUM]]+1,3)),\"\")","v":""},{"$f":"IFERROR(IF(ISBLANK(INDEX(DetalhesDoProjeto[#Data],ROW(A182)+1,1)),\"\",IF($J186-1<=-1,\"\",$J186-1)),\"\")","v":""},null,null,{"$f":"IFERROR(DadosdeLinhadoTempodoProjeto[[#This Row],[NUM]]+1,\"\")","v":""},{"$f":"IFERROR(VLOOKUP(LinhadoTempoClassificada[[#This Row],[POSIÇÃO classificada]],DadosdeLinhadoTempodoProjeto[],3,0),\"\")","v":""},{"$f":"IFERROR(VLOOKUP(LinhadoTempoClassificada[[#This Row],[POSIÇÃO classificada]],DadosdeLinhadoTempodoProjeto[],4,0),\"\")","v":""},{"$f":"IFERROR(VLOOKUP(LinhadoTempoClassificada[[#This Row],[POSIÇÃO classificada]],DadosdeLinhadoTempodoProjeto[],5,0),\"\")","v":""}]
[{"$nulls":4},{"$f":"IFERROR(RANK(F188,DadosdeLinhadoTempodoProjeto[CLASSIFICAÇÃO])+SUMPRODUCT(--(F188=DadosdeLinhadoTempodoProjeto[CLASSIFICAÇÃO]),--(J188<DadosdeLinhadoTempodoProjeto[NUM])),\"\")","v":""},{"$f":"IFERROR(RANK(DadosdeLinhadoTempodoProjeto[[#This Row],[DATA]],DadosdeLinhadoTempodoProjeto[DATA],1),\"\")","v":""},{"$f":"IFERROR(IF(ISBLANK(INDEX(DetalhesDoProjeto[#Data],Última_entrada_do_projeto-Linha_de_início_do_projeto-DadosdeLinhadoTempodoProjeto[[#This Row],[NUM]]+1,1)),\"\",INDEX(DetalhesDoProjeto[#Data],Última_entrada_do_projeto-Linha_de_início_do_projeto-DadosdeLinhadoTempodoProjeto[[#This Row],[NUM]]+1,1)),\"\")","v":""},{"$f":"IFERROR(IF(ISBLANK(INDEX(DetalhesDoProjeto[#Data],Última_entrada_do_projeto-Linha_de_início_do_projeto-DadosdeLinhadoTempodoProjeto[[#This Row],[NUM]]+1,2)),\"\",INDEX(DetalhesDoProjeto[#Data],Última_entrada_do_projeto-Linha_de_início_do_projeto-DadosdeLinhadoTempodoProjeto[[#This Row],[NUM]]+1,2)),\"\")","v":""},{"$f":"IFERROR(IF(ISBLANK(INDEX(DetalhesDoProjeto[#Data],Última_entrada_do_projeto-Linha_de_início_do_projeto-DadosdeLinhadoTempodoProjeto[[#This Row],[NUM]]+1,3)),\"\",INDEX(DetalhesDoProjeto[#Data],Última_entrada_do_projeto-Linha_de_início_do_projeto-DadosdeLinhadoTempodoProjeto[[#This Row],[NUM]]+1,3)),\"\")","v":""},{"$f":"IFERROR(IF(ISBLANK(INDEX(DetalhesDoProjeto[#Data],ROW(A183)+1,1)),\"\",IF($J187-1<=-1,\"\",$J187-1)),\"\")","v":""},null,null,{"$f":"IFERROR(DadosdeLinhadoTempodoProjeto[[#This Row],[NUM]]+1,\"\")","v":""},{"$f":"IFERROR(VLOOKUP(LinhadoTempoClassificada[[#This Row],[POSIÇÃO classificada]],DadosdeLinhadoTempodoProjeto[],3,0),\"\")","v":""},{"$f":"IFERROR(VLOOKUP(LinhadoTempoClassificada[[#This Row],[POSIÇÃO classificada]],DadosdeLinhadoTempodoProjeto[],4,0),\"\")","v":""},{"$f":"IFERROR(VLOOKUP(LinhadoTempoClassificada[[#This Row],[POSIÇÃO classificada]],DadosdeLinhadoTempodoProjeto[],5,0),\"\")","v":""}]
[{"$nulls":4},{"$f":"IFERROR(RANK(F189,DadosdeLinhadoTempodoProjeto[CLASSIFICAÇÃO])+SUMPRODUCT(--(F189=DadosdeLinhadoTempodoProjeto[CLASSIFICAÇÃO]),--(J189<DadosdeLinhadoTempodoProjeto[NUM])),\"\")","v":""},{"$f":"IFERROR(RANK(DadosdeLinhadoTempodoProjeto[[#This Row],[DATA]],DadosdeLinhadoTempodoProjeto[DATA],1),\"\")","v":""},{"$f":"IFERROR(IF(ISBLANK(INDEX(DetalhesDoProjeto[#Data],Última_entrada_do_projeto-Linha_de_início_do_projeto-DadosdeLinhadoTempodoProjeto[[#This Row],[NUM]]+1,1)),\"\",INDEX(DetalhesDoProjeto[#Data],Última_entrada_do_projeto-Linha_de_início_do_projeto-DadosdeLinhadoTempodoProjeto[[#This Row],[NUM]]+1,1)),\"\")","v":""},{"$f":"IFERROR(IF(ISBLANK(INDEX(DetalhesDoProjeto[#Data],Última_entrada_do_projeto-Linha_de_início_do_projeto-DadosdeLinhadoTempodoProjeto[[#This Row],[NUM]]+1,2)),\"\",INDEX(DetalhesDoProjeto[#Data],Última_entrada_do_projeto-Linha_de_início_do_projeto-DadosdeLinhadoTempodoProjeto[[#This Row],[NUM]]+1,2)),\"\")","v":""},{"$f":"IFERROR(IF(ISBLANK(INDEX(DetalhesDoProjeto[#Data],Última_entrada_do_projeto-Linha_de_início_do_projeto-DadosdeLinhadoTempodoProjeto[[#This Row],[NUM]]+1,3)),\"\",INDEX(DetalhesDoProjeto[#Data],Última_entrada_do_projeto-Linha_de_início_do_projeto-DadosdeLinhadoTempodoProjeto[[#This Row],[NUM]]+1,3)),\"\")","v":""},{"$f":"IFERROR(IF(ISBLANK(INDEX(DetalhesDoProjeto[#Data],ROW(A184)+1,1)),\"\",IF($J188-1<=-1,\"\",$J188-1)),\"\")","v":""},null,null,{"$f":"IFERROR(DadosdeLinhadoTempodoProjeto[[#This Row],[NUM]]+1,\"\")","v":""},{"$f":"IFERROR(VLOOKUP(LinhadoTempoClassificada[[#This Row],[POSIÇÃO classificada]],DadosdeLinhadoTempodoProjeto[],3,0),\"\")","v":""},{"$f":"IFERROR(VLOOKUP(LinhadoTempoClassificada[[#This Row],[POSIÇÃO classificada]],DadosdeLinhadoTempodoProjeto[],4,0),\"\")","v":""},{"$f":"IFERROR(VLOOKUP(LinhadoTempoClassificada[[#This Row],[POSIÇÃO classificada]],DadosdeLinhadoTempodoProjeto[],5,0),\"\")","v":""}]
[{"$nulls":4},{"$f":"IFERROR(RANK(F190,DadosdeLinhadoTempodoProjeto[CLASSIFICAÇÃO])+SUMPRODUCT(--(F190=DadosdeLinhadoTempodoProjeto[CLASSIFICAÇÃO]),--(J190<DadosdeLinhadoTempodoProjeto[NUM])),\"\")","v":""},{"$f":"IFERROR(RANK(DadosdeLinhadoTempodoProjeto[[#This Row],[DATA]],DadosdeLinhadoTempodoProjeto[DATA],1),\"\")","v":""},{"$f":"IFERROR(IF(ISBLANK(INDEX(DetalhesDoProjeto[#Data],Última_entrada_do_projeto-Linha_de_início_do_projeto-DadosdeLinhadoTempodoProjeto[[#This Row],[NUM]]+1,1)),\"\",INDEX(DetalhesDoProjeto[#Data],Última_entrada_do_projeto-Linha_de_início_do_projeto-DadosdeLinhadoTempodoProjeto[[#This Row],[NUM]]+1,1)),\"\")","v":""},{"$f":"IFERROR(IF(ISBLANK(INDEX(DetalhesDoProjeto[#Data],Última_entrada_do_projeto-Linha_de_início_do_projeto-DadosdeLinhadoTempodoProjeto[[#This Row],[NUM]]+1,2)),\"\",INDEX(DetalhesDoProjeto[#Data],Última_entrada_do_projeto-Linha_de_início_do_projeto-DadosdeLinhadoTempodoProjeto[[#This Row],[NUM]]+1,2)),\"\")","v":""},{"$f":"IFERROR(IF(ISBLANK(INDEX(DetalhesDoProjeto[#Data],Última_entrada_do_projeto-Linha_de_início_do_projeto-DadosdeLinhadoTempodoProjeto[[#This Row],[NUM]]+1,3)),\"\",INDEX(DetalhesDoProjeto[#Data],Última_entrada_do_projeto-Linha_de_início_do_projeto-DadosdeLinhadoTempodoProjeto[[#This Row],[NUM]]+1,3)),\"\")","v":""},{"$f":"IFERROR(IF(ISBLANK(INDEX(DetalhesDoProjeto[#Data],ROW(A185)+1,1)),\"\",IF($J189-1<=-1,\"\",$J189-1)),\"\")","v":""},null,null,{"$f":"IFERROR(DadosdeLinhadoTempodoProjeto[[#This Row],[NUM]]+1,\"\")","v":""},{"$f":"IFERROR(VLOOKUP(LinhadoTempoClassificada[[#This Row],[POSIÇÃO classificada]],DadosdeLinhadoTempodoProjeto[],3,0),\"\")","v":""},{"$f":"IFERROR(VLOOKUP(LinhadoTempoClassificada[[#This Row],[POSIÇÃO classificada]],DadosdeLinhadoTempodoProjeto[],4,0),\"\")","v":""},{"$f":"IFERROR(VLOOKUP(LinhadoTempoClassificada[[#This Row],[POSIÇÃO classificada]],DadosdeLinhadoTempodoProjeto[],5,0),\"\")","v":""}]
[{"$nulls":4},{"$f":"IFERROR(RANK(F191,DadosdeLinhadoTempodoProjeto[CLASSIFICAÇÃO])+SUMPRODUCT(--(F191=DadosdeLinhadoTempodoProjeto[CLASSIFICAÇÃO]),--(J191<DadosdeLinhadoTempodoProjeto[NUM])),\"\")","v":""},{"$f":"IFERROR(RANK(DadosdeLinhadoTempodoProjeto[[#This Row],[DATA]],DadosdeLinhadoTempodoProjeto[DATA],1),\"\")","v":""},{"$f":"IFERROR(IF(ISBLANK(INDEX(DetalhesDoProjeto[#Data],Última_entrada_do_projeto-Linha_de_início_do_projeto-DadosdeLinhadoTempodoProjeto[[#This Row],[NUM]]+1,1)),\"\",INDEX(DetalhesDoProjeto[#Data],Última_entrada_do_projeto-Linha_de_início_do_projeto-DadosdeLinhadoTempodoProjeto[[#This Row],[NUM]]+1,1)),\"\")","v":""},{"$f":"IFERROR(IF(ISBLANK(INDEX(DetalhesDoProjeto[#Data],Última_entrada_do_projeto-Linha_de_início_do_projeto-DadosdeLinhadoTempodoProjeto[[#This Row],[NUM]]+1,2)),\"\",INDEX(DetalhesDoProjeto[#Data],Última_entrada_do_projeto-Linha_de_início_do_projeto-DadosdeLinhadoTempodoProjeto[[#This Row],[NUM]]+1,2)),\"\")","v":""},{"$f":"IFERROR(IF(ISBLANK(INDEX(DetalhesDoProjeto[#Data],Última_entrada_do_projeto-Linha_de_início_do_projeto-DadosdeLinhadoTempodoProjeto[[#This Row],[NUM]]+1,3)),\"\",INDEX(DetalhesDoProjeto[#Data],Última_entrada_do_projeto-Linha_de_início_do_projeto-DadosdeLinhadoTempodoProjeto[[#This Row],[NUM]]+1,3)),\"\")","v":""},{"$f":"IFERROR(IF(ISBLANK(INDEX(DetalhesDoProjeto[#Data],ROW(A186)+1,1)),\"\",IF($J190-1<=-1,\"\",$J190-1)),\"\")","v":""},null,null,{"$f":"IFERROR(DadosdeLinhadoTempodoProjeto[[#This Row],[NUM]]+1,\"\")","v":""},{"$f":"IFERROR(VLOOKUP(LinhadoTempoClassificada[[#This Row],[POSIÇÃO classificada]],DadosdeLinhadoTempodoProjeto[],3,0),\"\")","v":""},{"$f":"IFERROR(VLOOKUP(LinhadoTempoClassificada[[#This Row],[POSIÇÃO classificada]],DadosdeLinhadoTempodoProjeto[],4,0),\"\")","v":""},{"$f":"IFERROR(VLOOKUP(LinhadoTempoClassificada[[#This Row],[POSIÇÃO classificada]],DadosdeLinhadoTempodoProjeto[],5,0),\"\")","v":""}]
[{"$nulls":4},{"$f":"IFERROR(RANK(F192,DadosdeLinhadoTempodoProjeto[CLASSIFICAÇÃO])+SUMPRODUCT(--(F192=DadosdeLinhadoTempodoProjeto[CLASSIFICAÇÃO]),--(J192<DadosdeLinhadoTempodoProjeto[NUM])),\"\")","v":""},{"$f":"IFERROR(RANK(DadosdeLinhadoTempodoProjeto[[#This Row],[DATA]],DadosdeLinhadoTempodoProjeto[DATA],1),\"\")","v":""},{"$f":"IFERROR(IF(ISBLANK(INDEX(DetalhesDoProjeto[#Data],Última_entrada_do_projeto-Linha_de_início_do_projeto-DadosdeLinhadoTempodoProjeto[[#This Row],[NUM]]+1,1)),\"\",INDEX(DetalhesDoProjeto[#Data],Última_entrada_do_projeto-Linha_de_início_do_projeto-DadosdeLinhadoTempodoProjeto[[#This Row],[NUM]]+1,1)),\"\")","v":""},{"$f":"IFERROR(IF(ISBLANK(INDEX(DetalhesDoProjeto[#Data],Última_entrada_do_projeto-Linha_de_início_do_projeto-DadosdeLinhadoTempodoProjeto[[#This Row],[NUM]]+1,2)),\"\",INDEX(DetalhesDoProjeto[#Data],Última_entrada_do_projeto-Linha_de_início_do_projeto-DadosdeLinhadoTempodoProjeto[[#This Row],[NUM]]+1,2)),\"\")","v":""},{"$f":"IFERROR(IF(ISBLANK(INDEX(DetalhesDoProjeto[#Data],Última_entrada_do_projeto-Linha_de_início_do_projeto-DadosdeLinhadoTempodoProjeto[[#This Row],[NUM]]+1,3)),\"\",INDEX(DetalhesDoProjeto[#Data],Última_entrada_do_projeto-Linha_de_início_do_projeto-DadosdeLinhadoTempodoProjeto[[#This Row],[NUM]]+1,3)),\"\")","v":""},{"$f":"IFERROR(IF(ISBLANK(INDEX(DetalhesDoProjeto[#Data],ROW(A187)+1,1)),\"\",IF($J191-1<=-1,\"\",$J191-1)),\"\")","v":""},null,null,{"$f":"IFERROR(DadosdeLinhadoTempodoProjeto[[#This Row],[NUM]]+1,\"\")","v":""},{"$f":"IFERROR(VLOOKUP(LinhadoTempoClassificada[[#This Row],[POSIÇÃO classificada]],DadosdeLinhadoTempodoProjeto[],3,0),\"\")","v":""},{"$f":"IFERROR(VLOOKUP(LinhadoTempoClassificada[[#This Row],[POSIÇÃO classificada]],DadosdeLinhadoTempodoProjeto[],4,0),\"\")","v":""},{"$f":"IFERROR(VLOOKUP(LinhadoTempoClassificada[[#This Row],[POSIÇÃO classificada]],DadosdeLinhadoTempodoProjeto[],5,0),\"\")","v":""}]
[{"$nulls":4},{"$f":"IFERROR(RANK(F193,DadosdeLinhadoTempodoProjeto[CLASSIFICAÇÃO])+SUMPRODUCT(--(F193=DadosdeLinhadoTempodoProjeto[CLASSIFICAÇÃO]),--(J193<DadosdeLinhadoTempodoProjeto[NUM])),\"\")","v":""},{"$f":"IFERROR(RANK(DadosdeLinhadoTempodoProjeto[[#This Row],[DATA]],DadosdeLinhadoTempodoProjeto[DATA],1),\"\")","v":""},{"$f":"IFERROR(IF(ISBLANK(INDEX(DetalhesDoProjeto[#Data],Última_entrada_do_projeto-Linha_de_início_do_projeto-DadosdeLinhadoTempodoProjeto[[#This Row],[NUM]]+1,1)),\"\",INDEX(DetalhesDoProjeto[#Data],Última_entrada_do_projeto-Linha_de_início_do_projeto-DadosdeLinhadoTempodoProjeto[[#This Row],[NUM]]+1,1)),\"\")","v":""},{"$f":"IFERROR(IF(ISBLANK(INDEX(DetalhesDoProjeto[#Data],Última_entrada_do_projeto-Linha_de_início_do_projeto-DadosdeLinhadoTempodoProjeto[[#This Row],[NUM]]+1,2)),\"\",INDEX(DetalhesDoProjeto[#Data],Última_entrada_do_projeto-Linha_de_início_do_projeto-DadosdeLinhadoTempodoProjeto[[#This Row],[NUM]]+1,2)),\"\")","v":""},{"$f":"IFERROR(IF(ISBLANK(INDEX(DetalhesDoProjeto[#Data],Última_entrada_do_projeto-Linha_de_início_do_projeto-DadosdeLinhadoTempodoProjeto[[#This Row],[NUM]]+1,3)),\"\",INDEX(DetalhesDoProjeto[#Data],Última_entrada_do_projeto-Linha_de_início_do_projeto-DadosdeLinhadoTempodoProjeto[[#This Row],[NUM]]+1,3)),\"\")","v":""},{"$f":"IFERROR(IF(ISBLANK(INDEX(DetalhesDoProjeto[#Data],ROW(A188)+1,1)),\"\",IF($J192-1<=-1,\"\",$J192-1)),\"\")","v":""},null,null,{"$f":"IFERROR(DadosdeLinhadoTempodoProjeto[[#This Row],[NUM]]+1,\"\")","v":""},{"$f":"IFERROR(VLOOKUP(LinhadoTempoClassificada[[#This Row],[POSIÇÃO classificada]],DadosdeLinhadoTempodoProjeto[],3,0),\"\")","v":""},{"$f":"IFERROR(VLOOKUP(LinhadoTempoClassificada[[#This Row],[POSIÇÃO classificada]],DadosdeLinhadoTempodoProjeto[],4,0),\"\")","v":""},{"$f":"IFERROR(VLOOKUP(LinhadoTempoClassificada[[#This Row],[POSIÇÃO classificada]],DadosdeLinhadoTempodoProjeto[],5,0),\"\")","v":""}]
[{"$nulls":4},{"$f":"IFERROR(RANK(F194,DadosdeLinhadoTempodoProjeto[CLASSIFICAÇÃO])+SUMPRODUCT(--(F194=DadosdeLinhadoTempodoProjeto[CLASSIFICAÇÃO]),--(J194<DadosdeLinhadoTempodoProjeto[NUM])),\"\")","v":""},{"$f":"IFERROR(RANK(DadosdeLinhadoTempodoProjeto[[#This Row],[DATA]],DadosdeLinhadoTempodoProjeto[DATA],1),\"\")","v":""},{"$f":"IFERROR(IF(ISBLANK(INDEX(DetalhesDoProjeto[#Data],Última_entrada_do_projeto-Linha_de_início_do_projeto-DadosdeLinhadoTempodoProjeto[[#This Row],[NUM]]+1,1)),\"\",INDEX(DetalhesDoProjeto[#Data],Última_entrada_do_projeto-Linha_de_início_do_projeto-DadosdeLinhadoTempodoProjeto[[#This Row],[NUM]]+1,1)),\"\")","v":""},{"$f":"IFERROR(IF(ISBLANK(INDEX(DetalhesDoProjeto[#Data],Última_entrada_do_projeto-Linha_de_início_do_projeto-DadosdeLinhadoTempodoProjeto[[#This Row],[NUM]]+1,2)),\"\",INDEX(DetalhesDoProjeto[#Data],Última_entrada_do_projeto-Linha_de_início_do_projeto-DadosdeLinhadoTempodoProjeto[[#This Row],[NUM]]+1,2)),\"\")","v":""},{"$f":"IFERROR(IF(ISBLANK(INDEX(DetalhesDoProjeto[#Data],Última_entrada_do_projeto-Linha_de_início_do_projeto-DadosdeLinhadoTempodoProjeto[[#This Row],[NUM]]+1,3)),\"\",INDEX(DetalhesDoProjeto[#Data],Última_entrada_do_projeto-Linha_de_início_do_projeto-DadosdeLinhadoTempodoProjeto[[#This Row],[NUM]]+1,3)),\"\")","v":""},{"$f":"IFERROR(IF(ISBLANK(INDEX(DetalhesDoProjeto[#Data],ROW(A189)+1,1)),\"\",IF($J193-1<=-1,\"\",$J193-1)),\"\")","v":""},null,null,{"$f":"IFERROR(DadosdeLinhadoTempodoProjeto[[#This Row],[NUM]]+1,\"\")","v":""},{"$f":"IFERROR(VLOOKUP(LinhadoTempoClassificada[[#This Row],[POSIÇÃO classificada]],DadosdeLinhadoTempodoProjeto[],3,0),\"\")","v":""},{"$f":"IFERROR(VLOOKUP(LinhadoTempoClassificada[[#This Row],[POSIÇÃO classificada]],DadosdeLinhadoTempodoProjeto[],4,0),\"\")","v":""},{"$f":"IFERROR(VLOOKUP(LinhadoTempoClassificada[[#This Row],[POSIÇÃO classificada]],DadosdeLinhadoTempodoProjeto[],5,0),\"\")","v":""}]
[{"$nulls":4},{"$f":"IFERROR(RANK(F195,DadosdeLinhadoTempodoProjeto[CLASSIFICAÇÃO])+SUMPRODUCT(--(F195=DadosdeLinhadoTempodoProjeto[CLASSIFICAÇÃO]),--(J195<DadosdeLinhadoTempodoProjeto[NUM])),\"\")","v":""},{"$f":"IFERROR(RANK(DadosdeLinhadoTempodoProjeto[[#This Row],[DATA]],DadosdeLinhadoTempodoProjeto[DATA],1),\"\")","v":""},{"$f":"IFERROR(IF(ISBLANK(INDEX(DetalhesDoProjeto[#Data],Última_entrada_do_projeto-Linha_de_início_do_projeto-DadosdeLinhadoTempodoProjeto[[#This Row],[NUM]]+1,1)),\"\",INDEX(DetalhesDoProjeto[#Data],Última_entrada_do_projeto-Linha_de_início_do_projeto-DadosdeLinhadoTempodoProjeto[[#This Row],[NUM]]+1,1)),\"\")","v":""},{"$f":"IFERROR(IF(ISBLANK(INDEX(DetalhesDoProjeto[#Data],Última_entrada_do_projeto-Linha_de_início_do_projeto-DadosdeLinhadoTempodoProjeto[[#This Row],[NUM]]+1,2)),\"\",INDEX(DetalhesDoProjeto[#Data],Última_entrada_do_projeto-Linha_de_início_do_projeto-DadosdeLinhadoTempodoProjeto[[#This Row],[NUM]]+1,2)),\"\")","v":""},{"$f":"IFERROR(IF(ISBLANK(INDEX(DetalhesDoProjeto[#Data],Última_entrada_do_projeto-Linha_de_início_do_projeto-DadosdeLinhadoTempodoProjeto[[#This Row],[NUM]]+1,3)),\"\",INDEX(DetalhesDoProjeto[#Data],Última_entrada_do_projeto-Linha_de_início_do_projeto-DadosdeLinhadoTempodoProjeto[[#This Row],[NUM]]+1,3)),\"\")","v":""},{"$f":"IFERROR(IF(ISBLANK(INDEX(DetalhesDoProjeto[#Data],ROW(A190)+1,1)),\"\",IF($J194-1<=-1,\"\",$J194-1)),\"\")","v":""},null,null,{"$f":"IFERROR(DadosdeLinhadoTempodoProjeto[[#This Row],[NUM]]+1,\"\")","v":""},{"$f":"IFERROR(VLOOKUP(LinhadoTempoClassificada[[#This Row],[POSIÇÃO classificada]],DadosdeLinhadoTempodoProjeto[],3,0),\"\")","v":""},{"$f":"IFERROR(VLOOKUP(LinhadoTempoClassificada[[#This Row],[POSIÇÃO classificada]],DadosdeLinhadoTempodoProjeto[],4,0),\"\")","v":""},{"$f":"IFERROR(VLOOKUP(LinhadoTempoClassificada[[#This Row],[POSIÇÃO classificada]],DadosdeLinhadoTempodoProjeto[],5,0),\"\")","v":""}]
[{"$nulls":4},{"$f":"IFERROR(RANK(F196,DadosdeLinhadoTempodoProjeto[CLASSIFICAÇÃO])+SUMPRODUCT(--(F196=DadosdeLinhadoTempodoProjeto[CLASSIFICAÇÃO]),--(J196<DadosdeLinhadoTempodoProjeto[NUM])),\"\")","v":""},{"$f":"IFERROR(RANK(DadosdeLinhadoTempodoProjeto[[#This Row],[DATA]],DadosdeLinhadoTempodoProjeto[DATA],1),\"\")","v":""},{"$f":"IFERROR(IF(ISBLANK(INDEX(DetalhesDoProjeto[#Data],Última_entrada_do_projeto-Linha_de_início_do_projeto-DadosdeLinhadoTempodoProjeto[[#This Row],[NUM]]+1,1)),\"\",INDEX(DetalhesDoProjeto[#Data],Última_entrada_do_projeto-Linha_de_início_do_projeto-DadosdeLinhadoTempodoProjeto[[#This Row],[NUM]]+1,1)),\"\")","v":""},{"$f":"IFERROR(IF(ISBLANK(INDEX(DetalhesDoProjeto[#Data],Última_entrada_do_projeto-Linha_de_início_do_projeto-DadosdeLinhadoTempodoProjeto[[#This Row],[NUM]]+1,2)),\"\",INDEX(DetalhesDoProjeto[#Data],Última_entrada_do_projeto-Linha_de_início_do_projeto-DadosdeLinhadoTempodoProjeto[[#This Row],[NUM]]+1,2)),\"\")","v":""},{"$f":"IFERROR(IF(ISBLANK(INDEX(DetalhesDoProjeto[#Data],Última_entrada_do_projeto-Linha_de_início_do_projeto-DadosdeLinhadoTempodoProjeto[[#This Row],[NUM]]+1,3)),\"\",INDEX(DetalhesDoProjeto[#Data],Última_entrada_do_projeto-Linha_de_início_do_projeto-DadosdeLinhadoTempodoProjeto[[#This Row],[NUM]]+1,3)),\"\")","v":""},{"$f":"IFERROR(IF(ISBLANK(INDEX(DetalhesDoProjeto[#Data],ROW(A191)+1,1)),\"\",IF($J195-1<=-1,\"\",$J195-1)),\"\")","v":""},null,null,{"$f":"IFERROR(DadosdeLinhadoTempodoProjeto[[#This Row],[NUM]]+1,\"\")","v":""},{"$f":"IFERROR(VLOOKUP(LinhadoTempoClassificada[[#This Row],[POSIÇÃO classificada]],DadosdeLinhadoTempodoProjeto[],3,0),\"\")","v":""},{"$f":"IFERROR(VLOOKUP(LinhadoTempoClassificada[[#This Row],[POSIÇÃO classificada]],DadosdeLinhadoTempodoProjeto[],4,0),\"\")","v":""},{"$f":"IFERROR(VLOOKUP(LinhadoTempoClassificada[[#This Row],[POSIÇÃO classificada]],DadosdeLinhadoTempodoProjeto[],5,0),\"\")","v":""}]
[{"$nulls":4},{"$f":"IFERROR(RANK(F197,DadosdeLinhadoTempodoProjeto[CLASSIFICAÇÃO])+SUMPRODUCT(--(F197=DadosdeLinhadoTempodoProjeto[CLASSIFICAÇÃO]),--(J197<DadosdeLinhadoTempodoProjeto[NUM])),\"\")","v":""},{"$f":"IFERROR(RANK(DadosdeLinhadoTempodoProjeto[[#This Row],[DATA]],DadosdeLinhadoTempodoProjeto[DATA],1),\"\")","v":""},{"$f":"IFERROR(IF(ISBLANK(INDEX(DetalhesDoProjeto[#Data],Última_entrada_do_projeto-Linha_de_início_do_projeto-DadosdeLinhadoTempodoProjeto[[#This Row],[NUM]]+1,1)),\"\",INDEX(DetalhesDoProjeto[#Data],Última_entrada_do_projeto-Linha_de_início_do_projeto-DadosdeLinhadoTempodoProjeto[[#This Row],[NUM]]+1,1)),\"\")","v":""},{"$f":"IFERROR(IF(ISBLANK(INDEX(DetalhesDoProjeto[#Data],Última_entrada_do_projeto-Linha_de_início_do_projeto-DadosdeLinhadoTempodoProjeto[[#This Row],[NUM]]+1,2)),\"\",INDEX(DetalhesDoProjeto[#Data],Última_entrada_do_projeto-Linha_de_início_do_projeto-DadosdeLinhadoTempodoProjeto[[#This Row],[NUM]]+1,2)),\"\")","v":""},{"$f":"IFERROR(IF(ISBLANK(INDEX(DetalhesDoProjeto[#Data],Última_entrada_do_projeto-Linha_de_início_do_projeto-DadosdeLinhadoTempodoProjeto[[#This Row],[NUM]]+1,3)),\"\",INDEX(DetalhesDoProjeto[#Data],Última_entrada_do_projeto-Linha_de_início_do_projeto-DadosdeLinhadoTempodoProjeto[[#This Row],[NUM]]+1,3)),\"\")","v":""},{"$f":"IFERROR(IF(ISBLANK(INDEX(DetalhesDoProjeto[#Data],ROW(A192)+1,1)),\"\",IF($J196-1<=-1,\"\",$J196-1)),\"\")","v":""},null,null,{"$f":"IFERROR(DadosdeLinhadoTempodoProjeto[[#This Row],[NUM]]+1,\"\")","v":""},{"$f":"IFERROR(VLOOKUP(LinhadoTempoClassificada[[#This Row],[POSIÇÃO classificada]],DadosdeLinhadoTempodoProjeto[],3,0),\"\")","v":""},{"$f":"IFERROR(VLOOKUP(LinhadoTempoClassificada[[#This Row],[POSIÇÃO classificada]],DadosdeLinhadoTempodoProjeto[],4,0),\"\")","v":""},{"$f":"IFERROR(VLOOKUP(LinhadoTempoClassificada[[#This Row],[POSIÇÃO classificada]],DadosdeLinhadoTempodoProjeto[],5,0),\"\")","v":""}]
[{"$nulls":4},{"$f":"IFERROR(RANK(F198,DadosdeLinhadoTempodoProjeto[CLASSIFICAÇÃO])+SUMPRODUCT(--(F198=DadosdeLinhadoTempodoProjeto[CLASSIFICAÇÃO]),--(J198<DadosdeLinhadoTempodoProjeto[NUM])),\"\")","v":""},{"$f":"IFERROR(RANK(DadosdeLinhadoTempodoProjeto[[#This Row],[DATA]],DadosdeLinhadoTempodoProjeto[DATA],1),\"\")","v":""},{"$f":"IFERROR(IF(ISBLANK(INDEX(DetalhesDoProjeto[#Data],Última_entrada_do_projeto-Linha_de_início_do_projeto-DadosdeLinhadoTempodoProjeto[[#This Row],[NUM]]+1,1)),\"\",INDEX(DetalhesDoProjeto[#Data],Última_entrada_do_projeto-Linha_de_início_do_projeto-DadosdeLinhadoTempodoProjeto[[#This Row],[NUM]]+1,1)),\"\")","v":""},{"$f":"IFERROR(IF(ISBLANK(INDEX(DetalhesDoProjeto[#Data],Última_entrada_do_projeto-Linha_de_início_do_projeto-DadosdeLinhadoTempodoProjeto[[#This Row],[NUM]]+1,2)),\"\",INDEX(DetalhesDoProjeto[#Data],Última_entrada_do_projeto-Linha_de_início_do_projeto-DadosdeLinhadoTempodoProjeto[[#This Row],[NUM]]+1,2)),\"\")","v":""},{"$f":"IFERROR(IF(ISBLANK(INDEX(DetalhesDoProjeto[#Data],Última_entrada_do_projeto-Linha_de_início_do_projeto-DadosdeLinhadoTempodoProjeto[[#This Row],[NUM]]+1,3)),\"\",INDEX(DetalhesDoProjeto[#Data],Última_entrada_do_projeto-Linha_de_início_do_projeto-DadosdeLinhadoTempodoProjeto[[#This Row],[NUM]]+1,3)),\"\")","v":""},{"$f":"IFERROR(IF(ISBLANK(INDEX(DetalhesDoProjeto[#Data],ROW(A193)+1,1)),\"\",IF($J197-1<=-1,\"\",$J197-1)),\"\")","v":""},null,null,{"$f":"IFERROR(DadosdeLinhadoTempodoProjeto[[#This Row],[NUM]]+1,\"\")","v":""},{"$f":"IFERROR(VLOOKUP(LinhadoTempoClassificada[[#This Row],[POSIÇÃO classificada]],DadosdeLinhadoTempodoProjeto[],3,0),\"\")","v":""},{"$f":"IFERROR(VLOOKUP(LinhadoTempoClassificada[[#This Row],[POSIÇÃO classificada]],DadosdeLinhadoTempodoProjeto[],4,0),\"\")","v":""},{"$f":"IFERROR(VLOOKUP(LinhadoTempoClassificada[[#This Row],[POSIÇÃO classificada]],DadosdeLinhadoTempodoProjeto[],5,0),\"\")","v":""}]
[{"$nulls":4},{"$f":"IFERROR(RANK(F199,DadosdeLinhadoTempodoProjeto[CLASSIFICAÇÃO])+SUMPRODUCT(--(F199=DadosdeLinhadoTempodoProjeto[CLASSIFICAÇÃO]),--(J199<DadosdeLinhadoTempodoProjeto[NUM])),\"\")","v":""},{"$f":"IFERROR(RANK(DadosdeLinhadoTempodoProjeto[[#This Row],[DATA]],DadosdeLinhadoTempodoProjeto[DATA],1),\"\")","v":""},{"$f":"IFERROR(IF(ISBLANK(INDEX(DetalhesDoProjeto[#Data],Última_entrada_do_projeto-Linha_de_início_do_projeto-DadosdeLinhadoTempodoProjeto[[#This Row],[NUM]]+1,1)),\"\",INDEX(DetalhesDoProjeto[#Data],Última_entrada_do_projeto-Linha_de_início_do_projeto-DadosdeLinhadoTempodoProjeto[[#This Row],[NUM]]+1,1)),\"\")","v":""},{"$f":"IFERROR(IF(ISBLANK(INDEX(DetalhesDoProjeto[#Data],Última_entrada_do_projeto-Linha_de_início_do_projeto-DadosdeLinhadoTempodoProjeto[[#This Row],[NUM]]+1,2)),\"\",INDEX(DetalhesDoProjeto[#Data],Última_entrada_do_projeto-Linha_de_início_do_projeto-DadosdeLinhadoTempodoProjeto[[#This Row],[NUM]]+1,2)),\"\")","v":""},{"$f":"IFERROR(IF(ISBLANK(INDEX(DetalhesDoProjeto[#Data],Última_entrada_do_projeto-Linha_de_início_do_projeto-DadosdeLinhadoTempodoProjeto[[#This Row],[NUM]]+1,3)),\"\",INDEX(DetalhesDoProjeto[#Data],Última_entrada_do_projeto-Linha_de_início_do_projeto-DadosdeLinhadoTempodoProjeto[[#This Row],[NUM]]+1,3)),\"\")","v":""},{"$f":"IFERROR(IF(ISBLANK(INDEX(DetalhesDoProjeto[#Data],ROW(A194)+1,1)),\"\",IF($J198-1<=-1,\"\",$J198-1)),\"\")","v":""},null,null,{"$f":"IFERROR(DadosdeLinhadoTempodoProjeto[[#This Row],[NUM]]+1,\"\")","v":""},{"$f":"IFERROR(VLOOKUP(LinhadoTempoClassificada[[#This Row],[POSIÇÃO classificada]],DadosdeLinhadoTempodoProjeto[],3,0),\"\")","v":""},{"$f":"IFERROR(VLOOKUP(LinhadoTempoClassificada[[#This Row],[POSIÇÃO classificada]],DadosdeLinhadoTempodoProjeto[],4,0),\"\")","v":""},{"$f":"IFERROR(VLOOKUP(LinhadoTempoClassificada[[#This Row],[POSIÇÃO classificada]],DadosdeLinhadoTempodoProjeto[],5,0),\"\")","v":""}]
[{"$nulls":4},{"$f":"IFERROR(RANK(F200,DadosdeLinhadoTempodoProjeto[CLASSIFICAÇÃO])+SUMPRODUCT(--(F200=DadosdeLinhadoTempodoProjeto[CLASSIFICAÇÃO]),--(J200<DadosdeLinhadoTempodoProjeto[NUM])),\"\")","v":""},{"$f":"IFERROR(RANK(DadosdeLinhadoTempodoProjeto[[#This Row],[DATA]],DadosdeLinhadoTempodoProjeto[DATA],1),\"\")","v":""},{"$f":"IFERROR(IF(ISBLANK(INDEX(DetalhesDoProjeto[#Data],Última_entrada_do_projeto-Linha_de_início_do_projeto-DadosdeLinhadoTempodoProjeto[[#This Row],[NUM]]+1,1)),\"\",INDEX(DetalhesDoProjeto[#Data],Última_entrada_do_projeto-Linha_de_início_do_projeto-DadosdeLinhadoTempodoProjeto[[#This Row],[NUM]]+1,1)),\"\")","v":""},{"$f":"IFERROR(IF(ISBLANK(INDEX(DetalhesDoProjeto[#Data],Última_entrada_do_projeto-Linha_de_início_do_projeto-DadosdeLinhadoTempodoProjeto[[#This Row],[NUM]]+1,2)),\"\",INDEX(DetalhesDoProjeto[#Data],Última_entrada_do_projeto-Linha_de_início_do_projeto-DadosdeLinhadoTempodoProjeto[[#This Row],[NUM]]+1,2)),\"\")","v":""},{"$f":"IFERROR(IF(ISBLANK(INDEX(DetalhesDoProjeto[#Data],Última_entrada_do_projeto-Linha_de_início_do_projeto-DadosdeLinhadoTempodoProjeto[[#This Row],[NUM]]+1,3)),\"\",INDEX(DetalhesDoProjeto[#Data],Última_entrada_do_projeto-Linha_de_início_do_projeto-DadosdeLinhadoTempodoProjeto[[#This Row],[NUM]]+1,3)),\"\")","v":""},{"$f":"IFERROR(IF(ISBLANK(INDEX(DetalhesDoProjeto[#Data],ROW(A195)+1,1)),\"\",IF($J199-1<=-1,\"\",$J199-1)),\"\")","v":""},null,null,{"$f":"IFERROR(DadosdeLinhadoTempodoProjeto[[#This Row],[NUM]]+1,\"\")","v":""},{"$f":"IFERROR(VLOOKUP(LinhadoTempoClassificada[[#This Row],[POSIÇÃO classificada]],DadosdeLinhadoTempodoProjeto[],3,0),\"\")","v":""},{"$f":"IFERROR(VLOOKUP(LinhadoTempoClassificada[[#This Row],[POSIÇÃO classificada]],DadosdeLinhadoTempodoProjeto[],4,0),\"\")","v":""},{"$f":"IFERROR(VLOOKUP(LinhadoTempoClassificada[[#This Row],[POSIÇÃO classificada]],DadosdeLinhadoTempodoProjeto[],5,0),\"\")","v":""}]
[{"$nulls":4},{"$f":"IFERROR(RANK(F201,DadosdeLinhadoTempodoProjeto[CLASSIFICAÇÃO])+SUMPRODUCT(--(F201=DadosdeLinhadoTempodoProjeto[CLASSIFICAÇÃO]),--(J201<DadosdeLinhadoTempodoProjeto[NUM])),\"\")","v":""},{"$f":"IFERROR(RANK(DadosdeLinhadoTempodoProjeto[[#This Row],[DATA]],DadosdeLinhadoTempodoProjeto[DATA],1),\"\")","v":""},{"$f":"IFERROR(IF(ISBLANK(INDEX(DetalhesDoProjeto[#Data],Última_entrada_do_projeto-Linha_de_início_do_projeto-DadosdeLinhadoTempodoProjeto[[#This Row],[NUM]]+1,1)),\"\",INDEX(DetalhesDoProjeto[#Data],Última_entrada_do_projeto-Linha_de_início_do_projeto-DadosdeLinhadoTempodoProjeto[[#This Row],[NUM]]+1,1)),\"\")","v":""},{"$f":"IFERROR(IF(ISBLANK(INDEX(DetalhesDoProjeto[#Data],Última_entrada_do_projeto-Linha_de_início_do_projeto-DadosdeLinhadoTempodoProjeto[[#This Row],[NUM]]+1,2)),\"\",INDEX(DetalhesDoProjeto[#Data],Última_entrada_do_projeto-Linha_de_início_do_projeto-DadosdeLinhadoTempodoProjeto[[#This Row],[NUM]]+1,2)),\"\")","v":""},{"$f":"IFERROR(IF(ISBLANK(INDEX(DetalhesDoProjeto[#Data],Última_entrada_do_projeto-Linha_de_início_do_projeto-DadosdeLinhadoTempodoProjeto[[#This Row],[NUM]]+1,3)),\"\",INDEX(DetalhesDoProjeto[#Data],Última_entrada_do_projeto-Linha_de_início_do_projeto-DadosdeLinhadoTempodoProjeto[[#This Row],[NUM]]+1,3)),\"\")","v":""},{"$f":"IFERROR(IF(ISBLANK(INDEX(DetalhesDoProjeto[#Data],ROW(A196)+1,1)),\"\",IF($J200-1<=-1,\"\",$J200-1)),\"\")","v":""},null,null,{"$f":"IFERROR(DadosdeLinhadoTempodoProjeto[[#This Row],[NUM]]+1,\"\")","v":""},{"$f":"IFERROR(VLOOKUP(LinhadoTempoClassificada[[#This Row],[POSIÇÃO classificada]],DadosdeLinhadoTempodoProjeto[],3,0),\"\")","v":""},{"$f":"IFERROR(VLOOKUP(LinhadoTempoClassificada[[#This Row],[POSIÇÃO classificada]],DadosdeLinhadoTempodoProjeto[],4,0),\"\")","v":""},{"$f":"IFERROR(VLOOKUP(LinhadoTempoClassificada[[#This Row],[POSIÇÃO classificada]],DadosdeLinhadoTempodoProjeto[],5,0),\"\")","v":""}]
[{"$nulls":4},{"$f":"IFERROR(RANK(F202,DadosdeLinhadoTempodoProjeto[CLASSIFICAÇÃO])+SUMPRODUCT(--(F202=DadosdeLinhadoTempodoProjeto[CLASSIFICAÇÃO]),--(J202<DadosdeLinhadoTempodoProjeto[NUM])),\"\")","v":""},{"$f":"IFERROR(RANK(DadosdeLinhadoTempodoProjeto[[#This Row],[DATA]],DadosdeLinhadoTempodoProjeto[DATA],1),\"\")","v":""},{"$f":"IFERROR(IF(ISBLANK(INDEX(DetalhesDoProjeto[#Data],Última_entrada_do_projeto-Linha_de_início_do_projeto-DadosdeLinhadoTempodoProjeto[[#This Row],[NUM]]+1,1)),\"\",INDEX(DetalhesDoProjeto[#Data],Última_entrada_do_projeto-Linha_de_início_do_projeto-DadosdeLinhadoTempodoProjeto[[#This Row],[NUM]]+1,1)),\"\")","v":""},{"$f":"IFERROR(IF(ISBLANK(INDEX(DetalhesDoProjeto[#Data],Última_entrada_do_projeto-Linha_de_início_do_projeto-DadosdeLinhadoTempodoProjeto[[#This Row],[NUM]]+1,2)),\"\",INDEX(DetalhesDoProjeto[#Data],Última_entrada_do_projeto-Linha_de_início_do_projeto-DadosdeLinhadoTempodoProjeto[[#This Row],[NUM]]+1,2)),\"\")","v":""},{"$f":"IFERROR(IF(ISBLANK(INDEX(DetalhesDoProjeto[#Data],Última_entrada_do_projeto-Linha_de_início_do_projeto-DadosdeLinhadoTempodoProjeto[[#This Row],[NUM]]+1,3)),\"\",INDEX(DetalhesDoProjeto[#Data],Última_entrada_do_projeto-Linha_de_início_do_projeto-DadosdeLinhadoTempodoProjeto[[#This Row],[NUM]]+1,3)),\"\")","v":""},{"$f":"IFERROR(IF(ISBLANK(INDEX(DetalhesDoProjeto[#Data],ROW(A197)+1,1)),\"\",IF($J201-1<=-1,\"\",$J201-1)),\"\")","v":""},null,null,{"$f":"IFERROR(DadosdeLinhadoTempodoProjeto[[#This Row],[NUM]]+1,\"\")","v":""},{"$f":"IFERROR(VLOOKUP(LinhadoTempoClassificada[[#This Row],[POSIÇÃO classificada]],DadosdeLinhadoTempodoProjeto[],3,0),\"\")","v":""},{"$f":"IFERROR(VLOOKUP(LinhadoTempoClassificada[[#This Row],[POSIÇÃO classificada]],DadosdeLinhadoTempodoProjeto[],4,0),\"\")","v":""},{"$f":"IFERROR(VLOOKUP(LinhadoTempoClassificada[[#This Row],[POSIÇÃO classificada]],DadosdeLinhadoTempodoProjeto[],5,0),\"\")","v":""}]
[{"$nulls":4},{"$f":"IFERROR(RANK(F203,DadosdeLinhadoTempodoProjeto[CLASSIFICAÇÃO])+SUMPRODUCT(--(F203=DadosdeLinhadoTempodoProjeto[CLASSIFICAÇÃO]),--(J203<DadosdeLinhadoTempodoProjeto[NUM])),\"\")","v":""},{"$f":"IFERROR(RANK(DadosdeLinhadoTempodoProjeto[[#This Row],[DATA]],DadosdeLinhadoTempodoProjeto[DATA],1),\"\")","v":""},{"$f":"IFERROR(IF(ISBLANK(INDEX(DetalhesDoProjeto[#Data],Última_entrada_do_projeto-Linha_de_início_do_projeto-DadosdeLinhadoTempodoProjeto[[#This Row],[NUM]]+1,1)),\"\",INDEX(DetalhesDoProjeto[#Data],Última_entrada_do_projeto-Linha_de_início_do_projeto-DadosdeLinhadoTempodoProjeto[[#This Row],[NUM]]+1,1)),\"\")","v":""},{"$f":"IFERROR(IF(ISBLANK(INDEX(DetalhesDoProjeto[#Data],Última_entrada_do_projeto-Linha_de_início_do_projeto-DadosdeLinhadoTempodoProjeto[[#This Row],[NUM]]+1,2)),\"\",INDEX(DetalhesDoProjeto[#Data],Última_entrada_do_projeto-Linha_de_início_do_projeto-DadosdeLinhadoTempodoProjeto[[#This Row],[NUM]]+1,2)),\"\")","v":""},{"$f":"IFERROR(IF(ISBLANK(INDEX(DetalhesDoProjeto[#Data],Última_entrada_do_projeto-Linha_de_início_do_projeto-DadosdeLinhadoTempodoProjeto[[#This Row],[NUM]]+1,3)),\"\",INDEX(DetalhesDoProjeto[#Data],Última_entrada_do_projeto-Linha_de_início_do_projeto-DadosdeLinhadoTempodoProjeto[[#This Row],[NUM]]+1,3)),\"\")","v":""},{"$f":"IFERROR(IF(ISBLANK(INDEX(DetalhesDoProjeto[#Data],ROW(A198)+1,1)),\"\",IF($J202-1<=-1,\"\",$J202-1)),\"\")","v":""},null,null,{"$f":"IFERROR(DadosdeLinhadoTempodoProjeto[[#This Row],[NUM]]+1,\"\")","v":""},{"$f":"IFERROR(VLOOKUP(LinhadoTempoClassificada[[#This Row],[POSIÇÃO classificada]],DadosdeLinhadoTempodoProjeto[],3,0),\"\")","v":""},{"$f":"IFERROR(VLOOKUP(LinhadoTempoClassificada[[#This Row],[POSIÇÃO classificada]],DadosdeLinhadoTempodoProjeto[],4,0),\"\")","v":""},{"$f":"IFERROR(VLOOKUP(LinhadoTempoClassificada[[#This Row],[POSIÇÃO classificada]],DadosdeLinhadoTempodoProjeto[],5,0),\"\")","v":""}]
[{"$nulls":4},{"$f":"IFERROR(RANK(F204,DadosdeLinhadoTempodoProjeto[CLASSIFICAÇÃO])+SUMPRODUCT(--(F204=DadosdeLinhadoTempodoProjeto[CLASSIFICAÇÃO]),--(J204<DadosdeLinhadoTempodoProjeto[NUM])),\"\")","v":""},{"$f":"IFERROR(RANK(DadosdeLinhadoTempodoProjeto[[#This Row],[DATA]],DadosdeLinhadoTempodoProjeto[DATA],1),\"\")","v":""},{"$f":"IFERROR(IF(ISBLANK(INDEX(DetalhesDoProjeto[#Data],Última_entrada_do_projeto-Linha_de_início_do_projeto-DadosdeLinhadoTempodoProjeto[[#This Row],[NUM]]+1,1)),\"\",INDEX(DetalhesDoProjeto[#Data],Última_entrada_do_projeto-Linha_de_início_do_projeto-DadosdeLinhadoTempodoProjeto[[#This Row],[NUM]]+1,1)),\"\")","v":""},{"$f":"IFERROR(IF(ISBLANK(INDEX(DetalhesDoProjeto[#Data],Última_entrada_do_projeto-Linha_de_início_do_projeto-DadosdeLinhadoTempodoProjeto[[#This Row],[NUM]]+1,2)),\"\",INDEX(DetalhesDoProjeto[#Data],Última_entrada_do_projeto-Linha_de_início_do_projeto-DadosdeLinhadoTempodoProjeto[[#This Row],[NUM]]+1,2)),\"\")","v":""},{"$f":"IFERROR(IF(ISBLANK(INDEX(DetalhesDoProjeto[#Data],Última_entrada_do_projeto-Linha_de_início_do_projeto-DadosdeLinhadoTempodoProjeto[[#This Row],[NUM]]+1,3)),\"\",INDEX(DetalhesDoProjeto[#Data],Última_entrada_do_projeto-Linha_de_início_do_projeto-DadosdeLinhadoTempodoProjeto[[#This Row],[NUM]]+1,3)),\"\")","v":""},{"$f":"IFERROR(IF(ISBLANK(INDEX(DetalhesDoProjeto[#Data],ROW(A199)+1,1)),\"\",IF($J203-1<=-1,\"\",$J203-1)),\"\")","v":""},null,null,{"$f":"IFERROR(DadosdeLinhadoTempodoProjeto[[#This Row],[NUM]]+1,\"\")","v":""},{"$f":"IFERROR(VLOOKUP(LinhadoTempoClassificada[[#This Row],[POSIÇÃO classificada]],DadosdeLinhadoTempodoProjeto[],3,0),\"\")","v":""},{"$f":"IFERROR(VLOOKUP(LinhadoTempoClassificada[[#This Row],[POSIÇÃO classificada]],DadosdeLinhadoTempodoProjeto[],4,0),\"\")","v":""},{"$f":"IFERROR(VLOOKUP(LinhadoTempoClassificada[[#This Row],[POSIÇÃO classificada]],DadosdeLinhadoTempodoProjeto[],5,0),\"\")","v":""}]
[{"$nulls":4},{"$f":"IFERROR(RANK(F205,DadosdeLinhadoTempodoProjeto[CLASSIFICAÇÃO])+SUMPRODUCT(--(F205=DadosdeLinhadoTempodoProjeto[CLASSIFICAÇÃO]),--(J205<DadosdeLinhadoTempodoProjeto[NUM])),\"\")","v":""},{"$f":"IFERROR(RANK(DadosdeLinhadoTempodoProjeto[[#This Row],[DATA]],DadosdeLinhadoTempodoProjeto[DATA],1),\"\")","v":""},{"$f":"IFERROR(IF(ISBLANK(INDEX(DetalhesDoProjeto[#Data],Última_entrada_do_projeto-Linha_de_início_do_projeto-DadosdeLinhadoTempodoProjeto[[#This Row],[NUM]]+1,1)),\"\",INDEX(DetalhesDoProjeto[#Data],Última_entrada_do_projeto-Linha_de_início_do_projeto-DadosdeLinhadoTempodoProjeto[[#This Row],[NUM]]+1,1)),\"\")","v":""},{"$f":"IFERROR(IF(ISBLANK(INDEX(DetalhesDoProjeto[#Data],Última_entrada_do_projeto-Linha_de_início_do_projeto-DadosdeLinhadoTempodoProjeto[[#This Row],[NUM]]+1,2)),\"\",INDEX(DetalhesDoProjeto[#Data],Última_entrada_do_projeto-Linha_de_início_do_projeto-DadosdeLinhadoTempodoProjeto[[#This Row],[NUM]]+1,2)),\"\")","v":""},{"$f":"IFERROR(IF(ISBLANK(INDEX(DetalhesDoProjeto[#Data],Última_entrada_do_projeto-Linha_de_início_do_projeto-DadosdeLinhadoTempodoProjeto[[#This Row],[NUM]]+1,3)),\"\",INDEX(DetalhesDoProjeto[#Data],Última_entrada_do_projeto-Linha_de_início_do_projeto-DadosdeLinhadoTempodoProjeto[[#This Row],[NUM]]+1,3)),\"\")","v":""},{"$f":"IFERROR(IF(ISBLANK(INDEX(DetalhesDoProjeto[#Data],ROW(A200)+1,1)),\"\",IF($J204-1<=-1,\"\",$J204-1)),\"\")","v":""},null,null,{"$f":"IFERROR(DadosdeLinhadoTempodoProjeto[[#This Row],[NUM]]+1,\"\")","v":""},{"$f":"IFERROR(VLOOKUP(LinhadoTempoClassificada[[#This Row],[POSIÇÃO classificada]],DadosdeLinhadoTempodoProjeto[],3,0),\"\")","v":""},{"$f":"IFERROR(VLOOKUP(LinhadoTempoClassificada[[#This Row],[POSIÇÃO classificada]],DadosdeLinhadoTempodoProjeto[],4,0),\"\")","v":""},{"$f":"IFERROR(VLOOKUP(LinhadoTempoClassificada[[#This Row],[POSIÇÃO classificada]],DadosdeLinhadoTempodoProjeto[],5,0),\"\")","v":""}]
[{"$nulls":4},{"$f":"IFERROR(RANK(F206,DadosdeLinhadoTempodoProjeto[CLASSIFICAÇÃO])+SUMPRODUCT(--(F206=DadosdeLinhadoTempodoProjeto[CLASSIFICAÇÃO]),--(J206<DadosdeLinhadoTempodoProjeto[NUM])),\"\")","v":""},{"$f":"IFERROR(RANK(DadosdeLinhadoTempodoProjeto[[#This Row],[DATA]],DadosdeLinhadoTempodoProjeto[DATA],1),\"\")","v":""},{"$f":"IFERROR(IF(ISBLANK(INDEX(DetalhesDoProjeto[#Data],Última_entrada_do_projeto-Linha_de_início_do_projeto-DadosdeLinhadoTempodoProjeto[[#This Row],[NUM]]+1,1)),\"\",INDEX(DetalhesDoProjeto[#Data],Última_entrada_do_projeto-Linha_de_início_do_projeto-DadosdeLinhadoTempodoProjeto[[#This Row],[NUM]]+1,1)),\"\")","v":""},{"$f":"IFERROR(IF(ISBLANK(INDEX(DetalhesDoProjeto[#Data],Última_entrada_do_projeto-Linha_de_início_do_projeto-DadosdeLinhadoTempodoProjeto[[#This Row],[NUM]]+1,2)),\"\",INDEX(DetalhesDoProjeto[#Data],Última_entrada_do_projeto-Linha_de_início_do_projeto-DadosdeLinhadoTempodoProjeto[[#This Row],[NUM]]+1,2)),\"\")","v":""},{"$f":"IFERROR(IF(ISBLANK(INDEX(DetalhesDoProjeto[#Data],Última_entrada_do_projeto-Linha_de_início_do_projeto-DadosdeLinhadoTempodoProjeto[[#This Row],[NUM]]+1,3)),\"\",INDEX(DetalhesDoProjeto[#Data],Última_entrada_do_projeto-Linha_de_início_do_projeto-DadosdeLinhadoTempodoProjeto[[#This Row],[NUM]]+1,3)),\"\")","v":""},{"$f":"IFERROR(IF(ISBLANK(INDEX(DetalhesDoProjeto[#Data],ROW(A201)+1,1)),\"\",IF($J205-1<=-1,\"\",$J205-1)),\"\")","v":""},null,null,{"$f":"IFERROR(DadosdeLinhadoTempodoProjeto[[#This Row],[NUM]]+1,\"\")","v":""},{"$f":"IFERROR(VLOOKUP(LinhadoTempoClassificada[[#This Row],[POSIÇÃO classificada]],DadosdeLinhadoTempodoProjeto[],3,0),\"\")","v":""},{"$f":"IFERROR(VLOOKUP(LinhadoTempoClassificada[[#This Row],[POSIÇÃO classificada]],DadosdeLinhadoTempodoProjeto[],4,0),\"\")","v":""},{"$f":"IFERROR(VLOOKUP(LinhadoTempoClassificada[[#This Row],[POSIÇÃO classificada]],DadosdeLinhadoTempodoProjeto[],5,0),\"\")","v":""}]
[{"$nulls":4},{"$f":"IFERROR(RANK(F207,DadosdeLinhadoTempodoProjeto[CLASSIFICAÇÃO])+SUMPRODUCT(--(F207=DadosdeLinhadoTempodoProjeto[CLASSIFICAÇÃO]),--(J207<DadosdeLinhadoTempodoProjeto[NUM])),\"\")","v":""},{"$f":"IFERROR(RANK(DadosdeLinhadoTempodoProjeto[[#This Row],[DATA]],DadosdeLinhadoTempodoProjeto[DATA],1),\"\")","v":""},{"$f":"IFERROR(IF(ISBLANK(INDEX(DetalhesDoProjeto[#Data],Última_entrada_do_projeto-Linha_de_início_do_projeto-DadosdeLinhadoTempodoProjeto[[#This Row],[NUM]]+1,1)),\"\",INDEX(DetalhesDoProjeto[#Data],Última_entrada_do_projeto-Linha_de_início_do_projeto-DadosdeLinhadoTempodoProjeto[[#This Row],[NUM]]+1,1)),\"\")","v":""},{"$f":"IFERROR(IF(ISBLANK(INDEX(DetalhesDoProjeto[#Data],Última_entrada_do_projeto-Linha_de_início_do_projeto-DadosdeLinhadoTempodoProjeto[[#This Row],[NUM]]+1,2)),\"\",INDEX(DetalhesDoProjeto[#Data],Última_entrada_do_projeto-Linha_de_início_do_projeto-DadosdeLinhadoTempodoProjeto[[#This Row],[NUM]]+1,2)),\"\")","v":""},{"$f":"IFERROR(IF(ISBLANK(INDEX(DetalhesDoProjeto[#Data],Última_entrada_do_projeto-Linha_de_início_do_projeto-DadosdeLinhadoTempodoProjeto[[#This Row],[NUM]]+1,3)),\"\",INDEX(DetalhesDoProjeto[#Data],Última_entrada_do_projeto-Linha_de_início_do_projeto-DadosdeLinhadoTempodoProjeto[[#This Row],[NUM]]+1,3)),\"\")","v":""},{"$f":"IFERROR(IF(ISBLANK(INDEX(DetalhesDoProjeto[#Data],ROW(A202)+1,1)),\"\",IF($J206-1<=-1,\"\",$J206-1)),\"\")","v":""},null,null,{"$f":"IFERROR(DadosdeLinhadoTempodoProjeto[[#This Row],[NUM]]+1,\"\")","v":""},{"$f":"IFERROR(VLOOKUP(LinhadoTempoClassificada[[#This Row],[POSIÇÃO classificada]],DadosdeLinhadoTempodoProjeto[],3,0),\"\")","v":""},{"$f":"IFERROR(VLOOKUP(LinhadoTempoClassificada[[#This Row],[POSIÇÃO classificada]],DadosdeLinhadoTempodoProjeto[],4,0),\"\")","v":""},{"$f":"IFERROR(VLOOKUP(LinhadoTempoClassificada[[#This Row],[POSIÇÃO classificada]],DadosdeLinhadoTempodoProjeto[],5,0),\"\")","v":""}]
[{"$nulls":4},{"$f":"IFERROR(RANK(F208,DadosdeLinhadoTempodoProjeto[CLASSIFICAÇÃO])+SUMPRODUCT(--(F208=DadosdeLinhadoTempodoProjeto[CLASSIFICAÇÃO]),--(J208<DadosdeLinhadoTempodoProjeto[NUM])),\"\")","v":""},{"$f":"IFERROR(RANK(DadosdeLinhadoTempodoProjeto[[#This Row],[DATA]],DadosdeLinhadoTempodoProjeto[DATA],1),\"\")","v":""},{"$f":"IFERROR(IF(ISBLANK(INDEX(DetalhesDoProjeto[#Data],Última_entrada_do_projeto-Linha_de_início_do_projeto-DadosdeLinhadoTempodoProjeto[[#This Row],[NUM]]+1,1)),\"\",INDEX(DetalhesDoProjeto[#Data],Última_entrada_do_projeto-Linha_de_início_do_projeto-DadosdeLinhadoTempodoProjeto[[#This Row],[NUM]]+1,1)),\"\")","v":""},{"$f":"IFERROR(IF(ISBLANK(INDEX(DetalhesDoProjeto[#Data],Última_entrada_do_projeto-Linha_de_início_do_projeto-DadosdeLinhadoTempodoProjeto[[#This Row],[NUM]]+1,2)),\"\",INDEX(DetalhesDoProjeto[#Data],Última_entrada_do_projeto-Linha_de_início_do_projeto-DadosdeLinhadoTempodoProjeto[[#This Row],[NUM]]+1,2)),\"\")","v":""},{"$f":"IFERROR(IF(ISBLANK(INDEX(DetalhesDoProjeto[#Data],Última_entrada_do_projeto-Linha_de_início_do_projeto-DadosdeLinhadoTempodoProjeto[[#This Row],[NUM]]+1,3)),\"\",INDEX(DetalhesDoProjeto[#Data],Última_entrada_do_projeto-Linha_de_início_do_projeto-DadosdeLinhadoTempodoProjeto[[#This Row],[NUM]]+1,3)),\"\")","v":""},{"$f":"IFERROR(IF(ISBLANK(INDEX(DetalhesDoProjeto[#Data],ROW(A203)+1,1)),\"\",IF($J207-1<=-1,\"\",$J207-1)),\"\")","v":""},null,null,{"$f":"IFERROR(DadosdeLinhadoTempodoProjeto[[#This Row],[NUM]]+1,\"\")","v":""},{"$f":"IFERROR(VLOOKUP(LinhadoTempoClassificada[[#This Row],[POSIÇÃO classificada]],DadosdeLinhadoTempodoProjeto[],3,0),\"\")","v":""},{"$f":"IFERROR(VLOOKUP(LinhadoTempoClassificada[[#This Row],[POSIÇÃO classificada]],DadosdeLinhadoTempodoProjeto[],4,0),\"\")","v":""},{"$f":"IFERROR(VLOOKUP(LinhadoTempoClassificada[[#This Row],[POSIÇÃO classificada]],DadosdeLinhadoTempodoProjeto[],5,0),\"\")","v":""}]
[{"$nulls":4},{"$f":"IFERROR(RANK(F209,DadosdeLinhadoTempodoProjeto[CLASSIFICAÇÃO])+SUMPRODUCT(--(F209=DadosdeLinhadoTempodoProjeto[CLASSIFICAÇÃO]),--(J209<DadosdeLinhadoTempodoProjeto[NUM])),\"\")","v":""},{"$f":"IFERROR(RANK(DadosdeLinhadoTempodoProjeto[[#This Row],[DATA]],DadosdeLinhadoTempodoProjeto[DATA],1),\"\")","v":""},{"$f":"IFERROR(IF(ISBLANK(INDEX(DetalhesDoProjeto[#Data],Última_entrada_do_projeto-Linha_de_início_do_projeto-DadosdeLinhadoTempodoProjeto[[#This Row],[NUM]]+1,1)),\"\",INDEX(DetalhesDoProjeto[#Data],Última_entrada_do_projeto-Linha_de_início_do_projeto-DadosdeLinhadoTempodoProjeto[[#This Row],[NUM]]+1,1)),\"\")","v":""},{"$f":"IFERROR(IF(ISBLANK(INDEX(DetalhesDoProjeto[#Data],Última_entrada_do_projeto-Linha_de_início_do_projeto-DadosdeLinhadoTempodoProjeto[[#This Row],[NUM]]+1,2)),\"\",INDEX(DetalhesDoProjeto[#Data],Última_entrada_do_projeto-Linha_de_início_do_projeto-DadosdeLinhadoTempodoProjeto[[#This Row],[NUM]]+1,2)),\"\")","v":""},{"$f":"IFERROR(IF(ISBLANK(INDEX(DetalhesDoProjeto[#Data],Última_entrada_do_projeto-Linha_de_início_do_projeto-DadosdeLinhadoTempodoProjeto[[#This Row],[NUM]]+1,3)),\"\",INDEX(DetalhesDoProjeto[#Data],Última_entrada_do_projeto-Linha_de_início_do_projeto-DadosdeLinhadoTempodoProjeto[[#This Row],[NUM]]+1,3)),\"\")","v":""},{"$f":"IFERROR(IF(ISBLANK(INDEX(DetalhesDoProjeto[#Data],ROW(A204)+1,1)),\"\",IF($J208-1<=-1,\"\",$J208-1)),\"\")","v":""},null,null,{"$f":"IFERROR(DadosdeLinhadoTempodoProjeto[[#This Row],[NUM]]+1,\"\")","v":""},{"$f":"IFERROR(VLOOKUP(LinhadoTempoClassificada[[#This Row],[POSIÇÃO classificada]],DadosdeLinhadoTempodoProjeto[],3,0),\"\")","v":""},{"$f":"IFERROR(VLOOKUP(LinhadoTempoClassificada[[#This Row],[POSIÇÃO classificada]],DadosdeLinhadoTempodoProjeto[],4,0),\"\")","v":""},{"$f":"IFERROR(VLOOKUP(LinhadoTempoClassificada[[#This Row],[POSIÇÃO classificada]],DadosdeLinhadoTempodoProjeto[],5,0),\"\")","v":""}]
[{"$nulls":4},{"$f":"IFERROR(RANK(F210,DadosdeLinhadoTempodoProjeto[CLASSIFICAÇÃO])+SUMPRODUCT(--(F210=DadosdeLinhadoTempodoProjeto[CLASSIFICAÇÃO]),--(J210<DadosdeLinhadoTempodoProjeto[NUM])),\"\")","v":""},{"$f":"IFERROR(RANK(DadosdeLinhadoTempodoProjeto[[#This Row],[DATA]],DadosdeLinhadoTempodoProjeto[DATA],1),\"\")","v":""},{"$f":"IFERROR(IF(ISBLANK(INDEX(DetalhesDoProjeto[#Data],Última_entrada_do_projeto-Linha_de_início_do_projeto-DadosdeLinhadoTempodoProjeto[[#This Row],[NUM]]+1,1)),\"\",INDEX(DetalhesDoProjeto[#Data],Última_entrada_do_projeto-Linha_de_início_do_projeto-DadosdeLinhadoTempodoProjeto[[#This Row],[NUM]]+1,1)),\"\")","v":""},{"$f":"IFERROR(IF(ISBLANK(INDEX(DetalhesDoProjeto[#Data],Última_entrada_do_projeto-Linha_de_início_do_projeto-DadosdeLinhadoTempodoProjeto[[#This Row],[NUM]]+1,2)),\"\",INDEX(DetalhesDoProjeto[#Data],Última_entrada_do_projeto-Linha_de_início_do_projeto-DadosdeLinhadoTempodoProjeto[[#This Row],[NUM]]+1,2)),\"\")","v":""},{"$f":"IFERROR(IF(ISBLANK(INDEX(DetalhesDoProjeto[#Data],Última_entrada_do_projeto-Linha_de_início_do_projeto-DadosdeLinhadoTempodoProjeto[[#This Row],[NUM]]+1,3)),\"\",INDEX(DetalhesDoProjeto[#Data],Última_entrada_do_projeto-Linha_de_início_do_projeto-DadosdeLinhadoTempodoProjeto[[#This Row],[NUM]]+1,3)),\"\")","v":""},{"$f":"IFERROR(IF(ISBLANK(INDEX(DetalhesDoProjeto[#Data],ROW(A205)+1,1)),\"\",IF($J209-1<=-1,\"\",$J209-1)),\"\")","v":""},null,null,{"$f":"IFERROR(DadosdeLinhadoTempodoProjeto[[#This Row],[NUM]]+1,\"\")","v":""},{"$f":"IFERROR(VLOOKUP(LinhadoTempoClassificada[[#This Row],[POSIÇÃO classificada]],DadosdeLinhadoTempodoProjeto[],3,0),\"\")","v":""},{"$f":"IFERROR(VLOOKUP(LinhadoTempoClassificada[[#This Row],[POSIÇÃO classificada]],DadosdeLinhadoTempodoProjeto[],4,0),\"\")","v":""},{"$f":"IFERROR(VLOOKUP(LinhadoTempoClassificada[[#This Row],[POSIÇÃO classificada]],DadosdeLinhadoTempodoProjeto[],5,0),\"\")","v":""}]
[{"$nulls":4},{"$f":"IFERROR(RANK(F211,DadosdeLinhadoTempodoProjeto[CLASSIFICAÇÃO])+SUMPRODUCT(--(F211=DadosdeLinhadoTempodoProjeto[CLASSIFICAÇÃO]),--(J211<DadosdeLinhadoTempodoProjeto[NUM])),\"\")","v":""},{"$f":"IFERROR(RANK(DadosdeLinhadoTempodoProjeto[[#This Row],[DATA]],DadosdeLinhadoTempodoProjeto[DATA],1),\"\")","v":""},{"$f":"IFERROR(IF(ISBLANK(INDEX(DetalhesDoProjeto[#Data],Última_entrada_do_projeto-Linha_de_início_do_projeto-DadosdeLinhadoTempodoProjeto[[#This Row],[NUM]]+1,1)),\"\",INDEX(DetalhesDoProjeto[#Data],Última_entrada_do_projeto-Linha_de_início_do_projeto-DadosdeLinhadoTempodoProjeto[[#This Row],[NUM]]+1,1)),\"\")","v":""},{"$f":"IFERROR(IF(ISBLANK(INDEX(DetalhesDoProjeto[#Data],Última_entrada_do_projeto-Linha_de_início_do_projeto-DadosdeLinhadoTempodoProjeto[[#This Row],[NUM]]+1,2)),\"\",INDEX(DetalhesDoProjeto[#Data],Última_entrada_do_projeto-Linha_de_início_do_projeto-DadosdeLinhadoTempodoProjeto[[#This Row],[NUM]]+1,2)),\"\")","v":""},{"$f":"IFERROR(IF(ISBLANK(INDEX(DetalhesDoProjeto[#Data],Última_entrada_do_projeto-Linha_de_início_do_projeto-DadosdeLinhadoTempodoProjeto[[#This Row],[NUM]]+1,3)),\"\",INDEX(DetalhesDoProjeto[#Data],Última_entrada_do_projeto-Linha_de_início_do_projeto-DadosdeLinhadoTempodoProjeto[[#This Row],[NUM]]+1,3)),\"\")","v":""},{"$f":"IFERROR(IF(ISBLANK(INDEX(DetalhesDoProjeto[#Data],ROW(A206)+1,1)),\"\",IF($J210-1<=-1,\"\",$J210-1)),\"\")","v":""},null,null,{"$f":"IFERROR(DadosdeLinhadoTempodoProjeto[[#This Row],[NUM]]+1,\"\")","v":""},{"$f":"IFERROR(VLOOKUP(LinhadoTempoClassificada[[#This Row],[POSIÇÃO classificada]],DadosdeLinhadoTempodoProjeto[],3,0),\"\")","v":""},{"$f":"IFERROR(VLOOKUP(LinhadoTempoClassificada[[#This Row],[POSIÇÃO classificada]],DadosdeLinhadoTempodoProjeto[],4,0),\"\")","v":""},{"$f":"IFERROR(VLOOKUP(LinhadoTempoClassificada[[#This Row],[POSIÇÃO classificada]],DadosdeLinhadoTempodoProjeto[],5,0),\"\")","v":""}]
[{"$nulls":4},{"$f":"IFERROR(RANK(F212,DadosdeLinhadoTempodoProjeto[CLASSIFICAÇÃO])+SUMPRODUCT(--(F212=DadosdeLinhadoTempodoProjeto[CLASSIFICAÇÃO]),--(J212<DadosdeLinhadoTempodoProjeto[NUM])),\"\")","v":""},{"$f":"IFERROR(RANK(DadosdeLinhadoTempodoProjeto[[#This Row],[DATA]],DadosdeLinhadoTempodoProjeto[DATA],1),\"\")","v":""},{"$f":"IFERROR(IF(ISBLANK(INDEX(DetalhesDoProjeto[#Data],Última_entrada_do_projeto-Linha_de_início_do_projeto-DadosdeLinhadoTempodoProjeto[[#This Row],[NUM]]+1,1)),\"\",INDEX(DetalhesDoProjeto[#Data],Última_entrada_do_projeto-Linha_de_início_do_projeto-DadosdeLinhadoTempodoProjeto[[#This Row],[NUM]]+1,1)),\"\")","v":""},{"$f":"IFERROR(IF(ISBLANK(INDEX(DetalhesDoProjeto[#Data],Última_entrada_do_projeto-Linha_de_início_do_projeto-DadosdeLinhadoTempodoProjeto[[#This Row],[NUM]]+1,2)),\"\",INDEX(DetalhesDoProjeto[#Data],Última_entrada_do_projeto-Linha_de_início_do_projeto-DadosdeLinhadoTempodoProjeto[[#This Row],[NUM]]+1,2)),\"\")","v":""},{"$f":"IFERROR(IF(ISBLANK(INDEX(DetalhesDoProjeto[#Data],Última_entrada_do_projeto-Linha_de_início_do_projeto-DadosdeLinhadoTempodoProjeto[[#This Row],[NUM]]+1,3)),\"\",INDEX(DetalhesDoProjeto[#Data],Última_entrada_do_projeto-Linha_de_início_do_projeto-DadosdeLinhadoTempodoProjeto[[#This Row],[NUM]]+1,3)),\"\")","v":""},{"$f":"IFERROR(IF(ISBLANK(INDEX(DetalhesDoProjeto[#Data],ROW(A207)+1,1)),\"\",IF($J211-1<=-1,\"\",$J211-1)),\"\")","v":""},null,null,{"$f":"IFERROR(DadosdeLinhadoTempodoProjeto[[#This Row],[NUM]]+1,\"\")","v":""},{"$f":"IFERROR(VLOOKUP(LinhadoTempoClassificada[[#This Row],[POSIÇÃO classificada]],DadosdeLinhadoTempodoProjeto[],3,0),\"\")","v":""},{"$f":"IFERROR(VLOOKUP(LinhadoTempoClassificada[[#This Row],[POSIÇÃO classificada]],DadosdeLinhadoTempodoProjeto[],4,0),\"\")","v":""},{"$f":"IFERROR(VLOOKUP(LinhadoTempoClassificada[[#This Row],[POSIÇÃO classificada]],DadosdeLinhadoTempodoProjeto[],5,0),\"\")","v":""}]
[{"$nulls":4},{"$f":"IFERROR(RANK(F213,DadosdeLinhadoTempodoProjeto[CLASSIFICAÇÃO])+SUMPRODUCT(--(F213=DadosdeLinhadoTempodoProjeto[CLASSIFICAÇÃO]),--(J213<DadosdeLinhadoTempodoProjeto[NUM])),\"\")","v":""},{"$f":"IFERROR(RANK(DadosdeLinhadoTempodoProjeto[[#This Row],[DATA]],DadosdeLinhadoTempodoProjeto[DATA],1),\"\")","v":""},{"$f":"IFERROR(IF(ISBLANK(INDEX(DetalhesDoProjeto[#Data],Última_entrada_do_projeto-Linha_de_início_do_projeto-DadosdeLinhadoTempodoProjeto[[#This Row],[NUM]]+1,1)),\"\",INDEX(DetalhesDoProjeto[#Data],Última_entrada_do_projeto-Linha_de_início_do_projeto-DadosdeLinhadoTempodoProjeto[[#This Row],[NUM]]+1,1)),\"\")","v":""},{"$f":"IFERROR(IF(ISBLANK(INDEX(DetalhesDoProjeto[#Data],Última_entrada_do_projeto-Linha_de_início_do_projeto-DadosdeLinhadoTempodoProjeto[[#This Row],[NUM]]+1,2)),\"\",INDEX(DetalhesDoProjeto[#Data],Última_entrada_do_projeto-Linha_de_início_do_projeto-DadosdeLinhadoTempodoProjeto[[#This Row],[NUM]]+1,2)),\"\")","v":""},{"$f":"IFERROR(IF(ISBLANK(INDEX(DetalhesDoProjeto[#Data],Última_entrada_do_projeto-Linha_de_início_do_projeto-DadosdeLinhadoTempodoProjeto[[#This Row],[NUM]]+1,3)),\"\",INDEX(DetalhesDoProjeto[#Data],Última_entrada_do_projeto-Linha_de_início_do_projeto-DadosdeLinhadoTempodoProjeto[[#This Row],[NUM]]+1,3)),\"\")","v":""},{"$f":"IFERROR(IF(ISBLANK(INDEX(DetalhesDoProjeto[#Data],ROW(A208)+1,1)),\"\",IF($J212-1<=-1,\"\",$J212-1)),\"\")","v":""},null,null,{"$f":"IFERROR(DadosdeLinhadoTempodoProjeto[[#This Row],[NUM]]+1,\"\")","v":""},{"$f":"IFERROR(VLOOKUP(LinhadoTempoClassificada[[#This Row],[POSIÇÃO classificada]],DadosdeLinhadoTempodoProjeto[],3,0),\"\")","v":""},{"$f":"IFERROR(VLOOKUP(LinhadoTempoClassificada[[#This Row],[POSIÇÃO classificada]],DadosdeLinhadoTempodoProjeto[],4,0),\"\")","v":""},{"$f":"IFERROR(VLOOKUP(LinhadoTempoClassificada[[#This Row],[POSIÇÃO classificada]],DadosdeLinhadoTempodoProjeto[],5,0),\"\")","v":""}]
[{"$nulls":4},{"$f":"IFERROR(RANK(F214,DadosdeLinhadoTempodoProjeto[CLASSIFICAÇÃO])+SUMPRODUCT(--(F214=DadosdeLinhadoTempodoProjeto[CLASSIFICAÇÃO]),--(J214<DadosdeLinhadoTempodoProjeto[NUM])),\"\")","v":""},{"$f":"IFERROR(RANK(DadosdeLinhadoTempodoProjeto[[#This Row],[DATA]],DadosdeLinhadoTempodoProjeto[DATA],1),\"\")","v":""},{"$f":"IFERROR(IF(ISBLANK(INDEX(DetalhesDoProjeto[#Data],Última_entrada_do_projeto-Linha_de_início_do_projeto-DadosdeLinhadoTempodoProjeto[[#This Row],[NUM]]+1,1)),\"\",INDEX(DetalhesDoProjeto[#Data],Última_entrada_do_projeto-Linha_de_início_do_projeto-DadosdeLinhadoTempodoProjeto[[#This Row],[NUM]]+1,1)),\"\")","v":""},{"$f":"IFERROR(IF(ISBLANK(INDEX(DetalhesDoProjeto[#Data],Última_entrada_do_projeto-Linha_de_início_do_projeto-DadosdeLinhadoTempodoProjeto[[#This Row],[NUM]]+1,2)),\"\",INDEX(DetalhesDoProjeto[#Data],Última_entrada_do_projeto-Linha_de_início_do_projeto-DadosdeLinhadoTempodoProjeto[[#This Row],[NUM]]+1,2)),\"\")","v":""},{"$f":"IFERROR(IF(ISBLANK(INDEX(DetalhesDoProjeto[#Data],Última_entrada_do_projeto-Linha_de_início_do_projeto-DadosdeLinhadoTempodoProjeto[[#This Row],[NUM]]+1,3)),\"\",INDEX(DetalhesDoProjeto[#Data],Última_entrada_do_projeto-Linha_de_início_do_projeto-DadosdeLinhadoTempodoProjeto[[#This Row],[NUM]]+1,3)),\"\")","v":""},{"$f":"IFERROR(IF(ISBLANK(INDEX(DetalhesDoProjeto[#Data],ROW(A209)+1,1)),\"\",IF($J213-1<=-1,\"\",$J213-1)),\"\")","v":""},null,null,{"$f":"IFERROR(DadosdeLinhadoTempodoProjeto[[#This Row],[NUM]]+1,\"\")","v":""},{"$f":"IFERROR(VLOOKUP(LinhadoTempoClassificada[[#This Row],[POSIÇÃO classificada]],DadosdeLinhadoTempodoProjeto[],3,0),\"\")","v":""},{"$f":"IFERROR(VLOOKUP(LinhadoTempoClassificada[[#This Row],[POSIÇÃO classificada]],DadosdeLinhadoTempodoProjeto[],4,0),\"\")","v":""},{"$f":"IFERROR(VLOOKUP(LinhadoTempoClassificada[[#This Row],[POSIÇÃO classificada]],DadosdeLinhadoTempodoProjeto[],5,0),\"\")","v":""}]
[{"$nulls":4},{"$f":"IFERROR(RANK(F215,DadosdeLinhadoTempodoProjeto[CLASSIFICAÇÃO])+SUMPRODUCT(--(F215=DadosdeLinhadoTempodoProjeto[CLASSIFICAÇÃO]),--(J215<DadosdeLinhadoTempodoProjeto[NUM])),\"\")","v":""},{"$f":"IFERROR(RANK(DadosdeLinhadoTempodoProjeto[[#This Row],[DATA]],DadosdeLinhadoTempodoProjeto[DATA],1),\"\")","v":""},{"$f":"IFERROR(IF(ISBLANK(INDEX(DetalhesDoProjeto[#Data],Última_entrada_do_projeto-Linha_de_início_do_projeto-DadosdeLinhadoTempodoProjeto[[#This Row],[NUM]]+1,1)),\"\",INDEX(DetalhesDoProjeto[#Data],Última_entrada_do_projeto-Linha_de_início_do_projeto-DadosdeLinhadoTempodoProjeto[[#This Row],[NUM]]+1,1)),\"\")","v":""},{"$f":"IFERROR(IF(ISBLANK(INDEX(DetalhesDoProjeto[#Data],Última_entrada_do_projeto-Linha_de_início_do_projeto-DadosdeLinhadoTempodoProjeto[[#This Row],[NUM]]+1,2)),\"\",INDEX(DetalhesDoProjeto[#Data],Última_entrada_do_projeto-Linha_de_início_do_projeto-DadosdeLinhadoTempodoProjeto[[#This Row],[NUM]]+1,2)),\"\")","v":""},{"$f":"IFERROR(IF(ISBLANK(INDEX(DetalhesDoProjeto[#Data],Última_entrada_do_projeto-Linha_de_início_do_projeto-DadosdeLinhadoTempodoProjeto[[#This Row],[NUM]]+1,3)),\"\",INDEX(DetalhesDoProjeto[#Data],Última_entrada_do_projeto-Linha_de_início_do_projeto-DadosdeLinhadoTempodoProjeto[[#This Row],[NUM]]+1,3)),\"\")","v":""},{"$f":"IFERROR(IF(ISBLANK(INDEX(DetalhesDoProjeto[#Data],ROW(A210)+1,1)),\"\",IF($J214-1<=-1,\"\",$J214-1)),\"\")","v":""},null,null,{"$f":"IFERROR(DadosdeLinhadoTempodoProjeto[[#This Row],[NUM]]+1,\"\")","v":""},{"$f":"IFERROR(VLOOKUP(LinhadoTempoClassificada[[#This Row],[POSIÇÃO classificada]],DadosdeLinhadoTempodoProjeto[],3,0),\"\")","v":""},{"$f":"IFERROR(VLOOKUP(LinhadoTempoClassificada[[#This Row],[POSIÇÃO classificada]],DadosdeLinhadoTempodoProjeto[],4,0),\"\")","v":""},{"$f":"IFERROR(VLOOKUP(LinhadoTempoClassificada[[#This Row],[POSIÇÃO classificada]],DadosdeLinhadoTempodoProjeto[],5,0),\"\")","v":""}]
[{"$nulls":4},{"$f":"IFERROR(RANK(F216,DadosdeLinhadoTempodoProjeto[CLASSIFICAÇÃO])+SUMPRODUCT(--(F216=DadosdeLinhadoTempodoProjeto[CLASSIFICAÇÃO]),--(J216<DadosdeLinhadoTempodoProjeto[NUM])),\"\")","v":""},{"$f":"IFERROR(RANK(DadosdeLinhadoTempodoProjeto[[#This Row],[DATA]],DadosdeLinhadoTempodoProjeto[DATA],1),\"\")","v":""},{"$f":"IFERROR(IF(ISBLANK(INDEX(DetalhesDoProjeto[#Data],Última_entrada_do_projeto-Linha_de_início_do_projeto-DadosdeLinhadoTempodoProjeto[[#This Row],[NUM]]+1,1)),\"\",INDEX(DetalhesDoProjeto[#Data],Última_entrada_do_projeto-Linha_de_início_do_projeto-DadosdeLinhadoTempodoProjeto[[#This Row],[NUM]]+1,1)),\"\")","v":""},{"$f":"IFERROR(IF(ISBLANK(INDEX(DetalhesDoProjeto[#Data],Última_entrada_do_projeto-Linha_de_início_do_projeto-DadosdeLinhadoTempodoProjeto[[#This Row],[NUM]]+1,2)),\"\",INDEX(DetalhesDoProjeto[#Data],Última_entrada_do_projeto-Linha_de_início_do_projeto-DadosdeLinhadoTempodoProjeto[[#This Row],[NUM]]+1,2)),\"\")","v":""},{"$f":"IFERROR(IF(ISBLANK(INDEX(DetalhesDoProjeto[#Data],Última_entrada_do_projeto-Linha_de_início_do_projeto-DadosdeLinhadoTempodoProjeto[[#This Row],[NUM]]+1,3)),\"\",INDEX(DetalhesDoProjeto[#Data],Última_entrada_do_projeto-Linha_de_início_do_projeto-DadosdeLinhadoTempodoProjeto[[#This Row],[NUM]]+1,3)),\"\")","v":""},{"$f":"IFERROR(IF(ISBLANK(INDEX(DetalhesDoProjeto[#Data],ROW(A211)+1,1)),\"\",IF($J215-1<=-1,\"\",$J215-1)),\"\")","v":""},null,null,{"$f":"IFERROR(DadosdeLinhadoTempodoProjeto[[#This Row],[NUM]]+1,\"\")","v":""},{"$f":"IFERROR(VLOOKUP(LinhadoTempoClassificada[[#This Row],[POSIÇÃO classificada]],DadosdeLinhadoTempodoProjeto[],3,0),\"\")","v":""},{"$f":"IFERROR(VLOOKUP(LinhadoTempoClassificada[[#This Row],[POSIÇÃO classificada]],DadosdeLinhadoTempodoProjeto[],4,0),\"\")","v":""},{"$f":"IFERROR(VLOOKUP(LinhadoTempoClassificada[[#This Row],[POSIÇÃO classificada]],DadosdeLinhadoTempodoProjeto[],5,0),\"\")","v":""}]
[{"$nulls":4},{"$f":"IFERROR(RANK(F217,DadosdeLinhadoTempodoProjeto[CLASSIFICAÇÃO])+SUMPRODUCT(--(F217=DadosdeLinhadoTempodoProjeto[CLASSIFICAÇÃO]),--(J217<DadosdeLinhadoTempodoProjeto[NUM])),\"\")","v":""},{"$f":"IFERROR(RANK(DadosdeLinhadoTempodoProjeto[[#This Row],[DATA]],DadosdeLinhadoTempodoProjeto[DATA],1),\"\")","v":""},{"$f":"IFERROR(IF(ISBLANK(INDEX(DetalhesDoProjeto[#Data],Última_entrada_do_projeto-Linha_de_início_do_projeto-DadosdeLinhadoTempodoProjeto[[#This Row],[NUM]]+1,1)),\"\",INDEX(DetalhesDoProjeto[#Data],Última_entrada_do_projeto-Linha_de_início_do_projeto-DadosdeLinhadoTempodoProjeto[[#This Row],[NUM]]+1,1)),\"\")","v":""},{"$f":"IFERROR(IF(ISBLANK(INDEX(DetalhesDoProjeto[#Data],Última_entrada_do_projeto-Linha_de_início_do_projeto-DadosdeLinhadoTempodoProjeto[[#This Row],[NUM]]+1,2)),\"\",INDEX(DetalhesDoProjeto[#Data],Última_entrada_do_projeto-Linha_de_início_do_projeto-DadosdeLinhadoTempodoProjeto[[#This Row],[NUM]]+1,2)),\"\")","v":""},{"$f":"IFERROR(IF(ISBLANK(INDEX(DetalhesDoProjeto[#Data],Última_entrada_do_projeto-Linha_de_início_do_projeto-DadosdeLinhadoTempodoProjeto[[#This Row],[NUM]]+1,3)),\"\",INDEX(DetalhesDoProjeto[#Data],Última_entrada_do_projeto-Linha_de_início_do_projeto-DadosdeLinhadoTempodoProjeto[[#This Row],[NUM]]+1,3)),\"\")","v":""},{"$f":"IFERROR(IF(ISBLANK(INDEX(DetalhesDoProjeto[#Data],ROW(A212)+1,1)),\"\",IF($J216-1<=-1,\"\",$J216-1)),\"\")","v":""},null,null,{"$f":"IFERROR(DadosdeLinhadoTempodoProjeto[[#This Row],[NUM]]+1,\"\")","v":""},{"$f":"IFERROR(VLOOKUP(LinhadoTempoClassificada[[#This Row],[POSIÇÃO classificada]],DadosdeLinhadoTempodoProjeto[],3,0),\"\")","v":""},{"$f":"IFERROR(VLOOKUP(LinhadoTempoClassificada[[#This Row],[POSIÇÃO classificada]],DadosdeLinhadoTempodoProjeto[],4,0),\"\")","v":""},{"$f":"IFERROR(VLOOKUP(LinhadoTempoClassificada[[#This Row],[POSIÇÃO classificada]],DadosdeLinhadoTempodoProjeto[],5,0),\"\")","v":""}]
[{"$nulls":4},{"$f":"IFERROR(RANK(F218,DadosdeLinhadoTempodoProjeto[CLASSIFICAÇÃO])+SUMPRODUCT(--(F218=DadosdeLinhadoTempodoProjeto[CLASSIFICAÇÃO]),--(J218<DadosdeLinhadoTempodoProjeto[NUM])),\"\")","v":""},{"$f":"IFERROR(RANK(DadosdeLinhadoTempodoProjeto[[#This Row],[DATA]],DadosdeLinhadoTempodoProjeto[DATA],1),\"\")","v":""},{"$f":"IFERROR(IF(ISBLANK(INDEX(DetalhesDoProjeto[#Data],Última_entrada_do_projeto-Linha_de_início_do_projeto-DadosdeLinhadoTempodoProjeto[[#This Row],[NUM]]+1,1)),\"\",INDEX(DetalhesDoProjeto[#Data],Última_entrada_do_projeto-Linha_de_início_do_projeto-DadosdeLinhadoTempodoProjeto[[#This Row],[NUM]]+1,1)),\"\")","v":""},{"$f":"IFERROR(IF(ISBLANK(INDEX(DetalhesDoProjeto[#Data],Última_entrada_do_projeto-Linha_de_início_do_projeto-DadosdeLinhadoTempodoProjeto[[#This Row],[NUM]]+1,2)),\"\",INDEX(DetalhesDoProjeto[#Data],Última_entrada_do_projeto-Linha_de_início_do_projeto-DadosdeLinhadoTempodoProjeto[[#This Row],[NUM]]+1,2)),\"\")","v":""},{"$f":"IFERROR(IF(ISBLANK(INDEX(DetalhesDoProjeto[#Data],Última_entrada_do_projeto-Linha_de_início_do_projeto-DadosdeLinhadoTempodoProjeto[[#This Row],[NUM]]+1,3)),\"\",INDEX(DetalhesDoProjeto[#Data],Última_entrada_do_projeto-Linha_de_início_do_projeto-DadosdeLinhadoTempodoProjeto[[#This Row],[NUM]]+1,3)),\"\")","v":""},{"$f":"IFERROR(IF(ISBLANK(INDEX(DetalhesDoProjeto[#Data],ROW(A213)+1,1)),\"\",IF($J217-1<=-1,\"\",$J217-1)),\"\")","v":""},null,null,{"$f":"IFERROR(DadosdeLinhadoTempodoProjeto[[#This Row],[NUM]]+1,\"\")","v":""},{"$f":"IFERROR(VLOOKUP(LinhadoTempoClassificada[[#This Row],[POSIÇÃO classificada]],DadosdeLinhadoTempodoProjeto[],3,0),\"\")","v":""},{"$f":"IFERROR(VLOOKUP(LinhadoTempoClassificada[[#This Row],[POSIÇÃO classificada]],DadosdeLinhadoTempodoProjeto[],4,0),\"\")","v":""},{"$f":"IFERROR(VLOOKUP(LinhadoTempoClassificada[[#This Row],[POSIÇÃO classificada]],DadosdeLinhadoTempodoProjeto[],5,0),\"\")","v":""}]
[{"$nulls":4},{"$f":"IFERROR(RANK(F219,DadosdeLinhadoTempodoProjeto[CLASSIFICAÇÃO])+SUMPRODUCT(--(F219=DadosdeLinhadoTempodoProjeto[CLASSIFICAÇÃO]),--(J219<DadosdeLinhadoTempodoProjeto[NUM])),\"\")","v":""},{"$f":"IFERROR(RANK(DadosdeLinhadoTempodoProjeto[[#This Row],[DATA]],DadosdeLinhadoTempodoProjeto[DATA],1),\"\")","v":""},{"$f":"IFERROR(IF(ISBLANK(INDEX(DetalhesDoProjeto[#Data],Última_entrada_do_projeto-Linha_de_início_do_projeto-DadosdeLinhadoTempodoProjeto[[#This Row],[NUM]]+1,1)),\"\",INDEX(DetalhesDoProjeto[#Data],Última_entrada_do_projeto-Linha_de_início_do_projeto-DadosdeLinhadoTempodoProjeto[[#This Row],[NUM]]+1,1)),\"\")","v":""},{"$f":"IFERROR(IF(ISBLANK(INDEX(DetalhesDoProjeto[#Data],Última_entrada_do_projeto-Linha_de_início_do_projeto-DadosdeLinhadoTempodoProjeto[[#This Row],[NUM]]+1,2)),\"\",INDEX(DetalhesDoProjeto[#Data],Última_entrada_do_projeto-Linha_de_início_do_projeto-DadosdeLinhadoTempodoProjeto[[#This Row],[NUM]]+1,2)),\"\")","v":""},{"$f":"IFERROR(IF(ISBLANK(INDEX(DetalhesDoProjeto[#Data],Última_entrada_do_projeto-Linha_de_início_do_projeto-DadosdeLinhadoTempodoProjeto[[#This Row],[NUM]]+1,3)),\"\",INDEX(DetalhesDoProjeto[#Data],Última_entrada_do_projeto-Linha_de_início_do_projeto-DadosdeLinhadoTempodoProjeto[[#This Row],[NUM]]+1,3)),\"\")","v":""},{"$f":"IFERROR(IF(ISBLANK(INDEX(DetalhesDoProjeto[#Data],ROW(A214)+1,1)),\"\",IF($J218-1<=-1,\"\",$J218-1)),\"\")","v":""},null,null,{"$f":"IFERROR(DadosdeLinhadoTempodoProjeto[[#This Row],[NUM]]+1,\"\")","v":""},{"$f":"IFERROR(VLOOKUP(LinhadoTempoClassificada[[#This Row],[POSIÇÃO classificada]],DadosdeLinhadoTempodoProjeto[],3,0),\"\")","v":""},{"$f":"IFERROR(VLOOKUP(LinhadoTempoClassificada[[#This Row],[POSIÇÃO classificada]],DadosdeLinhadoTempodoProjeto[],4,0),\"\")","v":""},{"$f":"IFERROR(VLOOKUP(LinhadoTempoClassificada[[#This Row],[POSIÇÃO classificada]],DadosdeLinhadoTempodoProjeto[],5,0),\"\")","v":""}]
[{"$nulls":4},{"$f":"IFERROR(RANK(F220,DadosdeLinhadoTempodoProjeto[CLASSIFICAÇÃO])+SUMPRODUCT(--(F220=DadosdeLinhadoTempodoProjeto[CLASSIFICAÇÃO]),--(J220<DadosdeLinhadoTempodoProjeto[NUM])),\"\")","v":""},{"$f":"IFERROR(RANK(DadosdeLinhadoTempodoProjeto[[#This Row],[DATA]],DadosdeLinhadoTempodoProjeto[DATA],1),\"\")","v":""},{"$f":"IFERROR(IF(ISBLANK(INDEX(DetalhesDoProjeto[#Data],Última_entrada_do_projeto-Linha_de_início_do_projeto-DadosdeLinhadoTempodoProjeto[[#This Row],[NUM]]+1,1)),\"\",INDEX(DetalhesDoProjeto[#Data],Última_entrada_do_projeto-Linha_de_início_do_projeto-DadosdeLinhadoTempodoProjeto[[#This Row],[NUM]]+1,1)),\"\")","v":""},{"$f":"IFERROR(IF(ISBLANK(INDEX(DetalhesDoProjeto[#Data],Última_entrada_do_projeto-Linha_de_início_do_projeto-DadosdeLinhadoTempodoProjeto[[#This Row],[NUM]]+1,2)),\"\",INDEX(DetalhesDoProjeto[#Data],Última_entrada_do_projeto-Linha_de_início_do_projeto-DadosdeLinhadoTempodoProjeto[[#This Row],[NUM]]+1,2)),\"\")","v":""},{"$f":"IFERROR(IF(ISBLANK(INDEX(DetalhesDoProjeto[#Data],Última_entrada_do_projeto-Linha_de_início_do_projeto-DadosdeLinhadoTempodoProjeto[[#This Row],[NUM]]+1,3)),\"\",INDEX(DetalhesDoProjeto[#Data],Última_entrada_do_projeto-Linha_de_início_do_projeto-DadosdeLinhadoTempodoProjeto[[#This Row],[NUM]]+1,3)),\"\")","v":""},{"$f":"IFERROR(IF(ISBLANK(INDEX(DetalhesDoProjeto[#Data],ROW(A215)+1,1)),\"\",IF($J219-1<=-1,\"\",$J219-1)),\"\")","v":""},null,null,{"$f":"IFERROR(DadosdeLinhadoTempodoProjeto[[#This Row],[NUM]]+1,\"\")","v":""},{"$f":"IFERROR(VLOOKUP(LinhadoTempoClassificada[[#This Row],[POSIÇÃO classificada]],DadosdeLinhadoTempodoProjeto[],3,0),\"\")","v":""},{"$f":"IFERROR(VLOOKUP(LinhadoTempoClassificada[[#This Row],[POSIÇÃO classificada]],DadosdeLinhadoTempodoProjeto[],4,0),\"\")","v":""},{"$f":"IFERROR(VLOOKUP(LinhadoTempoClassificada[[#This Row],[POSIÇÃO classificada]],DadosdeLinhadoTempodoProjeto[],5,0),\"\")","v":""}]
[{"$nulls":4},{"$f":"IFERROR(RANK(F221,DadosdeLinhadoTempodoProjeto[CLASSIFICAÇÃO])+SUMPRODUCT(--(F221=DadosdeLinhadoTempodoProjeto[CLASSIFICAÇÃO]),--(J221<DadosdeLinhadoTempodoProjeto[NUM])),\"\")","v":""},{"$f":"IFERROR(RANK(DadosdeLinhadoTempodoProjeto[[#This Row],[DATA]],DadosdeLinhadoTempodoProjeto[DATA],1),\"\")","v":""},{"$f":"IFERROR(IF(ISBLANK(INDEX(DetalhesDoProjeto[#Data],Última_entrada_do_projeto-Linha_de_início_do_projeto-DadosdeLinhadoTempodoProjeto[[#This Row],[NUM]]+1,1)),\"\",INDEX(DetalhesDoProjeto[#Data],Última_entrada_do_projeto-Linha_de_início_do_projeto-DadosdeLinhadoTempodoProjeto[[#This Row],[NUM]]+1,1)),\"\")","v":""},{"$f":"IFERROR(IF(ISBLANK(INDEX(DetalhesDoProjeto[#Data],Última_entrada_do_projeto-Linha_de_início_do_projeto-DadosdeLinhadoTempodoProjeto[[#This Row],[NUM]]+1,2)),\"\",INDEX(DetalhesDoProjeto[#Data],Última_entrada_do_projeto-Linha_de_início_do_projeto-DadosdeLinhadoTempodoProjeto[[#This Row],[NUM]]+1,2)),\"\")","v":""},{"$f":"IFERROR(IF(ISBLANK(INDEX(DetalhesDoProjeto[#Data],Última_entrada_do_projeto-Linha_de_início_do_projeto-DadosdeLinhadoTempodoProjeto[[#This Row],[NUM]]+1,3)),\"\",INDEX(DetalhesDoProjeto[#Data],Última_entrada_do_projeto-Linha_de_início_do_projeto-DadosdeLinhadoTempodoProjeto[[#This Row],[NUM]]+1,3)),\"\")","v":""},{"$f":"IFERROR(IF(ISBLANK(INDEX(DetalhesDoProjeto[#Data],ROW(A216)+1,1)),\"\",IF($J220-1<=-1,\"\",$J220-1)),\"\")","v":""},null,null,{"$f":"IFERROR(DadosdeLinhadoTempodoProjeto[[#This Row],[NUM]]+1,\"\")","v":""},{"$f":"IFERROR(VLOOKUP(LinhadoTempoClassificada[[#This Row],[POSIÇÃO classificada]],DadosdeLinhadoTempodoProjeto[],3,0),\"\")","v":""},{"$f":"IFERROR(VLOOKUP(LinhadoTempoClassificada[[#This Row],[POSIÇÃO classificada]],DadosdeLinhadoTempodoProjeto[],4,0),\"\")","v":""},{"$f":"IFERROR(VLOOKUP(LinhadoTempoClassificada[[#This Row],[POSIÇÃO classificada]],DadosdeLinhadoTempodoProjeto[],5,0),\"\")","v":""}]
[{"$nulls":4},{"$f":"IFERROR(RANK(F222,DadosdeLinhadoTempodoProjeto[CLASSIFICAÇÃO])+SUMPRODUCT(--(F222=DadosdeLinhadoTempodoProjeto[CLASSIFICAÇÃO]),--(J222<DadosdeLinhadoTempodoProjeto[NUM])),\"\")","v":""},{"$f":"IFERROR(RANK(DadosdeLinhadoTempodoProjeto[[#This Row],[DATA]],DadosdeLinhadoTempodoProjeto[DATA],1),\"\")","v":""},{"$f":"IFERROR(IF(ISBLANK(INDEX(DetalhesDoProjeto[#Data],Última_entrada_do_projeto-Linha_de_início_do_projeto-DadosdeLinhadoTempodoProjeto[[#This Row],[NUM]]+1,1)),\"\",INDEX(DetalhesDoProjeto[#Data],Última_entrada_do_projeto-Linha_de_início_do_projeto-DadosdeLinhadoTempodoProjeto[[#This Row],[NUM]]+1,1)),\"\")","v":""},{"$f":"IFERROR(IF(ISBLANK(INDEX(DetalhesDoProjeto[#Data],Última_entrada_do_projeto-Linha_de_início_do_projeto-DadosdeLinhadoTempodoProjeto[[#This Row],[NUM]]+1,2)),\"\",INDEX(DetalhesDoProjeto[#Data],Última_entrada_do_projeto-Linha_de_início_do_projeto-DadosdeLinhadoTempodoProjeto[[#This Row],[NUM]]+1,2)),\"\")","v":""},{"$f":"IFERROR(IF(ISBLANK(INDEX(DetalhesDoProjeto[#Data],Última_entrada_do_projeto-Linha_de_início_do_projeto-DadosdeLinhadoTempodoProjeto[[#This Row],[NUM]]+1,3)),\"\",INDEX(DetalhesDoProjeto[#Data],Última_entrada_do_projeto-Linha_de_início_do_projeto-DadosdeLinhadoTempodoProjeto[[#This Row],[NUM]]+1,3)),\"\")","v":""},{"$f":"IFERROR(IF(ISBLANK(INDEX(DetalhesDoProjeto[#Data],ROW(A217)+1,1)),\"\",IF($J221-1<=-1,\"\",$J221-1)),\"\")","v":""},null,null,{"$f":"IFERROR(DadosdeLinhadoTempodoProjeto[[#This Row],[NUM]]+1,\"\")","v":""},{"$f":"IFERROR(VLOOKUP(LinhadoTempoClassificada[[#This Row],[POSIÇÃO classificada]],DadosdeLinhadoTempodoProjeto[],3,0),\"\")","v":""},{"$f":"IFERROR(VLOOKUP(LinhadoTempoClassificada[[#This Row],[POSIÇÃO classificada]],DadosdeLinhadoTempodoProjeto[],4,0),\"\")","v":""},{"$f":"IFERROR(VLOOKUP(LinhadoTempoClassificada[[#This Row],[POSIÇÃO classificada]],DadosdeLinhadoTempodoProjeto[],5,0),\"\")","v":""}]
[{"$nulls":4},{"$f":"IFERROR(RANK(F223,DadosdeLinhadoTempodoProjeto[CLASSIFICAÇÃO])+SUMPRODUCT(--(F223=DadosdeLinhadoTempodoProjeto[CLASSIFICAÇÃO]),--(J223<DadosdeLinhadoTempodoProjeto[NUM])),\"\")","v":""},{"$f":"IFERROR(RANK(DadosdeLinhadoTempodoProjeto[[#This Row],[DATA]],DadosdeLinhadoTempodoProjeto[DATA],1),\"\")","v":""},{"$f":"IFERROR(IF(ISBLANK(INDEX(DetalhesDoProjeto[#Data],Última_entrada_do_projeto-Linha_de_início_do_projeto-DadosdeLinhadoTempodoProjeto[[#This Row],[NUM]]+1,1)),\"\",INDEX(DetalhesDoProjeto[#Data],Última_entrada_do_projeto-Linha_de_início_do_projeto-DadosdeLinhadoTempodoProjeto[[#This Row],[NUM]]+1,1)),\"\")","v":""},{"$f":"IFERROR(IF(ISBLANK(INDEX(DetalhesDoProjeto[#Data],Última_entrada_do_projeto-Linha_de_início_do_projeto-DadosdeLinhadoTempodoProjeto[[#This Row],[NUM]]+1,2)),\"\",INDEX(DetalhesDoProjeto[#Data],Última_entrada_do_projeto-Linha_de_início_do_projeto-DadosdeLinhadoTempodoProjeto[[#This Row],[NUM]]+1,2)),\"\")","v":""},{"$f":"IFERROR(IF(ISBLANK(INDEX(DetalhesDoProjeto[#Data],Última_entrada_do_projeto-Linha_de_início_do_projeto-DadosdeLinhadoTempodoProjeto[[#This Row],[NUM]]+1,3)),\"\",INDEX(DetalhesDoProjeto[#Data],Última_entrada_do_projeto-Linha_de_início_do_projeto-DadosdeLinhadoTempodoProjeto[[#This Row],[NUM]]+1,3)),\"\")","v":""},{"$f":"IFERROR(IF(ISBLANK(INDEX(DetalhesDoProjeto[#Data],ROW(A218)+1,1)),\"\",IF($J222-1<=-1,\"\",$J222-1)),\"\")","v":""},null,null,{"$f":"IFERROR(DadosdeLinhadoTempodoProjeto[[#This Row],[NUM]]+1,\"\")","v":""},{"$f":"IFERROR(VLOOKUP(LinhadoTempoClassificada[[#This Row],[POSIÇÃO classificada]],DadosdeLinhadoTempodoProjeto[],3,0),\"\")","v":""},{"$f":"IFERROR(VLOOKUP(LinhadoTempoClassificada[[#This Row],[POSIÇÃO classificada]],DadosdeLinhadoTempodoProjeto[],4,0),\"\")","v":""},{"$f":"IFERROR(VLOOKUP(LinhadoTempoClassificada[[#This Row],[POSIÇÃO classificada]],DadosdeLinhadoTempodoProjeto[],5,0),\"\")","v":""}]
[{"$nulls":4},{"$f":"IFERROR(RANK(F224,DadosdeLinhadoTempodoProjeto[CLASSIFICAÇÃO])+SUMPRODUCT(--(F224=DadosdeLinhadoTempodoProjeto[CLASSIFICAÇÃO]),--(J224<DadosdeLinhadoTempodoProjeto[NUM])),\"\")","v":""},{"$f":"IFERROR(RANK(DadosdeLinhadoTempodoProjeto[[#This Row],[DATA]],DadosdeLinhadoTempodoProjeto[DATA],1),\"\")","v":""},{"$f":"IFERROR(IF(ISBLANK(INDEX(DetalhesDoProjeto[#Data],Última_entrada_do_projeto-Linha_de_início_do_projeto-DadosdeLinhadoTempodoProjeto[[#This Row],[NUM]]+1,1)),\"\",INDEX(DetalhesDoProjeto[#Data],Última_entrada_do_projeto-Linha_de_início_do_projeto-DadosdeLinhadoTempodoProjeto[[#This Row],[NUM]]+1,1)),\"\")","v":""},{"$f":"IFERROR(IF(ISBLANK(INDEX(DetalhesDoProjeto[#Data],Última_entrada_do_projeto-Linha_de_início_do_projeto-DadosdeLinhadoTempodoProjeto[[#This Row],[NUM]]+1,2)),\"\",INDEX(DetalhesDoProjeto[#Data],Última_entrada_do_projeto-Linha_de_início_do_projeto-DadosdeLinhadoTempodoProjeto[[#This Row],[NUM]]+1,2)),\"\")","v":""},{"$f":"IFERROR(IF(ISBLANK(INDEX(DetalhesDoProjeto[#Data],Última_entrada_do_projeto-Linha_de_início_do_projeto-DadosdeLinhadoTempodoProjeto[[#This Row],[NUM]]+1,3)),\"\",INDEX(DetalhesDoProjeto[#Data],Última_entrada_do_projeto-Linha_de_início_do_projeto-DadosdeLinhadoTempodoProjeto[[#This Row],[NUM]]+1,3)),\"\")","v":""},{"$f":"IFERROR(IF(ISBLANK(INDEX(DetalhesDoProjeto[#Data],ROW(A219)+1,1)),\"\",IF($J223-1<=-1,\"\",$J223-1)),\"\")","v":""},null,null,{"$f":"IFERROR(DadosdeLinhadoTempodoProjeto[[#This Row],[NUM]]+1,\"\")","v":""},{"$f":"IFERROR(VLOOKUP(LinhadoTempoClassificada[[#This Row],[POSIÇÃO classificada]],DadosdeLinhadoTempodoProjeto[],3,0),\"\")","v":""},{"$f":"IFERROR(VLOOKUP(LinhadoTempoClassificada[[#This Row],[POSIÇÃO classificada]],DadosdeLinhadoTempodoProjeto[],4,0),\"\")","v":""},{"$f":"IFERROR(VLOOKUP(LinhadoTempoClassificada[[#This Row],[POSIÇÃO classificada]],DadosdeLinhadoTempodoProjeto[],5,0),\"\")","v":""}]
[{"$nulls":4},{"$f":"IFERROR(RANK(F225,DadosdeLinhadoTempodoProjeto[CLASSIFICAÇÃO])+SUMPRODUCT(--(F225=DadosdeLinhadoTempodoProjeto[CLASSIFICAÇÃO]),--(J225<DadosdeLinhadoTempodoProjeto[NUM])),\"\")","v":""},{"$f":"IFERROR(RANK(DadosdeLinhadoTempodoProjeto[[#This Row],[DATA]],DadosdeLinhadoTempodoProjeto[DATA],1),\"\")","v":""},{"$f":"IFERROR(IF(ISBLANK(INDEX(DetalhesDoProjeto[#Data],Última_entrada_do_projeto-Linha_de_início_do_projeto-DadosdeLinhadoTempodoProjeto[[#This Row],[NUM]]+1,1)),\"\",INDEX(DetalhesDoProjeto[#Data],Última_entrada_do_projeto-Linha_de_início_do_projeto-DadosdeLinhadoTempodoProjeto[[#This Row],[NUM]]+1,1)),\"\")","v":""},{"$f":"IFERROR(IF(ISBLANK(INDEX(DetalhesDoProjeto[#Data],Última_entrada_do_projeto-Linha_de_início_do_projeto-DadosdeLinhadoTempodoProjeto[[#This Row],[NUM]]+1,2)),\"\",INDEX(DetalhesDoProjeto[#Data],Última_entrada_do_projeto-Linha_de_início_do_projeto-DadosdeLinhadoTempodoProjeto[[#This Row],[NUM]]+1,2)),\"\")","v":""},{"$f":"IFERROR(IF(ISBLANK(INDEX(DetalhesDoProjeto[#Data],Última_entrada_do_projeto-Linha_de_início_do_projeto-DadosdeLinhadoTempodoProjeto[[#This Row],[NUM]]+1,3)),\"\",INDEX(DetalhesDoProjeto[#Data],Última_entrada_do_projeto-Linha_de_início_do_projeto-DadosdeLinhadoTempodoProjeto[[#This Row],[NUM]]+1,3)),\"\")","v":""},{"$f":"IFERROR(IF(ISBLANK(INDEX(DetalhesDoProjeto[#Data],ROW(A220)+1,1)),\"\",IF($J224-1<=-1,\"\",$J224-1)),\"\")","v":""},null,null,{"$f":"IFERROR(DadosdeLinhadoTempodoProjeto[[#This Row],[NUM]]+1,\"\")","v":""},{"$f":"IFERROR(VLOOKUP(LinhadoTempoClassificada[[#This Row],[POSIÇÃO classificada]],DadosdeLinhadoTempodoProjeto[],3,0),\"\")","v":""},{"$f":"IFERROR(VLOOKUP(LinhadoTempoClassificada[[#This Row],[POSIÇÃO classificada]],DadosdeLinhadoTempodoProjeto[],4,0),\"\")","v":""},{"$f":"IFERROR(VLOOKUP(LinhadoTempoClassificada[[#This Row],[POSIÇÃO classificada]],DadosdeLinhadoTempodoProjeto[],5,0),\"\")","v":""}]
[{"$nulls":4},{"$f":"IFERROR(RANK(F226,DadosdeLinhadoTempodoProjeto[CLASSIFICAÇÃO])+SUMPRODUCT(--(F226=DadosdeLinhadoTempodoProjeto[CLASSIFICAÇÃO]),--(J226<DadosdeLinhadoTempodoProjeto[NUM])),\"\")","v":""},{"$f":"IFERROR(RANK(DadosdeLinhadoTempodoProjeto[[#This Row],[DATA]],DadosdeLinhadoTempodoProjeto[DATA],1),\"\")","v":""},{"$f":"IFERROR(IF(ISBLANK(INDEX(DetalhesDoProjeto[#Data],Última_entrada_do_projeto-Linha_de_início_do_projeto-DadosdeLinhadoTempodoProjeto[[#This Row],[NUM]]+1,1)),\"\",INDEX(DetalhesDoProjeto[#Data],Última_entrada_do_projeto-Linha_de_início_do_projeto-DadosdeLinhadoTempodoProjeto[[#This Row],[NUM]]+1,1)),\"\")","v":""},{"$f":"IFERROR(IF(ISBLANK(INDEX(DetalhesDoProjeto[#Data],Última_entrada_do_projeto-Linha_de_início_do_projeto-DadosdeLinhadoTempodoProjeto[[#This Row],[NUM]]+1,2)),\"\",INDEX(DetalhesDoProjeto[#Data],Última_entrada_do_projeto-Linha_de_início_do_projeto-DadosdeLinhadoTempodoProjeto[[#This Row],[NUM]]+1,2)),\"\")","v":""},{"$f":"IFERROR(IF(ISBLANK(INDEX(DetalhesDoProjeto[#Data],Última_entrada_do_projeto-Linha_de_início_do_projeto-DadosdeLinhadoTempodoProjeto[[#This Row],[NUM]]+1,3)),\"\",INDEX(DetalhesDoProjeto[#Data],Última_entrada_do_projeto-Linha_de_início_do_projeto-DadosdeLinhadoTempodoProjeto[[#This Row],[NUM]]+1,3)),\"\")","v":""},{"$f":"IFERROR(IF(ISBLANK(INDEX(DetalhesDoProjeto[#Data],ROW(A221)+1,1)),\"\",IF($J225-1<=-1,\"\",$J225-1)),\"\")","v":""},null,null,{"$f":"IFERROR(DadosdeLinhadoTempodoProjeto[[#This Row],[NUM]]+1,\"\")","v":""},{"$f":"IFERROR(VLOOKUP(LinhadoTempoClassificada[[#This Row],[POSIÇÃO classificada]],DadosdeLinhadoTempodoProjeto[],3,0),\"\")","v":""},{"$f":"IFERROR(VLOOKUP(LinhadoTempoClassificada[[#This Row],[POSIÇÃO classificada]],DadosdeLinhadoTempodoProjeto[],4,0),\"\")","v":""},{"$f":"IFERROR(VLOOKUP(LinhadoTempoClassificada[[#This Row],[POSIÇÃO classificada]],DadosdeLinhadoTempodoProjeto[],5,0),\"\")","v":""}]
[{"$nulls":4},{"$f":"IFERROR(RANK(F227,DadosdeLinhadoTempodoProjeto[CLASSIFICAÇÃO])+SUMPRODUCT(--(F227=DadosdeLinhadoTempodoProjeto[CLASSIFICAÇÃO]),--(J227<DadosdeLinhadoTempodoProjeto[NUM])),\"\")","v":""},{"$f":"IFERROR(RANK(DadosdeLinhadoTempodoProjeto[[#This Row],[DATA]],DadosdeLinhadoTempodoProjeto[DATA],1),\"\")","v":""},{"$f":"IFERROR(IF(ISBLANK(INDEX(DetalhesDoProjeto[#Data],Última_entrada_do_projeto-Linha_de_início_do_projeto-DadosdeLinhadoTempodoProjeto[[#This Row],[NUM]]+1,1)),\"\",INDEX(DetalhesDoProjeto[#Data],Última_entrada_do_projeto-Linha_de_início_do_projeto-DadosdeLinhadoTempodoProjeto[[#This Row],[NUM]]+1,1)),\"\")","v":""},{"$f":"IFERROR(IF(ISBLANK(INDEX(DetalhesDoProjeto[#Data],Última_entrada_do_projeto-Linha_de_início_do_projeto-DadosdeLinhadoTempodoProjeto[[#This Row],[NUM]]+1,2)),\"\",INDEX(DetalhesDoProjeto[#Data],Última_entrada_do_projeto-Linha_de_início_do_projeto-DadosdeLinhadoTempodoProjeto[[#This Row],[NUM]]+1,2)),\"\")","v":""},{"$f":"IFERROR(IF(ISBLANK(INDEX(DetalhesDoProjeto[#Data],Última_entrada_do_projeto-Linha_de_início_do_projeto-DadosdeLinhadoTempodoProjeto[[#This Row],[NUM]]+1,3)),\"\",INDEX(DetalhesDoProjeto[#Data],Última_entrada_do_projeto-Linha_de_início_do_projeto-DadosdeLinhadoTempodoProjeto[[#This Row],[NUM]]+1,3)),\"\")","v":""},{"$f":"IFERROR(IF(ISBLANK(INDEX(DetalhesDoProjeto[#Data],ROW(A222)+1,1)),\"\",IF($J226-1<=-1,\"\",$J226-1)),\"\")","v":""},null,null,{"$f":"IFERROR(DadosdeLinhadoTempodoProjeto[[#This Row],[NUM]]+1,\"\")","v":""},{"$f":"IFERROR(VLOOKUP(LinhadoTempoClassificada[[#This Row],[POSIÇÃO classificada]],DadosdeLinhadoTempodoProjeto[],3,0),\"\")","v":""},{"$f":"IFERROR(VLOOKUP(LinhadoTempoClassificada[[#This Row],[POSIÇÃO classificada]],DadosdeLinhadoTempodoProjeto[],4,0),\"\")","v":""},{"$f":"IFERROR(VLOOKUP(LinhadoTempoClassificada[[#This Row],[POSIÇÃO classificada]],DadosdeLinhadoTempodoProjeto[],5,0),\"\")","v":""}]
[{"$nulls":4},{"$f":"IFERROR(RANK(F228,DadosdeLinhadoTempodoProjeto[CLASSIFICAÇÃO])+SUMPRODUCT(--(F228=DadosdeLinhadoTempodoProjeto[CLASSIFICAÇÃO]),--(J228<DadosdeLinhadoTempodoProjeto[NUM])),\"\")","v":""},{"$f":"IFERROR(RANK(DadosdeLinhadoTempodoProjeto[[#This Row],[DATA]],DadosdeLinhadoTempodoProjeto[DATA],1),\"\")","v":""},{"$f":"IFERROR(IF(ISBLANK(INDEX(DetalhesDoProjeto[#Data],Última_entrada_do_projeto-Linha_de_início_do_projeto-DadosdeLinhadoTempodoProjeto[[#This Row],[NUM]]+1,1)),\"\",INDEX(DetalhesDoProjeto[#Data],Última_entrada_do_projeto-Linha_de_início_do_projeto-DadosdeLinhadoTempodoProjeto[[#This Row],[NUM]]+1,1)),\"\")","v":""},{"$f":"IFERROR(IF(ISBLANK(INDEX(DetalhesDoProjeto[#Data],Última_entrada_do_projeto-Linha_de_início_do_projeto-DadosdeLinhadoTempodoProjeto[[#This Row],[NUM]]+1,2)),\"\",INDEX(DetalhesDoProjeto[#Data],Última_entrada_do_projeto-Linha_de_início_do_projeto-DadosdeLinhadoTempodoProjeto[[#This Row],[NUM]]+1,2)),\"\")","v":""},{"$f":"IFERROR(IF(ISBLANK(INDEX(DetalhesDoProjeto[#Data],Última_entrada_do_projeto-Linha_de_início_do_projeto-DadosdeLinhadoTempodoProjeto[[#This Row],[NUM]]+1,3)),\"\",INDEX(DetalhesDoProjeto[#Data],Última_entrada_do_projeto-Linha_de_início_do_projeto-DadosdeLinhadoTempodoProjeto[[#This Row],[NUM]]+1,3)),\"\")","v":""},{"$f":"IFERROR(IF(ISBLANK(INDEX(DetalhesDoProjeto[#Data],ROW(A223)+1,1)),\"\",IF($J227-1<=-1,\"\",$J227-1)),\"\")","v":""},null,null,{"$f":"IFERROR(DadosdeLinhadoTempodoProjeto[[#This Row],[NUM]]+1,\"\")","v":""},{"$f":"IFERROR(VLOOKUP(LinhadoTempoClassificada[[#This Row],[POSIÇÃO classificada]],DadosdeLinhadoTempodoProjeto[],3,0),\"\")","v":""},{"$f":"IFERROR(VLOOKUP(LinhadoTempoClassificada[[#This Row],[POSIÇÃO classificada]],DadosdeLinhadoTempodoProjeto[],4,0),\"\")","v":""},{"$f":"IFERROR(VLOOKUP(LinhadoTempoClassificada[[#This Row],[POSIÇÃO classificada]],DadosdeLinhadoTempodoProjeto[],5,0),\"\")","v":""}]
[{"$nulls":4},{"$f":"IFERROR(RANK(F229,DadosdeLinhadoTempodoProjeto[CLASSIFICAÇÃO])+SUMPRODUCT(--(F229=DadosdeLinhadoTempodoProjeto[CLASSIFICAÇÃO]),--(J229<DadosdeLinhadoTempodoProjeto[NUM])),\"\")","v":""},{"$f":"IFERROR(RANK(DadosdeLinhadoTempodoProjeto[[#This Row],[DATA]],DadosdeLinhadoTempodoProjeto[DATA],1),\"\")","v":""},{"$f":"IFERROR(IF(ISBLANK(INDEX(DetalhesDoProjeto[#Data],Última_entrada_do_projeto-Linha_de_início_do_projeto-DadosdeLinhadoTempodoProjeto[[#This Row],[NUM]]+1,1)),\"\",INDEX(DetalhesDoProjeto[#Data],Última_entrada_do_projeto-Linha_de_início_do_projeto-DadosdeLinhadoTempodoProjeto[[#This Row],[NUM]]+1,1)),\"\")","v":""},{"$f":"IFERROR(IF(ISBLANK(INDEX(DetalhesDoProjeto[#Data],Última_entrada_do_projeto-Linha_de_início_do_projeto-DadosdeLinhadoTempodoProjeto[[#This Row],[NUM]]+1,2)),\"\",INDEX(DetalhesDoProjeto[#Data],Última_entrada_do_projeto-Linha_de_início_do_projeto-DadosdeLinhadoTempodoProjeto[[#This Row],[NUM]]+1,2)),\"\")","v":""},{"$f":"IFERROR(IF(ISBLANK(INDEX(DetalhesDoProjeto[#Data],Última_entrada_do_projeto-Linha_de_início_do_projeto-DadosdeLinhadoTempodoProjeto[[#This Row],[NUM]]+1,3)),\"\",INDEX(DetalhesDoProjeto[#Data],Última_entrada_do_projeto-Linha_de_início_do_projeto-DadosdeLinhadoTempodoProjeto[[#This Row],[NUM]]+1,3)),\"\")","v":""},{"$f":"IFERROR(IF(ISBLANK(INDEX(DetalhesDoProjeto[#Data],ROW(A224)+1,1)),\"\",IF($J228-1<=-1,\"\",$J228-1)),\"\")","v":""},null,null,{"$f":"IFERROR(DadosdeLinhadoTempodoProjeto[[#This Row],[NUM]]+1,\"\")","v":""},{"$f":"IFERROR(VLOOKUP(LinhadoTempoClassificada[[#This Row],[POSIÇÃO classificada]],DadosdeLinhadoTempodoProjeto[],3,0),\"\")","v":""},{"$f":"IFERROR(VLOOKUP(LinhadoTempoClassificada[[#This Row],[POSIÇÃO classificada]],DadosdeLinhadoTempodoProjeto[],4,0),\"\")","v":""},{"$f":"IFERROR(VLOOKUP(LinhadoTempoClassificada[[#This Row],[POSIÇÃO classificada]],DadosdeLinhadoTempodoProjeto[],5,0),\"\")","v":""}]
[{"$nulls":4},{"$f":"IFERROR(RANK(F230,DadosdeLinhadoTempodoProjeto[CLASSIFICAÇÃO])+SUMPRODUCT(--(F230=DadosdeLinhadoTempodoProjeto[CLASSIFICAÇÃO]),--(J230<DadosdeLinhadoTempodoProjeto[NUM])),\"\")","v":""},{"$f":"IFERROR(RANK(DadosdeLinhadoTempodoProjeto[[#This Row],[DATA]],DadosdeLinhadoTempodoProjeto[DATA],1),\"\")","v":""},{"$f":"IFERROR(IF(ISBLANK(INDEX(DetalhesDoProjeto[#Data],Última_entrada_do_projeto-Linha_de_início_do_projeto-DadosdeLinhadoTempodoProjeto[[#This Row],[NUM]]+1,1)),\"\",INDEX(DetalhesDoProjeto[#Data],Última_entrada_do_projeto-Linha_de_início_do_projeto-DadosdeLinhadoTempodoProjeto[[#This Row],[NUM]]+1,1)),\"\")","v":""},{"$f":"IFERROR(IF(ISBLANK(INDEX(DetalhesDoProjeto[#Data],Última_entrada_do_projeto-Linha_de_início_do_projeto-DadosdeLinhadoTempodoProjeto[[#This Row],[NUM]]+1,2)),\"\",INDEX(DetalhesDoProjeto[#Data],Última_entrada_do_projeto-Linha_de_início_do_projeto-DadosdeLinhadoTempodoProjeto[[#This Row],[NUM]]+1,2)),\"\")","v":""},{"$f":"IFERROR(IF(ISBLANK(INDEX(DetalhesDoProjeto[#Data],Última_entrada_do_projeto-Linha_de_início_do_projeto-DadosdeLinhadoTempodoProjeto[[#This Row],[NUM]]+1,3)),\"\",INDEX(DetalhesDoProjeto[#Data],Última_entrada_do_projeto-Linha_de_início_do_projeto-DadosdeLinhadoTempodoProjeto[[#This Row],[NUM]]+1,3)),\"\")","v":""},{"$f":"IFERROR(IF(ISBLANK(INDEX(DetalhesDoProjeto[#Data],ROW(A225)+1,1)),\"\",IF($J229-1<=-1,\"\",$J229-1)),\"\")","v":""},null,null,{"$f":"IFERROR(DadosdeLinhadoTempodoProjeto[[#This Row],[NUM]]+1,\"\")","v":""},{"$f":"IFERROR(VLOOKUP(LinhadoTempoClassificada[[#This Row],[POSIÇÃO classificada]],DadosdeLinhadoTempodoProjeto[],3,0),\"\")","v":""},{"$f":"IFERROR(VLOOKUP(LinhadoTempoClassificada[[#This Row],[POSIÇÃO classificada]],DadosdeLinhadoTempodoProjeto[],4,0),\"\")","v":""},{"$f":"IFERROR(VLOOKUP(LinhadoTempoClassificada[[#This Row],[POSIÇÃO classificada]],DadosdeLinhadoTempodoProjeto[],5,0),\"\")","v":""}]
[{"$nulls":4},{"$f":"IFERROR(RANK(F231,DadosdeLinhadoTempodoProjeto[CLASSIFICAÇÃO])+SUMPRODUCT(--(F231=DadosdeLinhadoTempodoProjeto[CLASSIFICAÇÃO]),--(J231<DadosdeLinhadoTempodoProjeto[NUM])),\"\")","v":""},{"$f":"IFERROR(RANK(DadosdeLinhadoTempodoProjeto[[#This Row],[DATA]],DadosdeLinhadoTempodoProjeto[DATA],1),\"\")","v":""},{"$f":"IFERROR(IF(ISBLANK(INDEX(DetalhesDoProjeto[#Data],Última_entrada_do_projeto-Linha_de_início_do_projeto-DadosdeLinhadoTempodoProjeto[[#This Row],[NUM]]+1,1)),\"\",INDEX(DetalhesDoProjeto[#Data],Última_entrada_do_projeto-Linha_de_início_do_projeto-DadosdeLinhadoTempodoProjeto[[#This Row],[NUM]]+1,1)),\"\")","v":""},{"$f":"IFERROR(IF(ISBLANK(INDEX(DetalhesDoProjeto[#Data],Última_entrada_do_projeto-Linha_de_início_do_projeto-DadosdeLinhadoTempodoProjeto[[#This Row],[NUM]]+1,2)),\"\",INDEX(DetalhesDoProjeto[#Data],Última_entrada_do_projeto-Linha_de_início_do_projeto-DadosdeLinhadoTempodoProjeto[[#This Row],[NUM]]+1,2)),\"\")","v":""},{"$f":"IFERROR(IF(ISBLANK(INDEX(DetalhesDoProjeto[#Data],Última_entrada_do_projeto-Linha_de_início_do_projeto-DadosdeLinhadoTempodoProjeto[[#This Row],[NUM]]+1,3)),\"\",INDEX(DetalhesDoProjeto[#Data],Última_entrada_do_projeto-Linha_de_início_do_projeto-DadosdeLinhadoTempodoProjeto[[#This Row],[NUM]]+1,3)),\"\")","v":""},{"$f":"IFERROR(IF(ISBLANK(INDEX(DetalhesDoProjeto[#Data],ROW(A226)+1,1)),\"\",IF($J230-1<=-1,\"\",$J230-1)),\"\")","v":""},null,null,{"$f":"IFERROR(DadosdeLinhadoTempodoProjeto[[#This Row],[NUM]]+1,\"\")","v":""},{"$f":"IFERROR(VLOOKUP(LinhadoTempoClassificada[[#This Row],[POSIÇÃO classificada]],DadosdeLinhadoTempodoProjeto[],3,0),\"\")","v":""},{"$f":"IFERROR(VLOOKUP(LinhadoTempoClassificada[[#This Row],[POSIÇÃO classificada]],DadosdeLinhadoTempodoProjeto[],4,0),\"\")","v":""},{"$f":"IFERROR(VLOOKUP(LinhadoTempoClassificada[[#This Row],[POSIÇÃO classificada]],DadosdeLinhadoTempodoProjeto[],5,0),\"\")","v":""}]
[{"$nulls":4},{"$f":"IFERROR(RANK(F232,DadosdeLinhadoTempodoProjeto[CLASSIFICAÇÃO])+SUMPRODUCT(--(F232=DadosdeLinhadoTempodoProjeto[CLASSIFICAÇÃO]),--(J232<DadosdeLinhadoTempodoProjeto[NUM])),\"\")","v":""},{"$f":"IFERROR(RANK(DadosdeLinhadoTempodoProjeto[[#This Row],[DATA]],DadosdeLinhadoTempodoProjeto[DATA],1),\"\")","v":""},{"$f":"IFERROR(IF(ISBLANK(INDEX(DetalhesDoProjeto[#Data],Última_entrada_do_projeto-Linha_de_início_do_projeto-DadosdeLinhadoTempodoProjeto[[#This Row],[NUM]]+1,1)),\"\",INDEX(DetalhesDoProjeto[#Data],Última_entrada_do_projeto-Linha_de_início_do_projeto-DadosdeLinhadoTempodoProjeto[[#This Row],[NUM]]+1,1)),\"\")","v":""},{"$f":"IFERROR(IF(ISBLANK(INDEX(DetalhesDoProjeto[#Data],Última_entrada_do_projeto-Linha_de_início_do_projeto-DadosdeLinhadoTempodoProjeto[[#This Row],[NUM]]+1,2)),\"\",INDEX(DetalhesDoProjeto[#Data],Última_entrada_do_projeto-Linha_de_início_do_projeto-DadosdeLinhadoTempodoProjeto[[#This Row],[NUM]]+1,2)),\"\")","v":""},{"$f":"IFERROR(IF(ISBLANK(INDEX(DetalhesDoProjeto[#Data],Última_entrada_do_projeto-Linha_de_início_do_projeto-DadosdeLinhadoTempodoProjeto[[#This Row],[NUM]]+1,3)),\"\",INDEX(DetalhesDoProjeto[#Data],Última_entrada_do_projeto-Linha_de_início_do_projeto-DadosdeLinhadoTempodoProjeto[[#This Row],[NUM]]+1,3)),\"\")","v":""},{"$f":"IFERROR(IF(ISBLANK(INDEX(DetalhesDoProjeto[#Data],ROW(A227)+1,1)),\"\",IF($J231-1<=-1,\"\",$J231-1)),\"\")","v":""},null,null,{"$f":"IFERROR(DadosdeLinhadoTempodoProjeto[[#This Row],[NUM]]+1,\"\")","v":""},{"$f":"IFERROR(VLOOKUP(LinhadoTempoClassificada[[#This Row],[POSIÇÃO classificada]],DadosdeLinhadoTempodoProjeto[],3,0),\"\")","v":""},{"$f":"IFERROR(VLOOKUP(LinhadoTempoClassificada[[#This Row],[POSIÇÃO classificada]],DadosdeLinhadoTempodoProjeto[],4,0),\"\")","v":""},{"$f":"IFERROR(VLOOKUP(LinhadoTempoClassificada[[#This Row],[POSIÇÃO classificada]],DadosdeLinhadoTempodoProjeto[],5,0),\"\")","v":""}]
[{"$nulls":4},{"$f":"IFERROR(RANK(F233,DadosdeLinhadoTempodoProjeto[CLASSIFICAÇÃO])+SUMPRODUCT(--(F233=DadosdeLinhadoTempodoProjeto[CLASSIFICAÇÃO]),--(J233<DadosdeLinhadoTempodoProjeto[NUM])),\"\")","v":""},{"$f":"IFERROR(RANK(DadosdeLinhadoTempodoProjeto[[#This Row],[DATA]],DadosdeLinhadoTempodoProjeto[DATA],1),\"\")","v":""},{"$f":"IFERROR(IF(ISBLANK(INDEX(DetalhesDoProjeto[#Data],Última_entrada_do_projeto-Linha_de_início_do_projeto-DadosdeLinhadoTempodoProjeto[[#This Row],[NUM]]+1,1)),\"\",INDEX(DetalhesDoProjeto[#Data],Última_entrada_do_projeto-Linha_de_início_do_projeto-DadosdeLinhadoTempodoProjeto[[#This Row],[NUM]]+1,1)),\"\")","v":""},{"$f":"IFERROR(IF(ISBLANK(INDEX(DetalhesDoProjeto[#Data],Última_entrada_do_projeto-Linha_de_início_do_projeto-DadosdeLinhadoTempodoProjeto[[#This Row],[NUM]]+1,2)),\"\",INDEX(DetalhesDoProjeto[#Data],Última_entrada_do_projeto-Linha_de_início_do_projeto-DadosdeLinhadoTempodoProjeto[[#This Row],[NUM]]+1,2)),\"\")","v":""},{"$f":"IFERROR(IF(ISBLANK(INDEX(DetalhesDoProjeto[#Data],Última_entrada_do_projeto-Linha_de_início_do_projeto-DadosdeLinhadoTempodoProjeto[[#This Row],[NUM]]+1,3)),\"\",INDEX(DetalhesDoProjeto[#Data],Última_entrada_do_projeto-Linha_de_início_do_projeto-DadosdeLinhadoTempodoProjeto[[#This Row],[NUM]]+1,3)),\"\")","v":""},{"$f":"IFERROR(IF(ISBLANK(INDEX(DetalhesDoProjeto[#Data],ROW(A228)+1,1)),\"\",IF($J232-1<=-1,\"\",$J232-1)),\"\")","v":""},null,null,{"$f":"IFERROR(DadosdeLinhadoTempodoProjeto[[#This Row],[NUM]]+1,\"\")","v":""},{"$f":"IFERROR(VLOOKUP(LinhadoTempoClassificada[[#This Row],[POSIÇÃO classificada]],DadosdeLinhadoTempodoProjeto[],3,0),\"\")","v":""},{"$f":"IFERROR(VLOOKUP(LinhadoTempoClassificada[[#This Row],[POSIÇÃO classificada]],DadosdeLinhadoTempodoProjeto[],4,0),\"\")","v":""},{"$f":"IFERROR(VLOOKUP(LinhadoTempoClassificada[[#This Row],[POSIÇÃO classificada]],DadosdeLinhadoTempodoProjeto[],5,0),\"\")","v":""}]
[{"$nulls":4},{"$f":"IFERROR(RANK(F234,DadosdeLinhadoTempodoProjeto[CLASSIFICAÇÃO])+SUMPRODUCT(--(F234=DadosdeLinhadoTempodoProjeto[CLASSIFICAÇÃO]),--(J234<DadosdeLinhadoTempodoProjeto[NUM])),\"\")","v":""},{"$f":"IFERROR(RANK(DadosdeLinhadoTempodoProjeto[[#This Row],[DATA]],DadosdeLinhadoTempodoProjeto[DATA],1),\"\")","v":""},{"$f":"IFERROR(IF(ISBLANK(INDEX(DetalhesDoProjeto[#Data],Última_entrada_do_projeto-Linha_de_início_do_projeto-DadosdeLinhadoTempodoProjeto[[#This Row],[NUM]]+1,1)),\"\",INDEX(DetalhesDoProjeto[#Data],Última_entrada_do_projeto-Linha_de_início_do_projeto-DadosdeLinhadoTempodoProjeto[[#This Row],[NUM]]+1,1)),\"\")","v":""},{"$f":"IFERROR(IF(ISBLANK(INDEX(DetalhesDoProjeto[#Data],Última_entrada_do_projeto-Linha_de_início_do_projeto-DadosdeLinhadoTempodoProjeto[[#This Row],[NUM]]+1,2)),\"\",INDEX(DetalhesDoProjeto[#Data],Última_entrada_do_projeto-Linha_de_início_do_projeto-DadosdeLinhadoTempodoProjeto[[#This Row],[NUM]]+1,2)),\"\")","v":""},{"$f":"IFERROR(IF(ISBLANK(INDEX(DetalhesDoProjeto[#Data],Última_entrada_do_projeto-Linha_de_início_do_projeto-DadosdeLinhadoTempodoProjeto[[#This Row],[NUM]]+1,3)),\"\",INDEX(DetalhesDoProjeto[#Data],Última_entrada_do_projeto-Linha_de_início_do_projeto-DadosdeLinhadoTempodoProjeto[[#This Row],[NUM]]+1,3)),\"\")","v":""},{"$f":"IFERROR(IF(ISBLANK(INDEX(DetalhesDoProjeto[#Data],ROW(A229)+1,1)),\"\",IF($J233-1<=-1,\"\",$J233-1)),\"\")","v":""},null,null,{"$f":"IFERROR(DadosdeLinhadoTempodoProjeto[[#This Row],[NUM]]+1,\"\")","v":""},{"$f":"IFERROR(VLOOKUP(LinhadoTempoClassificada[[#This Row],[POSIÇÃO classificada]],DadosdeLinhadoTempodoProjeto[],3,0),\"\")","v":""},{"$f":"IFERROR(VLOOKUP(LinhadoTempoClassificada[[#This Row],[POSIÇÃO classificada]],DadosdeLinhadoTempodoProjeto[],4,0),\"\")","v":""},{"$f":"IFERROR(VLOOKUP(LinhadoTempoClassificada[[#This Row],[POSIÇÃO classificada]],DadosdeLinhadoTempodoProjeto[],5,0),\"\")","v":""}]
[{"$nulls":4},{"$f":"IFERROR(RANK(F235,DadosdeLinhadoTempodoProjeto[CLASSIFICAÇÃO])+SUMPRODUCT(--(F235=DadosdeLinhadoTempodoProjeto[CLASSIFICAÇÃO]),--(J235<DadosdeLinhadoTempodoProjeto[NUM])),\"\")","v":""},{"$f":"IFERROR(RANK(DadosdeLinhadoTempodoProjeto[[#This Row],[DATA]],DadosdeLinhadoTempodoProjeto[DATA],1),\"\")","v":""},{"$f":"IFERROR(IF(ISBLANK(INDEX(DetalhesDoProjeto[#Data],Última_entrada_do_projeto-Linha_de_início_do_projeto-DadosdeLinhadoTempodoProjeto[[#This Row],[NUM]]+1,1)),\"\",INDEX(DetalhesDoProjeto[#Data],Última_entrada_do_projeto-Linha_de_início_do_projeto-DadosdeLinhadoTempodoProjeto[[#This Row],[NUM]]+1,1)),\"\")","v":""},{"$f":"IFERROR(IF(ISBLANK(INDEX(DetalhesDoProjeto[#Data],Última_entrada_do_projeto-Linha_de_início_do_projeto-DadosdeLinhadoTempodoProjeto[[#This Row],[NUM]]+1,2)),\"\",INDEX(DetalhesDoProjeto[#Data],Última_entrada_do_projeto-Linha_de_início_do_projeto-DadosdeLinhadoTempodoProjeto[[#This Row],[NUM]]+1,2)),\"\")","v":""},{"$f":"IFERROR(IF(ISBLANK(INDEX(DetalhesDoProjeto[#Data],Última_entrada_do_projeto-Linha_de_início_do_projeto-DadosdeLinhadoTempodoProjeto[[#This Row],[NUM]]+1,3)),\"\",INDEX(DetalhesDoProjeto[#Data],Última_entrada_do_projeto-Linha_de_início_do_projeto-DadosdeLinhadoTempodoProjeto[[#This Row],[NUM]]+1,3)),\"\")","v":""},{"$f":"IFERROR(IF(ISBLANK(INDEX(DetalhesDoProjeto[#Data],ROW(A230)+1,1)),\"\",IF($J234-1<=-1,\"\",$J234-1)),\"\")","v":""},null,null,{"$f":"IFERROR(DadosdeLinhadoTempodoProjeto[[#This Row],[NUM]]+1,\"\")","v":""},{"$f":"IFERROR(VLOOKUP(LinhadoTempoClassificada[[#This Row],[POSIÇÃO classificada]],DadosdeLinhadoTempodoProjeto[],3,0),\"\")","v":""},{"$f":"IFERROR(VLOOKUP(LinhadoTempoClassificada[[#This Row],[POSIÇÃO classificada]],DadosdeLinhadoTempodoProjeto[],4,0),\"\")","v":""},{"$f":"IFERROR(VLOOKUP(LinhadoTempoClassificada[[#This Row],[POSIÇÃO classificada]],DadosdeLinhadoTempodoProjeto[],5,0),\"\")","v":""}]
[{"$nulls":4},{"$f":"IFERROR(RANK(F236,DadosdeLinhadoTempodoProjeto[CLASSIFICAÇÃO])+SUMPRODUCT(--(F236=DadosdeLinhadoTempodoProjeto[CLASSIFICAÇÃO]),--(J236<DadosdeLinhadoTempodoProjeto[NUM])),\"\")","v":""},{"$f":"IFERROR(RANK(DadosdeLinhadoTempodoProjeto[[#This Row],[DATA]],DadosdeLinhadoTempodoProjeto[DATA],1),\"\")","v":""},{"$f":"IFERROR(IF(ISBLANK(INDEX(DetalhesDoProjeto[#Data],Última_entrada_do_projeto-Linha_de_início_do_projeto-DadosdeLinhadoTempodoProjeto[[#This Row],[NUM]]+1,1)),\"\",INDEX(DetalhesDoProjeto[#Data],Última_entrada_do_projeto-Linha_de_início_do_projeto-DadosdeLinhadoTempodoProjeto[[#This Row],[NUM]]+1,1)),\"\")","v":""},{"$f":"IFERROR(IF(ISBLANK(INDEX(DetalhesDoProjeto[#Data],Última_entrada_do_projeto-Linha_de_início_do_projeto-DadosdeLinhadoTempodoProjeto[[#This Row],[NUM]]+1,2)),\"\",INDEX(DetalhesDoProjeto[#Data],Última_entrada_do_projeto-Linha_de_início_do_projeto-DadosdeLinhadoTempodoProjeto[[#This Row],[NUM]]+1,2)),\"\")","v":""},{"$f":"IFERROR(IF(ISBLANK(INDEX(DetalhesDoProjeto[#Data],Última_entrada_do_projeto-Linha_de_início_do_projeto-DadosdeLinhadoTempodoProjeto[[#This Row],[NUM]]+1,3)),\"\",INDEX(DetalhesDoProjeto[#Data],Última_entrada_do_projeto-Linha_de_início_do_projeto-DadosdeLinhadoTempodoProjeto[[#This Row],[NUM]]+1,3)),\"\")","v":""},{"$f":"IFERROR(IF(ISBLANK(INDEX(DetalhesDoProjeto[#Data],ROW(A231)+1,1)),\"\",IF($J235-1<=-1,\"\",$J235-1)),\"\")","v":""},null,null,{"$f":"IFERROR(DadosdeLinhadoTempodoProjeto[[#This Row],[NUM]]+1,\"\")","v":""},{"$f":"IFERROR(VLOOKUP(LinhadoTempoClassificada[[#This Row],[POSIÇÃO classificada]],DadosdeLinhadoTempodoProjeto[],3,0),\"\")","v":""},{"$f":"IFERROR(VLOOKUP(LinhadoTempoClassificada[[#This Row],[POSIÇÃO classificada]],DadosdeLinhadoTempodoProjeto[],4,0),\"\")","v":""},{"$f":"IFERROR(VLOOKUP(LinhadoTempoClassificada[[#This Row],[POSIÇÃO classificada]],DadosdeLinhadoTempodoProjeto[],5,0),\"\")","v":""}]
[{"$nulls":4},{"$f":"IFERROR(RANK(F237,DadosdeLinhadoTempodoProjeto[CLASSIFICAÇÃO])+SUMPRODUCT(--(F237=DadosdeLinhadoTempodoProjeto[CLASSIFICAÇÃO]),--(J237<DadosdeLinhadoTempodoProjeto[NUM])),\"\")","v":""},{"$f":"IFERROR(RANK(DadosdeLinhadoTempodoProjeto[[#This Row],[DATA]],DadosdeLinhadoTempodoProjeto[DATA],1),\"\")","v":""},{"$f":"IFERROR(IF(ISBLANK(INDEX(DetalhesDoProjeto[#Data],Última_entrada_do_projeto-Linha_de_início_do_projeto-DadosdeLinhadoTempodoProjeto[[#This Row],[NUM]]+1,1)),\"\",INDEX(DetalhesDoProjeto[#Data],Última_entrada_do_projeto-Linha_de_início_do_projeto-DadosdeLinhadoTempodoProjeto[[#This Row],[NUM]]+1,1)),\"\")","v":""},{"$f":"IFERROR(IF(ISBLANK(INDEX(DetalhesDoProjeto[#Data],Última_entrada_do_projeto-Linha_de_início_do_projeto-DadosdeLinhadoTempodoProjeto[[#This Row],[NUM]]+1,2)),\"\",INDEX(DetalhesDoProjeto[#Data],Última_entrada_do_projeto-Linha_de_início_do_projeto-DadosdeLinhadoTempodoProjeto[[#This Row],[NUM]]+1,2)),\"\")","v":""},{"$f":"IFERROR(IF(ISBLANK(INDEX(DetalhesDoProjeto[#Data],Última_entrada_do_projeto-Linha_de_início_do_projeto-DadosdeLinhadoTempodoProjeto[[#This Row],[NUM]]+1,3)),\"\",INDEX(DetalhesDoProjeto[#Data],Última_entrada_do_projeto-Linha_de_início_do_projeto-DadosdeLinhadoTempodoProjeto[[#This Row],[NUM]]+1,3)),\"\")","v":""},{"$f":"IFERROR(IF(ISBLANK(INDEX(DetalhesDoProjeto[#Data],ROW(A232)+1,1)),\"\",IF($J236-1<=-1,\"\",$J236-1)),\"\")","v":""},null,null,{"$f":"IFERROR(DadosdeLinhadoTempodoProjeto[[#This Row],[NUM]]+1,\"\")","v":""},{"$f":"IFERROR(VLOOKUP(LinhadoTempoClassificada[[#This Row],[POSIÇÃO classificada]],DadosdeLinhadoTempodoProjeto[],3,0),\"\")","v":""},{"$f":"IFERROR(VLOOKUP(LinhadoTempoClassificada[[#This Row],[POSIÇÃO classificada]],DadosdeLinhadoTempodoProjeto[],4,0),\"\")","v":""},{"$f":"IFERROR(VLOOKUP(LinhadoTempoClassificada[[#This Row],[POSIÇÃO classificada]],DadosdeLinhadoTempodoProjeto[],5,0),\"\")","v":""}]
[{"$nulls":4},{"$f":"IFERROR(RANK(F238,DadosdeLinhadoTempodoProjeto[CLASSIFICAÇÃO])+SUMPRODUCT(--(F238=DadosdeLinhadoTempodoProjeto[CLASSIFICAÇÃO]),--(J238<DadosdeLinhadoTempodoProjeto[NUM])),\"\")","v":""},{"$f":"IFERROR(RANK(DadosdeLinhadoTempodoProjeto[[#This Row],[DATA]],DadosdeLinhadoTempodoProjeto[DATA],1),\"\")","v":""},{"$f":"IFERROR(IF(ISBLANK(INDEX(DetalhesDoProjeto[#Data],Última_entrada_do_projeto-Linha_de_início_do_projeto-DadosdeLinhadoTempodoProjeto[[#This Row],[NUM]]+1,1)),\"\",INDEX(DetalhesDoProjeto[#Data],Última_entrada_do_projeto-Linha_de_início_do_projeto-DadosdeLinhadoTempodoProjeto[[#This Row],[NUM]]+1,1)),\"\")","v":""},{"$f":"IFERROR(IF(ISBLANK(INDEX(DetalhesDoProjeto[#Data],Última_entrada_do_projeto-Linha_de_início_do_projeto-DadosdeLinhadoTempodoProjeto[[#This Row],[NUM]]+1,2)),\"\",INDEX(DetalhesDoProjeto[#Data],Última_entrada_do_projeto-Linha_de_início_do_projeto-DadosdeLinhadoTempodoProjeto[[#This Row],[NUM]]+1,2)),\"\")","v":""},{"$f":"IFERROR(IF(ISBLANK(INDEX(DetalhesDoProjeto[#Data],Última_entrada_do_projeto-Linha_de_início_do_projeto-DadosdeLinhadoTempodoProjeto[[#This Row],[NUM]]+1,3)),\"\",INDEX(DetalhesDoProjeto[#Data],Última_entrada_do_projeto-Linha_de_início_do_projeto-DadosdeLinhadoTempodoProjeto[[#This Row],[NUM]]+1,3)),\"\")","v":""},{"$f":"IFERROR(IF(ISBLANK(INDEX(DetalhesDoProjeto[#Data],ROW(A233)+1,1)),\"\",IF($J237-1<=-1,\"\",$J237-1)),\"\")","v":""},null,null,{"$f":"IFERROR(DadosdeLinhadoTempodoProjeto[[#This Row],[NUM]]+1,\"\")","v":""},{"$f":"IFERROR(VLOOKUP(LinhadoTempoClassificada[[#This Row],[POSIÇÃO classificada]],DadosdeLinhadoTempodoProjeto[],3,0),\"\")","v":""},{"$f":"IFERROR(VLOOKUP(LinhadoTempoClassificada[[#This Row],[POSIÇÃO classificada]],DadosdeLinhadoTempodoProjeto[],4,0),\"\")","v":""},{"$f":"IFERROR(VLOOKUP(LinhadoTempoClassificada[[#This Row],[POSIÇÃO classificada]],DadosdeLinhadoTempodoProjeto[],5,0),\"\")","v":""}]
[{"$nulls":4},{"$f":"IFERROR(RANK(F239,DadosdeLinhadoTempodoProjeto[CLASSIFICAÇÃO])+SUMPRODUCT(--(F239=DadosdeLinhadoTempodoProjeto[CLASSIFICAÇÃO]),--(J239<DadosdeLinhadoTempodoProjeto[NUM])),\"\")","v":""},{"$f":"IFERROR(RANK(DadosdeLinhadoTempodoProjeto[[#This Row],[DATA]],DadosdeLinhadoTempodoProjeto[DATA],1),\"\")","v":""},{"$f":"IFERROR(IF(ISBLANK(INDEX(DetalhesDoProjeto[#Data],Última_entrada_do_projeto-Linha_de_início_do_projeto-DadosdeLinhadoTempodoProjeto[[#This Row],[NUM]]+1,1)),\"\",INDEX(DetalhesDoProjeto[#Data],Última_entrada_do_projeto-Linha_de_início_do_projeto-DadosdeLinhadoTempodoProjeto[[#This Row],[NUM]]+1,1)),\"\")","v":""},{"$f":"IFERROR(IF(ISBLANK(INDEX(DetalhesDoProjeto[#Data],Última_entrada_do_projeto-Linha_de_início_do_projeto-DadosdeLinhadoTempodoProjeto[[#This Row],[NUM]]+1,2)),\"\",INDEX(DetalhesDoProjeto[#Data],Última_entrada_do_projeto-Linha_de_início_do_projeto-DadosdeLinhadoTempodoProjeto[[#This Row],[NUM]]+1,2)),\"\")","v":""},{"$f":"IFERROR(IF(ISBLANK(INDEX(DetalhesDoProjeto[#Data],Última_entrada_do_projeto-Linha_de_início_do_projeto-DadosdeLinhadoTempodoProjeto[[#This Row],[NUM]]+1,3)),\"\",INDEX(DetalhesDoProjeto[#Data],Última_entrada_do_projeto-Linha_de_início_do_projeto-DadosdeLinhadoTempodoProjeto[[#This Row],[NUM]]+1,3)),\"\")","v":""},{"$f":"IFERROR(IF(ISBLANK(INDEX(DetalhesDoProjeto[#Data],ROW(A234)+1,1)),\"\",IF($J238-1<=-1,\"\",$J238-1)),\"\")","v":""},null,null,{"$f":"IFERROR(DadosdeLinhadoTempodoProjeto[[#This Row],[NUM]]+1,\"\")","v":""},{"$f":"IFERROR(VLOOKUP(LinhadoTempoClassificada[[#This Row],[POSIÇÃO classificada]],DadosdeLinhadoTempodoProjeto[],3,0),\"\")","v":""},{"$f":"IFERROR(VLOOKUP(LinhadoTempoClassificada[[#This Row],[POSIÇÃO classificada]],DadosdeLinhadoTempodoProjeto[],4,0),\"\")","v":""},{"$f":"IFERROR(VLOOKUP(LinhadoTempoClassificada[[#This Row],[POSIÇÃO classificada]],DadosdeLinhadoTempodoProjeto[],5,0),\"\")","v":""}]
[{"$nulls":4},{"$f":"IFERROR(RANK(F240,DadosdeLinhadoTempodoProjeto[CLASSIFICAÇÃO])+SUMPRODUCT(--(F240=DadosdeLinhadoTempodoProjeto[CLASSIFICAÇÃO]),--(J240<DadosdeLinhadoTempodoProjeto[NUM])),\"\")","v":""},{"$f":"IFERROR(RANK(DadosdeLinhadoTempodoProjeto[[#This Row],[DATA]],DadosdeLinhadoTempodoProjeto[DATA],1),\"\")","v":""},{"$f":"IFERROR(IF(ISBLANK(INDEX(DetalhesDoProjeto[#Data],Última_entrada_do_projeto-Linha_de_início_do_projeto-DadosdeLinhadoTempodoProjeto[[#This Row],[NUM]]+1,1)),\"\",INDEX(DetalhesDoProjeto[#Data],Última_entrada_do_projeto-Linha_de_início_do_projeto-DadosdeLinhadoTempodoProjeto[[#This Row],[NUM]]+1,1)),\"\")","v":""},{"$f":"IFERROR(IF(ISBLANK(INDEX(DetalhesDoProjeto[#Data],Última_entrada_do_projeto-Linha_de_início_do_projeto-DadosdeLinhadoTempodoProjeto[[#This Row],[NUM]]+1,2)),\"\",INDEX(DetalhesDoProjeto[#Data],Última_entrada_do_projeto-Linha_de_início_do_projeto-DadosdeLinhadoTempodoProjeto[[#This Row],[NUM]]+1,2)),\"\")","v":""},{"$f":"IFERROR(IF(ISBLANK(INDEX(DetalhesDoProjeto[#Data],Última_entrada_do_projeto-Linha_de_início_do_projeto-DadosdeLinhadoTempodoProjeto[[#This Row],[NUM]]+1,3)),\"\",INDEX(DetalhesDoProjeto[#Data],Última_entrada_do_projeto-Linha_de_início_do_projeto-DadosdeLinhadoTempodoProjeto[[#This Row],[NUM]]+1,3)),\"\")","v":""},{"$f":"IFERROR(IF(ISBLANK(INDEX(DetalhesDoProjeto[#Data],ROW(A235)+1,1)),\"\",IF($J239-1<=-1,\"\",$J239-1)),\"\")","v":""},null,null,{"$f":"IFERROR(DadosdeLinhadoTempodoProjeto[[#This Row],[NUM]]+1,\"\")","v":""},{"$f":"IFERROR(VLOOKUP(LinhadoTempoClassificada[[#This Row],[POSIÇÃO classificada]],DadosdeLinhadoTempodoProjeto[],3,0),\"\")","v":""},{"$f":"IFERROR(VLOOKUP(LinhadoTempoClassificada[[#This Row],[POSIÇÃO classificada]],DadosdeLinhadoTempodoProjeto[],4,0),\"\")","v":""},{"$f":"IFERROR(VLOOKUP(LinhadoTempoClassificada[[#This Row],[POSIÇÃO classificada]],DadosdeLinhadoTempodoProjeto[],5,0),\"\")","v":""}]
[{"$nulls":4},{"$f":"IFERROR(RANK(F241,DadosdeLinhadoTempodoProjeto[CLASSIFICAÇÃO])+SUMPRODUCT(--(F241=DadosdeLinhadoTempodoProjeto[CLASSIFICAÇÃO]),--(J241<DadosdeLinhadoTempodoProjeto[NUM])),\"\")","v":""},{"$f":"IFERROR(RANK(DadosdeLinhadoTempodoProjeto[[#This Row],[DATA]],DadosdeLinhadoTempodoProjeto[DATA],1),\"\")","v":""},{"$f":"IFERROR(IF(ISBLANK(INDEX(DetalhesDoProjeto[#Data],Última_entrada_do_projeto-Linha_de_início_do_projeto-DadosdeLinhadoTempodoProjeto[[#This Row],[NUM]]+1,1)),\"\",INDEX(DetalhesDoProjeto[#Data],Última_entrada_do_projeto-Linha_de_início_do_projeto-DadosdeLinhadoTempodoProjeto[[#This Row],[NUM]]+1,1)),\"\")","v":""},{"$f":"IFERROR(IF(ISBLANK(INDEX(DetalhesDoProjeto[#Data],Última_entrada_do_projeto-Linha_de_início_do_projeto-DadosdeLinhadoTempodoProjeto[[#This Row],[NUM]]+1,2)),\"\",INDEX(DetalhesDoProjeto[#Data],Última_entrada_do_projeto-Linha_de_início_do_projeto-DadosdeLinhadoTempodoProjeto[[#This Row],[NUM]]+1,2)),\"\")","v":""},{"$f":"IFERROR(IF(ISBLANK(INDEX(DetalhesDoProjeto[#Data],Última_entrada_do_projeto-Linha_de_início_do_projeto-DadosdeLinhadoTempodoProjeto[[#This Row],[NUM]]+1,3)),\"\",INDEX(DetalhesDoProjeto[#Data],Última_entrada_do_projeto-Linha_de_início_do_projeto-DadosdeLinhadoTempodoProjeto[[#This Row],[NUM]]+1,3)),\"\")","v":""},{"$f":"IFERROR(IF(ISBLANK(INDEX(DetalhesDoProjeto[#Data],ROW(A236)+1,1)),\"\",IF($J240-1<=-1,\"\",$J240-1)),\"\")","v":""},null,null,{"$f":"IFERROR(DadosdeLinhadoTempodoProjeto[[#This Row],[NUM]]+1,\"\")","v":""},{"$f":"IFERROR(VLOOKUP(LinhadoTempoClassificada[[#This Row],[POSIÇÃO classificada]],DadosdeLinhadoTempodoProjeto[],3,0),\"\")","v":""},{"$f":"IFERROR(VLOOKUP(LinhadoTempoClassificada[[#This Row],[POSIÇÃO classificada]],DadosdeLinhadoTempodoProjeto[],4,0),\"\")","v":""},{"$f":"IFERROR(VLOOKUP(LinhadoTempoClassificada[[#This Row],[POSIÇÃO classificada]],DadosdeLinhadoTempodoProjeto[],5,0),\"\")","v":""}]
[{"$nulls":4},{"$f":"IFERROR(RANK(F242,DadosdeLinhadoTempodoProjeto[CLASSIFICAÇÃO])+SUMPRODUCT(--(F242=DadosdeLinhadoTempodoProjeto[CLASSIFICAÇÃO]),--(J242<DadosdeLinhadoTempodoProjeto[NUM])),\"\")","v":""},{"$f":"IFERROR(RANK(DadosdeLinhadoTempodoProjeto[[#This Row],[DATA]],DadosdeLinhadoTempodoProjeto[DATA],1),\"\")","v":""},{"$f":"IFERROR(IF(ISBLANK(INDEX(DetalhesDoProjeto[#Data],Última_entrada_do_projeto-Linha_de_início_do_projeto-DadosdeLinhadoTempodoProjeto[[#This Row],[NUM]]+1,1)),\"\",INDEX(DetalhesDoProjeto[#Data],Última_entrada_do_projeto-Linha_de_início_do_projeto-DadosdeLinhadoTempodoProjeto[[#This Row],[NUM]]+1,1)),\"\")","v":""},{"$f":"IFERROR(IF(ISBLANK(INDEX(DetalhesDoProjeto[#Data],Última_entrada_do_projeto-Linha_de_início_do_projeto-DadosdeLinhadoTempodoProjeto[[#This Row],[NUM]]+1,2)),\"\",INDEX(DetalhesDoProjeto[#Data],Última_entrada_do_projeto-Linha_de_início_do_projeto-DadosdeLinhadoTempodoProjeto[[#This Row],[NUM]]+1,2)),\"\")","v":""},{"$f":"IFERROR(IF(ISBLANK(INDEX(DetalhesDoProjeto[#Data],Última_entrada_do_projeto-Linha_de_início_do_projeto-DadosdeLinhadoTempodoProjeto[[#This Row],[NUM]]+1,3)),\"\",INDEX(DetalhesDoProjeto[#Data],Última_entrada_do_projeto-Linha_de_início_do_projeto-DadosdeLinhadoTempodoProjeto[[#This Row],[NUM]]+1,3)),\"\")","v":""},{"$f":"IFERROR(IF(ISBLANK(INDEX(DetalhesDoProjeto[#Data],ROW(A237)+1,1)),\"\",IF($J241-1<=-1,\"\",$J241-1)),\"\")","v":""},null,null,{"$f":"IFERROR(DadosdeLinhadoTempodoProjeto[[#This Row],[NUM]]+1,\"\")","v":""},{"$f":"IFERROR(VLOOKUP(LinhadoTempoClassificada[[#This Row],[POSIÇÃO classificada]],DadosdeLinhadoTempodoProjeto[],3,0),\"\")","v":""},{"$f":"IFERROR(VLOOKUP(LinhadoTempoClassificada[[#This Row],[POSIÇÃO classificada]],DadosdeLinhadoTempodoProjeto[],4,0),\"\")","v":""},{"$f":"IFERROR(VLOOKUP(LinhadoTempoClassificada[[#This Row],[POSIÇÃO classificada]],DadosdeLinhadoTempodoProjeto[],5,0),\"\")","v":""}]
[{"$nulls":4},{"$f":"IFERROR(RANK(F243,DadosdeLinhadoTempodoProjeto[CLASSIFICAÇÃO])+SUMPRODUCT(--(F243=DadosdeLinhadoTempodoProjeto[CLASSIFICAÇÃO]),--(J243<DadosdeLinhadoTempodoProjeto[NUM])),\"\")","v":""},{"$f":"IFERROR(RANK(DadosdeLinhadoTempodoProjeto[[#This Row],[DATA]],DadosdeLinhadoTempodoProjeto[DATA],1),\"\")","v":""},{"$f":"IFERROR(IF(ISBLANK(INDEX(DetalhesDoProjeto[#Data],Última_entrada_do_projeto-Linha_de_início_do_projeto-DadosdeLinhadoTempodoProjeto[[#This Row],[NUM]]+1,1)),\"\",INDEX(DetalhesDoProjeto[#Data],Última_entrada_do_projeto-Linha_de_início_do_projeto-DadosdeLinhadoTempodoProjeto[[#This Row],[NUM]]+1,1)),\"\")","v":""},{"$f":"IFERROR(IF(ISBLANK(INDEX(DetalhesDoProjeto[#Data],Última_entrada_do_projeto-Linha_de_início_do_projeto-DadosdeLinhadoTempodoProjeto[[#This Row],[NUM]]+1,2)),\"\",INDEX(DetalhesDoProjeto[#Data],Última_entrada_do_projeto-Linha_de_início_do_projeto-DadosdeLinhadoTempodoProjeto[[#This Row],[NUM]]+1,2)),\"\")","v":""},{"$f":"IFERROR(IF(ISBLANK(INDEX(DetalhesDoProjeto[#Data],Última_entrada_do_projeto-Linha_de_início_do_projeto-DadosdeLinhadoTempodoProjeto[[#This Row],[NUM]]+1,3)),\"\",INDEX(DetalhesDoProjeto[#Data],Última_entrada_do_projeto-Linha_de_início_do_projeto-DadosdeLinhadoTempodoProjeto[[#This Row],[NUM]]+1,3)),\"\")","v":""},{"$f":"IFERROR(IF(ISBLANK(INDEX(DetalhesDoProjeto[#Data],ROW(A238)+1,1)),\"\",IF($J242-1<=-1,\"\",$J242-1)),\"\")","v":""},null,null,{"$f":"IFERROR(DadosdeLinhadoTempodoProjeto[[#This Row],[NUM]]+1,\"\")","v":""},{"$f":"IFERROR(VLOOKUP(LinhadoTempoClassificada[[#This Row],[POSIÇÃO classificada]],DadosdeLinhadoTempodoProjeto[],3,0),\"\")","v":""},{"$f":"IFERROR(VLOOKUP(LinhadoTempoClassificada[[#This Row],[POSIÇÃO classificada]],DadosdeLinhadoTempodoProjeto[],4,0),\"\")","v":""},{"$f":"IFERROR(VLOOKUP(LinhadoTempoClassificada[[#This Row],[POSIÇÃO classificada]],DadosdeLinhadoTempodoProjeto[],5,0),\"\")","v":""}]
[{"$nulls":4},{"$f":"IFERROR(RANK(F244,DadosdeLinhadoTempodoProjeto[CLASSIFICAÇÃO])+SUMPRODUCT(--(F244=DadosdeLinhadoTempodoProjeto[CLASSIFICAÇÃO]),--(J244<DadosdeLinhadoTempodoProjeto[NUM])),\"\")","v":""},{"$f":"IFERROR(RANK(DadosdeLinhadoTempodoProjeto[[#This Row],[DATA]],DadosdeLinhadoTempodoProjeto[DATA],1),\"\")","v":""},{"$f":"IFERROR(IF(ISBLANK(INDEX(DetalhesDoProjeto[#Data],Última_entrada_do_projeto-Linha_de_início_do_projeto-DadosdeLinhadoTempodoProjeto[[#This Row],[NUM]]+1,1)),\"\",INDEX(DetalhesDoProjeto[#Data],Última_entrada_do_projeto-Linha_de_início_do_projeto-DadosdeLinhadoTempodoProjeto[[#This Row],[NUM]]+1,1)),\"\")","v":""},{"$f":"IFERROR(IF(ISBLANK(INDEX(DetalhesDoProjeto[#Data],Última_entrada_do_projeto-Linha_de_início_do_projeto-DadosdeLinhadoTempodoProjeto[[#This Row],[NUM]]+1,2)),\"\",INDEX(DetalhesDoProjeto[#Data],Última_entrada_do_projeto-Linha_de_início_do_projeto-DadosdeLinhadoTempodoProjeto[[#This Row],[NUM]]+1,2)),\"\")","v":""},{"$f":"IFERROR(IF(ISBLANK(INDEX(DetalhesDoProjeto[#Data],Última_entrada_do_projeto-Linha_de_início_do_projeto-DadosdeLinhadoTempodoProjeto[[#This Row],[NUM]]+1,3)),\"\",INDEX(DetalhesDoProjeto[#Data],Última_entrada_do_projeto-Linha_de_início_do_projeto-DadosdeLinhadoTempodoProjeto[[#This Row],[NUM]]+1,3)),\"\")","v":""},{"$f":"IFERROR(IF(ISBLANK(INDEX(DetalhesDoProjeto[#Data],ROW(A239)+1,1)),\"\",IF($J243-1<=-1,\"\",$J243-1)),\"\")","v":""},null,null,{"$f":"IFERROR(DadosdeLinhadoTempodoProjeto[[#This Row],[NUM]]+1,\"\")","v":""},{"$f":"IFERROR(VLOOKUP(LinhadoTempoClassificada[[#This Row],[POSIÇÃO classificada]],DadosdeLinhadoTempodoProjeto[],3,0),\"\")","v":""},{"$f":"IFERROR(VLOOKUP(LinhadoTempoClassificada[[#This Row],[POSIÇÃO classificada]],DadosdeLinhadoTempodoProjeto[],4,0),\"\")","v":""},{"$f":"IFERROR(VLOOKUP(LinhadoTempoClassificada[[#This Row],[POSIÇÃO classificada]],DadosdeLinhadoTempodoProjeto[],5,0),\"\")","v":""}]
[{"$nulls":4},{"$f":"IFERROR(RANK(F245,DadosdeLinhadoTempodoProjeto[CLASSIFICAÇÃO])+SUMPRODUCT(--(F245=DadosdeLinhadoTempodoProjeto[CLASSIFICAÇÃO]),--(J245<DadosdeLinhadoTempodoProjeto[NUM])),\"\")","v":""},{"$f":"IFERROR(RANK(DadosdeLinhadoTempodoProjeto[[#This Row],[DATA]],DadosdeLinhadoTempodoProjeto[DATA],1),\"\")","v":""},{"$f":"IFERROR(IF(ISBLANK(INDEX(DetalhesDoProjeto[#Data],Última_entrada_do_projeto-Linha_de_início_do_projeto-DadosdeLinhadoTempodoProjeto[[#This Row],[NUM]]+1,1)),\"\",INDEX(DetalhesDoProjeto[#Data],Última_entrada_do_projeto-Linha_de_início_do_projeto-DadosdeLinhadoTempodoProjeto[[#This Row],[NUM]]+1,1)),\"\")","v":""},{"$f":"IFERROR(IF(ISBLANK(INDEX(DetalhesDoProjeto[#Data],Última_entrada_do_projeto-Linha_de_início_do_projeto-DadosdeLinhadoTempodoProjeto[[#This Row],[NUM]]+1,2)),\"\",INDEX(DetalhesDoProjeto[#Data],Última_entrada_do_projeto-Linha_de_início_do_projeto-DadosdeLinhadoTempodoProjeto[[#This Row],[NUM]]+1,2)),\"\")","v":""},{"$f":"IFERROR(IF(ISBLANK(INDEX(DetalhesDoProjeto[#Data],Última_entrada_do_projeto-Linha_de_início_do_projeto-DadosdeLinhadoTempodoProjeto[[#This Row],[NUM]]+1,3)),\"\",INDEX(DetalhesDoProjeto[#Data],Última_entrada_do_projeto-Linha_de_início_do_projeto-DadosdeLinhadoTempodoProjeto[[#This Row],[NUM]]+1,3)),\"\")","v":""},{"$f":"IFERROR(IF(ISBLANK(INDEX(DetalhesDoProjeto[#Data],ROW(A240)+1,1)),\"\",IF($J244-1<=-1,\"\",$J244-1)),\"\")","v":""},null,null,{"$f":"IFERROR(DadosdeLinhadoTempodoProjeto[[#This Row],[NUM]]+1,\"\")","v":""},{"$f":"IFERROR(VLOOKUP(LinhadoTempoClassificada[[#This Row],[POSIÇÃO classificada]],DadosdeLinhadoTempodoProjeto[],3,0),\"\")","v":""},{"$f":"IFERROR(VLOOKUP(LinhadoTempoClassificada[[#This Row],[POSIÇÃO classificada]],DadosdeLinhadoTempodoProjeto[],4,0),\"\")","v":""},{"$f":"IFERROR(VLOOKUP(LinhadoTempoClassificada[[#This Row],[POSIÇÃO classificada]],DadosdeLinhadoTempodoProjeto[],5,0),\"\")","v":""}]
[{"$nulls":4},{"$f":"IFERROR(RANK(F246,DadosdeLinhadoTempodoProjeto[CLASSIFICAÇÃO])+SUMPRODUCT(--(F246=DadosdeLinhadoTempodoProjeto[CLASSIFICAÇÃO]),--(J246<DadosdeLinhadoTempodoProjeto[NUM])),\"\")","v":""},{"$f":"IFERROR(RANK(DadosdeLinhadoTempodoProjeto[[#This Row],[DATA]],DadosdeLinhadoTempodoProjeto[DATA],1),\"\")","v":""},{"$f":"IFERROR(IF(ISBLANK(INDEX(DetalhesDoProjeto[#Data],Última_entrada_do_projeto-Linha_de_início_do_projeto-DadosdeLinhadoTempodoProjeto[[#This Row],[NUM]]+1,1)),\"\",INDEX(DetalhesDoProjeto[#Data],Última_entrada_do_projeto-Linha_de_início_do_projeto-DadosdeLinhadoTempodoProjeto[[#This Row],[NUM]]+1,1)),\"\")","v":""},{"$f":"IFERROR(IF(ISBLANK(INDEX(DetalhesDoProjeto[#Data],Última_entrada_do_projeto-Linha_de_início_do_projeto-DadosdeLinhadoTempodoProjeto[[#This Row],[NUM]]+1,2)),\"\",INDEX(DetalhesDoProjeto[#Data],Última_entrada_do_projeto-Linha_de_início_do_projeto-DadosdeLinhadoTempodoProjeto[[#This Row],[NUM]]+1,2)),\"\")","v":""},{"$f":"IFERROR(IF(ISBLANK(INDEX(DetalhesDoProjeto[#Data],Última_entrada_do_projeto-Linha_de_início_do_projeto-DadosdeLinhadoTempodoProjeto[[#This Row],[NUM]]+1,3)),\"\",INDEX(DetalhesDoProjeto[#Data],Última_entrada_do_projeto-Linha_de_início_do_projeto-DadosdeLinhadoTempodoProjeto[[#This Row],[NUM]]+1,3)),\"\")","v":""},{"$f":"IFERROR(IF(ISBLANK(INDEX(DetalhesDoProjeto[#Data],ROW(A241)+1,1)),\"\",IF($J245-1<=-1,\"\",$J245-1)),\"\")","v":""},null,null,{"$f":"IFERROR(DadosdeLinhadoTempodoProjeto[[#This Row],[NUM]]+1,\"\")","v":""},{"$f":"IFERROR(VLOOKUP(LinhadoTempoClassificada[[#This Row],[POSIÇÃO classificada]],DadosdeLinhadoTempodoProjeto[],3,0),\"\")","v":""},{"$f":"IFERROR(VLOOKUP(LinhadoTempoClassificada[[#This Row],[POSIÇÃO classificada]],DadosdeLinhadoTempodoProjeto[],4,0),\"\")","v":""},{"$f":"IFERROR(VLOOKUP(LinhadoTempoClassificada[[#This Row],[POSIÇÃO classificada]],DadosdeLinhadoTempodoProjeto[],5,0),\"\")","v":""}]
[{"$nulls":4},{"$f":"IFERROR(RANK(F247,DadosdeLinhadoTempodoProjeto[CLASSIFICAÇÃO])+SUMPRODUCT(--(F247=DadosdeLinhadoTempodoProjeto[CLASSIFICAÇÃO]),--(J247<DadosdeLinhadoTempodoProjeto[NUM])),\"\")","v":""},{"$f":"IFERROR(RANK(DadosdeLinhadoTempodoProjeto[[#This Row],[DATA]],DadosdeLinhadoTempodoProjeto[DATA],1),\"\")","v":""},{"$f":"IFERROR(IF(ISBLANK(INDEX(DetalhesDoProjeto[#Data],Última_entrada_do_projeto-Linha_de_início_do_projeto-DadosdeLinhadoTempodoProjeto[[#This Row],[NUM]]+1,1)),\"\",INDEX(DetalhesDoProjeto[#Data],Última_entrada_do_projeto-Linha_de_início_do_projeto-DadosdeLinhadoTempodoProjeto[[#This Row],[NUM]]+1,1)),\"\")","v":""},{"$f":"IFERROR(IF(ISBLANK(INDEX(DetalhesDoProjeto[#Data],Última_entrada_do_projeto-Linha_de_início_do_projeto-DadosdeLinhadoTempodoProjeto[[#This Row],[NUM]]+1,2)),\"\",INDEX(DetalhesDoProjeto[#Data],Última_entrada_do_projeto-Linha_de_início_do_projeto-DadosdeLinhadoTempodoProjeto[[#This Row],[NUM]]+1,2)),\"\")","v":""},{"$f":"IFERROR(IF(ISBLANK(INDEX(DetalhesDoProjeto[#Data],Última_entrada_do_projeto-Linha_de_início_do_projeto-DadosdeLinhadoTempodoProjeto[[#This Row],[NUM]]+1,3)),\"\",INDEX(DetalhesDoProjeto[#Data],Última_entrada_do_projeto-Linha_de_início_do_projeto-DadosdeLinhadoTempodoProjeto[[#This Row],[NUM]]+1,3)),\"\")","v":""},{"$f":"IFERROR(IF(ISBLANK(INDEX(DetalhesDoProjeto[#Data],ROW(A242)+1,1)),\"\",IF($J246-1<=-1,\"\",$J246-1)),\"\")","v":""},null,null,{"$f":"IFERROR(DadosdeLinhadoTempodoProjeto[[#This Row],[NUM]]+1,\"\")","v":""},{"$f":"IFERROR(VLOOKUP(LinhadoTempoClassificada[[#This Row],[POSIÇÃO classificada]],DadosdeLinhadoTempodoProjeto[],3,0),\"\")","v":""},{"$f":"IFERROR(VLOOKUP(LinhadoTempoClassificada[[#This Row],[POSIÇÃO classificada]],DadosdeLinhadoTempodoProjeto[],4,0),\"\")","v":""},{"$f":"IFERROR(VLOOKUP(LinhadoTempoClassificada[[#This Row],[POSIÇÃO classificada]],DadosdeLinhadoTempodoProjeto[],5,0),\"\")","v":""}]
[{"$nulls":4},{"$f":"IFERROR(RANK(F248,DadosdeLinhadoTempodoProjeto[CLASSIFICAÇÃO])+SUMPRODUCT(--(F248=DadosdeLinhadoTempodoProjeto[CLASSIFICAÇÃO]),--(J248<DadosdeLinhadoTempodoProjeto[NUM])),\"\")","v":""},{"$f":"IFERROR(RANK(DadosdeLinhadoTempodoProjeto[[#This Row],[DATA]],DadosdeLinhadoTempodoProjeto[DATA],1),\"\")","v":""},{"$f":"IFERROR(IF(ISBLANK(INDEX(DetalhesDoProjeto[#Data],Última_entrada_do_projeto-Linha_de_início_do_projeto-DadosdeLinhadoTempodoProjeto[[#This Row],[NUM]]+1,1)),\"\",INDEX(DetalhesDoProjeto[#Data],Última_entrada_do_projeto-Linha_de_início_do_projeto-DadosdeLinhadoTempodoProjeto[[#This Row],[NUM]]+1,1)),\"\")","v":""},{"$f":"IFERROR(IF(ISBLANK(INDEX(DetalhesDoProjeto[#Data],Última_entrada_do_projeto-Linha_de_início_do_projeto-DadosdeLinhadoTempodoProjeto[[#This Row],[NUM]]+1,2)),\"\",INDEX(DetalhesDoProjeto[#Data],Última_entrada_do_projeto-Linha_de_início_do_projeto-DadosdeLinhadoTempodoProjeto[[#This Row],[NUM]]+1,2)),\"\")","v":""},{"$f":"IFERROR(IF(ISBLANK(INDEX(DetalhesDoProjeto[#Data],Última_entrada_do_projeto-Linha_de_início_do_projeto-DadosdeLinhadoTempodoProjeto[[#This Row],[NUM]]+1,3)),\"\",INDEX(DetalhesDoProjeto[#Data],Última_entrada_do_projeto-Linha_de_início_do_projeto-DadosdeLinhadoTempodoProjeto[[#This Row],[NUM]]+1,3)),\"\")","v":""},{"$f":"IFERROR(IF(ISBLANK(INDEX(DetalhesDoProjeto[#Data],ROW(A243)+1,1)),\"\",IF($J247-1<=-1,\"\",$J247-1)),\"\")","v":""},null,null,{"$f":"IFERROR(DadosdeLinhadoTempodoProjeto[[#This Row],[NUM]]+1,\"\")","v":""},{"$f":"IFERROR(VLOOKUP(LinhadoTempoClassificada[[#This Row],[POSIÇÃO classificada]],DadosdeLinhadoTempodoProjeto[],3,0),\"\")","v":""},{"$f":"IFERROR(VLOOKUP(LinhadoTempoClassificada[[#This Row],[POSIÇÃO classificada]],DadosdeLinhadoTempodoProjeto[],4,0),\"\")","v":""},{"$f":"IFERROR(VLOOKUP(LinhadoTempoClassificada[[#This Row],[POSIÇÃO classificada]],DadosdeLinhadoTempodoProjeto[],5,0),\"\")","v":""}]
[{"$nulls":4},{"$f":"IFERROR(RANK(F249,DadosdeLinhadoTempodoProjeto[CLASSIFICAÇÃO])+SUMPRODUCT(--(F249=DadosdeLinhadoTempodoProjeto[CLASSIFICAÇÃO]),--(J249<DadosdeLinhadoTempodoProjeto[NUM])),\"\")","v":""},{"$f":"IFERROR(RANK(DadosdeLinhadoTempodoProjeto[[#This Row],[DATA]],DadosdeLinhadoTempodoProjeto[DATA],1),\"\")","v":""},{"$f":"IFERROR(IF(ISBLANK(INDEX(DetalhesDoProjeto[#Data],Última_entrada_do_projeto-Linha_de_início_do_projeto-DadosdeLinhadoTempodoProjeto[[#This Row],[NUM]]+1,1)),\"\",INDEX(DetalhesDoProjeto[#Data],Última_entrada_do_projeto-Linha_de_início_do_projeto-DadosdeLinhadoTempodoProjeto[[#This Row],[NUM]]+1,1)),\"\")","v":""},{"$f":"IFERROR(IF(ISBLANK(INDEX(DetalhesDoProjeto[#Data],Última_entrada_do_projeto-Linha_de_início_do_projeto-DadosdeLinhadoTempodoProjeto[[#This Row],[NUM]]+1,2)),\"\",INDEX(DetalhesDoProjeto[#Data],Última_entrada_do_projeto-Linha_de_início_do_projeto-DadosdeLinhadoTempodoProjeto[[#This Row],[NUM]]+1,2)),\"\")","v":""},{"$f":"IFERROR(IF(ISBLANK(INDEX(DetalhesDoProjeto[#Data],Última_entrada_do_projeto-Linha_de_início_do_projeto-DadosdeLinhadoTempodoProjeto[[#This Row],[NUM]]+1,3)),\"\",INDEX(DetalhesDoProjeto[#Data],Última_entrada_do_projeto-Linha_de_início_do_projeto-DadosdeLinhadoTempodoProjeto[[#This Row],[NUM]]+1,3)),\"\")","v":""},{"$f":"IFERROR(IF(ISBLANK(INDEX(DetalhesDoProjeto[#Data],ROW(A244)+1,1)),\"\",IF($J248-1<=-1,\"\",$J248-1)),\"\")","v":""},null,null,{"$f":"IFERROR(DadosdeLinhadoTempodoProjeto[[#This Row],[NUM]]+1,\"\")","v":""},{"$f":"IFERROR(VLOOKUP(LinhadoTempoClassificada[[#This Row],[POSIÇÃO classificada]],DadosdeLinhadoTempodoProjeto[],3,0),\"\")","v":""},{"$f":"IFERROR(VLOOKUP(LinhadoTempoClassificada[[#This Row],[POSIÇÃO classificada]],DadosdeLinhadoTempodoProjeto[],4,0),\"\")","v":""},{"$f":"IFERROR(VLOOKUP(LinhadoTempoClassificada[[#This Row],[POSIÇÃO classificada]],DadosdeLinhadoTempodoProjeto[],5,0),\"\")","v":""}]
[{"$nulls":4},{"$f":"IFERROR(RANK(F250,DadosdeLinhadoTempodoProjeto[CLASSIFICAÇÃO])+SUMPRODUCT(--(F250=DadosdeLinhadoTempodoProjeto[CLASSIFICAÇÃO]),--(J250<DadosdeLinhadoTempodoProjeto[NUM])),\"\")","v":""},{"$f":"IFERROR(RANK(DadosdeLinhadoTempodoProjeto[[#This Row],[DATA]],DadosdeLinhadoTempodoProjeto[DATA],1),\"\")","v":""},{"$f":"IFERROR(IF(ISBLANK(INDEX(DetalhesDoProjeto[#Data],Última_entrada_do_projeto-Linha_de_início_do_projeto-DadosdeLinhadoTempodoProjeto[[#This Row],[NUM]]+1,1)),\"\",INDEX(DetalhesDoProjeto[#Data],Última_entrada_do_projeto-Linha_de_início_do_projeto-DadosdeLinhadoTempodoProjeto[[#This Row],[NUM]]+1,1)),\"\")","v":""},{"$f":"IFERROR(IF(ISBLANK(INDEX(DetalhesDoProjeto[#Data],Última_entrada_do_projeto-Linha_de_início_do_projeto-DadosdeLinhadoTempodoProjeto[[#This Row],[NUM]]+1,2)),\"\",INDEX(DetalhesDoProjeto[#Data],Última_entrada_do_projeto-Linha_de_início_do_projeto-DadosdeLinhadoTempodoProjeto[[#This Row],[NUM]]+1,2)),\"\")","v":""},{"$f":"IFERROR(IF(ISBLANK(INDEX(DetalhesDoProjeto[#Data],Última_entrada_do_projeto-Linha_de_início_do_projeto-DadosdeLinhadoTempodoProjeto[[#This Row],[NUM]]+1,3)),\"\",INDEX(DetalhesDoProjeto[#Data],Última_entrada_do_projeto-Linha_de_início_do_projeto-DadosdeLinhadoTempodoProjeto[[#This Row],[NUM]]+1,3)),\"\")","v":""},{"$f":"IFERROR(IF(ISBLANK(INDEX(DetalhesDoProjeto[#Data],ROW(A245)+1,1)),\"\",IF($J249-1<=-1,\"\",$J249-1)),\"\")","v":""},null,null,{"$f":"IFERROR(DadosdeLinhadoTempodoProjeto[[#This Row],[NUM]]+1,\"\")","v":""},{"$f":"IFERROR(VLOOKUP(LinhadoTempoClassificada[[#This Row],[POSIÇÃO classificada]],DadosdeLinhadoTempodoProjeto[],3,0),\"\")","v":""},{"$f":"IFERROR(VLOOKUP(LinhadoTempoClassificada[[#This Row],[POSIÇÃO classificada]],DadosdeLinhadoTempodoProjeto[],4,0),\"\")","v":""},{"$f":"IFERROR(VLOOKUP(LinhadoTempoClassificada[[#This Row],[POSIÇÃO classificada]],DadosdeLinhadoTempodoProjeto[],5,0),\"\")","v":""}]
[{"$nulls":4},{"$f":"IFERROR(RANK(F251,DadosdeLinhadoTempodoProjeto[CLASSIFICAÇÃO])+SUMPRODUCT(--(F251=DadosdeLinhadoTempodoProjeto[CLASSIFICAÇÃO]),--(J251<DadosdeLinhadoTempodoProjeto[NUM])),\"\")","v":""},{"$f":"IFERROR(RANK(DadosdeLinhadoTempodoProjeto[[#This Row],[DATA]],DadosdeLinhadoTempodoProjeto[DATA],1),\"\")","v":""},{"$f":"IFERROR(IF(ISBLANK(INDEX(DetalhesDoProjeto[#Data],Última_entrada_do_projeto-Linha_de_início_do_projeto-DadosdeLinhadoTempodoProjeto[[#This Row],[NUM]]+1,1)),\"\",INDEX(DetalhesDoProjeto[#Data],Última_entrada_do_projeto-Linha_de_início_do_projeto-DadosdeLinhadoTempodoProjeto[[#This Row],[NUM]]+1,1)),\"\")","v":""},{"$f":"IFERROR(IF(ISBLANK(INDEX(DetalhesDoProjeto[#Data],Última_entrada_do_projeto-Linha_de_início_do_projeto-DadosdeLinhadoTempodoProjeto[[#This Row],[NUM]]+1,2)),\"\",INDEX(DetalhesDoProjeto[#Data],Última_entrada_do_projeto-Linha_de_início_do_projeto-DadosdeLinhadoTempodoProjeto[[#This Row],[NUM]]+1,2)),\"\")","v":""},{"$f":"IFERROR(IF(ISBLANK(INDEX(DetalhesDoProjeto[#Data],Última_entrada_do_projeto-Linha_de_início_do_projeto-DadosdeLinhadoTempodoProjeto[[#This Row],[NUM]]+1,3)),\"\",INDEX(DetalhesDoProjeto[#Data],Última_entrada_do_projeto-Linha_de_início_do_projeto-DadosdeLinhadoTempodoProjeto[[#This Row],[NUM]]+1,3)),\"\")","v":""},{"$f":"IFERROR(IF(ISBLANK(INDEX(DetalhesDoProjeto[#Data],ROW(A246)+1,1)),\"\",IF($J250-1<=-1,\"\",$J250-1)),\"\")","v":""},null,null,{"$f":"IFERROR(DadosdeLinhadoTempodoProjeto[[#This Row],[NUM]]+1,\"\")","v":""},{"$f":"IFERROR(VLOOKUP(LinhadoTempoClassificada[[#This Row],[POSIÇÃO classificada]],DadosdeLinhadoTempodoProjeto[],3,0),\"\")","v":""},{"$f":"IFERROR(VLOOKUP(LinhadoTempoClassificada[[#This Row],[POSIÇÃO classificada]],DadosdeLinhadoTempodoProjeto[],4,0),\"\")","v":""},{"$f":"IFERROR(VLOOKUP(LinhadoTempoClassificada[[#This Row],[POSIÇÃO classificada]],DadosdeLinhadoTempodoProjeto[],5,0),\"\")","v":""}]
[{"$nulls":4},{"$f":"IFERROR(RANK(F252,DadosdeLinhadoTempodoProjeto[CLASSIFICAÇÃO])+SUMPRODUCT(--(F252=DadosdeLinhadoTempodoProjeto[CLASSIFICAÇÃO]),--(J252<DadosdeLinhadoTempodoProjeto[NUM])),\"\")","v":""},{"$f":"IFERROR(RANK(DadosdeLinhadoTempodoProjeto[[#This Row],[DATA]],DadosdeLinhadoTempodoProjeto[DATA],1),\"\")","v":""},{"$f":"IFERROR(IF(ISBLANK(INDEX(DetalhesDoProjeto[#Data],Última_entrada_do_projeto-Linha_de_início_do_projeto-DadosdeLinhadoTempodoProjeto[[#This Row],[NUM]]+1,1)),\"\",INDEX(DetalhesDoProjeto[#Data],Última_entrada_do_projeto-Linha_de_início_do_projeto-DadosdeLinhadoTempodoProjeto[[#This Row],[NUM]]+1,1)),\"\")","v":""},{"$f":"IFERROR(IF(ISBLANK(INDEX(DetalhesDoProjeto[#Data],Última_entrada_do_projeto-Linha_de_início_do_projeto-DadosdeLinhadoTempodoProjeto[[#This Row],[NUM]]+1,2)),\"\",INDEX(DetalhesDoProjeto[#Data],Última_entrada_do_projeto-Linha_de_início_do_projeto-DadosdeLinhadoTempodoProjeto[[#This Row],[NUM]]+1,2)),\"\")","v":""},{"$f":"IFERROR(IF(ISBLANK(INDEX(DetalhesDoProjeto[#Data],Última_entrada_do_projeto-Linha_de_início_do_projeto-DadosdeLinhadoTempodoProjeto[[#This Row],[NUM]]+1,3)),\"\",INDEX(DetalhesDoProjeto[#Data],Última_entrada_do_projeto-Linha_de_início_do_projeto-DadosdeLinhadoTempodoProjeto[[#This Row],[NUM]]+1,3)),\"\")","v":""},{"$f":"IFERROR(IF(ISBLANK(INDEX(DetalhesDoProjeto[#Data],ROW(A247)+1,1)),\"\",IF($J251-1<=-1,\"\",$J251-1)),\"\")","v":""},null,null,{"$f":"IFERROR(DadosdeLinhadoTempodoProjeto[[#This Row],[NUM]]+1,\"\")","v":""},{"$f":"IFERROR(VLOOKUP(LinhadoTempoClassificada[[#This Row],[POSIÇÃO classificada]],DadosdeLinhadoTempodoProjeto[],3,0),\"\")","v":""},{"$f":"IFERROR(VLOOKUP(LinhadoTempoClassificada[[#This Row],[POSIÇÃO classificada]],DadosdeLinhadoTempodoProjeto[],4,0),\"\")","v":""},{"$f":"IFERROR(VLOOKUP(LinhadoTempoClassificada[[#This Row],[POSIÇÃO classificada]],DadosdeLinhadoTempodoProjeto[],5,0),\"\")","v":""}]
[{"$nulls":4},{"$f":"IFERROR(RANK(F253,DadosdeLinhadoTempodoProjeto[CLASSIFICAÇÃO])+SUMPRODUCT(--(F253=DadosdeLinhadoTempodoProjeto[CLASSIFICAÇÃO]),--(J253<DadosdeLinhadoTempodoProjeto[NUM])),\"\")","v":""},{"$f":"IFERROR(RANK(DadosdeLinhadoTempodoProjeto[[#This Row],[DATA]],DadosdeLinhadoTempodoProjeto[DATA],1),\"\")","v":""},{"$f":"IFERROR(IF(ISBLANK(INDEX(DetalhesDoProjeto[#Data],Última_entrada_do_projeto-Linha_de_início_do_projeto-DadosdeLinhadoTempodoProjeto[[#This Row],[NUM]]+1,1)),\"\",INDEX(DetalhesDoProjeto[#Data],Última_entrada_do_projeto-Linha_de_início_do_projeto-DadosdeLinhadoTempodoProjeto[[#This Row],[NUM]]+1,1)),\"\")","v":""},{"$f":"IFERROR(IF(ISBLANK(INDEX(DetalhesDoProjeto[#Data],Última_entrada_do_projeto-Linha_de_início_do_projeto-DadosdeLinhadoTempodoProjeto[[#This Row],[NUM]]+1,2)),\"\",INDEX(DetalhesDoProjeto[#Data],Última_entrada_do_projeto-Linha_de_início_do_projeto-DadosdeLinhadoTempodoProjeto[[#This Row],[NUM]]+1,2)),\"\")","v":""},{"$f":"IFERROR(IF(ISBLANK(INDEX(DetalhesDoProjeto[#Data],Última_entrada_do_projeto-Linha_de_início_do_projeto-DadosdeLinhadoTempodoProjeto[[#This Row],[NUM]]+1,3)),\"\",INDEX(DetalhesDoProjeto[#Data],Última_entrada_do_projeto-Linha_de_início_do_projeto-DadosdeLinhadoTempodoProjeto[[#This Row],[NUM]]+1,3)),\"\")","v":""},{"$f":"IFERROR(IF(ISBLANK(INDEX(DetalhesDoProjeto[#Data],ROW(A248)+1,1)),\"\",IF($J252-1<=-1,\"\",$J252-1)),\"\")","v":""},null,null,{"$f":"IFERROR(DadosdeLinhadoTempodoProjeto[[#This Row],[NUM]]+1,\"\")","v":""},{"$f":"IFERROR(VLOOKUP(LinhadoTempoClassificada[[#This Row],[POSIÇÃO classificada]],DadosdeLinhadoTempodoProjeto[],3,0),\"\")","v":""},{"$f":"IFERROR(VLOOKUP(LinhadoTempoClassificada[[#This Row],[POSIÇÃO classificada]],DadosdeLinhadoTempodoProjeto[],4,0),\"\")","v":""},{"$f":"IFERROR(VLOOKUP(LinhadoTempoClassificada[[#This Row],[POSIÇÃO classificada]],DadosdeLinhadoTempodoProjeto[],5,0),\"\")","v":""}]
[{"$nulls":4},{"$f":"IFERROR(RANK(F254,DadosdeLinhadoTempodoProjeto[CLASSIFICAÇÃO])+SUMPRODUCT(--(F254=DadosdeLinhadoTempodoProjeto[CLASSIFICAÇÃO]),--(J254<DadosdeLinhadoTempodoProjeto[NUM])),\"\")","v":""},{"$f":"IFERROR(RANK(DadosdeLinhadoTempodoProjeto[[#This Row],[DATA]],DadosdeLinhadoTempodoProjeto[DATA],1),\"\")","v":""},{"$f":"IFERROR(IF(ISBLANK(INDEX(DetalhesDoProjeto[#Data],Última_entrada_do_projeto-Linha_de_início_do_projeto-DadosdeLinhadoTempodoProjeto[[#This Row],[NUM]]+1,1)),\"\",INDEX(DetalhesDoProjeto[#Data],Última_entrada_do_projeto-Linha_de_início_do_projeto-DadosdeLinhadoTempodoProjeto[[#This Row],[NUM]]+1,1)),\"\")","v":""},{"$f":"IFERROR(IF(ISBLANK(INDEX(DetalhesDoProjeto[#Data],Última_entrada_do_projeto-Linha_de_início_do_projeto-DadosdeLinhadoTempodoProjeto[[#This Row],[NUM]]+1,2)),\"\",INDEX(DetalhesDoProjeto[#Data],Última_entrada_do_projeto-Linha_de_início_do_projeto-DadosdeLinhadoTempodoProjeto[[#This Row],[NUM]]+1,2)),\"\")","v":""},{"$f":"IFERROR(IF(ISBLANK(INDEX(DetalhesDoProjeto[#Data],Última_entrada_do_projeto-Linha_de_início_do_projeto-DadosdeLinhadoTempodoProjeto[[#This Row],[NUM]]+1,3)),\"\",INDEX(DetalhesDoProjeto[#Data],Última_entrada_do_projeto-Linha_de_início_do_projeto-DadosdeLinhadoTempodoProjeto[[#This Row],[NUM]]+1,3)),\"\")","v":""},{"$f":"IFERROR(IF(ISBLANK(INDEX(DetalhesDoProjeto[#Data],ROW(A249)+1,1)),\"\",IF($J253-1<=-1,\"\",$J253-1)),\"\")","v":""},null,null,{"$f":"IFERROR(DadosdeLinhadoTempodoProjeto[[#This Row],[NUM]]+1,\"\")","v":""},{"$f":"IFERROR(VLOOKUP(LinhadoTempoClassificada[[#This Row],[POSIÇÃO classificada]],DadosdeLinhadoTempodoProjeto[],3,0),\"\")","v":""},{"$f":"IFERROR(VLOOKUP(LinhadoTempoClassificada[[#This Row],[POSIÇÃO classificada]],DadosdeLinhadoTempodoProjeto[],4,0),\"\")","v":""},{"$f":"IFERROR(VLOOKUP(LinhadoTempoClassificada[[#This Row],[POSIÇÃO classificada]],DadosdeLinhadoTempodoProjeto[],5,0),\"\")","v":""}]
[{"$nulls":4},{"$f":"IFERROR(RANK(F255,DadosdeLinhadoTempodoProjeto[CLASSIFICAÇÃO])+SUMPRODUCT(--(F255=DadosdeLinhadoTempodoProjeto[CLASSIFICAÇÃO]),--(J255<DadosdeLinhadoTempodoProjeto[NUM])),\"\")","v":""},{"$f":"IFERROR(RANK(DadosdeLinhadoTempodoProjeto[[#This Row],[DATA]],DadosdeLinhadoTempodoProjeto[DATA],1),\"\")","v":""},{"$f":"IFERROR(IF(ISBLANK(INDEX(DetalhesDoProjeto[#Data],Última_entrada_do_projeto-Linha_de_início_do_projeto-DadosdeLinhadoTempodoProjeto[[#This Row],[NUM]]+1,1)),\"\",INDEX(DetalhesDoProjeto[#Data],Última_entrada_do_projeto-Linha_de_início_do_projeto-DadosdeLinhadoTempodoProjeto[[#This Row],[NUM]]+1,1)),\"\")","v":""},{"$f":"IFERROR(IF(ISBLANK(INDEX(DetalhesDoProjeto[#Data],Última_entrada_do_projeto-Linha_de_início_do_projeto-DadosdeLinhadoTempodoProjeto[[#This Row],[NUM]]+1,2)),\"\",INDEX(DetalhesDoProjeto[#Data],Última_entrada_do_projeto-Linha_de_início_do_projeto-DadosdeLinhadoTempodoProjeto[[#This Row],[NUM]]+1,2)),\"\")","v":""},{"$f":"IFERROR(IF(ISBLANK(INDEX(DetalhesDoProjeto[#Data],Última_entrada_do_projeto-Linha_de_início_do_projeto-DadosdeLinhadoTempodoProjeto[[#This Row],[NUM]]+1,3)),\"\",INDEX(DetalhesDoProjeto[#Data],Última_entrada_do_projeto-Linha_de_início_do_projeto-DadosdeLinhadoTempodoProjeto[[#This Row],[NUM]]+1,3)),\"\")","v":""},{"$f":"IFERROR(IF(ISBLANK(INDEX(DetalhesDoProjeto[#Data],ROW(A250)+1,1)),\"\",IF($J254-1<=-1,\"\",$J254-1)),\"\")","v":""},null,null,{"$f":"IFERROR(DadosdeLinhadoTempodoProjeto[[#This Row],[NUM]]+1,\"\")","v":""},{"$f":"IFERROR(VLOOKUP(LinhadoTempoClassificada[[#This Row],[POSIÇÃO classificada]],DadosdeLinhadoTempodoProjeto[],3,0),\"\")","v":""},{"$f":"IFERROR(VLOOKUP(LinhadoTempoClassificada[[#This Row],[POSIÇÃO classificada]],DadosdeLinhadoTempodoProjeto[],4,0),\"\")","v":""},{"$f":"IFERROR(VLOOKUP(LinhadoTempoClassificada[[#This Row],[POSIÇÃO classificada]],DadosdeLinhadoTempodoProjeto[],5,0),\"\")","v":""}]
[{"$nulls":4},{"$f":"IFERROR(RANK(F256,DadosdeLinhadoTempodoProjeto[CLASSIFICAÇÃO])+SUMPRODUCT(--(F256=DadosdeLinhadoTempodoProjeto[CLASSIFICAÇÃO]),--(J256<DadosdeLinhadoTempodoProjeto[NUM])),\"\")","v":""},{"$f":"IFERROR(RANK(DadosdeLinhadoTempodoProjeto[[#This Row],[DATA]],DadosdeLinhadoTempodoProjeto[DATA],1),\"\")","v":""},{"$f":"IFERROR(IF(ISBLANK(INDEX(DetalhesDoProjeto[#Data],Última_entrada_do_projeto-Linha_de_início_do_projeto-DadosdeLinhadoTempodoProjeto[[#This Row],[NUM]]+1,1)),\"\",INDEX(DetalhesDoProjeto[#Data],Última_entrada_do_projeto-Linha_de_início_do_projeto-DadosdeLinhadoTempodoProjeto[[#This Row],[NUM]]+1,1)),\"\")","v":""},{"$f":"IFERROR(IF(ISBLANK(INDEX(DetalhesDoProjeto[#Data],Última_entrada_do_projeto-Linha_de_início_do_projeto-DadosdeLinhadoTempodoProjeto[[#This Row],[NUM]]+1,2)),\"\",INDEX(DetalhesDoProjeto[#Data],Última_entrada_do_projeto-Linha_de_início_do_projeto-DadosdeLinhadoTempodoProjeto[[#This Row],[NUM]]+1,2)),\"\")","v":""},{"$f":"IFERROR(IF(ISBLANK(INDEX(DetalhesDoProjeto[#Data],Última_entrada_do_projeto-Linha_de_início_do_projeto-DadosdeLinhadoTempodoProjeto[[#This Row],[NUM]]+1,3)),\"\",INDEX(DetalhesDoProjeto[#Data],Última_entrada_do_projeto-Linha_de_início_do_projeto-DadosdeLinhadoTempodoProjeto[[#This Row],[NUM]]+1,3)),\"\")","v":""},{"$f":"IFERROR(IF(ISBLANK(INDEX(DetalhesDoProjeto[#Data],ROW(A251)+1,1)),\"\",IF($J255-1<=-1,\"\",$J255-1)),\"\")","v":""},null,null,{"$f":"IFERROR(DadosdeLinhadoTempodoProjeto[[#This Row],[NUM]]+1,\"\")","v":""},{"$f":"IFERROR(VLOOKUP(LinhadoTempoClassificada[[#This Row],[POSIÇÃO classificada]],DadosdeLinhadoTempodoProjeto[],3,0),\"\")","v":""},{"$f":"IFERROR(VLOOKUP(LinhadoTempoClassificada[[#This Row],[POSIÇÃO classificada]],DadosdeLinhadoTempodoProjeto[],4,0),\"\")","v":""},{"$f":"IFERROR(VLOOKUP(LinhadoTempoClassificada[[#This Row],[POSIÇÃO classificada]],DadosdeLinhadoTempodoProjeto[],5,0),\"\")","v":""}]
[{"$nulls":4},{"$f":"IFERROR(RANK(F257,DadosdeLinhadoTempodoProjeto[CLASSIFICAÇÃO])+SUMPRODUCT(--(F257=DadosdeLinhadoTempodoProjeto[CLASSIFICAÇÃO]),--(J257<DadosdeLinhadoTempodoProjeto[NUM])),\"\")","v":""},{"$f":"IFERROR(RANK(DadosdeLinhadoTempodoProjeto[[#This Row],[DATA]],DadosdeLinhadoTempodoProjeto[DATA],1),\"\")","v":""},{"$f":"IFERROR(IF(ISBLANK(INDEX(DetalhesDoProjeto[#Data],Última_entrada_do_projeto-Linha_de_início_do_projeto-DadosdeLinhadoTempodoProjeto[[#This Row],[NUM]]+1,1)),\"\",INDEX(DetalhesDoProjeto[#Data],Última_entrada_do_projeto-Linha_de_início_do_projeto-DadosdeLinhadoTempodoProjeto[[#This Row],[NUM]]+1,1)),\"\")","v":""},{"$f":"IFERROR(IF(ISBLANK(INDEX(DetalhesDoProjeto[#Data],Última_entrada_do_projeto-Linha_de_início_do_projeto-DadosdeLinhadoTempodoProjeto[[#This Row],[NUM]]+1,2)),\"\",INDEX(DetalhesDoProjeto[#Data],Última_entrada_do_projeto-Linha_de_início_do_projeto-DadosdeLinhadoTempodoProjeto[[#This Row],[NUM]]+1,2)),\"\")","v":""},{"$f":"IFERROR(IF(ISBLANK(INDEX(DetalhesDoProjeto[#Data],Última_entrada_do_projeto-Linha_de_início_do_projeto-DadosdeLinhadoTempodoProjeto[[#This Row],[NUM]]+1,3)),\"\",INDEX(DetalhesDoProjeto[#Data],Última_entrada_do_projeto-Linha_de_início_do_projeto-DadosdeLinhadoTempodoProjeto[[#This Row],[NUM]]+1,3)),\"\")","v":""},{"$f":"IFERROR(IF(ISBLANK(INDEX(DetalhesDoProjeto[#Data],ROW(A252)+1,1)),\"\",IF($J256-1<=-1,\"\",$J256-1)),\"\")","v":""},null,null,{"$f":"IFERROR(DadosdeLinhadoTempodoProjeto[[#This Row],[NUM]]+1,\"\")","v":""},{"$f":"IFERROR(VLOOKUP(LinhadoTempoClassificada[[#This Row],[POSIÇÃO classificada]],DadosdeLinhadoTempodoProjeto[],3,0),\"\")","v":""},{"$f":"IFERROR(VLOOKUP(LinhadoTempoClassificada[[#This Row],[POSIÇÃO classificada]],DadosdeLinhadoTempodoProjeto[],4,0),\"\")","v":""},{"$f":"IFERROR(VLOOKUP(LinhadoTempoClassificada[[#This Row],[POSIÇÃO classificada]],DadosdeLinhadoTempodoProjeto[],5,0),\"\")","v":""}]
[{"$nulls":4},{"$f":"IFERROR(RANK(F258,DadosdeLinhadoTempodoProjeto[CLASSIFICAÇÃO])+SUMPRODUCT(--(F258=DadosdeLinhadoTempodoProjeto[CLASSIFICAÇÃO]),--(J258<DadosdeLinhadoTempodoProjeto[NUM])),\"\")","v":""},{"$f":"IFERROR(RANK(DadosdeLinhadoTempodoProjeto[[#This Row],[DATA]],DadosdeLinhadoTempodoProjeto[DATA],1),\"\")","v":""},{"$f":"IFERROR(IF(ISBLANK(INDEX(DetalhesDoProjeto[#Data],Última_entrada_do_projeto-Linha_de_início_do_projeto-DadosdeLinhadoTempodoProjeto[[#This Row],[NUM]]+1,1)),\"\",INDEX(DetalhesDoProjeto[#Data],Última_entrada_do_projeto-Linha_de_início_do_projeto-DadosdeLinhadoTempodoProjeto[[#This Row],[NUM]]+1,1)),\"\")","v":""},{"$f":"IFERROR(IF(ISBLANK(INDEX(DetalhesDoProjeto[#Data],Última_entrada_do_projeto-Linha_de_início_do_projeto-DadosdeLinhadoTempodoProjeto[[#This Row],[NUM]]+1,2)),\"\",INDEX(DetalhesDoProjeto[#Data],Última_entrada_do_projeto-Linha_de_início_do_projeto-DadosdeLinhadoTempodoProjeto[[#This Row],[NUM]]+1,2)),\"\")","v":""},{"$f":"IFERROR(IF(ISBLANK(INDEX(DetalhesDoProjeto[#Data],Última_entrada_do_projeto-Linha_de_início_do_projeto-DadosdeLinhadoTempodoProjeto[[#This Row],[NUM]]+1,3)),\"\",INDEX(DetalhesDoProjeto[#Data],Última_entrada_do_projeto-Linha_de_início_do_projeto-DadosdeLinhadoTempodoProjeto[[#This Row],[NUM]]+1,3)),\"\")","v":""},{"$f":"IFERROR(IF(ISBLANK(INDEX(DetalhesDoProjeto[#Data],ROW(A253)+1,1)),\"\",IF($J257-1<=-1,\"\",$J257-1)),\"\")","v":""},null,null,{"$f":"IFERROR(DadosdeLinhadoTempodoProjeto[[#This Row],[NUM]]+1,\"\")","v":""},{"$f":"IFERROR(VLOOKUP(LinhadoTempoClassificada[[#This Row],[POSIÇÃO classificada]],DadosdeLinhadoTempodoProjeto[],3,0),\"\")","v":""},{"$f":"IFERROR(VLOOKUP(LinhadoTempoClassificada[[#This Row],[POSIÇÃO classificada]],DadosdeLinhadoTempodoProjeto[],4,0),\"\")","v":""},{"$f":"IFERROR(VLOOKUP(LinhadoTempoClassificada[[#This Row],[POSIÇÃO classificada]],DadosdeLinhadoTempodoProjeto[],5,0),\"\")","v":""}]
[{"$nulls":4},{"$f":"IFERROR(RANK(F259,DadosdeLinhadoTempodoProjeto[CLASSIFICAÇÃO])+SUMPRODUCT(--(F259=DadosdeLinhadoTempodoProjeto[CLASSIFICAÇÃO]),--(J259<DadosdeLinhadoTempodoProjeto[NUM])),\"\")","v":""},{"$f":"IFERROR(RANK(DadosdeLinhadoTempodoProjeto[[#This Row],[DATA]],DadosdeLinhadoTempodoProjeto[DATA],1),\"\")","v":""},{"$f":"IFERROR(IF(ISBLANK(INDEX(DetalhesDoProjeto[#Data],Última_entrada_do_projeto-Linha_de_início_do_projeto-DadosdeLinhadoTempodoProjeto[[#This Row],[NUM]]+1,1)),\"\",INDEX(DetalhesDoProjeto[#Data],Última_entrada_do_projeto-Linha_de_início_do_projeto-DadosdeLinhadoTempodoProjeto[[#This Row],[NUM]]+1,1)),\"\")","v":""},{"$f":"IFERROR(IF(ISBLANK(INDEX(DetalhesDoProjeto[#Data],Última_entrada_do_projeto-Linha_de_início_do_projeto-DadosdeLinhadoTempodoProjeto[[#This Row],[NUM]]+1,2)),\"\",INDEX(DetalhesDoProjeto[#Data],Última_entrada_do_projeto-Linha_de_início_do_projeto-DadosdeLinhadoTempodoProjeto[[#This Row],[NUM]]+1,2)),\"\")","v":""},{"$f":"IFERROR(IF(ISBLANK(INDEX(DetalhesDoProjeto[#Data],Última_entrada_do_projeto-Linha_de_início_do_projeto-DadosdeLinhadoTempodoProjeto[[#This Row],[NUM]]+1,3)),\"\",INDEX(DetalhesDoProjeto[#Data],Última_entrada_do_projeto-Linha_de_início_do_projeto-DadosdeLinhadoTempodoProjeto[[#This Row],[NUM]]+1,3)),\"\")","v":""},{"$f":"IFERROR(IF(ISBLANK(INDEX(DetalhesDoProjeto[#Data],ROW(A254)+1,1)),\"\",IF($J258-1<=-1,\"\",$J258-1)),\"\")","v":""},null,null,{"$f":"IFERROR(DadosdeLinhadoTempodoProjeto[[#This Row],[NUM]]+1,\"\")","v":""},{"$f":"IFERROR(VLOOKUP(LinhadoTempoClassificada[[#This Row],[POSIÇÃO classificada]],DadosdeLinhadoTempodoProjeto[],3,0),\"\")","v":""},{"$f":"IFERROR(VLOOKUP(LinhadoTempoClassificada[[#This Row],[POSIÇÃO classificada]],DadosdeLinhadoTempodoProjeto[],4,0),\"\")","v":""},{"$f":"IFERROR(VLOOKUP(LinhadoTempoClassificada[[#This Row],[POSIÇÃO classificada]],DadosdeLinhadoTempodoProjeto[],5,0),\"\")","v":""}]
[{"$nulls":4},{"$f":"IFERROR(RANK(F260,DadosdeLinhadoTempodoProjeto[CLASSIFICAÇÃO])+SUMPRODUCT(--(F260=DadosdeLinhadoTempodoProjeto[CLASSIFICAÇÃO]),--(J260<DadosdeLinhadoTempodoProjeto[NUM])),\"\")","v":""},{"$f":"IFERROR(RANK(DadosdeLinhadoTempodoProjeto[[#This Row],[DATA]],DadosdeLinhadoTempodoProjeto[DATA],1),\"\")","v":""},{"$f":"IFERROR(IF(ISBLANK(INDEX(DetalhesDoProjeto[#Data],Última_entrada_do_projeto-Linha_de_início_do_projeto-DadosdeLinhadoTempodoProjeto[[#This Row],[NUM]]+1,1)),\"\",INDEX(DetalhesDoProjeto[#Data],Última_entrada_do_projeto-Linha_de_início_do_projeto-DadosdeLinhadoTempodoProjeto[[#This Row],[NUM]]+1,1)),\"\")","v":""},{"$f":"IFERROR(IF(ISBLANK(INDEX(DetalhesDoProjeto[#Data],Última_entrada_do_projeto-Linha_de_início_do_projeto-DadosdeLinhadoTempodoProjeto[[#This Row],[NUM]]+1,2)),\"\",INDEX(DetalhesDoProjeto[#Data],Última_entrada_do_projeto-Linha_de_início_do_projeto-DadosdeLinhadoTempodoProjeto[[#This Row],[NUM]]+1,2)),\"\")","v":""},{"$f":"IFERROR(IF(ISBLANK(INDEX(DetalhesDoProjeto[#Data],Última_entrada_do_projeto-Linha_de_início_do_projeto-DadosdeLinhadoTempodoProjeto[[#This Row],[NUM]]+1,3)),\"\",INDEX(DetalhesDoProjeto[#Data],Última_entrada_do_projeto-Linha_de_início_do_projeto-DadosdeLinhadoTempodoProjeto[[#This Row],[NUM]]+1,3)),\"\")","v":""},{"$f":"IFERROR(IF(ISBLANK(INDEX(DetalhesDoProjeto[#Data],ROW(A255)+1,1)),\"\",IF($J259-1<=-1,\"\",$J259-1)),\"\")","v":""},null,null,{"$f":"IFERROR(DadosdeLinhadoTempodoProjeto[[#This Row],[NUM]]+1,\"\")","v":""},{"$f":"IFERROR(VLOOKUP(LinhadoTempoClassificada[[#This Row],[POSIÇÃO classificada]],DadosdeLinhadoTempodoProjeto[],3,0),\"\")","v":""},{"$f":"IFERROR(VLOOKUP(LinhadoTempoClassificada[[#This Row],[POSIÇÃO classificada]],DadosdeLinhadoTempodoProjeto[],4,0),\"\")","v":""},{"$f":"IFERROR(VLOOKUP(LinhadoTempoClassificada[[#This Row],[POSIÇÃO classificada]],DadosdeLinhadoTempodoProjeto[],5,0),\"\")","v":""}]
[{"$nulls":4},{"$f":"IFERROR(RANK(F261,DadosdeLinhadoTempodoProjeto[CLASSIFICAÇÃO])+SUMPRODUCT(--(F261=DadosdeLinhadoTempodoProjeto[CLASSIFICAÇÃO]),--(J261<DadosdeLinhadoTempodoProjeto[NUM])),\"\")","v":""},{"$f":"IFERROR(RANK(DadosdeLinhadoTempodoProjeto[[#This Row],[DATA]],DadosdeLinhadoTempodoProjeto[DATA],1),\"\")","v":""},{"$f":"IFERROR(IF(ISBLANK(INDEX(DetalhesDoProjeto[#Data],Última_entrada_do_projeto-Linha_de_início_do_projeto-DadosdeLinhadoTempodoProjeto[[#This Row],[NUM]]+1,1)),\"\",INDEX(DetalhesDoProjeto[#Data],Última_entrada_do_projeto-Linha_de_início_do_projeto-DadosdeLinhadoTempodoProjeto[[#This Row],[NUM]]+1,1)),\"\")","v":""},{"$f":"IFERROR(IF(ISBLANK(INDEX(DetalhesDoProjeto[#Data],Última_entrada_do_projeto-Linha_de_início_do_projeto-DadosdeLinhadoTempodoProjeto[[#This Row],[NUM]]+1,2)),\"\",INDEX(DetalhesDoProjeto[#Data],Última_entrada_do_projeto-Linha_de_início_do_projeto-DadosdeLinhadoTempodoProjeto[[#This Row],[NUM]]+1,2)),\"\")","v":""},{"$f":"IFERROR(IF(ISBLANK(INDEX(DetalhesDoProjeto[#Data],Última_entrada_do_projeto-Linha_de_início_do_projeto-DadosdeLinhadoTempodoProjeto[[#This Row],[NUM]]+1,3)),\"\",INDEX(DetalhesDoProjeto[#Data],Última_entrada_do_projeto-Linha_de_início_do_projeto-DadosdeLinhadoTempodoProjeto[[#This Row],[NUM]]+1,3)),\"\")","v":""},{"$f":"IFERROR(IF(ISBLANK(INDEX(DetalhesDoProjeto[#Data],ROW(A256)+1,1)),\"\",IF($J260-1<=-1,\"\",$J260-1)),\"\")","v":""},null,null,{"$f":"IFERROR(DadosdeLinhadoTempodoProjeto[[#This Row],[NUM]]+1,\"\")","v":""},{"$f":"IFERROR(VLOOKUP(LinhadoTempoClassificada[[#This Row],[POSIÇÃO classificada]],DadosdeLinhadoTempodoProjeto[],3,0),\"\")","v":""},{"$f":"IFERROR(VLOOKUP(LinhadoTempoClassificada[[#This Row],[POSIÇÃO classificada]],DadosdeLinhadoTempodoProjeto[],4,0),\"\")","v":""},{"$f":"IFERROR(VLOOKUP(LinhadoTempoClassificada[[#This Row],[POSIÇÃO classificada]],DadosdeLinhadoTempodoProjeto[],5,0),\"\")","v":""}]
[{"$nulls":4},{"$f":"IFERROR(RANK(F262,DadosdeLinhadoTempodoProjeto[CLASSIFICAÇÃO])+SUMPRODUCT(--(F262=DadosdeLinhadoTempodoProjeto[CLASSIFICAÇÃO]),--(J262<DadosdeLinhadoTempodoProjeto[NUM])),\"\")","v":""},{"$f":"IFERROR(RANK(DadosdeLinhadoTempodoProjeto[[#This Row],[DATA]],DadosdeLinhadoTempodoProjeto[DATA],1),\"\")","v":""},{"$f":"IFERROR(IF(ISBLANK(INDEX(DetalhesDoProjeto[#Data],Última_entrada_do_projeto-Linha_de_início_do_projeto-DadosdeLinhadoTempodoProjeto[[#This Row],[NUM]]+1,1)),\"\",INDEX(DetalhesDoProjeto[#Data],Última_entrada_do_projeto-Linha_de_início_do_projeto-DadosdeLinhadoTempodoProjeto[[#This Row],[NUM]]+1,1)),\"\")","v":""},{"$f":"IFERROR(IF(ISBLANK(INDEX(DetalhesDoProjeto[#Data],Última_entrada_do_projeto-Linha_de_início_do_projeto-DadosdeLinhadoTempodoProjeto[[#This Row],[NUM]]+1,2)),\"\",INDEX(DetalhesDoProjeto[#Data],Última_entrada_do_projeto-Linha_de_início_do_projeto-DadosdeLinhadoTempodoProjeto[[#This Row],[NUM]]+1,2)),\"\")","v":""},{"$f":"IFERROR(IF(ISBLANK(INDEX(DetalhesDoProjeto[#Data],Última_entrada_do_projeto-Linha_de_início_do_projeto-DadosdeLinhadoTempodoProjeto[[#This Row],[NUM]]+1,3)),\"\",INDEX(DetalhesDoProjeto[#Data],Última_entrada_do_projeto-Linha_de_início_do_projeto-DadosdeLinhadoTempodoProjeto[[#This Row],[NUM]]+1,3)),\"\")","v":""},{"$f":"IFERROR(IF(ISBLANK(INDEX(DetalhesDoProjeto[#Data],ROW(A257)+1,1)),\"\",IF($J261-1<=-1,\"\",$J261-1)),\"\")","v":""},null,null,{"$f":"IFERROR(DadosdeLinhadoTempodoProjeto[[#This Row],[NUM]]+1,\"\")","v":""},{"$f":"IFERROR(VLOOKUP(LinhadoTempoClassificada[[#This Row],[POSIÇÃO classificada]],DadosdeLinhadoTempodoProjeto[],3,0),\"\")","v":""},{"$f":"IFERROR(VLOOKUP(LinhadoTempoClassificada[[#This Row],[POSIÇÃO classificada]],DadosdeLinhadoTempodoProjeto[],4,0),\"\")","v":""},{"$f":"IFERROR(VLOOKUP(LinhadoTempoClassificada[[#This Row],[POSIÇÃO classificada]],DadosdeLinhadoTempodoProjeto[],5,0),\"\")","v":""}]
[{"$nulls":4},{"$f":"IFERROR(RANK(F263,DadosdeLinhadoTempodoProjeto[CLASSIFICAÇÃO])+SUMPRODUCT(--(F263=DadosdeLinhadoTempodoProjeto[CLASSIFICAÇÃO]),--(J263<DadosdeLinhadoTempodoProjeto[NUM])),\"\")","v":""},{"$f":"IFERROR(RANK(DadosdeLinhadoTempodoProjeto[[#This Row],[DATA]],DadosdeLinhadoTempodoProjeto[DATA],1),\"\")","v":""},{"$f":"IFERROR(IF(ISBLANK(INDEX(DetalhesDoProjeto[#Data],Última_entrada_do_projeto-Linha_de_início_do_projeto-DadosdeLinhadoTempodoProjeto[[#This Row],[NUM]]+1,1)),\"\",INDEX(DetalhesDoProjeto[#Data],Última_entrada_do_projeto-Linha_de_início_do_projeto-DadosdeLinhadoTempodoProjeto[[#This Row],[NUM]]+1,1)),\"\")","v":""},{"$f":"IFERROR(IF(ISBLANK(INDEX(DetalhesDoProjeto[#Data],Última_entrada_do_projeto-Linha_de_início_do_projeto-DadosdeLinhadoTempodoProjeto[[#This Row],[NUM]]+1,2)),\"\",INDEX(DetalhesDoProjeto[#Data],Última_entrada_do_projeto-Linha_de_início_do_projeto-DadosdeLinhadoTempodoProjeto[[#This Row],[NUM]]+1,2)),\"\")","v":""},{"$f":"IFERROR(IF(ISBLANK(INDEX(DetalhesDoProjeto[#Data],Última_entrada_do_projeto-Linha_de_início_do_projeto-DadosdeLinhadoTempodoProjeto[[#This Row],[NUM]]+1,3)),\"\",INDEX(DetalhesDoProjeto[#Data],Última_entrada_do_projeto-Linha_de_início_do_projeto-DadosdeLinhadoTempodoProjeto[[#This Row],[NUM]]+1,3)),\"\")","v":""},{"$f":"IFERROR(IF(ISBLANK(INDEX(DetalhesDoProjeto[#Data],ROW(A258)+1,1)),\"\",IF($J262-1<=-1,\"\",$J262-1)),\"\")","v":""},null,null,{"$f":"IFERROR(DadosdeLinhadoTempodoProjeto[[#This Row],[NUM]]+1,\"\")","v":""},{"$f":"IFERROR(VLOOKUP(LinhadoTempoClassificada[[#This Row],[POSIÇÃO classificada]],DadosdeLinhadoTempodoProjeto[],3,0),\"\")","v":""},{"$f":"IFERROR(VLOOKUP(LinhadoTempoClassificada[[#This Row],[POSIÇÃO classificada]],DadosdeLinhadoTempodoProjeto[],4,0),\"\")","v":""},{"$f":"IFERROR(VLOOKUP(LinhadoTempoClassificada[[#This Row],[POSIÇÃO classificada]],DadosdeLinhadoTempodoProjeto[],5,0),\"\")","v":""}]
[{"$nulls":4},{"$f":"IFERROR(RANK(F264,DadosdeLinhadoTempodoProjeto[CLASSIFICAÇÃO])+SUMPRODUCT(--(F264=DadosdeLinhadoTempodoProjeto[CLASSIFICAÇÃO]),--(J264<DadosdeLinhadoTempodoProjeto[NUM])),\"\")","v":""},{"$f":"IFERROR(RANK(DadosdeLinhadoTempodoProjeto[[#This Row],[DATA]],DadosdeLinhadoTempodoProjeto[DATA],1),\"\")","v":""},{"$f":"IFERROR(IF(ISBLANK(INDEX(DetalhesDoProjeto[#Data],Última_entrada_do_projeto-Linha_de_início_do_projeto-DadosdeLinhadoTempodoProjeto[[#This Row],[NUM]]+1,1)),\"\",INDEX(DetalhesDoProjeto[#Data],Última_entrada_do_projeto-Linha_de_início_do_projeto-DadosdeLinhadoTempodoProjeto[[#This Row],[NUM]]+1,1)),\"\")","v":""},{"$f":"IFERROR(IF(ISBLANK(INDEX(DetalhesDoProjeto[#Data],Última_entrada_do_projeto-Linha_de_início_do_projeto-DadosdeLinhadoTempodoProjeto[[#This Row],[NUM]]+1,2)),\"\",INDEX(DetalhesDoProjeto[#Data],Última_entrada_do_projeto-Linha_de_início_do_projeto-DadosdeLinhadoTempodoProjeto[[#This Row],[NUM]]+1,2)),\"\")","v":""},{"$f":"IFERROR(IF(ISBLANK(INDEX(DetalhesDoProjeto[#Data],Última_entrada_do_projeto-Linha_de_início_do_projeto-DadosdeLinhadoTempodoProjeto[[#This Row],[NUM]]+1,3)),\"\",INDEX(DetalhesDoProjeto[#Data],Última_entrada_do_projeto-Linha_de_início_do_projeto-DadosdeLinhadoTempodoProjeto[[#This Row],[NUM]]+1,3)),\"\")","v":""},{"$f":"IFERROR(IF(ISBLANK(INDEX(DetalhesDoProjeto[#Data],ROW(A259)+1,1)),\"\",IF($J263-1<=-1,\"\",$J263-1)),\"\")","v":""},null,null,{"$f":"IFERROR(DadosdeLinhadoTempodoProjeto[[#This Row],[NUM]]+1,\"\")","v":""},{"$f":"IFERROR(VLOOKUP(LinhadoTempoClassificada[[#This Row],[POSIÇÃO classificada]],DadosdeLinhadoTempodoProjeto[],3,0),\"\")","v":""},{"$f":"IFERROR(VLOOKUP(LinhadoTempoClassificada[[#This Row],[POSIÇÃO classificada]],DadosdeLinhadoTempodoProjeto[],4,0),\"\")","v":""},{"$f":"IFERROR(VLOOKUP(LinhadoTempoClassificada[[#This Row],[POSIÇÃO classificada]],DadosdeLinhadoTempodoProjeto[],5,0),\"\")","v":""}]
[{"$nulls":4},{"$f":"IFERROR(RANK(F265,DadosdeLinhadoTempodoProjeto[CLASSIFICAÇÃO])+SUMPRODUCT(--(F265=DadosdeLinhadoTempodoProjeto[CLASSIFICAÇÃO]),--(J265<DadosdeLinhadoTempodoProjeto[NUM])),\"\")","v":""},{"$f":"IFERROR(RANK(DadosdeLinhadoTempodoProjeto[[#This Row],[DATA]],DadosdeLinhadoTempodoProjeto[DATA],1),\"\")","v":""},{"$f":"IFERROR(IF(ISBLANK(INDEX(DetalhesDoProjeto[#Data],Última_entrada_do_projeto-Linha_de_início_do_projeto-DadosdeLinhadoTempodoProjeto[[#This Row],[NUM]]+1,1)),\"\",INDEX(DetalhesDoProjeto[#Data],Última_entrada_do_projeto-Linha_de_início_do_projeto-DadosdeLinhadoTempodoProjeto[[#This Row],[NUM]]+1,1)),\"\")","v":""},{"$f":"IFERROR(IF(ISBLANK(INDEX(DetalhesDoProjeto[#Data],Última_entrada_do_projeto-Linha_de_início_do_projeto-DadosdeLinhadoTempodoProjeto[[#This Row],[NUM]]+1,2)),\"\",INDEX(DetalhesDoProjeto[#Data],Última_entrada_do_projeto-Linha_de_início_do_projeto-DadosdeLinhadoTempodoProjeto[[#This Row],[NUM]]+1,2)),\"\")","v":""},{"$f":"IFERROR(IF(ISBLANK(INDEX(DetalhesDoProjeto[#Data],Última_entrada_do_projeto-Linha_de_início_do_projeto-DadosdeLinhadoTempodoProjeto[[#This Row],[NUM]]+1,3)),\"\",INDEX(DetalhesDoProjeto[#Data],Última_entrada_do_projeto-Linha_de_início_do_projeto-DadosdeLinhadoTempodoProjeto[[#This Row],[NUM]]+1,3)),\"\")","v":""},{"$f":"IFERROR(IF(ISBLANK(INDEX(DetalhesDoProjeto[#Data],ROW(A260)+1,1)),\"\",IF($J264-1<=-1,\"\",$J264-1)),\"\")","v":""},null,null,{"$f":"IFERROR(DadosdeLinhadoTempodoProjeto[[#This Row],[NUM]]+1,\"\")","v":""},{"$f":"IFERROR(VLOOKUP(LinhadoTempoClassificada[[#This Row],[POSIÇÃO classificada]],DadosdeLinhadoTempodoProjeto[],3,0),\"\")","v":""},{"$f":"IFERROR(VLOOKUP(LinhadoTempoClassificada[[#This Row],[POSIÇÃO classificada]],DadosdeLinhadoTempodoProjeto[],4,0),\"\")","v":""},{"$f":"IFERROR(VLOOKUP(LinhadoTempoClassificada[[#This Row],[POSIÇÃO classificada]],DadosdeLinhadoTempodoProjeto[],5,0),\"\")","v":""}]
[{"$nulls":4},{"$f":"IFERROR(RANK(F266,DadosdeLinhadoTempodoProjeto[CLASSIFICAÇÃO])+SUMPRODUCT(--(F266=DadosdeLinhadoTempodoProjeto[CLASSIFICAÇÃO]),--(J266<DadosdeLinhadoTempodoProjeto[NUM])),\"\")","v":""},{"$f":"IFERROR(RANK(DadosdeLinhadoTempodoProjeto[[#This Row],[DATA]],DadosdeLinhadoTempodoProjeto[DATA],1),\"\")","v":""},{"$f":"IFERROR(IF(ISBLANK(INDEX(DetalhesDoProjeto[#Data],Última_entrada_do_projeto-Linha_de_início_do_projeto-DadosdeLinhadoTempodoProjeto[[#This Row],[NUM]]+1,1)),\"\",INDEX(DetalhesDoProjeto[#Data],Última_entrada_do_projeto-Linha_de_início_do_projeto-DadosdeLinhadoTempodoProjeto[[#This Row],[NUM]]+1,1)),\"\")","v":""},{"$f":"IFERROR(IF(ISBLANK(INDEX(DetalhesDoProjeto[#Data],Última_entrada_do_projeto-Linha_de_início_do_projeto-DadosdeLinhadoTempodoProjeto[[#This Row],[NUM]]+1,2)),\"\",INDEX(DetalhesDoProjeto[#Data],Última_entrada_do_projeto-Linha_de_início_do_projeto-DadosdeLinhadoTempodoProjeto[[#This Row],[NUM]]+1,2)),\"\")","v":""},{"$f":"IFERROR(IF(ISBLANK(INDEX(DetalhesDoProjeto[#Data],Última_entrada_do_projeto-Linha_de_início_do_projeto-DadosdeLinhadoTempodoProjeto[[#This Row],[NUM]]+1,3)),\"\",INDEX(DetalhesDoProjeto[#Data],Última_entrada_do_projeto-Linha_de_início_do_projeto-DadosdeLinhadoTempodoProjeto[[#This Row],[NUM]]+1,3)),\"\")","v":""},{"$f":"IFERROR(IF(ISBLANK(INDEX(DetalhesDoProjeto[#Data],ROW(A261)+1,1)),\"\",IF($J265-1<=-1,\"\",$J265-1)),\"\")","v":""},null,null,{"$f":"IFERROR(DadosdeLinhadoTempodoProjeto[[#This Row],[NUM]]+1,\"\")","v":""},{"$f":"IFERROR(VLOOKUP(LinhadoTempoClassificada[[#This Row],[POSIÇÃO classificada]],DadosdeLinhadoTempodoProjeto[],3,0),\"\")","v":""},{"$f":"IFERROR(VLOOKUP(LinhadoTempoClassificada[[#This Row],[POSIÇÃO classificada]],DadosdeLinhadoTempodoProjeto[],4,0),\"\")","v":""},{"$f":"IFERROR(VLOOKUP(LinhadoTempoClassificada[[#This Row],[POSIÇÃO classificada]],DadosdeLinhadoTempodoProjeto[],5,0),\"\")","v":""}]
[{"$nulls":4},{"$f":"IFERROR(RANK(F267,DadosdeLinhadoTempodoProjeto[CLASSIFICAÇÃO])+SUMPRODUCT(--(F267=DadosdeLinhadoTempodoProjeto[CLASSIFICAÇÃO]),--(J267<DadosdeLinhadoTempodoProjeto[NUM])),\"\")","v":""},{"$f":"IFERROR(RANK(DadosdeLinhadoTempodoProjeto[[#This Row],[DATA]],DadosdeLinhadoTempodoProjeto[DATA],1),\"\")","v":""},{"$f":"IFERROR(IF(ISBLANK(INDEX(DetalhesDoProjeto[#Data],Última_entrada_do_projeto-Linha_de_início_do_projeto-DadosdeLinhadoTempodoProjeto[[#This Row],[NUM]]+1,1)),\"\",INDEX(DetalhesDoProjeto[#Data],Última_entrada_do_projeto-Linha_de_início_do_projeto-DadosdeLinhadoTempodoProjeto[[#This Row],[NUM]]+1,1)),\"\")","v":""},{"$f":"IFERROR(IF(ISBLANK(INDEX(DetalhesDoProjeto[#Data],Última_entrada_do_projeto-Linha_de_início_do_projeto-DadosdeLinhadoTempodoProjeto[[#This Row],[NUM]]+1,2)),\"\",INDEX(DetalhesDoProjeto[#Data],Última_entrada_do_projeto-Linha_de_início_do_projeto-DadosdeLinhadoTempodoProjeto[[#This Row],[NUM]]+1,2)),\"\")","v":""},{"$f":"IFERROR(IF(ISBLANK(INDEX(DetalhesDoProjeto[#Data],Última_entrada_do_projeto-Linha_de_início_do_projeto-DadosdeLinhadoTempodoProjeto[[#This Row],[NUM]]+1,3)),\"\",INDEX(DetalhesDoProjeto[#Data],Última_entrada_do_projeto-Linha_de_início_do_projeto-DadosdeLinhadoTempodoProjeto[[#This Row],[NUM]]+1,3)),\"\")","v":""},{"$f":"IFERROR(IF(ISBLANK(INDEX(DetalhesDoProjeto[#Data],ROW(A262)+1,1)),\"\",IF($J266-1<=-1,\"\",$J266-1)),\"\")","v":""},null,null,{"$f":"IFERROR(DadosdeLinhadoTempodoProjeto[[#This Row],[NUM]]+1,\"\")","v":""},{"$f":"IFERROR(VLOOKUP(LinhadoTempoClassificada[[#This Row],[POSIÇÃO classificada]],DadosdeLinhadoTempodoProjeto[],3,0),\"\")","v":""},{"$f":"IFERROR(VLOOKUP(LinhadoTempoClassificada[[#This Row],[POSIÇÃO classificada]],DadosdeLinhadoTempodoProjeto[],4,0),\"\")","v":""},{"$f":"IFERROR(VLOOKUP(LinhadoTempoClassificada[[#This Row],[POSIÇÃO classificada]],DadosdeLinhadoTempodoProjeto[],5,0),\"\")","v":""}]
[{"$nulls":4},{"$f":"IFERROR(RANK(F268,DadosdeLinhadoTempodoProjeto[CLASSIFICAÇÃO])+SUMPRODUCT(--(F268=DadosdeLinhadoTempodoProjeto[CLASSIFICAÇÃO]),--(J268<DadosdeLinhadoTempodoProjeto[NUM])),\"\")","v":""},{"$f":"IFERROR(RANK(DadosdeLinhadoTempodoProjeto[[#This Row],[DATA]],DadosdeLinhadoTempodoProjeto[DATA],1),\"\")","v":""},{"$f":"IFERROR(IF(ISBLANK(INDEX(DetalhesDoProjeto[#Data],Última_entrada_do_projeto-Linha_de_início_do_projeto-DadosdeLinhadoTempodoProjeto[[#This Row],[NUM]]+1,1)),\"\",INDEX(DetalhesDoProjeto[#Data],Última_entrada_do_projeto-Linha_de_início_do_projeto-DadosdeLinhadoTempodoProjeto[[#This Row],[NUM]]+1,1)),\"\")","v":""},{"$f":"IFERROR(IF(ISBLANK(INDEX(DetalhesDoProjeto[#Data],Última_entrada_do_projeto-Linha_de_início_do_projeto-DadosdeLinhadoTempodoProjeto[[#This Row],[NUM]]+1,2)),\"\",INDEX(DetalhesDoProjeto[#Data],Última_entrada_do_projeto-Linha_de_início_do_projeto-DadosdeLinhadoTempodoProjeto[[#This Row],[NUM]]+1,2)),\"\")","v":""},{"$f":"IFERROR(IF(ISBLANK(INDEX(DetalhesDoProjeto[#Data],Última_entrada_do_projeto-Linha_de_início_do_projeto-DadosdeLinhadoTempodoProjeto[[#This Row],[NUM]]+1,3)),\"\",INDEX(DetalhesDoProjeto[#Data],Última_entrada_do_projeto-Linha_de_início_do_projeto-DadosdeLinhadoTempodoProjeto[[#This Row],[NUM]]+1,3)),\"\")","v":""},{"$f":"IFERROR(IF(ISBLANK(INDEX(DetalhesDoProjeto[#Data],ROW(A263)+1,1)),\"\",IF($J267-1<=-1,\"\",$J267-1)),\"\")","v":""},null,null,{"$f":"IFERROR(DadosdeLinhadoTempodoProjeto[[#This Row],[NUM]]+1,\"\")","v":""},{"$f":"IFERROR(VLOOKUP(LinhadoTempoClassificada[[#This Row],[POSIÇÃO classificada]],DadosdeLinhadoTempodoProjeto[],3,0),\"\")","v":""},{"$f":"IFERROR(VLOOKUP(LinhadoTempoClassificada[[#This Row],[POSIÇÃO classificada]],DadosdeLinhadoTempodoProjeto[],4,0),\"\")","v":""},{"$f":"IFERROR(VLOOKUP(LinhadoTempoClassificada[[#This Row],[POSIÇÃO classificada]],DadosdeLinhadoTempodoProjeto[],5,0),\"\")","v":""}]
[{"$nulls":4},{"$f":"IFERROR(RANK(F269,DadosdeLinhadoTempodoProjeto[CLASSIFICAÇÃO])+SUMPRODUCT(--(F269=DadosdeLinhadoTempodoProjeto[CLASSIFICAÇÃO]),--(J269<DadosdeLinhadoTempodoProjeto[NUM])),\"\")","v":""},{"$f":"IFERROR(RANK(DadosdeLinhadoTempodoProjeto[[#This Row],[DATA]],DadosdeLinhadoTempodoProjeto[DATA],1),\"\")","v":""},{"$f":"IFERROR(IF(ISBLANK(INDEX(DetalhesDoProjeto[#Data],Última_entrada_do_projeto-Linha_de_início_do_projeto-DadosdeLinhadoTempodoProjeto[[#This Row],[NUM]]+1,1)),\"\",INDEX(DetalhesDoProjeto[#Data],Última_entrada_do_projeto-Linha_de_início_do_projeto-DadosdeLinhadoTempodoProjeto[[#This Row],[NUM]]+1,1)),\"\")","v":""},{"$f":"IFERROR(IF(ISBLANK(INDEX(DetalhesDoProjeto[#Data],Última_entrada_do_projeto-Linha_de_início_do_projeto-DadosdeLinhadoTempodoProjeto[[#This Row],[NUM]]+1,2)),\"\",INDEX(DetalhesDoProjeto[#Data],Última_entrada_do_projeto-Linha_de_início_do_projeto-DadosdeLinhadoTempodoProjeto[[#This Row],[NUM]]+1,2)),\"\")","v":""},{"$f":"IFERROR(IF(ISBLANK(INDEX(DetalhesDoProjeto[#Data],Última_entrada_do_projeto-Linha_de_início_do_projeto-DadosdeLinhadoTempodoProjeto[[#This Row],[NUM]]+1,3)),\"\",INDEX(DetalhesDoProjeto[#Data],Última_entrada_do_projeto-Linha_de_início_do_projeto-DadosdeLinhadoTempodoProjeto[[#This Row],[NUM]]+1,3)),\"\")","v":""},{"$f":"IFERROR(IF(ISBLANK(INDEX(DetalhesDoProjeto[#Data],ROW(A264)+1,1)),\"\",IF($J268-1<=-1,\"\",$J268-1)),\"\")","v":""},null,null,{"$f":"IFERROR(DadosdeLinhadoTempodoProjeto[[#This Row],[NUM]]+1,\"\")","v":""},{"$f":"IFERROR(VLOOKUP(LinhadoTempoClassificada[[#This Row],[POSIÇÃO classificada]],DadosdeLinhadoTempodoProjeto[],3,0),\"\")","v":""},{"$f":"IFERROR(VLOOKUP(LinhadoTempoClassificada[[#This Row],[POSIÇÃO classificada]],DadosdeLinhadoTempodoProjeto[],4,0),\"\")","v":""},{"$f":"IFERROR(VLOOKUP(LinhadoTempoClassificada[[#This Row],[POSIÇÃO classificada]],DadosdeLinhadoTempodoProjeto[],5,0),\"\")","v":""}]
[{"$nulls":4},{"$f":"IFERROR(RANK(F270,DadosdeLinhadoTempodoProjeto[CLASSIFICAÇÃO])+SUMPRODUCT(--(F270=DadosdeLinhadoTempodoProjeto[CLASSIFICAÇÃO]),--(J270<DadosdeLinhadoTempodoProjeto[NUM])),\"\")","v":""},{"$f":"IFERROR(RANK(DadosdeLinhadoTempodoProjeto[[#This Row],[DATA]],DadosdeLinhadoTempodoProjeto[DATA],1),\"\")","v":""},{"$f":"IFERROR(IF(ISBLANK(INDEX(DetalhesDoProjeto[#Data],Última_entrada_do_projeto-Linha_de_início_do_projeto-DadosdeLinhadoTempodoProjeto[[#This Row],[NUM]]+1,1)),\"\",INDEX(DetalhesDoProjeto[#Data],Última_entrada_do_projeto-Linha_de_início_do_projeto-DadosdeLinhadoTempodoProjeto[[#This Row],[NUM]]+1,1)),\"\")","v":""},{"$f":"IFERROR(IF(ISBLANK(INDEX(DetalhesDoProjeto[#Data],Última_entrada_do_projeto-Linha_de_início_do_projeto-DadosdeLinhadoTempodoProjeto[[#This Row],[NUM]]+1,2)),\"\",INDEX(DetalhesDoProjeto[#Data],Última_entrada_do_projeto-Linha_de_início_do_projeto-DadosdeLinhadoTempodoProjeto[[#This Row],[NUM]]+1,2)),\"\")","v":""},{"$f":"IFERROR(IF(ISBLANK(INDEX(DetalhesDoProjeto[#Data],Última_entrada_do_projeto-Linha_de_início_do_projeto-DadosdeLinhadoTempodoProjeto[[#This Row],[NUM]]+1,3)),\"\",INDEX(DetalhesDoProjeto[#Data],Última_entrada_do_projeto-Linha_de_início_do_projeto-DadosdeLinhadoTempodoProjeto[[#This Row],[NUM]]+1,3)),\"\")","v":""},{"$f":"IFERROR(IF(ISBLANK(INDEX(DetalhesDoProjeto[#Data],ROW(A265)+1,1)),\"\",IF($J269-1<=-1,\"\",$J269-1)),\"\")","v":""},null,null,{"$f":"IFERROR(DadosdeLinhadoTempodoProjeto[[#This Row],[NUM]]+1,\"\")","v":""},{"$f":"IFERROR(VLOOKUP(LinhadoTempoClassificada[[#This Row],[POSIÇÃO classificada]],DadosdeLinhadoTempodoProjeto[],3,0),\"\")","v":""},{"$f":"IFERROR(VLOOKUP(LinhadoTempoClassificada[[#This Row],[POSIÇÃO classificada]],DadosdeLinhadoTempodoProjeto[],4,0),\"\")","v":""},{"$f":"IFERROR(VLOOKUP(LinhadoTempoClassificada[[#This Row],[POSIÇÃO classificada]],DadosdeLinhadoTempodoProjeto[],5,0),\"\")","v":""}]
[{"$nulls":4},{"$f":"IFERROR(RANK(F271,DadosdeLinhadoTempodoProjeto[CLASSIFICAÇÃO])+SUMPRODUCT(--(F271=DadosdeLinhadoTempodoProjeto[CLASSIFICAÇÃO]),--(J271<DadosdeLinhadoTempodoProjeto[NUM])),\"\")","v":""},{"$f":"IFERROR(RANK(DadosdeLinhadoTempodoProjeto[[#This Row],[DATA]],DadosdeLinhadoTempodoProjeto[DATA],1),\"\")","v":""},{"$f":"IFERROR(IF(ISBLANK(INDEX(DetalhesDoProjeto[#Data],Última_entrada_do_projeto-Linha_de_início_do_projeto-DadosdeLinhadoTempodoProjeto[[#This Row],[NUM]]+1,1)),\"\",INDEX(DetalhesDoProjeto[#Data],Última_entrada_do_projeto-Linha_de_início_do_projeto-DadosdeLinhadoTempodoProjeto[[#This Row],[NUM]]+1,1)),\"\")","v":""},{"$f":"IFERROR(IF(ISBLANK(INDEX(DetalhesDoProjeto[#Data],Última_entrada_do_projeto-Linha_de_início_do_projeto-DadosdeLinhadoTempodoProjeto[[#This Row],[NUM]]+1,2)),\"\",INDEX(DetalhesDoProjeto[#Data],Última_entrada_do_projeto-Linha_de_início_do_projeto-DadosdeLinhadoTempodoProjeto[[#This Row],[NUM]]+1,2)),\"\")","v":""},{"$f":"IFERROR(IF(ISBLANK(INDEX(DetalhesDoProjeto[#Data],Última_entrada_do_projeto-Linha_de_início_do_projeto-DadosdeLinhadoTempodoProjeto[[#This Row],[NUM]]+1,3)),\"\",INDEX(DetalhesDoProjeto[#Data],Última_entrada_do_projeto-Linha_de_início_do_projeto-DadosdeLinhadoTempodoProjeto[[#This Row],[NUM]]+1,3)),\"\")","v":""},{"$f":"IFERROR(IF(ISBLANK(INDEX(DetalhesDoProjeto[#Data],ROW(A266)+1,1)),\"\",IF($J270-1<=-1,\"\",$J270-1)),\"\")","v":""},null,null,{"$f":"IFERROR(DadosdeLinhadoTempodoProjeto[[#This Row],[NUM]]+1,\"\")","v":""},{"$f":"IFERROR(VLOOKUP(LinhadoTempoClassificada[[#This Row],[POSIÇÃO classificada]],DadosdeLinhadoTempodoProjeto[],3,0),\"\")","v":""},{"$f":"IFERROR(VLOOKUP(LinhadoTempoClassificada[[#This Row],[POSIÇÃO classificada]],DadosdeLinhadoTempodoProjeto[],4,0),\"\")","v":""},{"$f":"IFERROR(VLOOKUP(LinhadoTempoClassificada[[#This Row],[POSIÇÃO classificada]],DadosdeLinhadoTempodoProjeto[],5,0),\"\")","v":""}]
[{"$nulls":4},{"$f":"IFERROR(RANK(F272,DadosdeLinhadoTempodoProjeto[CLASSIFICAÇÃO])+SUMPRODUCT(--(F272=DadosdeLinhadoTempodoProjeto[CLASSIFICAÇÃO]),--(J272<DadosdeLinhadoTempodoProjeto[NUM])),\"\")","v":""},{"$f":"IFERROR(RANK(DadosdeLinhadoTempodoProjeto[[#This Row],[DATA]],DadosdeLinhadoTempodoProjeto[DATA],1),\"\")","v":""},{"$f":"IFERROR(IF(ISBLANK(INDEX(DetalhesDoProjeto[#Data],Última_entrada_do_projeto-Linha_de_início_do_projeto-DadosdeLinhadoTempodoProjeto[[#This Row],[NUM]]+1,1)),\"\",INDEX(DetalhesDoProjeto[#Data],Última_entrada_do_projeto-Linha_de_início_do_projeto-DadosdeLinhadoTempodoProjeto[[#This Row],[NUM]]+1,1)),\"\")","v":""},{"$f":"IFERROR(IF(ISBLANK(INDEX(DetalhesDoProjeto[#Data],Última_entrada_do_projeto-Linha_de_início_do_projeto-DadosdeLinhadoTempodoProjeto[[#This Row],[NUM]]+1,2)),\"\",INDEX(DetalhesDoProjeto[#Data],Última_entrada_do_projeto-Linha_de_início_do_projeto-DadosdeLinhadoTempodoProjeto[[#This Row],[NUM]]+1,2)),\"\")","v":""},{"$f":"IFERROR(IF(ISBLANK(INDEX(DetalhesDoProjeto[#Data],Última_entrada_do_projeto-Linha_de_início_do_projeto-DadosdeLinhadoTempodoProjeto[[#This Row],[NUM]]+1,3)),\"\",INDEX(DetalhesDoProjeto[#Data],Última_entrada_do_projeto-Linha_de_início_do_projeto-DadosdeLinhadoTempodoProjeto[[#This Row],[NUM]]+1,3)),\"\")","v":""},{"$f":"IFERROR(IF(ISBLANK(INDEX(DetalhesDoProjeto[#Data],ROW(A267)+1,1)),\"\",IF($J271-1<=-1,\"\",$J271-1)),\"\")","v":""},null,null,{"$f":"IFERROR(DadosdeLinhadoTempodoProjeto[[#This Row],[NUM]]+1,\"\")","v":""},{"$f":"IFERROR(VLOOKUP(LinhadoTempoClassificada[[#This Row],[POSIÇÃO classificada]],DadosdeLinhadoTempodoProjeto[],3,0),\"\")","v":""},{"$f":"IFERROR(VLOOKUP(LinhadoTempoClassificada[[#This Row],[POSIÇÃO classificada]],DadosdeLinhadoTempodoProjeto[],4,0),\"\")","v":""},{"$f":"IFERROR(VLOOKUP(LinhadoTempoClassificada[[#This Row],[POSIÇÃO classificada]],DadosdeLinhadoTempodoProjeto[],5,0),\"\")","v":""}]
[{"$nulls":4},{"$f":"IFERROR(RANK(F273,DadosdeLinhadoTempodoProjeto[CLASSIFICAÇÃO])+SUMPRODUCT(--(F273=DadosdeLinhadoTempodoProjeto[CLASSIFICAÇÃO]),--(J273<DadosdeLinhadoTempodoProjeto[NUM])),\"\")","v":""},{"$f":"IFERROR(RANK(DadosdeLinhadoTempodoProjeto[[#This Row],[DATA]],DadosdeLinhadoTempodoProjeto[DATA],1),\"\")","v":""},{"$f":"IFERROR(IF(ISBLANK(INDEX(DetalhesDoProjeto[#Data],Última_entrada_do_projeto-Linha_de_início_do_projeto-DadosdeLinhadoTempodoProjeto[[#This Row],[NUM]]+1,1)),\"\",INDEX(DetalhesDoProjeto[#Data],Última_entrada_do_projeto-Linha_de_início_do_projeto-DadosdeLinhadoTempodoProjeto[[#This Row],[NUM]]+1,1)),\"\")","v":""},{"$f":"IFERROR(IF(ISBLANK(INDEX(DetalhesDoProjeto[#Data],Última_entrada_do_projeto-Linha_de_início_do_projeto-DadosdeLinhadoTempodoProjeto[[#This Row],[NUM]]+1,2)),\"\",INDEX(DetalhesDoProjeto[#Data],Última_entrada_do_projeto-Linha_de_início_do_projeto-DadosdeLinhadoTempodoProjeto[[#This Row],[NUM]]+1,2)),\"\")","v":""},{"$f":"IFERROR(IF(ISBLANK(INDEX(DetalhesDoProjeto[#Data],Última_entrada_do_projeto-Linha_de_início_do_projeto-DadosdeLinhadoTempodoProjeto[[#This Row],[NUM]]+1,3)),\"\",INDEX(DetalhesDoProjeto[#Data],Última_entrada_do_projeto-Linha_de_início_do_projeto-DadosdeLinhadoTempodoProjeto[[#This Row],[NUM]]+1,3)),\"\")","v":""},{"$f":"IFERROR(IF(ISBLANK(INDEX(DetalhesDoProjeto[#Data],ROW(A268)+1,1)),\"\",IF($J272-1<=-1,\"\",$J272-1)),\"\")","v":""},null,null,{"$f":"IFERROR(DadosdeLinhadoTempodoProjeto[[#This Row],[NUM]]+1,\"\")","v":""},{"$f":"IFERROR(VLOOKUP(LinhadoTempoClassificada[[#This Row],[POSIÇÃO classificada]],DadosdeLinhadoTempodoProjeto[],3,0),\"\")","v":""},{"$f":"IFERROR(VLOOKUP(LinhadoTempoClassificada[[#This Row],[POSIÇÃO classificada]],DadosdeLinhadoTempodoProjeto[],4,0),\"\")","v":""},{"$f":"IFERROR(VLOOKUP(LinhadoTempoClassificada[[#This Row],[POSIÇÃO classificada]],DadosdeLinhadoTempodoProjeto[],5,0),\"\")","v":""}]
[{"$nulls":4},{"$f":"IFERROR(RANK(F274,DadosdeLinhadoTempodoProjeto[CLASSIFICAÇÃO])+SUMPRODUCT(--(F274=DadosdeLinhadoTempodoProjeto[CLASSIFICAÇÃO]),--(J274<DadosdeLinhadoTempodoProjeto[NUM])),\"\")","v":""},{"$f":"IFERROR(RANK(DadosdeLinhadoTempodoProjeto[[#This Row],[DATA]],DadosdeLinhadoTempodoProjeto[DATA],1),\"\")","v":""},{"$f":"IFERROR(IF(ISBLANK(INDEX(DetalhesDoProjeto[#Data],Última_entrada_do_projeto-Linha_de_início_do_projeto-DadosdeLinhadoTempodoProjeto[[#This Row],[NUM]]+1,1)),\"\",INDEX(DetalhesDoProjeto[#Data],Última_entrada_do_projeto-Linha_de_início_do_projeto-DadosdeLinhadoTempodoProjeto[[#This Row],[NUM]]+1,1)),\"\")","v":""},{"$f":"IFERROR(IF(ISBLANK(INDEX(DetalhesDoProjeto[#Data],Última_entrada_do_projeto-Linha_de_início_do_projeto-DadosdeLinhadoTempodoProjeto[[#This Row],[NUM]]+1,2)),\"\",INDEX(DetalhesDoProjeto[#Data],Última_entrada_do_projeto-Linha_de_início_do_projeto-DadosdeLinhadoTempodoProjeto[[#This Row],[NUM]]+1,2)),\"\")","v":""},{"$f":"IFERROR(IF(ISBLANK(INDEX(DetalhesDoProjeto[#Data],Última_entrada_do_projeto-Linha_de_início_do_projeto-DadosdeLinhadoTempodoProjeto[[#This Row],[NUM]]+1,3)),\"\",INDEX(DetalhesDoProjeto[#Data],Última_entrada_do_projeto-Linha_de_início_do_projeto-DadosdeLinhadoTempodoProjeto[[#This Row],[NUM]]+1,3)),\"\")","v":""},{"$f":"IFERROR(IF(ISBLANK(INDEX(DetalhesDoProjeto[#Data],ROW(A269)+1,1)),\"\",IF($J273-1<=-1,\"\",$J273-1)),\"\")","v":""},null,null,{"$f":"IFERROR(DadosdeLinhadoTempodoProjeto[[#This Row],[NUM]]+1,\"\")","v":""},{"$f":"IFERROR(VLOOKUP(LinhadoTempoClassificada[[#This Row],[POSIÇÃO classificada]],DadosdeLinhadoTempodoProjeto[],3,0),\"\")","v":""},{"$f":"IFERROR(VLOOKUP(LinhadoTempoClassificada[[#This Row],[POSIÇÃO classificada]],DadosdeLinhadoTempodoProjeto[],4,0),\"\")","v":""},{"$f":"IFERROR(VLOOKUP(LinhadoTempoClassificada[[#This Row],[POSIÇÃO classificada]],DadosdeLinhadoTempodoProjeto[],5,0),\"\")","v":""}]
[{"$nulls":4},{"$f":"IFERROR(RANK(F275,DadosdeLinhadoTempodoProjeto[CLASSIFICAÇÃO])+SUMPRODUCT(--(F275=DadosdeLinhadoTempodoProjeto[CLASSIFICAÇÃO]),--(J275<DadosdeLinhadoTempodoProjeto[NUM])),\"\")","v":""},{"$f":"IFERROR(RANK(DadosdeLinhadoTempodoProjeto[[#This Row],[DATA]],DadosdeLinhadoTempodoProjeto[DATA],1),\"\")","v":""},{"$f":"IFERROR(IF(ISBLANK(INDEX(DetalhesDoProjeto[#Data],Última_entrada_do_projeto-Linha_de_início_do_projeto-DadosdeLinhadoTempodoProjeto[[#This Row],[NUM]]+1,1)),\"\",INDEX(DetalhesDoProjeto[#Data],Última_entrada_do_projeto-Linha_de_início_do_projeto-DadosdeLinhadoTempodoProjeto[[#This Row],[NUM]]+1,1)),\"\")","v":""},{"$f":"IFERROR(IF(ISBLANK(INDEX(DetalhesDoProjeto[#Data],Última_entrada_do_projeto-Linha_de_início_do_projeto-DadosdeLinhadoTempodoProjeto[[#This Row],[NUM]]+1,2)),\"\",INDEX(DetalhesDoProjeto[#Data],Última_entrada_do_projeto-Linha_de_início_do_projeto-DadosdeLinhadoTempodoProjeto[[#This Row],[NUM]]+1,2)),\"\")","v":""},{"$f":"IFERROR(IF(ISBLANK(INDEX(DetalhesDoProjeto[#Data],Última_entrada_do_projeto-Linha_de_início_do_projeto-DadosdeLinhadoTempodoProjeto[[#This Row],[NUM]]+1,3)),\"\",INDEX(DetalhesDoProjeto[#Data],Última_entrada_do_projeto-Linha_de_início_do_projeto-DadosdeLinhadoTempodoProjeto[[#This Row],[NUM]]+1,3)),\"\")","v":""},{"$f":"IFERROR(IF(ISBLANK(INDEX(DetalhesDoProjeto[#Data],ROW(A270)+1,1)),\"\",IF($J274-1<=-1,\"\",$J274-1)),\"\")","v":""},null,null,{"$f":"IFERROR(DadosdeLinhadoTempodoProjeto[[#This Row],[NUM]]+1,\"\")","v":""},{"$f":"IFERROR(VLOOKUP(LinhadoTempoClassificada[[#This Row],[POSIÇÃO classificada]],DadosdeLinhadoTempodoProjeto[],3,0),\"\")","v":""},{"$f":"IFERROR(VLOOKUP(LinhadoTempoClassificada[[#This Row],[POSIÇÃO classificada]],DadosdeLinhadoTempodoProjeto[],4,0),\"\")","v":""},{"$f":"IFERROR(VLOOKUP(LinhadoTempoClassificada[[#This Row],[POSIÇÃO classificada]],DadosdeLinhadoTempodoProjeto[],5,0),\"\")","v":""}]
[{"$nulls":4},{"$f":"IFERROR(RANK(F276,DadosdeLinhadoTempodoProjeto[CLASSIFICAÇÃO])+SUMPRODUCT(--(F276=DadosdeLinhadoTempodoProjeto[CLASSIFICAÇÃO]),--(J276<DadosdeLinhadoTempodoProjeto[NUM])),\"\")","v":""},{"$f":"IFERROR(RANK(DadosdeLinhadoTempodoProjeto[[#This Row],[DATA]],DadosdeLinhadoTempodoProjeto[DATA],1),\"\")","v":""},{"$f":"IFERROR(IF(ISBLANK(INDEX(DetalhesDoProjeto[#Data],Última_entrada_do_projeto-Linha_de_início_do_projeto-DadosdeLinhadoTempodoProjeto[[#This Row],[NUM]]+1,1)),\"\",INDEX(DetalhesDoProjeto[#Data],Última_entrada_do_projeto-Linha_de_início_do_projeto-DadosdeLinhadoTempodoProjeto[[#This Row],[NUM]]+1,1)),\"\")","v":""},{"$f":"IFERROR(IF(ISBLANK(INDEX(DetalhesDoProjeto[#Data],Última_entrada_do_projeto-Linha_de_início_do_projeto-DadosdeLinhadoTempodoProjeto[[#This Row],[NUM]]+1,2)),\"\",INDEX(DetalhesDoProjeto[#Data],Última_entrada_do_projeto-Linha_de_início_do_projeto-DadosdeLinhadoTempodoProjeto[[#This Row],[NUM]]+1,2)),\"\")","v":""},{"$f":"IFERROR(IF(ISBLANK(INDEX(DetalhesDoProjeto[#Data],Última_entrada_do_projeto-Linha_de_início_do_projeto-DadosdeLinhadoTempodoProjeto[[#This Row],[NUM]]+1,3)),\"\",INDEX(DetalhesDoProjeto[#Data],Última_entrada_do_projeto-Linha_de_início_do_projeto-DadosdeLinhadoTempodoProjeto[[#This Row],[NUM]]+1,3)),\"\")","v":""},{"$f":"IFERROR(IF(ISBLANK(INDEX(DetalhesDoProjeto[#Data],ROW(A271)+1,1)),\"\",IF($J275-1<=-1,\"\",$J275-1)),\"\")","v":""},null,null,{"$f":"IFERROR(DadosdeLinhadoTempodoProjeto[[#This Row],[NUM]]+1,\"\")","v":""},{"$f":"IFERROR(VLOOKUP(LinhadoTempoClassificada[[#This Row],[POSIÇÃO classificada]],DadosdeLinhadoTempodoProjeto[],3,0),\"\")","v":""},{"$f":"IFERROR(VLOOKUP(LinhadoTempoClassificada[[#This Row],[POSIÇÃO classificada]],DadosdeLinhadoTempodoProjeto[],4,0),\"\")","v":""},{"$f":"IFERROR(VLOOKUP(LinhadoTempoClassificada[[#This Row],[POSIÇÃO classificada]],DadosdeLinhadoTempodoProjeto[],5,0),\"\")","v":""}]
[{"$nulls":4},{"$f":"IFERROR(RANK(F277,DadosdeLinhadoTempodoProjeto[CLASSIFICAÇÃO])+SUMPRODUCT(--(F277=DadosdeLinhadoTempodoProjeto[CLASSIFICAÇÃO]),--(J277<DadosdeLinhadoTempodoProjeto[NUM])),\"\")","v":""},{"$f":"IFERROR(RANK(DadosdeLinhadoTempodoProjeto[[#This Row],[DATA]],DadosdeLinhadoTempodoProjeto[DATA],1),\"\")","v":""},{"$f":"IFERROR(IF(ISBLANK(INDEX(DetalhesDoProjeto[#Data],Última_entrada_do_projeto-Linha_de_início_do_projeto-DadosdeLinhadoTempodoProjeto[[#This Row],[NUM]]+1,1)),\"\",INDEX(DetalhesDoProjeto[#Data],Última_entrada_do_projeto-Linha_de_início_do_projeto-DadosdeLinhadoTempodoProjeto[[#This Row],[NUM]]+1,1)),\"\")","v":""},{"$f":"IFERROR(IF(ISBLANK(INDEX(DetalhesDoProjeto[#Data],Última_entrada_do_projeto-Linha_de_início_do_projeto-DadosdeLinhadoTempodoProjeto[[#This Row],[NUM]]+1,2)),\"\",INDEX(DetalhesDoProjeto[#Data],Última_entrada_do_projeto-Linha_de_início_do_projeto-DadosdeLinhadoTempodoProjeto[[#This Row],[NUM]]+1,2)),\"\")","v":""},{"$f":"IFERROR(IF(ISBLANK(INDEX(DetalhesDoProjeto[#Data],Última_entrada_do_projeto-Linha_de_início_do_projeto-DadosdeLinhadoTempodoProjeto[[#This Row],[NUM]]+1,3)),\"\",INDEX(DetalhesDoProjeto[#Data],Última_entrada_do_projeto-Linha_de_início_do_projeto-DadosdeLinhadoTempodoProjeto[[#This Row],[NUM]]+1,3)),\"\")","v":""},{"$f":"IFERROR(IF(ISBLANK(INDEX(DetalhesDoProjeto[#Data],ROW(A272)+1,1)),\"\",IF($J276-1<=-1,\"\",$J276-1)),\"\")","v":""},null,null,{"$f":"IFERROR(DadosdeLinhadoTempodoProjeto[[#This Row],[NUM]]+1,\"\")","v":""},{"$f":"IFERROR(VLOOKUP(LinhadoTempoClassificada[[#This Row],[POSIÇÃO classificada]],DadosdeLinhadoTempodoProjeto[],3,0),\"\")","v":""},{"$f":"IFERROR(VLOOKUP(LinhadoTempoClassificada[[#This Row],[POSIÇÃO classificada]],DadosdeLinhadoTempodoProjeto[],4,0),\"\")","v":""},{"$f":"IFERROR(VLOOKUP(LinhadoTempoClassificada[[#This Row],[POSIÇÃO classificada]],DadosdeLinhadoTempodoProjeto[],5,0),\"\")","v":""}]
[{"$nulls":4},{"$f":"IFERROR(RANK(F278,DadosdeLinhadoTempodoProjeto[CLASSIFICAÇÃO])+SUMPRODUCT(--(F278=DadosdeLinhadoTempodoProjeto[CLASSIFICAÇÃO]),--(J278<DadosdeLinhadoTempodoProjeto[NUM])),\"\")","v":""},{"$f":"IFERROR(RANK(DadosdeLinhadoTempodoProjeto[[#This Row],[DATA]],DadosdeLinhadoTempodoProjeto[DATA],1),\"\")","v":""},{"$f":"IFERROR(IF(ISBLANK(INDEX(DetalhesDoProjeto[#Data],Última_entrada_do_projeto-Linha_de_início_do_projeto-DadosdeLinhadoTempodoProjeto[[#This Row],[NUM]]+1,1)),\"\",INDEX(DetalhesDoProjeto[#Data],Última_entrada_do_projeto-Linha_de_início_do_projeto-DadosdeLinhadoTempodoProjeto[[#This Row],[NUM]]+1,1)),\"\")","v":""},{"$f":"IFERROR(IF(ISBLANK(INDEX(DetalhesDoProjeto[#Data],Última_entrada_do_projeto-Linha_de_início_do_projeto-DadosdeLinhadoTempodoProjeto[[#This Row],[NUM]]+1,2)),\"\",INDEX(DetalhesDoProjeto[#Data],Última_entrada_do_projeto-Linha_de_início_do_projeto-DadosdeLinhadoTempodoProjeto[[#This Row],[NUM]]+1,2)),\"\")","v":""},{"$f":"IFERROR(IF(ISBLANK(INDEX(DetalhesDoProjeto[#Data],Última_entrada_do_projeto-Linha_de_início_do_projeto-DadosdeLinhadoTempodoProjeto[[#This Row],[NUM]]+1,3)),\"\",INDEX(DetalhesDoProjeto[#Data],Última_entrada_do_projeto-Linha_de_início_do_projeto-DadosdeLinhadoTempodoProjeto[[#This Row],[NUM]]+1,3)),\"\")","v":""},{"$f":"IFERROR(IF(ISBLANK(INDEX(DetalhesDoProjeto[#Data],ROW(A273)+1,1)),\"\",IF($J277-1<=-1,\"\",$J277-1)),\"\")","v":""},null,null,{"$f":"IFERROR(DadosdeLinhadoTempodoProjeto[[#This Row],[NUM]]+1,\"\")","v":""},{"$f":"IFERROR(VLOOKUP(LinhadoTempoClassificada[[#This Row],[POSIÇÃO classificada]],DadosdeLinhadoTempodoProjeto[],3,0),\"\")","v":""},{"$f":"IFERROR(VLOOKUP(LinhadoTempoClassificada[[#This Row],[POSIÇÃO classificada]],DadosdeLinhadoTempodoProjeto[],4,0),\"\")","v":""},{"$f":"IFERROR(VLOOKUP(LinhadoTempoClassificada[[#This Row],[POSIÇÃO classificada]],DadosdeLinhadoTempodoProjeto[],5,0),\"\")","v":""}]
[{"$nulls":4},{"$f":"IFERROR(RANK(F279,DadosdeLinhadoTempodoProjeto[CLASSIFICAÇÃO])+SUMPRODUCT(--(F279=DadosdeLinhadoTempodoProjeto[CLASSIFICAÇÃO]),--(J279<DadosdeLinhadoTempodoProjeto[NUM])),\"\")","v":""},{"$f":"IFERROR(RANK(DadosdeLinhadoTempodoProjeto[[#This Row],[DATA]],DadosdeLinhadoTempodoProjeto[DATA],1),\"\")","v":""},{"$f":"IFERROR(IF(ISBLANK(INDEX(DetalhesDoProjeto[#Data],Última_entrada_do_projeto-Linha_de_início_do_projeto-DadosdeLinhadoTempodoProjeto[[#This Row],[NUM]]+1,1)),\"\",INDEX(DetalhesDoProjeto[#Data],Última_entrada_do_projeto-Linha_de_início_do_projeto-DadosdeLinhadoTempodoProjeto[[#This Row],[NUM]]+1,1)),\"\")","v":""},{"$f":"IFERROR(IF(ISBLANK(INDEX(DetalhesDoProjeto[#Data],Última_entrada_do_projeto-Linha_de_início_do_projeto-DadosdeLinhadoTempodoProjeto[[#This Row],[NUM]]+1,2)),\"\",INDEX(DetalhesDoProjeto[#Data],Última_entrada_do_projeto-Linha_de_início_do_projeto-DadosdeLinhadoTempodoProjeto[[#This Row],[NUM]]+1,2)),\"\")","v":""},{"$f":"IFERROR(IF(ISBLANK(INDEX(DetalhesDoProjeto[#Data],Última_entrada_do_projeto-Linha_de_início_do_projeto-DadosdeLinhadoTempodoProjeto[[#This Row],[NUM]]+1,3)),\"\",INDEX(DetalhesDoProjeto[#Data],Última_entrada_do_projeto-Linha_de_início_do_projeto-DadosdeLinhadoTempodoProjeto[[#This Row],[NUM]]+1,3)),\"\")","v":""},{"$f":"IFERROR(IF(ISBLANK(INDEX(DetalhesDoProjeto[#Data],ROW(A274)+1,1)),\"\",IF($J278-1<=-1,\"\",$J278-1)),\"\")","v":""},null,null,{"$f":"IFERROR(DadosdeLinhadoTempodoProjeto[[#This Row],[NUM]]+1,\"\")","v":""},{"$f":"IFERROR(VLOOKUP(LinhadoTempoClassificada[[#This Row],[POSIÇÃO classificada]],DadosdeLinhadoTempodoProjeto[],3,0),\"\")","v":""},{"$f":"IFERROR(VLOOKUP(LinhadoTempoClassificada[[#This Row],[POSIÇÃO classificada]],DadosdeLinhadoTempodoProjeto[],4,0),\"\")","v":""},{"$f":"IFERROR(VLOOKUP(LinhadoTempoClassificada[[#This Row],[POSIÇÃO classificada]],DadosdeLinhadoTempodoProjeto[],5,0),\"\")","v":""}]
[{"$nulls":4},{"$f":"IFERROR(RANK(F280,DadosdeLinhadoTempodoProjeto[CLASSIFICAÇÃO])+SUMPRODUCT(--(F280=DadosdeLinhadoTempodoProjeto[CLASSIFICAÇÃO]),--(J280<DadosdeLinhadoTempodoProjeto[NUM])),\"\")","v":""},{"$f":"IFERROR(RANK(DadosdeLinhadoTempodoProjeto[[#This Row],[DATA]],DadosdeLinhadoTempodoProjeto[DATA],1),\"\")","v":""},{"$f":"IFERROR(IF(ISBLANK(INDEX(DetalhesDoProjeto[#Data],Última_entrada_do_projeto-Linha_de_início_do_projeto-DadosdeLinhadoTempodoProjeto[[#This Row],[NUM]]+1,1)),\"\",INDEX(DetalhesDoProjeto[#Data],Última_entrada_do_projeto-Linha_de_início_do_projeto-DadosdeLinhadoTempodoProjeto[[#This Row],[NUM]]+1,1)),\"\")","v":""},{"$f":"IFERROR(IF(ISBLANK(INDEX(DetalhesDoProjeto[#Data],Última_entrada_do_projeto-Linha_de_início_do_projeto-DadosdeLinhadoTempodoProjeto[[#This Row],[NUM]]+1,2)),\"\",INDEX(DetalhesDoProjeto[#Data],Última_entrada_do_projeto-Linha_de_início_do_projeto-DadosdeLinhadoTempodoProjeto[[#This Row],[NUM]]+1,2)),\"\")","v":""},{"$f":"IFERROR(IF(ISBLANK(INDEX(DetalhesDoProjeto[#Data],Última_entrada_do_projeto-Linha_de_início_do_projeto-DadosdeLinhadoTempodoProjeto[[#This Row],[NUM]]+1,3)),\"\",INDEX(DetalhesDoProjeto[#Data],Última_entrada_do_projeto-Linha_de_início_do_projeto-DadosdeLinhadoTempodoProjeto[[#This Row],[NUM]]+1,3)),\"\")","v":""},{"$f":"IFERROR(IF(ISBLANK(INDEX(DetalhesDoProjeto[#Data],ROW(A275)+1,1)),\"\",IF($J279-1<=-1,\"\",$J279-1)),\"\")","v":""},null,null,{"$f":"IFERROR(DadosdeLinhadoTempodoProjeto[[#This Row],[NUM]]+1,\"\")","v":""},{"$f":"IFERROR(VLOOKUP(LinhadoTempoClassificada[[#This Row],[POSIÇÃO classificada]],DadosdeLinhadoTempodoProjeto[],3,0),\"\")","v":""},{"$f":"IFERROR(VLOOKUP(LinhadoTempoClassificada[[#This Row],[POSIÇÃO classificada]],DadosdeLinhadoTempodoProjeto[],4,0),\"\")","v":""},{"$f":"IFERROR(VLOOKUP(LinhadoTempoClassificada[[#This Row],[POSIÇÃO classificada]],DadosdeLinhadoTempodoProjeto[],5,0),\"\")","v":""}]
[{"$nulls":4},{"$f":"IFERROR(RANK(F281,DadosdeLinhadoTempodoProjeto[CLASSIFICAÇÃO])+SUMPRODUCT(--(F281=DadosdeLinhadoTempodoProjeto[CLASSIFICAÇÃO]),--(J281<DadosdeLinhadoTempodoProjeto[NUM])),\"\")","v":""},{"$f":"IFERROR(RANK(DadosdeLinhadoTempodoProjeto[[#This Row],[DATA]],DadosdeLinhadoTempodoProjeto[DATA],1),\"\")","v":""},{"$f":"IFERROR(IF(ISBLANK(INDEX(DetalhesDoProjeto[#Data],Última_entrada_do_projeto-Linha_de_início_do_projeto-DadosdeLinhadoTempodoProjeto[[#This Row],[NUM]]+1,1)),\"\",INDEX(DetalhesDoProjeto[#Data],Última_entrada_do_projeto-Linha_de_início_do_projeto-DadosdeLinhadoTempodoProjeto[[#This Row],[NUM]]+1,1)),\"\")","v":""},{"$f":"IFERROR(IF(ISBLANK(INDEX(DetalhesDoProjeto[#Data],Última_entrada_do_projeto-Linha_de_início_do_projeto-DadosdeLinhadoTempodoProjeto[[#This Row],[NUM]]+1,2)),\"\",INDEX(DetalhesDoProjeto[#Data],Última_entrada_do_projeto-Linha_de_início_do_projeto-DadosdeLinhadoTempodoProjeto[[#This Row],[NUM]]+1,2)),\"\")","v":""},{"$f":"IFERROR(IF(ISBLANK(INDEX(DetalhesDoProjeto[#Data],Última_entrada_do_projeto-Linha_de_início_do_projeto-DadosdeLinhadoTempodoProjeto[[#This Row],[NUM]]+1,3)),\"\",INDEX(DetalhesDoProjeto[#Data],Última_entrada_do_projeto-Linha_de_início_do_projeto-DadosdeLinhadoTempodoProjeto[[#This Row],[NUM]]+1,3)),\"\")","v":""},{"$f":"IFERROR(IF(ISBLANK(INDEX(DetalhesDoProjeto[#Data],ROW(A276)+1,1)),\"\",IF($J280-1<=-1,\"\",$J280-1)),\"\")","v":""},null,null,{"$f":"IFERROR(DadosdeLinhadoTempodoProjeto[[#This Row],[NUM]]+1,\"\")","v":""},{"$f":"IFERROR(VLOOKUP(LinhadoTempoClassificada[[#This Row],[POSIÇÃO classificada]],DadosdeLinhadoTempodoProjeto[],3,0),\"\")","v":""},{"$f":"IFERROR(VLOOKUP(LinhadoTempoClassificada[[#This Row],[POSIÇÃO classificada]],DadosdeLinhadoTempodoProjeto[],4,0),\"\")","v":""},{"$f":"IFERROR(VLOOKUP(LinhadoTempoClassificada[[#This Row],[POSIÇÃO classificada]],DadosdeLinhadoTempodoProjeto[],5,0),\"\")","v":""}]
[{"$nulls":4},{"$f":"IFERROR(RANK(F282,DadosdeLinhadoTempodoProjeto[CLASSIFICAÇÃO])+SUMPRODUCT(--(F282=DadosdeLinhadoTempodoProjeto[CLASSIFICAÇÃO]),--(J282<DadosdeLinhadoTempodoProjeto[NUM])),\"\")","v":""},{"$f":"IFERROR(RANK(DadosdeLinhadoTempodoProjeto[[#This Row],[DATA]],DadosdeLinhadoTempodoProjeto[DATA],1),\"\")","v":""},{"$f":"IFERROR(IF(ISBLANK(INDEX(DetalhesDoProjeto[#Data],Última_entrada_do_projeto-Linha_de_início_do_projeto-DadosdeLinhadoTempodoProjeto[[#This Row],[NUM]]+1,1)),\"\",INDEX(DetalhesDoProjeto[#Data],Última_entrada_do_projeto-Linha_de_início_do_projeto-DadosdeLinhadoTempodoProjeto[[#This Row],[NUM]]+1,1)),\"\")","v":""},{"$f":"IFERROR(IF(ISBLANK(INDEX(DetalhesDoProjeto[#Data],Última_entrada_do_projeto-Linha_de_início_do_projeto-DadosdeLinhadoTempodoProjeto[[#This Row],[NUM]]+1,2)),\"\",INDEX(DetalhesDoProjeto[#Data],Última_entrada_do_projeto-Linha_de_início_do_projeto-DadosdeLinhadoTempodoProjeto[[#This Row],[NUM]]+1,2)),\"\")","v":""},{"$f":"IFERROR(IF(ISBLANK(INDEX(DetalhesDoProjeto[#Data],Última_entrada_do_projeto-Linha_de_início_do_projeto-DadosdeLinhadoTempodoProjeto[[#This Row],[NUM]]+1,3)),\"\",INDEX(DetalhesDoProjeto[#Data],Última_entrada_do_projeto-Linha_de_início_do_projeto-DadosdeLinhadoTempodoProjeto[[#This Row],[NUM]]+1,3)),\"\")","v":""},{"$f":"IFERROR(IF(ISBLANK(INDEX(DetalhesDoProjeto[#Data],ROW(A277)+1,1)),\"\",IF($J281-1<=-1,\"\",$J281-1)),\"\")","v":""},null,null,{"$f":"IFERROR(DadosdeLinhadoTempodoProjeto[[#This Row],[NUM]]+1,\"\")","v":""},{"$f":"IFERROR(VLOOKUP(LinhadoTempoClassificada[[#This Row],[POSIÇÃO classificada]],DadosdeLinhadoTempodoProjeto[],3,0),\"\")","v":""},{"$f":"IFERROR(VLOOKUP(LinhadoTempoClassificada[[#This Row],[POSIÇÃO classificada]],DadosdeLinhadoTempodoProjeto[],4,0),\"\")","v":""},{"$f":"IFERROR(VLOOKUP(LinhadoTempoClassificada[[#This Row],[POSIÇÃO classificada]],DadosdeLinhadoTempodoProjeto[],5,0),\"\")","v":""}]
[{"$nulls":4},{"$f":"IFERROR(RANK(F283,DadosdeLinhadoTempodoProjeto[CLASSIFICAÇÃO])+SUMPRODUCT(--(F283=DadosdeLinhadoTempodoProjeto[CLASSIFICAÇÃO]),--(J283<DadosdeLinhadoTempodoProjeto[NUM])),\"\")","v":""},{"$f":"IFERROR(RANK(DadosdeLinhadoTempodoProjeto[[#This Row],[DATA]],DadosdeLinhadoTempodoProjeto[DATA],1),\"\")","v":""},{"$f":"IFERROR(IF(ISBLANK(INDEX(DetalhesDoProjeto[#Data],Última_entrada_do_projeto-Linha_de_início_do_projeto-DadosdeLinhadoTempodoProjeto[[#This Row],[NUM]]+1,1)),\"\",INDEX(DetalhesDoProjeto[#Data],Última_entrada_do_projeto-Linha_de_início_do_projeto-DadosdeLinhadoTempodoProjeto[[#This Row],[NUM]]+1,1)),\"\")","v":""},{"$f":"IFERROR(IF(ISBLANK(INDEX(DetalhesDoProjeto[#Data],Última_entrada_do_projeto-Linha_de_início_do_projeto-DadosdeLinhadoTempodoProjeto[[#This Row],[NUM]]+1,2)),\"\",INDEX(DetalhesDoProjeto[#Data],Última_entrada_do_projeto-Linha_de_início_do_projeto-DadosdeLinhadoTempodoProjeto[[#This Row],[NUM]]+1,2)),\"\")","v":""},{"$f":"IFERROR(IF(ISBLANK(INDEX(DetalhesDoProjeto[#Data],Última_entrada_do_projeto-Linha_de_início_do_projeto-DadosdeLinhadoTempodoProjeto[[#This Row],[NUM]]+1,3)),\"\",INDEX(DetalhesDoProjeto[#Data],Última_entrada_do_projeto-Linha_de_início_do_projeto-DadosdeLinhadoTempodoProjeto[[#This Row],[NUM]]+1,3)),\"\")","v":""},{"$f":"IFERROR(IF(ISBLANK(INDEX(DetalhesDoProjeto[#Data],ROW(A278)+1,1)),\"\",IF($J282-1<=-1,\"\",$J282-1)),\"\")","v":""},null,null,{"$f":"IFERROR(DadosdeLinhadoTempodoProjeto[[#This Row],[NUM]]+1,\"\")","v":""},{"$f":"IFERROR(VLOOKUP(LinhadoTempoClassificada[[#This Row],[POSIÇÃO classificada]],DadosdeLinhadoTempodoProjeto[],3,0),\"\")","v":""},{"$f":"IFERROR(VLOOKUP(LinhadoTempoClassificada[[#This Row],[POSIÇÃO classificada]],DadosdeLinhadoTempodoProjeto[],4,0),\"\")","v":""},{"$f":"IFERROR(VLOOKUP(LinhadoTempoClassificada[[#This Row],[POSIÇÃO classificada]],DadosdeLinhadoTempodoProjeto[],5,0),\"\")","v":""}]
[{"$nulls":4},{"$f":"IFERROR(RANK(F284,DadosdeLinhadoTempodoProjeto[CLASSIFICAÇÃO])+SUMPRODUCT(--(F284=DadosdeLinhadoTempodoProjeto[CLASSIFICAÇÃO]),--(J284<DadosdeLinhadoTempodoProjeto[NUM])),\"\")","v":""},{"$f":"IFERROR(RANK(DadosdeLinhadoTempodoProjeto[[#This Row],[DATA]],DadosdeLinhadoTempodoProjeto[DATA],1),\"\")","v":""},{"$f":"IFERROR(IF(ISBLANK(INDEX(DetalhesDoProjeto[#Data],Última_entrada_do_projeto-Linha_de_início_do_projeto-DadosdeLinhadoTempodoProjeto[[#This Row],[NUM]]+1,1)),\"\",INDEX(DetalhesDoProjeto[#Data],Última_entrada_do_projeto-Linha_de_início_do_projeto-DadosdeLinhadoTempodoProjeto[[#This Row],[NUM]]+1,1)),\"\")","v":""},{"$f":"IFERROR(IF(ISBLANK(INDEX(DetalhesDoProjeto[#Data],Última_entrada_do_projeto-Linha_de_início_do_projeto-DadosdeLinhadoTempodoProjeto[[#This Row],[NUM]]+1,2)),\"\",INDEX(DetalhesDoProjeto[#Data],Última_entrada_do_projeto-Linha_de_início_do_projeto-DadosdeLinhadoTempodoProjeto[[#This Row],[NUM]]+1,2)),\"\")","v":""},{"$f":"IFERROR(IF(ISBLANK(INDEX(DetalhesDoProjeto[#Data],Última_entrada_do_projeto-Linha_de_início_do_projeto-DadosdeLinhadoTempodoProjeto[[#This Row],[NUM]]+1,3)),\"\",INDEX(DetalhesDoProjeto[#Data],Última_entrada_do_projeto-Linha_de_início_do_projeto-DadosdeLinhadoTempodoProjeto[[#This Row],[NUM]]+1,3)),\"\")","v":""},{"$f":"IFERROR(IF(ISBLANK(INDEX(DetalhesDoProjeto[#Data],ROW(A279)+1,1)),\"\",IF($J283-1<=-1,\"\",$J283-1)),\"\")","v":""},null,null,{"$f":"IFERROR(DadosdeLinhadoTempodoProjeto[[#This Row],[NUM]]+1,\"\")","v":""},{"$f":"IFERROR(VLOOKUP(LinhadoTempoClassificada[[#This Row],[POSIÇÃO classificada]],DadosdeLinhadoTempodoProjeto[],3,0),\"\")","v":""},{"$f":"IFERROR(VLOOKUP(LinhadoTempoClassificada[[#This Row],[POSIÇÃO classificada]],DadosdeLinhadoTempodoProjeto[],4,0),\"\")","v":""},{"$f":"IFERROR(VLOOKUP(LinhadoTempoClassificada[[#This Row],[POSIÇÃO classificada]],DadosdeLinhadoTempodoProjeto[],5,0),\"\")","v":""}]
[{"$nulls":4},{"$f":"IFERROR(RANK(F285,DadosdeLinhadoTempodoProjeto[CLASSIFICAÇÃO])+SUMPRODUCT(--(F285=DadosdeLinhadoTempodoProjeto[CLASSIFICAÇÃO]),--(J285<DadosdeLinhadoTempodoProjeto[NUM])),\"\")","v":""},{"$f":"IFERROR(RANK(DadosdeLinhadoTempodoProjeto[[#This Row],[DATA]],DadosdeLinhadoTempodoProjeto[DATA],1),\"\")","v":""},{"$f":"IFERROR(IF(ISBLANK(INDEX(DetalhesDoProjeto[#Data],Última_entrada_do_projeto-Linha_de_início_do_projeto-DadosdeLinhadoTempodoProjeto[[#This Row],[NUM]]+1,1)),\"\",INDEX(DetalhesDoProjeto[#Data],Última_entrada_do_projeto-Linha_de_início_do_projeto-DadosdeLinhadoTempodoProjeto[[#This Row],[NUM]]+1,1)),\"\")","v":""},{"$f":"IFERROR(IF(ISBLANK(INDEX(DetalhesDoProjeto[#Data],Última_entrada_do_projeto-Linha_de_início_do_projeto-DadosdeLinhadoTempodoProjeto[[#This Row],[NUM]]+1,2)),\"\",INDEX(DetalhesDoProjeto[#Data],Última_entrada_do_projeto-Linha_de_início_do_projeto-DadosdeLinhadoTempodoProjeto[[#This Row],[NUM]]+1,2)),\"\")","v":""},{"$f":"IFERROR(IF(ISBLANK(INDEX(DetalhesDoProjeto[#Data],Última_entrada_do_projeto-Linha_de_início_do_projeto-DadosdeLinhadoTempodoProjeto[[#This Row],[NUM]]+1,3)),\"\",INDEX(DetalhesDoProjeto[#Data],Última_entrada_do_projeto-Linha_de_início_do_projeto-DadosdeLinhadoTempodoProjeto[[#This Row],[NUM]]+1,3)),\"\")","v":""},{"$f":"IFERROR(IF(ISBLANK(INDEX(DetalhesDoProjeto[#Data],ROW(A280)+1,1)),\"\",IF($J284-1<=-1,\"\",$J284-1)),\"\")","v":""},null,null,{"$f":"IFERROR(DadosdeLinhadoTempodoProjeto[[#This Row],[NUM]]+1,\"\")","v":""},{"$f":"IFERROR(VLOOKUP(LinhadoTempoClassificada[[#This Row],[POSIÇÃO classificada]],DadosdeLinhadoTempodoProjeto[],3,0),\"\")","v":""},{"$f":"IFERROR(VLOOKUP(LinhadoTempoClassificada[[#This Row],[POSIÇÃO classificada]],DadosdeLinhadoTempodoProjeto[],4,0),\"\")","v":""},{"$f":"IFERROR(VLOOKUP(LinhadoTempoClassificada[[#This Row],[POSIÇÃO classificada]],DadosdeLinhadoTempodoProjeto[],5,0),\"\")","v":""}]
[{"$nulls":4},{"$f":"IFERROR(RANK(F286,DadosdeLinhadoTempodoProjeto[CLASSIFICAÇÃO])+SUMPRODUCT(--(F286=DadosdeLinhadoTempodoProjeto[CLASSIFICAÇÃO]),--(J286<DadosdeLinhadoTempodoProjeto[NUM])),\"\")","v":""},{"$f":"IFERROR(RANK(DadosdeLinhadoTempodoProjeto[[#This Row],[DATA]],DadosdeLinhadoTempodoProjeto[DATA],1),\"\")","v":""},{"$f":"IFERROR(IF(ISBLANK(INDEX(DetalhesDoProjeto[#Data],Última_entrada_do_projeto-Linha_de_início_do_projeto-DadosdeLinhadoTempodoProjeto[[#This Row],[NUM]]+1,1)),\"\",INDEX(DetalhesDoProjeto[#Data],Última_entrada_do_projeto-Linha_de_início_do_projeto-DadosdeLinhadoTempodoProjeto[[#This Row],[NUM]]+1,1)),\"\")","v":""},{"$f":"IFERROR(IF(ISBLANK(INDEX(DetalhesDoProjeto[#Data],Última_entrada_do_projeto-Linha_de_início_do_projeto-DadosdeLinhadoTempodoProjeto[[#This Row],[NUM]]+1,2)),\"\",INDEX(DetalhesDoProjeto[#Data],Última_entrada_do_projeto-Linha_de_início_do_projeto-DadosdeLinhadoTempodoProjeto[[#This Row],[NUM]]+1,2)),\"\")","v":""},{"$f":"IFERROR(IF(ISBLANK(INDEX(DetalhesDoProjeto[#Data],Última_entrada_do_projeto-Linha_de_início_do_projeto-DadosdeLinhadoTempodoProjeto[[#This Row],[NUM]]+1,3)),\"\",INDEX(DetalhesDoProjeto[#Data],Última_entrada_do_projeto-Linha_de_início_do_projeto-DadosdeLinhadoTempodoProjeto[[#This Row],[NUM]]+1,3)),\"\")","v":""},{"$f":"IFERROR(IF(ISBLANK(INDEX(DetalhesDoProjeto[#Data],ROW(A281)+1,1)),\"\",IF($J285-1<=-1,\"\",$J285-1)),\"\")","v":""},null,null,{"$f":"IFERROR(DadosdeLinhadoTempodoProjeto[[#This Row],[NUM]]+1,\"\")","v":""},{"$f":"IFERROR(VLOOKUP(LinhadoTempoClassificada[[#This Row],[POSIÇÃO classificada]],DadosdeLinhadoTempodoProjeto[],3,0),\"\")","v":""},{"$f":"IFERROR(VLOOKUP(LinhadoTempoClassificada[[#This Row],[POSIÇÃO classificada]],DadosdeLinhadoTempodoProjeto[],4,0),\"\")","v":""},{"$f":"IFERROR(VLOOKUP(LinhadoTempoClassificada[[#This Row],[POSIÇÃO classificada]],DadosdeLinhadoTempodoProjeto[],5,0),\"\")","v":""}]
[{"$nulls":4},{"$f":"IFERROR(RANK(F287,DadosdeLinhadoTempodoProjeto[CLASSIFICAÇÃO])+SUMPRODUCT(--(F287=DadosdeLinhadoTempodoProjeto[CLASSIFICAÇÃO]),--(J287<DadosdeLinhadoTempodoProjeto[NUM])),\"\")","v":""},{"$f":"IFERROR(RANK(DadosdeLinhadoTempodoProjeto[[#This Row],[DATA]],DadosdeLinhadoTempodoProjeto[DATA],1),\"\")","v":""},{"$f":"IFERROR(IF(ISBLANK(INDEX(DetalhesDoProjeto[#Data],Última_entrada_do_projeto-Linha_de_início_do_projeto-DadosdeLinhadoTempodoProjeto[[#This Row],[NUM]]+1,1)),\"\",INDEX(DetalhesDoProjeto[#Data],Última_entrada_do_projeto-Linha_de_início_do_projeto-DadosdeLinhadoTempodoProjeto[[#This Row],[NUM]]+1,1)),\"\")","v":""},{"$f":"IFERROR(IF(ISBLANK(INDEX(DetalhesDoProjeto[#Data],Última_entrada_do_projeto-Linha_de_início_do_projeto-DadosdeLinhadoTempodoProjeto[[#This Row],[NUM]]+1,2)),\"\",INDEX(DetalhesDoProjeto[#Data],Última_entrada_do_projeto-Linha_de_início_do_projeto-DadosdeLinhadoTempodoProjeto[[#This Row],[NUM]]+1,2)),\"\")","v":""},{"$f":"IFERROR(IF(ISBLANK(INDEX(DetalhesDoProjeto[#Data],Última_entrada_do_projeto-Linha_de_início_do_projeto-DadosdeLinhadoTempodoProjeto[[#This Row],[NUM]]+1,3)),\"\",INDEX(DetalhesDoProjeto[#Data],Última_entrada_do_projeto-Linha_de_início_do_projeto-DadosdeLinhadoTempodoProjeto[[#This Row],[NUM]]+1,3)),\"\")","v":""},{"$f":"IFERROR(IF(ISBLANK(INDEX(DetalhesDoProjeto[#Data],ROW(A282)+1,1)),\"\",IF($J286-1<=-1,\"\",$J286-1)),\"\")","v":""},null,null,{"$f":"IFERROR(DadosdeLinhadoTempodoProjeto[[#This Row],[NUM]]+1,\"\")","v":""},{"$f":"IFERROR(VLOOKUP(LinhadoTempoClassificada[[#This Row],[POSIÇÃO classificada]],DadosdeLinhadoTempodoProjeto[],3,0),\"\")","v":""},{"$f":"IFERROR(VLOOKUP(LinhadoTempoClassificada[[#This Row],[POSIÇÃO classificada]],DadosdeLinhadoTempodoProjeto[],4,0),\"\")","v":""},{"$f":"IFERROR(VLOOKUP(LinhadoTempoClassificada[[#This Row],[POSIÇÃO classificada]],DadosdeLinhadoTempodoProjeto[],5,0),\"\")","v":""}]
[{"$nulls":4},{"$f":"IFERROR(RANK(F288,DadosdeLinhadoTempodoProjeto[CLASSIFICAÇÃO])+SUMPRODUCT(--(F288=DadosdeLinhadoTempodoProjeto[CLASSIFICAÇÃO]),--(J288<DadosdeLinhadoTempodoProjeto[NUM])),\"\")","v":""},{"$f":"IFERROR(RANK(DadosdeLinhadoTempodoProjeto[[#This Row],[DATA]],DadosdeLinhadoTempodoProjeto[DATA],1),\"\")","v":""},{"$f":"IFERROR(IF(ISBLANK(INDEX(DetalhesDoProjeto[#Data],Última_entrada_do_projeto-Linha_de_início_do_projeto-DadosdeLinhadoTempodoProjeto[[#This Row],[NUM]]+1,1)),\"\",INDEX(DetalhesDoProjeto[#Data],Última_entrada_do_projeto-Linha_de_início_do_projeto-DadosdeLinhadoTempodoProjeto[[#This Row],[NUM]]+1,1)),\"\")","v":""},{"$f":"IFERROR(IF(ISBLANK(INDEX(DetalhesDoProjeto[#Data],Última_entrada_do_projeto-Linha_de_início_do_projeto-DadosdeLinhadoTempodoProjeto[[#This Row],[NUM]]+1,2)),\"\",INDEX(DetalhesDoProjeto[#Data],Última_entrada_do_projeto-Linha_de_início_do_projeto-DadosdeLinhadoTempodoProjeto[[#This Row],[NUM]]+1,2)),\"\")","v":""},{"$f":"IFERROR(IF(ISBLANK(INDEX(DetalhesDoProjeto[#Data],Última_entrada_do_projeto-Linha_de_início_do_projeto-DadosdeLinhadoTempodoProjeto[[#This Row],[NUM]]+1,3)),\"\",INDEX(DetalhesDoProjeto[#Data],Última_entrada_do_projeto-Linha_de_início_do_projeto-DadosdeLinhadoTempodoProjeto[[#This Row],[NUM]]+1,3)),\"\")","v":""},{"$f":"IFERROR(IF(ISBLANK(INDEX(DetalhesDoProjeto[#Data],ROW(A283)+1,1)),\"\",IF($J287-1<=-1,\"\",$J287-1)),\"\")","v":""},null,null,{"$f":"IFERROR(DadosdeLinhadoTempodoProjeto[[#This Row],[NUM]]+1,\"\")","v":""},{"$f":"IFERROR(VLOOKUP(LinhadoTempoClassificada[[#This Row],[POSIÇÃO classificada]],DadosdeLinhadoTempodoProjeto[],3,0),\"\")","v":""},{"$f":"IFERROR(VLOOKUP(LinhadoTempoClassificada[[#This Row],[POSIÇÃO classificada]],DadosdeLinhadoTempodoProjeto[],4,0),\"\")","v":""},{"$f":"IFERROR(VLOOKUP(LinhadoTempoClassificada[[#This Row],[POSIÇÃO classificada]],DadosdeLinhadoTempodoProjeto[],5,0),\"\")","v":""}]
[{"$nulls":4},{"$f":"IFERROR(RANK(F289,DadosdeLinhadoTempodoProjeto[CLASSIFICAÇÃO])+SUMPRODUCT(--(F289=DadosdeLinhadoTempodoProjeto[CLASSIFICAÇÃO]),--(J289<DadosdeLinhadoTempodoProjeto[NUM])),\"\")","v":""},{"$f":"IFERROR(RANK(DadosdeLinhadoTempodoProjeto[[#This Row],[DATA]],DadosdeLinhadoTempodoProjeto[DATA],1),\"\")","v":""},{"$f":"IFERROR(IF(ISBLANK(INDEX(DetalhesDoProjeto[#Data],Última_entrada_do_projeto-Linha_de_início_do_projeto-DadosdeLinhadoTempodoProjeto[[#This Row],[NUM]]+1,1)),\"\",INDEX(DetalhesDoProjeto[#Data],Última_entrada_do_projeto-Linha_de_início_do_projeto-DadosdeLinhadoTempodoProjeto[[#This Row],[NUM]]+1,1)),\"\")","v":""},{"$f":"IFERROR(IF(ISBLANK(INDEX(DetalhesDoProjeto[#Data],Última_entrada_do_projeto-Linha_de_início_do_projeto-DadosdeLinhadoTempodoProjeto[[#This Row],[NUM]]+1,2)),\"\",INDEX(DetalhesDoProjeto[#Data],Última_entrada_do_projeto-Linha_de_início_do_projeto-DadosdeLinhadoTempodoProjeto[[#This Row],[NUM]]+1,2)),\"\")","v":""},{"$f":"IFERROR(IF(ISBLANK(INDEX(DetalhesDoProjeto[#Data],Última_entrada_do_projeto-Linha_de_início_do_projeto-DadosdeLinhadoTempodoProjeto[[#This Row],[NUM]]+1,3)),\"\",INDEX(DetalhesDoProjeto[#Data],Última_entrada_do_projeto-Linha_de_início_do_projeto-DadosdeLinhadoTempodoProjeto[[#This Row],[NUM]]+1,3)),\"\")","v":""},{"$f":"IFERROR(IF(ISBLANK(INDEX(DetalhesDoProjeto[#Data],ROW(A284)+1,1)),\"\",IF($J288-1<=-1,\"\",$J288-1)),\"\")","v":""},null,null,{"$f":"IFERROR(DadosdeLinhadoTempodoProjeto[[#This Row],[NUM]]+1,\"\")","v":""},{"$f":"IFERROR(VLOOKUP(LinhadoTempoClassificada[[#This Row],[POSIÇÃO classificada]],DadosdeLinhadoTempodoProjeto[],3,0),\"\")","v":""},{"$f":"IFERROR(VLOOKUP(LinhadoTempoClassificada[[#This Row],[POSIÇÃO classificada]],DadosdeLinhadoTempodoProjeto[],4,0),\"\")","v":""},{"$f":"IFERROR(VLOOKUP(LinhadoTempoClassificada[[#This Row],[POSIÇÃO classificada]],DadosdeLinhadoTempodoProjeto[],5,0),\"\")","v":""}]
[{"$nulls":4},{"$f":"IFERROR(RANK(F290,DadosdeLinhadoTempodoProjeto[CLASSIFICAÇÃO])+SUMPRODUCT(--(F290=DadosdeLinhadoTempodoProjeto[CLASSIFICAÇÃO]),--(J290<DadosdeLinhadoTempodoProjeto[NUM])),\"\")","v":""},{"$f":"IFERROR(RANK(DadosdeLinhadoTempodoProjeto[[#This Row],[DATA]],DadosdeLinhadoTempodoProjeto[DATA],1),\"\")","v":""},{"$f":"IFERROR(IF(ISBLANK(INDEX(DetalhesDoProjeto[#Data],Última_entrada_do_projeto-Linha_de_início_do_projeto-DadosdeLinhadoTempodoProjeto[[#This Row],[NUM]]+1,1)),\"\",INDEX(DetalhesDoProjeto[#Data],Última_entrada_do_projeto-Linha_de_início_do_projeto-DadosdeLinhadoTempodoProjeto[[#This Row],[NUM]]+1,1)),\"\")","v":""},{"$f":"IFERROR(IF(ISBLANK(INDEX(DetalhesDoProjeto[#Data],Última_entrada_do_projeto-Linha_de_início_do_projeto-DadosdeLinhadoTempodoProjeto[[#This Row],[NUM]]+1,2)),\"\",INDEX(DetalhesDoProjeto[#Data],Última_entrada_do_projeto-Linha_de_início_do_projeto-DadosdeLinhadoTempodoProjeto[[#This Row],[NUM]]+1,2)),\"\")","v":""},{"$f":"IFERROR(IF(ISBLANK(INDEX(DetalhesDoProjeto[#Data],Última_entrada_do_projeto-Linha_de_início_do_projeto-DadosdeLinhadoTempodoProjeto[[#This Row],[NUM]]+1,3)),\"\",INDEX(DetalhesDoProjeto[#Data],Última_entrada_do_projeto-Linha_de_início_do_projeto-DadosdeLinhadoTempodoProjeto[[#This Row],[NUM]]+1,3)),\"\")","v":""},{"$f":"IFERROR(IF(ISBLANK(INDEX(DetalhesDoProjeto[#Data],ROW(A285)+1,1)),\"\",IF($J289-1<=-1,\"\",$J289-1)),\"\")","v":""},null,null,{"$f":"IFERROR(DadosdeLinhadoTempodoProjeto[[#This Row],[NUM]]+1,\"\")","v":""},{"$f":"IFERROR(VLOOKUP(LinhadoTempoClassificada[[#This Row],[POSIÇÃO classificada]],DadosdeLinhadoTempodoProjeto[],3,0),\"\")","v":""},{"$f":"IFERROR(VLOOKUP(LinhadoTempoClassificada[[#This Row],[POSIÇÃO classificada]],DadosdeLinhadoTempodoProjeto[],4,0),\"\")","v":""},{"$f":"IFERROR(VLOOKUP(LinhadoTempoClassificada[[#This Row],[POSIÇÃO classificada]],DadosdeLinhadoTempodoProjeto[],5,0),\"\")","v":""}]
[{"$nulls":4},{"$f":"IFERROR(RANK(F291,DadosdeLinhadoTempodoProjeto[CLASSIFICAÇÃO])+SUMPRODUCT(--(F291=DadosdeLinhadoTempodoProjeto[CLASSIFICAÇÃO]),--(J291<DadosdeLinhadoTempodoProjeto[NUM])),\"\")","v":""},{"$f":"IFERROR(RANK(DadosdeLinhadoTempodoProjeto[[#This Row],[DATA]],DadosdeLinhadoTempodoProjeto[DATA],1),\"\")","v":""},{"$f":"IFERROR(IF(ISBLANK(INDEX(DetalhesDoProjeto[#Data],Última_entrada_do_projeto-Linha_de_início_do_projeto-DadosdeLinhadoTempodoProjeto[[#This Row],[NUM]]+1,1)),\"\",INDEX(DetalhesDoProjeto[#Data],Última_entrada_do_projeto-Linha_de_início_do_projeto-DadosdeLinhadoTempodoProjeto[[#This Row],[NUM]]+1,1)),\"\")","v":""},{"$f":"IFERROR(IF(ISBLANK(INDEX(DetalhesDoProjeto[#Data],Última_entrada_do_projeto-Linha_de_início_do_projeto-DadosdeLinhadoTempodoProjeto[[#This Row],[NUM]]+1,2)),\"\",INDEX(DetalhesDoProjeto[#Data],Última_entrada_do_projeto-Linha_de_início_do_projeto-DadosdeLinhadoTempodoProjeto[[#This Row],[NUM]]+1,2)),\"\")","v":""},{"$f":"IFERROR(IF(ISBLANK(INDEX(DetalhesDoProjeto[#Data],Última_entrada_do_projeto-Linha_de_início_do_projeto-DadosdeLinhadoTempodoProjeto[[#This Row],[NUM]]+1,3)),\"\",INDEX(DetalhesDoProjeto[#Data],Última_entrada_do_projeto-Linha_de_início_do_projeto-DadosdeLinhadoTempodoProjeto[[#This Row],[NUM]]+1,3)),\"\")","v":""},{"$f":"IFERROR(IF(ISBLANK(INDEX(DetalhesDoProjeto[#Data],ROW(A286)+1,1)),\"\",IF($J290-1<=-1,\"\",$J290-1)),\"\")","v":""},null,null,{"$f":"IFERROR(DadosdeLinhadoTempodoProjeto[[#This Row],[NUM]]+1,\"\")","v":""},{"$f":"IFERROR(VLOOKUP(LinhadoTempoClassificada[[#This Row],[POSIÇÃO classificada]],DadosdeLinhadoTempodoProjeto[],3,0),\"\")","v":""},{"$f":"IFERROR(VLOOKUP(LinhadoTempoClassificada[[#This Row],[POSIÇÃO classificada]],DadosdeLinhadoTempodoProjeto[],4,0),\"\")","v":""},{"$f":"IFERROR(VLOOKUP(LinhadoTempoClassificada[[#This Row],[POSIÇÃO classificada]],DadosdeLinhadoTempodoProjeto[],5,0),\"\")","v":""}]
[{"$nulls":4},{"$f":"IFERROR(RANK(F292,DadosdeLinhadoTempodoProjeto[CLASSIFICAÇÃO])+SUMPRODUCT(--(F292=DadosdeLinhadoTempodoProjeto[CLASSIFICAÇÃO]),--(J292<DadosdeLinhadoTempodoProjeto[NUM])),\"\")","v":""},{"$f":"IFERROR(RANK(DadosdeLinhadoTempodoProjeto[[#This Row],[DATA]],DadosdeLinhadoTempodoProjeto[DATA],1),\"\")","v":""},{"$f":"IFERROR(IF(ISBLANK(INDEX(DetalhesDoProjeto[#Data],Última_entrada_do_projeto-Linha_de_início_do_projeto-DadosdeLinhadoTempodoProjeto[[#This Row],[NUM]]+1,1)),\"\",INDEX(DetalhesDoProjeto[#Data],Última_entrada_do_projeto-Linha_de_início_do_projeto-DadosdeLinhadoTempodoProjeto[[#This Row],[NUM]]+1,1)),\"\")","v":""},{"$f":"IFERROR(IF(ISBLANK(INDEX(DetalhesDoProjeto[#Data],Última_entrada_do_projeto-Linha_de_início_do_projeto-DadosdeLinhadoTempodoProjeto[[#This Row],[NUM]]+1,2)),\"\",INDEX(DetalhesDoProjeto[#Data],Última_entrada_do_projeto-Linha_de_início_do_projeto-DadosdeLinhadoTempodoProjeto[[#This Row],[NUM]]+1,2)),\"\")","v":""},{"$f":"IFERROR(IF(ISBLANK(INDEX(DetalhesDoProjeto[#Data],Última_entrada_do_projeto-Linha_de_início_do_projeto-DadosdeLinhadoTempodoProjeto[[#This Row],[NUM]]+1,3)),\"\",INDEX(DetalhesDoProjeto[#Data],Última_entrada_do_projeto-Linha_de_início_do_projeto-DadosdeLinhadoTempodoProjeto[[#This Row],[NUM]]+1,3)),\"\")","v":""},{"$f":"IFERROR(IF(ISBLANK(INDEX(DetalhesDoProjeto[#Data],ROW(A287)+1,1)),\"\",IF($J291-1<=-1,\"\",$J291-1)),\"\")","v":""},null,null,{"$f":"IFERROR(DadosdeLinhadoTempodoProjeto[[#This Row],[NUM]]+1,\"\")","v":""},{"$f":"IFERROR(VLOOKUP(LinhadoTempoClassificada[[#This Row],[POSIÇÃO classificada]],DadosdeLinhadoTempodoProjeto[],3,0),\"\")","v":""},{"$f":"IFERROR(VLOOKUP(LinhadoTempoClassificada[[#This Row],[POSIÇÃO classificada]],DadosdeLinhadoTempodoProjeto[],4,0),\"\")","v":""},{"$f":"IFERROR(VLOOKUP(LinhadoTempoClassificada[[#This Row],[POSIÇÃO classificada]],DadosdeLinhadoTempodoProjeto[],5,0),\"\")","v":""}]
[{"$nulls":4},{"$f":"IFERROR(RANK(F293,DadosdeLinhadoTempodoProjeto[CLASSIFICAÇÃO])+SUMPRODUCT(--(F293=DadosdeLinhadoTempodoProjeto[CLASSIFICAÇÃO]),--(J293<DadosdeLinhadoTempodoProjeto[NUM])),\"\")","v":""},{"$f":"IFERROR(RANK(DadosdeLinhadoTempodoProjeto[[#This Row],[DATA]],DadosdeLinhadoTempodoProjeto[DATA],1),\"\")","v":""},{"$f":"IFERROR(IF(ISBLANK(INDEX(DetalhesDoProjeto[#Data],Última_entrada_do_projeto-Linha_de_início_do_projeto-DadosdeLinhadoTempodoProjeto[[#This Row],[NUM]]+1,1)),\"\",INDEX(DetalhesDoProjeto[#Data],Última_entrada_do_projeto-Linha_de_início_do_projeto-DadosdeLinhadoTempodoProjeto[[#This Row],[NUM]]+1,1)),\"\")","v":""},{"$f":"IFERROR(IF(ISBLANK(INDEX(DetalhesDoProjeto[#Data],Última_entrada_do_projeto-Linha_de_início_do_projeto-DadosdeLinhadoTempodoProjeto[[#This Row],[NUM]]+1,2)),\"\",INDEX(DetalhesDoProjeto[#Data],Última_entrada_do_projeto-Linha_de_início_do_projeto-DadosdeLinhadoTempodoProjeto[[#This Row],[NUM]]+1,2)),\"\")","v":""},{"$f":"IFERROR(IF(ISBLANK(INDEX(DetalhesDoProjeto[#Data],Última_entrada_do_projeto-Linha_de_início_do_projeto-DadosdeLinhadoTempodoProjeto[[#This Row],[NUM]]+1,3)),\"\",INDEX(DetalhesDoProjeto[#Data],Última_entrada_do_projeto-Linha_de_início_do_projeto-DadosdeLinhadoTempodoProjeto[[#This Row],[NUM]]+1,3)),\"\")","v":""},{"$f":"IFERROR(IF(ISBLANK(INDEX(DetalhesDoProjeto[#Data],ROW(A288)+1,1)),\"\",IF($J292-1<=-1,\"\",$J292-1)),\"\")","v":""},null,null,{"$f":"IFERROR(DadosdeLinhadoTempodoProjeto[[#This Row],[NUM]]+1,\"\")","v":""},{"$f":"IFERROR(VLOOKUP(LinhadoTempoClassificada[[#This Row],[POSIÇÃO classificada]],DadosdeLinhadoTempodoProjeto[],3,0),\"\")","v":""},{"$f":"IFERROR(VLOOKUP(LinhadoTempoClassificada[[#This Row],[POSIÇÃO classificada]],DadosdeLinhadoTempodoProjeto[],4,0),\"\")","v":""},{"$f":"IFERROR(VLOOKUP(LinhadoTempoClassificada[[#This Row],[POSIÇÃO classificada]],DadosdeLinhadoTempodoProjeto[],5,0),\"\")","v":""}]
[{"$nulls":4},{"$f":"IFERROR(RANK(F294,DadosdeLinhadoTempodoProjeto[CLASSIFICAÇÃO])+SUMPRODUCT(--(F294=DadosdeLinhadoTempodoProjeto[CLASSIFICAÇÃO]),--(J294<DadosdeLinhadoTempodoProjeto[NUM])),\"\")","v":""},{"$f":"IFERROR(RANK(DadosdeLinhadoTempodoProjeto[[#This Row],[DATA]],DadosdeLinhadoTempodoProjeto[DATA],1),\"\")","v":""},{"$f":"IFERROR(IF(ISBLANK(INDEX(DetalhesDoProjeto[#Data],Última_entrada_do_projeto-Linha_de_início_do_projeto-DadosdeLinhadoTempodoProjeto[[#This Row],[NUM]]+1,1)),\"\",INDEX(DetalhesDoProjeto[#Data],Última_entrada_do_projeto-Linha_de_início_do_projeto-DadosdeLinhadoTempodoProjeto[[#This Row],[NUM]]+1,1)),\"\")","v":""},{"$f":"IFERROR(IF(ISBLANK(INDEX(DetalhesDoProjeto[#Data],Última_entrada_do_projeto-Linha_de_início_do_projeto-DadosdeLinhadoTempodoProjeto[[#This Row],[NUM]]+1,2)),\"\",INDEX(DetalhesDoProjeto[#Data],Última_entrada_do_projeto-Linha_de_início_do_projeto-DadosdeLinhadoTempodoProjeto[[#This Row],[NUM]]+1,2)),\"\")","v":""},{"$f":"IFERROR(IF(ISBLANK(INDEX(DetalhesDoProjeto[#Data],Última_entrada_do_projeto-Linha_de_início_do_projeto-DadosdeLinhadoTempodoProjeto[[#This Row],[NUM]]+1,3)),\"\",INDEX(DetalhesDoProjeto[#Data],Última_entrada_do_projeto-Linha_de_início_do_projeto-DadosdeLinhadoTempodoProjeto[[#This Row],[NUM]]+1,3)),\"\")","v":""},{"$f":"IFERROR(IF(ISBLANK(INDEX(DetalhesDoProjeto[#Data],ROW(A289)+1,1)),\"\",IF($J293-1<=-1,\"\",$J293-1)),\"\")","v":""},null,null,{"$f":"IFERROR(DadosdeLinhadoTempodoProjeto[[#This Row],[NUM]]+1,\"\")","v":""},{"$f":"IFERROR(VLOOKUP(LinhadoTempoClassificada[[#This Row],[POSIÇÃO classificada]],DadosdeLinhadoTempodoProjeto[],3,0),\"\")","v":""},{"$f":"IFERROR(VLOOKUP(LinhadoTempoClassificada[[#This Row],[POSIÇÃO classificada]],DadosdeLinhadoTempodoProjeto[],4,0),\"\")","v":""},{"$f":"IFERROR(VLOOKUP(LinhadoTempoClassificada[[#This Row],[POSIÇÃO classificada]],DadosdeLinhadoTempodoProjeto[],5,0),\"\")","v":""}]
[{"$nulls":4},{"$f":"IFERROR(RANK(F295,DadosdeLinhadoTempodoProjeto[CLASSIFICAÇÃO])+SUMPRODUCT(--(F295=DadosdeLinhadoTempodoProjeto[CLASSIFICAÇÃO]),--(J295<DadosdeLinhadoTempodoProjeto[NUM])),\"\")","v":""},{"$f":"IFERROR(RANK(DadosdeLinhadoTempodoProjeto[[#This Row],[DATA]],DadosdeLinhadoTempodoProjeto[DATA],1),\"\")","v":""},{"$f":"IFERROR(IF(ISBLANK(INDEX(DetalhesDoProjeto[#Data],Última_entrada_do_projeto-Linha_de_início_do_projeto-DadosdeLinhadoTempodoProjeto[[#This Row],[NUM]]+1,1)),\"\",INDEX(DetalhesDoProjeto[#Data],Última_entrada_do_projeto-Linha_de_início_do_projeto-DadosdeLinhadoTempodoProjeto[[#This Row],[NUM]]+1,1)),\"\")","v":""},{"$f":"IFERROR(IF(ISBLANK(INDEX(DetalhesDoProjeto[#Data],Última_entrada_do_projeto-Linha_de_início_do_projeto-DadosdeLinhadoTempodoProjeto[[#This Row],[NUM]]+1,2)),\"\",INDEX(DetalhesDoProjeto[#Data],Última_entrada_do_projeto-Linha_de_início_do_projeto-DadosdeLinhadoTempodoProjeto[[#This Row],[NUM]]+1,2)),\"\")","v":""},{"$f":"IFERROR(IF(ISBLANK(INDEX(DetalhesDoProjeto[#Data],Última_entrada_do_projeto-Linha_de_início_do_projeto-DadosdeLinhadoTempodoProjeto[[#This Row],[NUM]]+1,3)),\"\",INDEX(DetalhesDoProjeto[#Data],Última_entrada_do_projeto-Linha_de_início_do_projeto-DadosdeLinhadoTempodoProjeto[[#This Row],[NUM]]+1,3)),\"\")","v":""},{"$f":"IFERROR(IF(ISBLANK(INDEX(DetalhesDoProjeto[#Data],ROW(A290)+1,1)),\"\",IF($J294-1<=-1,\"\",$J294-1)),\"\")","v":""},null,null,{"$f":"IFERROR(DadosdeLinhadoTempodoProjeto[[#This Row],[NUM]]+1,\"\")","v":""},{"$f":"IFERROR(VLOOKUP(LinhadoTempoClassificada[[#This Row],[POSIÇÃO classificada]],DadosdeLinhadoTempodoProjeto[],3,0),\"\")","v":""},{"$f":"IFERROR(VLOOKUP(LinhadoTempoClassificada[[#This Row],[POSIÇÃO classificada]],DadosdeLinhadoTempodoProjeto[],4,0),\"\")","v":""},{"$f":"IFERROR(VLOOKUP(LinhadoTempoClassificada[[#This Row],[POSIÇÃO classificada]],DadosdeLinhadoTempodoProjeto[],5,0),\"\")","v":""}]
[{"$nulls":4},{"$f":"IFERROR(RANK(F296,DadosdeLinhadoTempodoProjeto[CLASSIFICAÇÃO])+SUMPRODUCT(--(F296=DadosdeLinhadoTempodoProjeto[CLASSIFICAÇÃO]),--(J296<DadosdeLinhadoTempodoProjeto[NUM])),\"\")","v":""},{"$f":"IFERROR(RANK(DadosdeLinhadoTempodoProjeto[[#This Row],[DATA]],DadosdeLinhadoTempodoProjeto[DATA],1),\"\")","v":""},{"$f":"IFERROR(IF(ISBLANK(INDEX(DetalhesDoProjeto[#Data],Última_entrada_do_projeto-Linha_de_início_do_projeto-DadosdeLinhadoTempodoProjeto[[#This Row],[NUM]]+1,1)),\"\",INDEX(DetalhesDoProjeto[#Data],Última_entrada_do_projeto-Linha_de_início_do_projeto-DadosdeLinhadoTempodoProjeto[[#This Row],[NUM]]+1,1)),\"\")","v":""},{"$f":"IFERROR(IF(ISBLANK(INDEX(DetalhesDoProjeto[#Data],Última_entrada_do_projeto-Linha_de_início_do_projeto-DadosdeLinhadoTempodoProjeto[[#This Row],[NUM]]+1,2)),\"\",INDEX(DetalhesDoProjeto[#Data],Última_entrada_do_projeto-Linha_de_início_do_projeto-DadosdeLinhadoTempodoProjeto[[#This Row],[NUM]]+1,2)),\"\")","v":""},{"$f":"IFERROR(IF(ISBLANK(INDEX(DetalhesDoProjeto[#Data],Última_entrada_do_projeto-Linha_de_início_do_projeto-DadosdeLinhadoTempodoProjeto[[#This Row],[NUM]]+1,3)),\"\",INDEX(DetalhesDoProjeto[#Data],Última_entrada_do_projeto-Linha_de_início_do_projeto-DadosdeLinhadoTempodoProjeto[[#This Row],[NUM]]+1,3)),\"\")","v":""},{"$f":"IFERROR(IF(ISBLANK(INDEX(DetalhesDoProjeto[#Data],ROW(A291)+1,1)),\"\",IF($J295-1<=-1,\"\",$J295-1)),\"\")","v":""},null,null,{"$f":"IFERROR(DadosdeLinhadoTempodoProjeto[[#This Row],[NUM]]+1,\"\")","v":""},{"$f":"IFERROR(VLOOKUP(LinhadoTempoClassificada[[#This Row],[POSIÇÃO classificada]],DadosdeLinhadoTempodoProjeto[],3,0),\"\")","v":""},{"$f":"IFERROR(VLOOKUP(LinhadoTempoClassificada[[#This Row],[POSIÇÃO classificada]],DadosdeLinhadoTempodoProjeto[],4,0),\"\")","v":""},{"$f":"IFERROR(VLOOKUP(LinhadoTempoClassificada[[#This Row],[POSIÇÃO classificada]],DadosdeLinhadoTempodoProjeto[],5,0),\"\")","v":""}]
[{"$nulls":4},{"$f":"IFERROR(RANK(F297,DadosdeLinhadoTempodoProjeto[CLASSIFICAÇÃO])+SUMPRODUCT(--(F297=DadosdeLinhadoTempodoProjeto[CLASSIFICAÇÃO]),--(J297<DadosdeLinhadoTempodoProjeto[NUM])),\"\")","v":""},{"$f":"IFERROR(RANK(DadosdeLinhadoTempodoProjeto[[#This Row],[DATA]],DadosdeLinhadoTempodoProjeto[DATA],1),\"\")","v":""},{"$f":"IFERROR(IF(ISBLANK(INDEX(DetalhesDoProjeto[#Data],Última_entrada_do_projeto-Linha_de_início_do_projeto-DadosdeLinhadoTempodoProjeto[[#This Row],[NUM]]+1,1)),\"\",INDEX(DetalhesDoProjeto[#Data],Última_entrada_do_projeto-Linha_de_início_do_projeto-DadosdeLinhadoTempodoProjeto[[#This Row],[NUM]]+1,1)),\"\")","v":""},{"$f":"IFERROR(IF(ISBLANK(INDEX(DetalhesDoProjeto[#Data],Última_entrada_do_projeto-Linha_de_início_do_projeto-DadosdeLinhadoTempodoProjeto[[#This Row],[NUM]]+1,2)),\"\",INDEX(DetalhesDoProjeto[#Data],Última_entrada_do_projeto-Linha_de_início_do_projeto-DadosdeLinhadoTempodoProjeto[[#This Row],[NUM]]+1,2)),\"\")","v":""},{"$f":"IFERROR(IF(ISBLANK(INDEX(DetalhesDoProjeto[#Data],Última_entrada_do_projeto-Linha_de_início_do_projeto-DadosdeLinhadoTempodoProjeto[[#This Row],[NUM]]+1,3)),\"\",INDEX(DetalhesDoProjeto[#Data],Última_entrada_do_projeto-Linha_de_início_do_projeto-DadosdeLinhadoTempodoProjeto[[#This Row],[NUM]]+1,3)),\"\")","v":""},{"$f":"IFERROR(IF(ISBLANK(INDEX(DetalhesDoProjeto[#Data],ROW(A292)+1,1)),\"\",IF($J296-1<=-1,\"\",$J296-1)),\"\")","v":""},null,null,{"$f":"IFERROR(DadosdeLinhadoTempodoProjeto[[#This Row],[NUM]]+1,\"\")","v":""},{"$f":"IFERROR(VLOOKUP(LinhadoTempoClassificada[[#This Row],[POSIÇÃO classificada]],DadosdeLinhadoTempodoProjeto[],3,0),\"\")","v":""},{"$f":"IFERROR(VLOOKUP(LinhadoTempoClassificada[[#This Row],[POSIÇÃO classificada]],DadosdeLinhadoTempodoProjeto[],4,0),\"\")","v":""},{"$f":"IFERROR(VLOOKUP(LinhadoTempoClassificada[[#This Row],[POSIÇÃO classificada]],DadosdeLinhadoTempodoProjeto[],5,0),\"\")","v":""}]
[{"$nulls":4},{"$f":"IFERROR(RANK(F298,DadosdeLinhadoTempodoProjeto[CLASSIFICAÇÃO])+SUMPRODUCT(--(F298=DadosdeLinhadoTempodoProjeto[CLASSIFICAÇÃO]),--(J298<DadosdeLinhadoTempodoProjeto[NUM])),\"\")","v":""},{"$f":"IFERROR(RANK(DadosdeLinhadoTempodoProjeto[[#This Row],[DATA]],DadosdeLinhadoTempodoProjeto[DATA],1),\"\")","v":""},{"$f":"IFERROR(IF(ISBLANK(INDEX(DetalhesDoProjeto[#Data],Última_entrada_do_projeto-Linha_de_início_do_projeto-DadosdeLinhadoTempodoProjeto[[#This Row],[NUM]]+1,1)),\"\",INDEX(DetalhesDoProjeto[#Data],Última_entrada_do_projeto-Linha_de_início_do_projeto-DadosdeLinhadoTempodoProjeto[[#This Row],[NUM]]+1,1)),\"\")","v":""},{"$f":"IFERROR(IF(ISBLANK(INDEX(DetalhesDoProjeto[#Data],Última_entrada_do_projeto-Linha_de_início_do_projeto-DadosdeLinhadoTempodoProjeto[[#This Row],[NUM]]+1,2)),\"\",INDEX(DetalhesDoProjeto[#Data],Última_entrada_do_projeto-Linha_de_início_do_projeto-DadosdeLinhadoTempodoProjeto[[#This Row],[NUM]]+1,2)),\"\")","v":""},{"$f":"IFERROR(IF(ISBLANK(INDEX(DetalhesDoProjeto[#Data],Última_entrada_do_projeto-Linha_de_início_do_projeto-DadosdeLinhadoTempodoProjeto[[#This Row],[NUM]]+1,3)),\"\",INDEX(DetalhesDoProjeto[#Data],Última_entrada_do_projeto-Linha_de_início_do_projeto-DadosdeLinhadoTempodoProjeto[[#This Row],[NUM]]+1,3)),\"\")","v":""},{"$f":"IFERROR(IF(ISBLANK(INDEX(DetalhesDoProjeto[#Data],ROW(A293)+1,1)),\"\",IF($J297-1<=-1,\"\",$J297-1)),\"\")","v":""},null,null,{"$f":"IFERROR(DadosdeLinhadoTempodoProjeto[[#This Row],[NUM]]+1,\"\")","v":""},{"$f":"IFERROR(VLOOKUP(LinhadoTempoClassificada[[#This Row],[POSIÇÃO classificada]],DadosdeLinhadoTempodoProjeto[],3,0),\"\")","v":""},{"$f":"IFERROR(VLOOKUP(LinhadoTempoClassificada[[#This Row],[POSIÇÃO classificada]],DadosdeLinhadoTempodoProjeto[],4,0),\"\")","v":""},{"$f":"IFERROR(VLOOKUP(LinhadoTempoClassificada[[#This Row],[POSIÇÃO classificada]],DadosdeLinhadoTempodoProjeto[],5,0),\"\")","v":""}]
[{"$nulls":4},{"$f":"IFERROR(RANK(F299,DadosdeLinhadoTempodoProjeto[CLASSIFICAÇÃO])+SUMPRODUCT(--(F299=DadosdeLinhadoTempodoProjeto[CLASSIFICAÇÃO]),--(J299<DadosdeLinhadoTempodoProjeto[NUM])),\"\")","v":""},{"$f":"IFERROR(RANK(DadosdeLinhadoTempodoProjeto[[#This Row],[DATA]],DadosdeLinhadoTempodoProjeto[DATA],1),\"\")","v":""},{"$f":"IFERROR(IF(ISBLANK(INDEX(DetalhesDoProjeto[#Data],Última_entrada_do_projeto-Linha_de_início_do_projeto-DadosdeLinhadoTempodoProjeto[[#This Row],[NUM]]+1,1)),\"\",INDEX(DetalhesDoProjeto[#Data],Última_entrada_do_projeto-Linha_de_início_do_projeto-DadosdeLinhadoTempodoProjeto[[#This Row],[NUM]]+1,1)),\"\")","v":""},{"$f":"IFERROR(IF(ISBLANK(INDEX(DetalhesDoProjeto[#Data],Última_entrada_do_projeto-Linha_de_início_do_projeto-DadosdeLinhadoTempodoProjeto[[#This Row],[NUM]]+1,2)),\"\",INDEX(DetalhesDoProjeto[#Data],Última_entrada_do_projeto-Linha_de_início_do_projeto-DadosdeLinhadoTempodoProjeto[[#This Row],[NUM]]+1,2)),\"\")","v":""},{"$f":"IFERROR(IF(ISBLANK(INDEX(DetalhesDoProjeto[#Data],Última_entrada_do_projeto-Linha_de_início_do_projeto-DadosdeLinhadoTempodoProjeto[[#This Row],[NUM]]+1,3)),\"\",INDEX(DetalhesDoProjeto[#Data],Última_entrada_do_projeto-Linha_de_início_do_projeto-DadosdeLinhadoTempodoProjeto[[#This Row],[NUM]]+1,3)),\"\")","v":""},{"$f":"IFERROR(IF(ISBLANK(INDEX(DetalhesDoProjeto[#Data],ROW(A294)+1,1)),\"\",IF($J298-1<=-1,\"\",$J298-1)),\"\")","v":""},null,null,{"$f":"IFERROR(DadosdeLinhadoTempodoProjeto[[#This Row],[NUM]]+1,\"\")","v":""},{"$f":"IFERROR(VLOOKUP(LinhadoTempoClassificada[[#This Row],[POSIÇÃO classificada]],DadosdeLinhadoTempodoProjeto[],3,0),\"\")","v":""},{"$f":"IFERROR(VLOOKUP(LinhadoTempoClassificada[[#This Row],[POSIÇÃO classificada]],DadosdeLinhadoTempodoProjeto[],4,0),\"\")","v":""},{"$f":"IFERROR(VLOOKUP(LinhadoTempoClassificada[[#This Row],[POSIÇÃO classificada]],DadosdeLinhadoTempodoProjeto[],5,0),\"\")","v":""}]
[{"$nulls":4},{"$f":"IFERROR(RANK(F300,DadosdeLinhadoTempodoProjeto[CLASSIFICAÇÃO])+SUMPRODUCT(--(F300=DadosdeLinhadoTempodoProjeto[CLASSIFICAÇÃO]),--(J300<DadosdeLinhadoTempodoProjeto[NUM])),\"\")","v":""},{"$f":"IFERROR(RANK(DadosdeLinhadoTempodoProjeto[[#This Row],[DATA]],DadosdeLinhadoTempodoProjeto[DATA],1),\"\")","v":""},{"$f":"IFERROR(IF(ISBLANK(INDEX(DetalhesDoProjeto[#Data],Última_entrada_do_projeto-Linha_de_início_do_projeto-DadosdeLinhadoTempodoProjeto[[#This Row],[NUM]]+1,1)),\"\",INDEX(DetalhesDoProjeto[#Data],Última_entrada_do_projeto-Linha_de_início_do_projeto-DadosdeLinhadoTempodoProjeto[[#This Row],[NUM]]+1,1)),\"\")","v":""},{"$f":"IFERROR(IF(ISBLANK(INDEX(DetalhesDoProjeto[#Data],Última_entrada_do_projeto-Linha_de_início_do_projeto-DadosdeLinhadoTempodoProjeto[[#This Row],[NUM]]+1,2)),\"\",INDEX(DetalhesDoProjeto[#Data],Última_entrada_do_projeto-Linha_de_início_do_projeto-DadosdeLinhadoTempodoProjeto[[#This Row],[NUM]]+1,2)),\"\")","v":""},{"$f":"IFERROR(IF(ISBLANK(INDEX(DetalhesDoProjeto[#Data],Última_entrada_do_projeto-Linha_de_início_do_projeto-DadosdeLinhadoTempodoProjeto[[#This Row],[NUM]]+1,3)),\"\",INDEX(DetalhesDoProjeto[#Data],Última_entrada_do_projeto-Linha_de_início_do_projeto-DadosdeLinhadoTempodoProjeto[[#This Row],[NUM]]+1,3)),\"\")","v":""},{"$f":"IFERROR(IF(ISBLANK(INDEX(DetalhesDoProjeto[#Data],ROW(A295)+1,1)),\"\",IF($J299-1<=-1,\"\",$J299-1)),\"\")","v":""},null,null,{"$f":"IFERROR(DadosdeLinhadoTempodoProjeto[[#This Row],[NUM]]+1,\"\")","v":""},{"$f":"IFERROR(VLOOKUP(LinhadoTempoClassificada[[#This Row],[POSIÇÃO classificada]],DadosdeLinhadoTempodoProjeto[],3,0),\"\")","v":""},{"$f":"IFERROR(VLOOKUP(LinhadoTempoClassificada[[#This Row],[POSIÇÃO classificada]],DadosdeLinhadoTempodoProjeto[],4,0),\"\")","v":""},{"$f":"IFERROR(VLOOKUP(LinhadoTempoClassificada[[#This Row],[POSIÇÃO classificada]],DadosdeLinhadoTempodoProjeto[],5,0),\"\")","v":""}]
[{"$nulls":4},{"$f":"IFERROR(RANK(F301,DadosdeLinhadoTempodoProjeto[CLASSIFICAÇÃO])+SUMPRODUCT(--(F301=DadosdeLinhadoTempodoProjeto[CLASSIFICAÇÃO]),--(J301<DadosdeLinhadoTempodoProjeto[NUM])),\"\")","v":""},{"$f":"IFERROR(RANK(DadosdeLinhadoTempodoProjeto[[#This Row],[DATA]],DadosdeLinhadoTempodoProjeto[DATA],1),\"\")","v":""},{"$f":"IFERROR(IF(ISBLANK(INDEX(DetalhesDoProjeto[#Data],Última_entrada_do_projeto-Linha_de_início_do_projeto-DadosdeLinhadoTempodoProjeto[[#This Row],[NUM]]+1,1)),\"\",INDEX(DetalhesDoProjeto[#Data],Última_entrada_do_projeto-Linha_de_início_do_projeto-DadosdeLinhadoTempodoProjeto[[#This Row],[NUM]]+1,1)),\"\")","v":""},{"$f":"IFERROR(IF(ISBLANK(INDEX(DetalhesDoProjeto[#Data],Última_entrada_do_projeto-Linha_de_início_do_projeto-DadosdeLinhadoTempodoProjeto[[#This Row],[NUM]]+1,2)),\"\",INDEX(DetalhesDoProjeto[#Data],Última_entrada_do_projeto-Linha_de_início_do_projeto-DadosdeLinhadoTempodoProjeto[[#This Row],[NUM]]+1,2)),\"\")","v":""},{"$f":"IFERROR(IF(ISBLANK(INDEX(DetalhesDoProjeto[#Data],Última_entrada_do_projeto-Linha_de_início_do_projeto-DadosdeLinhadoTempodoProjeto[[#This Row],[NUM]]+1,3)),\"\",INDEX(DetalhesDoProjeto[#Data],Última_entrada_do_projeto-Linha_de_início_do_projeto-DadosdeLinhadoTempodoProjeto[[#This Row],[NUM]]+1,3)),\"\")","v":""},{"$f":"IFERROR(IF(ISBLANK(INDEX(DetalhesDoProjeto[#Data],ROW(A296)+1,1)),\"\",IF($J300-1<=-1,\"\",$J300-1)),\"\")","v":""},null,null,{"$f":"IFERROR(DadosdeLinhadoTempodoProjeto[[#This Row],[NUM]]+1,\"\")","v":""},{"$f":"IFERROR(VLOOKUP(LinhadoTempoClassificada[[#This Row],[POSIÇÃO classificada]],DadosdeLinhadoTempodoProjeto[],3,0),\"\")","v":""},{"$f":"IFERROR(VLOOKUP(LinhadoTempoClassificada[[#This Row],[POSIÇÃO classificada]],DadosdeLinhadoTempodoProjeto[],4,0),\"\")","v":""},{"$f":"IFERROR(VLOOKUP(LinhadoTempoClassificada[[#This Row],[POSIÇÃO classificada]],DadosdeLinhadoTempodoProjeto[],5,0),\"\")","v":""}]
[{"$nulls":4},{"$f":"IFERROR(RANK(F302,DadosdeLinhadoTempodoProjeto[CLASSIFICAÇÃO])+SUMPRODUCT(--(F302=DadosdeLinhadoTempodoProjeto[CLASSIFICAÇÃO]),--(J302<DadosdeLinhadoTempodoProjeto[NUM])),\"\")","v":""},{"$f":"IFERROR(RANK(DadosdeLinhadoTempodoProjeto[[#This Row],[DATA]],DadosdeLinhadoTempodoProjeto[DATA],1),\"\")","v":""},{"$f":"IFERROR(IF(ISBLANK(INDEX(DetalhesDoProjeto[#Data],Última_entrada_do_projeto-Linha_de_início_do_projeto-DadosdeLinhadoTempodoProjeto[[#This Row],[NUM]]+1,1)),\"\",INDEX(DetalhesDoProjeto[#Data],Última_entrada_do_projeto-Linha_de_início_do_projeto-DadosdeLinhadoTempodoProjeto[[#This Row],[NUM]]+1,1)),\"\")","v":""},{"$f":"IFERROR(IF(ISBLANK(INDEX(DetalhesDoProjeto[#Data],Última_entrada_do_projeto-Linha_de_início_do_projeto-DadosdeLinhadoTempodoProjeto[[#This Row],[NUM]]+1,2)),\"\",INDEX(DetalhesDoProjeto[#Data],Última_entrada_do_projeto-Linha_de_início_do_projeto-DadosdeLinhadoTempodoProjeto[[#This Row],[NUM]]+1,2)),\"\")","v":""},{"$f":"IFERROR(IF(ISBLANK(INDEX(DetalhesDoProjeto[#Data],Última_entrada_do_projeto-Linha_de_início_do_projeto-DadosdeLinhadoTempodoProjeto[[#This Row],[NUM]]+1,3)),\"\",INDEX(DetalhesDoProjeto[#Data],Última_entrada_do_projeto-Linha_de_início_do_projeto-DadosdeLinhadoTempodoProjeto[[#This Row],[NUM]]+1,3)),\"\")","v":""},{"$f":"IFERROR(IF(ISBLANK(INDEX(DetalhesDoProjeto[#Data],ROW(A297)+1,1)),\"\",IF($J301-1<=-1,\"\",$J301-1)),\"\")","v":""},null,null,{"$f":"IFERROR(DadosdeLinhadoTempodoProjeto[[#This Row],[NUM]]+1,\"\")","v":""},{"$f":"IFERROR(VLOOKUP(LinhadoTempoClassificada[[#This Row],[POSIÇÃO classificada]],DadosdeLinhadoTempodoProjeto[],3,0),\"\")","v":""},{"$f":"IFERROR(VLOOKUP(LinhadoTempoClassificada[[#This Row],[POSIÇÃO classificada]],DadosdeLinhadoTempodoProjeto[],4,0),\"\")","v":""},{"$f":"IFERROR(VLOOKUP(LinhadoTempoClassificada[[#This Row],[POSIÇÃO classificada]],DadosdeLinhadoTempodoProjeto[],5,0),\"\")","v":""}]
[{"$nulls":4},{"$f":"IFERROR(RANK(F303,DadosdeLinhadoTempodoProjeto[CLASSIFICAÇÃO])+SUMPRODUCT(--(F303=DadosdeLinhadoTempodoProjeto[CLASSIFICAÇÃO]),--(J303<DadosdeLinhadoTempodoProjeto[NUM])),\"\")","v":""},{"$f":"IFERROR(RANK(DadosdeLinhadoTempodoProjeto[[#This Row],[DATA]],DadosdeLinhadoTempodoProjeto[DATA],1),\"\")","v":""},{"$f":"IFERROR(IF(ISBLANK(INDEX(DetalhesDoProjeto[#Data],Última_entrada_do_projeto-Linha_de_início_do_projeto-DadosdeLinhadoTempodoProjeto[[#This Row],[NUM]]+1,1)),\"\",INDEX(DetalhesDoProjeto[#Data],Última_entrada_do_projeto-Linha_de_início_do_projeto-DadosdeLinhadoTempodoProjeto[[#This Row],[NUM]]+1,1)),\"\")","v":""},{"$f":"IFERROR(IF(ISBLANK(INDEX(DetalhesDoProjeto[#Data],Última_entrada_do_projeto-Linha_de_início_do_projeto-DadosdeLinhadoTempodoProjeto[[#This Row],[NUM]]+1,2)),\"\",INDEX(DetalhesDoProjeto[#Data],Última_entrada_do_projeto-Linha_de_início_do_projeto-DadosdeLinhadoTempodoProjeto[[#This Row],[NUM]]+1,2)),\"\")","v":""},{"$f":"IFERROR(IF(ISBLANK(INDEX(DetalhesDoProjeto[#Data],Última_entrada_do_projeto-Linha_de_início_do_projeto-DadosdeLinhadoTempodoProjeto[[#This Row],[NUM]]+1,3)),\"\",INDEX(DetalhesDoProjeto[#Data],Última_entrada_do_projeto-Linha_de_início_do_projeto-DadosdeLinhadoTempodoProjeto[[#This Row],[NUM]]+1,3)),\"\")","v":""},{"$f":"IFERROR(IF(ISBLANK(INDEX(DetalhesDoProjeto[#Data],ROW(A298)+1,1)),\"\",IF($J302-1<=-1,\"\",$J302-1)),\"\")","v":""},null,null,{"$f":"IFERROR(DadosdeLinhadoTempodoProjeto[[#This Row],[NUM]]+1,\"\")","v":""},{"$f":"IFERROR(VLOOKUP(LinhadoTempoClassificada[[#This Row],[POSIÇÃO classificada]],DadosdeLinhadoTempodoProjeto[],3,0),\"\")","v":""},{"$f":"IFERROR(VLOOKUP(LinhadoTempoClassificada[[#This Row],[POSIÇÃO classificada]],DadosdeLinhadoTempodoProjeto[],4,0),\"\")","v":""},{"$f":"IFERROR(VLOOKUP(LinhadoTempoClassificada[[#This Row],[POSIÇÃO classificada]],DadosdeLinhadoTempodoProjeto[],5,0),\"\")","v":""}]
[{"$nulls":4},{"$f":"IFERROR(RANK(F304,DadosdeLinhadoTempodoProjeto[CLASSIFICAÇÃO])+SUMPRODUCT(--(F304=DadosdeLinhadoTempodoProjeto[CLASSIFICAÇÃO]),--(J304<DadosdeLinhadoTempodoProjeto[NUM])),\"\")","v":""},{"$f":"IFERROR(RANK(DadosdeLinhadoTempodoProjeto[[#This Row],[DATA]],DadosdeLinhadoTempodoProjeto[DATA],1),\"\")","v":""},{"$f":"IFERROR(IF(ISBLANK(INDEX(DetalhesDoProjeto[#Data],Última_entrada_do_projeto-Linha_de_início_do_projeto-DadosdeLinhadoTempodoProjeto[[#This Row],[NUM]]+1,1)),\"\",INDEX(DetalhesDoProjeto[#Data],Última_entrada_do_projeto-Linha_de_início_do_projeto-DadosdeLinhadoTempodoProjeto[[#This Row],[NUM]]+1,1)),\"\")","v":""},{"$f":"IFERROR(IF(ISBLANK(INDEX(DetalhesDoProjeto[#Data],Última_entrada_do_projeto-Linha_de_início_do_projeto-DadosdeLinhadoTempodoProjeto[[#This Row],[NUM]]+1,2)),\"\",INDEX(DetalhesDoProjeto[#Data],Última_entrada_do_projeto-Linha_de_início_do_projeto-DadosdeLinhadoTempodoProjeto[[#This Row],[NUM]]+1,2)),\"\")","v":""},{"$f":"IFERROR(IF(ISBLANK(INDEX(DetalhesDoProjeto[#Data],Última_entrada_do_projeto-Linha_de_início_do_projeto-DadosdeLinhadoTempodoProjeto[[#This Row],[NUM]]+1,3)),\"\",INDEX(DetalhesDoProjeto[#Data],Última_entrada_do_projeto-Linha_de_início_do_projeto-DadosdeLinhadoTempodoProjeto[[#This Row],[NUM]]+1,3)),\"\")","v":""},{"$f":"IFERROR(IF(ISBLANK(INDEX(DetalhesDoProjeto[#Data],ROW(A299)+1,1)),\"\",IF($J303-1<=-1,\"\",$J303-1)),\"\")","v":""},null,null,{"$f":"IFERROR(DadosdeLinhadoTempodoProjeto[[#This Row],[NUM]]+1,\"\")","v":""},{"$f":"IFERROR(VLOOKUP(LinhadoTempoClassificada[[#This Row],[POSIÇÃO classificada]],DadosdeLinhadoTempodoProjeto[],3,0),\"\")","v":""},{"$f":"IFERROR(VLOOKUP(LinhadoTempoClassificada[[#This Row],[POSIÇÃO classificada]],DadosdeLinhadoTempodoProjeto[],4,0),\"\")","v":""},{"$f":"IFERROR(VLOOKUP(LinhadoTempoClassificada[[#This Row],[POSIÇÃO classificada]],DadosdeLinhadoTempodoProjeto[],5,0),\"\")","v":""}]
[{"$nulls":4},{"$f":"IFERROR(RANK(F305,DadosdeLinhadoTempodoProjeto[CLASSIFICAÇÃO])+SUMPRODUCT(--(F305=DadosdeLinhadoTempodoProjeto[CLASSIFICAÇÃO]),--(J305<DadosdeLinhadoTempodoProjeto[NUM])),\"\")","v":""},{"$f":"IFERROR(RANK(DadosdeLinhadoTempodoProjeto[[#This Row],[DATA]],DadosdeLinhadoTempodoProjeto[DATA],1),\"\")","v":""},{"$f":"IFERROR(IF(ISBLANK(INDEX(DetalhesDoProjeto[#Data],Última_entrada_do_projeto-Linha_de_início_do_projeto-DadosdeLinhadoTempodoProjeto[[#This Row],[NUM]]+1,1)),\"\",INDEX(DetalhesDoProjeto[#Data],Última_entrada_do_projeto-Linha_de_início_do_projeto-DadosdeLinhadoTempodoProjeto[[#This Row],[NUM]]+1,1)),\"\")","v":""},{"$f":"IFERROR(IF(ISBLANK(INDEX(DetalhesDoProjeto[#Data],Última_entrada_do_projeto-Linha_de_início_do_projeto-DadosdeLinhadoTempodoProjeto[[#This Row],[NUM]]+1,2)),\"\",INDEX(DetalhesDoProjeto[#Data],Última_entrada_do_projeto-Linha_de_início_do_projeto-DadosdeLinhadoTempodoProjeto[[#This Row],[NUM]]+1,2)),\"\")","v":""},{"$f":"IFERROR(IF(ISBLANK(INDEX(DetalhesDoProjeto[#Data],Última_entrada_do_projeto-Linha_de_início_do_projeto-DadosdeLinhadoTempodoProjeto[[#This Row],[NUM]]+1,3)),\"\",INDEX(DetalhesDoProjeto[#Data],Última_entrada_do_projeto-Linha_de_início_do_projeto-DadosdeLinhadoTempodoProjeto[[#This Row],[NUM]]+1,3)),\"\")","v":""},{"$f":"IFERROR(IF(ISBLANK(INDEX(DetalhesDoProjeto[#Data],ROW(A300)+1,1)),\"\",IF($J304-1<=-1,\"\",$J304-1)),\"\")","v":""},null,null,{"$f":"IFERROR(DadosdeLinhadoTempodoProjeto[[#This Row],[NUM]]+1,\"\")","v":""},{"$f":"IFERROR(VLOOKUP(LinhadoTempoClassificada[[#This Row],[POSIÇÃO classificada]],DadosdeLinhadoTempodoProjeto[],3,0),\"\")","v":""},{"$f":"IFERROR(VLOOKUP(LinhadoTempoClassificada[[#This Row],[POSIÇÃO classificada]],DadosdeLinhadoTempodoProjeto[],4,0),\"\")","v":""},{"$f":"IFERROR(VLOOKUP(LinhadoTempoClassificada[[#This Row],[POSIÇÃO classificada]],DadosdeLinhadoTempodoProjeto[],5,0),\"\")","v":""}]
[{"$nulls":4},{"$f":"IFERROR(RANK(F306,DadosdeLinhadoTempodoProjeto[CLASSIFICAÇÃO])+SUMPRODUCT(--(F306=DadosdeLinhadoTempodoProjeto[CLASSIFICAÇÃO]),--(J306<DadosdeLinhadoTempodoProjeto[NUM])),\"\")","v":""},{"$f":"IFERROR(RANK(DadosdeLinhadoTempodoProjeto[[#This Row],[DATA]],DadosdeLinhadoTempodoProjeto[DATA],1),\"\")","v":""},{"$f":"IFERROR(IF(ISBLANK(INDEX(DetalhesDoProjeto[#Data],Última_entrada_do_projeto-Linha_de_início_do_projeto-DadosdeLinhadoTempodoProjeto[[#This Row],[NUM]]+1,1)),\"\",INDEX(DetalhesDoProjeto[#Data],Última_entrada_do_projeto-Linha_de_início_do_projeto-DadosdeLinhadoTempodoProjeto[[#This Row],[NUM]]+1,1)),\"\")","v":""},{"$f":"IFERROR(IF(ISBLANK(INDEX(DetalhesDoProjeto[#Data],Última_entrada_do_projeto-Linha_de_início_do_projeto-DadosdeLinhadoTempodoProjeto[[#This Row],[NUM]]+1,2)),\"\",INDEX(DetalhesDoProjeto[#Data],Última_entrada_do_projeto-Linha_de_início_do_projeto-DadosdeLinhadoTempodoProjeto[[#This Row],[NUM]]+1,2)),\"\")","v":""},{"$f":"IFERROR(IF(ISBLANK(INDEX(DetalhesDoProjeto[#Data],Última_entrada_do_projeto-Linha_de_início_do_projeto-DadosdeLinhadoTempodoProjeto[[#This Row],[NUM]]+1,3)),\"\",INDEX(DetalhesDoProjeto[#Data],Última_entrada_do_projeto-Linha_de_início_do_projeto-DadosdeLinhadoTempodoProjeto[[#This Row],[NUM]]+1,3)),\"\")","v":""},{"$f":"IFERROR(IF(ISBLANK(INDEX(DetalhesDoProjeto[#Data],ROW(A301)+1,1)),\"\",IF($J305-1<=-1,\"\",$J305-1)),\"\")","v":""},null,null,{"$f":"IFERROR(DadosdeLinhadoTempodoProjeto[[#This Row],[NUM]]+1,\"\")","v":""},{"$f":"IFERROR(VLOOKUP(LinhadoTempoClassificada[[#This Row],[POSIÇÃO classificada]],DadosdeLinhadoTempodoProjeto[],3,0),\"\")","v":""},{"$f":"IFERROR(VLOOKUP(LinhadoTempoClassificada[[#This Row],[POSIÇÃO classificada]],DadosdeLinhadoTempodoProjeto[],4,0),\"\")","v":""},{"$f":"IFERROR(VLOOKUP(LinhadoTempoClassificada[[#This Row],[POSIÇÃO classificada]],DadosdeLinhadoTempodoProjeto[],5,0),\"\")","v":""}]
[{"$nulls":4},{"$f":"IFERROR(RANK(F307,DadosdeLinhadoTempodoProjeto[CLASSIFICAÇÃO])+SUMPRODUCT(--(F307=DadosdeLinhadoTempodoProjeto[CLASSIFICAÇÃO]),--(J307<DadosdeLinhadoTempodoProjeto[NUM])),\"\")","v":""},{"$f":"IFERROR(RANK(DadosdeLinhadoTempodoProjeto[[#This Row],[DATA]],DadosdeLinhadoTempodoProjeto[DATA],1),\"\")","v":""},{"$f":"IFERROR(IF(ISBLANK(INDEX(DetalhesDoProjeto[#Data],Última_entrada_do_projeto-Linha_de_início_do_projeto-DadosdeLinhadoTempodoProjeto[[#This Row],[NUM]]+1,1)),\"\",INDEX(DetalhesDoProjeto[#Data],Última_entrada_do_projeto-Linha_de_início_do_projeto-DadosdeLinhadoTempodoProjeto[[#This Row],[NUM]]+1,1)),\"\")","v":""},{"$f":"IFERROR(IF(ISBLANK(INDEX(DetalhesDoProjeto[#Data],Última_entrada_do_projeto-Linha_de_início_do_projeto-DadosdeLinhadoTempodoProjeto[[#This Row],[NUM]]+1,2)),\"\",INDEX(DetalhesDoProjeto[#Data],Última_entrada_do_projeto-Linha_de_início_do_projeto-DadosdeLinhadoTempodoProjeto[[#This Row],[NUM]]+1,2)),\"\")","v":""},{"$f":"IFERROR(IF(ISBLANK(INDEX(DetalhesDoProjeto[#Data],Última_entrada_do_projeto-Linha_de_início_do_projeto-DadosdeLinhadoTempodoProjeto[[#This Row],[NUM]]+1,3)),\"\",INDEX(DetalhesDoProjeto[#Data],Última_entrada_do_projeto-Linha_de_início_do_projeto-DadosdeLinhadoTempodoProjeto[[#This Row],[NUM]]+1,3)),\"\")","v":""},{"$f":"IFERROR(IF(ISBLANK(INDEX(DetalhesDoProjeto[#Data],ROW(A302)+1,1)),\"\",IF($J306-1<=-1,\"\",$J306-1)),\"\")","v":""},null,null,{"$f":"IFERROR(DadosdeLinhadoTempodoProjeto[[#This Row],[NUM]]+1,\"\")","v":""},{"$f":"IFERROR(VLOOKUP(LinhadoTempoClassificada[[#This Row],[POSIÇÃO classificada]],DadosdeLinhadoTempodoProjeto[],3,0),\"\")","v":""},{"$f":"IFERROR(VLOOKUP(LinhadoTempoClassificada[[#This Row],[POSIÇÃO classificada]],DadosdeLinhadoTempodoProjeto[],4,0),\"\")","v":""},{"$f":"IFERROR(VLOOKUP(LinhadoTempoClassificada[[#This Row],[POSIÇÃO classificada]],DadosdeLinhadoTempodoProjeto[],5,0),\"\")","v":""}]
[{"$nulls":4},{"$f":"IFERROR(RANK(F308,DadosdeLinhadoTempodoProjeto[CLASSIFICAÇÃO])+SUMPRODUCT(--(F308=DadosdeLinhadoTempodoProjeto[CLASSIFICAÇÃO]),--(J308<DadosdeLinhadoTempodoProjeto[NUM])),\"\")","v":""},{"$f":"IFERROR(RANK(DadosdeLinhadoTempodoProjeto[[#This Row],[DATA]],DadosdeLinhadoTempodoProjeto[DATA],1),\"\")","v":""},{"$f":"IFERROR(IF(ISBLANK(INDEX(DetalhesDoProjeto[#Data],Última_entrada_do_projeto-Linha_de_início_do_projeto-DadosdeLinhadoTempodoProjeto[[#This Row],[NUM]]+1,1)),\"\",INDEX(DetalhesDoProjeto[#Data],Última_entrada_do_projeto-Linha_de_início_do_projeto-DadosdeLinhadoTempodoProjeto[[#This Row],[NUM]]+1,1)),\"\")","v":""},{"$f":"IFERROR(IF(ISBLANK(INDEX(DetalhesDoProjeto[#Data],Última_entrada_do_projeto-Linha_de_início_do_projeto-DadosdeLinhadoTempodoProjeto[[#This Row],[NUM]]+1,2)),\"\",INDEX(DetalhesDoProjeto[#Data],Última_entrada_do_projeto-Linha_de_início_do_projeto-DadosdeLinhadoTempodoProjeto[[#This Row],[NUM]]+1,2)),\"\")","v":""},{"$f":"IFERROR(IF(ISBLANK(INDEX(DetalhesDoProjeto[#Data],Última_entrada_do_projeto-Linha_de_início_do_projeto-DadosdeLinhadoTempodoProjeto[[#This Row],[NUM]]+1,3)),\"\",INDEX(DetalhesDoProjeto[#Data],Última_entrada_do_projeto-Linha_de_início_do_projeto-DadosdeLinhadoTempodoProjeto[[#This Row],[NUM]]+1,3)),\"\")","v":""},{"$f":"IFERROR(IF(ISBLANK(INDEX(DetalhesDoProjeto[#Data],ROW(A303)+1,1)),\"\",IF($J307-1<=-1,\"\",$J307-1)),\"\")","v":""},null,null,{"$f":"IFERROR(DadosdeLinhadoTempodoProjeto[[#This Row],[NUM]]+1,\"\")","v":""},{"$f":"IFERROR(VLOOKUP(LinhadoTempoClassificada[[#This Row],[POSIÇÃO classificada]],DadosdeLinhadoTempodoProjeto[],3,0),\"\")","v":""},{"$f":"IFERROR(VLOOKUP(LinhadoTempoClassificada[[#This Row],[POSIÇÃO classificada]],DadosdeLinhadoTempodoProjeto[],4,0),\"\")","v":""},{"$f":"IFERROR(VLOOKUP(LinhadoTempoClassificada[[#This Row],[POSIÇÃO classificada]],DadosdeLinhadoTempodoProjeto[],5,0),\"\")","v":""}]
[{"$nulls":4},{"$f":"IFERROR(RANK(F309,DadosdeLinhadoTempodoProjeto[CLASSIFICAÇÃO])+SUMPRODUCT(--(F309=DadosdeLinhadoTempodoProjeto[CLASSIFICAÇÃO]),--(J309<DadosdeLinhadoTempodoProjeto[NUM])),\"\")","v":""},{"$f":"IFERROR(RANK(DadosdeLinhadoTempodoProjeto[[#This Row],[DATA]],DadosdeLinhadoTempodoProjeto[DATA],1),\"\")","v":""},{"$f":"IFERROR(IF(ISBLANK(INDEX(DetalhesDoProjeto[#Data],Última_entrada_do_projeto-Linha_de_início_do_projeto-DadosdeLinhadoTempodoProjeto[[#This Row],[NUM]]+1,1)),\"\",INDEX(DetalhesDoProjeto[#Data],Última_entrada_do_projeto-Linha_de_início_do_projeto-DadosdeLinhadoTempodoProjeto[[#This Row],[NUM]]+1,1)),\"\")","v":""},{"$f":"IFERROR(IF(ISBLANK(INDEX(DetalhesDoProjeto[#Data],Última_entrada_do_projeto-Linha_de_início_do_projeto-DadosdeLinhadoTempodoProjeto[[#This Row],[NUM]]+1,2)),\"\",INDEX(DetalhesDoProjeto[#Data],Última_entrada_do_projeto-Linha_de_início_do_projeto-DadosdeLinhadoTempodoProjeto[[#This Row],[NUM]]+1,2)),\"\")","v":""},{"$f":"IFERROR(IF(ISBLANK(INDEX(DetalhesDoProjeto[#Data],Última_entrada_do_projeto-Linha_de_início_do_projeto-DadosdeLinhadoTempodoProjeto[[#This Row],[NUM]]+1,3)),\"\",INDEX(DetalhesDoProjeto[#Data],Última_entrada_do_projeto-Linha_de_início_do_projeto-DadosdeLinhadoTempodoProjeto[[#This Row],[NUM]]+1,3)),\"\")","v":""},{"$f":"IFERROR(IF(ISBLANK(INDEX(DetalhesDoProjeto[#Data],ROW(A304)+1,1)),\"\",IF($J308-1<=-1,\"\",$J308-1)),\"\")","v":""},null,null,{"$f":"IFERROR(DadosdeLinhadoTempodoProjeto[[#This Row],[NUM]]+1,\"\")","v":""},{"$f":"IFERROR(VLOOKUP(LinhadoTempoClassificada[[#This Row],[POSIÇÃO classificada]],DadosdeLinhadoTempodoProjeto[],3,0),\"\")","v":""},{"$f":"IFERROR(VLOOKUP(LinhadoTempoClassificada[[#This Row],[POSIÇÃO classificada]],DadosdeLinhadoTempodoProjeto[],4,0),\"\")","v":""},{"$f":"IFERROR(VLOOKUP(LinhadoTempoClassificada[[#This Row],[POSIÇÃO classificada]],DadosdeLinhadoTempodoProjeto[],5,0),\"\")","v":""}]
[{"$nulls":4},{"$f":"IFERROR(RANK(F310,DadosdeLinhadoTempodoProjeto[CLASSIFICAÇÃO])+SUMPRODUCT(--(F310=DadosdeLinhadoTempodoProjeto[CLASSIFICAÇÃO]),--(J310<DadosdeLinhadoTempodoProjeto[NUM])),\"\")","v":""},{"$f":"IFERROR(RANK(DadosdeLinhadoTempodoProjeto[[#This Row],[DATA]],DadosdeLinhadoTempodoProjeto[DATA],1),\"\")","v":""},{"$f":"IFERROR(IF(ISBLANK(INDEX(DetalhesDoProjeto[#Data],Última_entrada_do_projeto-Linha_de_início_do_projeto-DadosdeLinhadoTempodoProjeto[[#This Row],[NUM]]+1,1)),\"\",INDEX(DetalhesDoProjeto[#Data],Última_entrada_do_projeto-Linha_de_início_do_projeto-DadosdeLinhadoTempodoProjeto[[#This Row],[NUM]]+1,1)),\"\")","v":""},{"$f":"IFERROR(IF(ISBLANK(INDEX(DetalhesDoProjeto[#Data],Última_entrada_do_projeto-Linha_de_início_do_projeto-DadosdeLinhadoTempodoProjeto[[#This Row],[NUM]]+1,2)),\"\",INDEX(DetalhesDoProjeto[#Data],Última_entrada_do_projeto-Linha_de_início_do_projeto-DadosdeLinhadoTempodoProjeto[[#This Row],[NUM]]+1,2)),\"\")","v":""},{"$f":"IFERROR(IF(ISBLANK(INDEX(DetalhesDoProjeto[#Data],Última_entrada_do_projeto-Linha_de_início_do_projeto-DadosdeLinhadoTempodoProjeto[[#This Row],[NUM]]+1,3)),\"\",INDEX(DetalhesDoProjeto[#Data],Última_entrada_do_projeto-Linha_de_início_do_projeto-DadosdeLinhadoTempodoProjeto[[#This Row],[NUM]]+1,3)),\"\")","v":""},{"$f":"IFERROR(IF(ISBLANK(INDEX(DetalhesDoProjeto[#Data],ROW(A305)+1,1)),\"\",IF($J309-1<=-1,\"\",$J309-1)),\"\")","v":""},null,null,{"$f":"IFERROR(DadosdeLinhadoTempodoProjeto[[#This Row],[NUM]]+1,\"\")","v":""},{"$f":"IFERROR(VLOOKUP(LinhadoTempoClassificada[[#This Row],[POSIÇÃO classificada]],DadosdeLinhadoTempodoProjeto[],3,0),\"\")","v":""},{"$f":"IFERROR(VLOOKUP(LinhadoTempoClassificada[[#This Row],[POSIÇÃO classificada]],DadosdeLinhadoTempodoProjeto[],4,0),\"\")","v":""},{"$f":"IFERROR(VLOOKUP(LinhadoTempoClassificada[[#This Row],[POSIÇÃO classificada]],DadosdeLinhadoTempodoProjeto[],5,0),\"\")","v":""}]
[{"$nulls":4},{"$f":"IFERROR(RANK(F311,DadosdeLinhadoTempodoProjeto[CLASSIFICAÇÃO])+SUMPRODUCT(--(F311=DadosdeLinhadoTempodoProjeto[CLASSIFICAÇÃO]),--(J311<DadosdeLinhadoTempodoProjeto[NUM])),\"\")","v":""},{"$f":"IFERROR(RANK(DadosdeLinhadoTempodoProjeto[[#This Row],[DATA]],DadosdeLinhadoTempodoProjeto[DATA],1),\"\")","v":""},{"$f":"IFERROR(IF(ISBLANK(INDEX(DetalhesDoProjeto[#Data],Última_entrada_do_projeto-Linha_de_início_do_projeto-DadosdeLinhadoTempodoProjeto[[#This Row],[NUM]]+1,1)),\"\",INDEX(DetalhesDoProjeto[#Data],Última_entrada_do_projeto-Linha_de_início_do_projeto-DadosdeLinhadoTempodoProjeto[[#This Row],[NUM]]+1,1)),\"\")","v":""},{"$f":"IFERROR(IF(ISBLANK(INDEX(DetalhesDoProjeto[#Data],Última_entrada_do_projeto-Linha_de_início_do_projeto-DadosdeLinhadoTempodoProjeto[[#This Row],[NUM]]+1,2)),\"\",INDEX(DetalhesDoProjeto[#Data],Última_entrada_do_projeto-Linha_de_início_do_projeto-DadosdeLinhadoTempodoProjeto[[#This Row],[NUM]]+1,2)),\"\")","v":""},{"$f":"IFERROR(IF(ISBLANK(INDEX(DetalhesDoProjeto[#Data],Última_entrada_do_projeto-Linha_de_início_do_projeto-DadosdeLinhadoTempodoProjeto[[#This Row],[NUM]]+1,3)),\"\",INDEX(DetalhesDoProjeto[#Data],Última_entrada_do_projeto-Linha_de_início_do_projeto-DadosdeLinhadoTempodoProjeto[[#This Row],[NUM]]+1,3)),\"\")","v":""},{"$f":"IFERROR(IF(ISBLANK(INDEX(DetalhesDoProjeto[#Data],ROW(A306)+1,1)),\"\",IF($J310-1<=-1,\"\",$J310-1)),\"\")","v":""},null,null,{"$f":"IFERROR(DadosdeLinhadoTempodoProjeto[[#This Row],[NUM]]+1,\"\")","v":""},{"$f":"IFERROR(VLOOKUP(LinhadoTempoClassificada[[#This Row],[POSIÇÃO classificada]],DadosdeLinhadoTempodoProjeto[],3,0),\"\")","v":""},{"$f":"IFERROR(VLOOKUP(LinhadoTempoClassificada[[#This Row],[POSIÇÃO classificada]],DadosdeLinhadoTempodoProjeto[],4,0),\"\")","v":""},{"$f":"IFERROR(VLOOKUP(LinhadoTempoClassificada[[#This Row],[POSIÇÃO classificada]],DadosdeLinhadoTempodoProjeto[],5,0),\"\")","v":""}]
[{"$nulls":4},{"$f":"IFERROR(RANK(F312,DadosdeLinhadoTempodoProjeto[CLASSIFICAÇÃO])+SUMPRODUCT(--(F312=DadosdeLinhadoTempodoProjeto[CLASSIFICAÇÃO]),--(J312<DadosdeLinhadoTempodoProjeto[NUM])),\"\")","v":""},{"$f":"IFERROR(RANK(DadosdeLinhadoTempodoProjeto[[#This Row],[DATA]],DadosdeLinhadoTempodoProjeto[DATA],1),\"\")","v":""},{"$f":"IFERROR(IF(ISBLANK(INDEX(DetalhesDoProjeto[#Data],Última_entrada_do_projeto-Linha_de_início_do_projeto-DadosdeLinhadoTempodoProjeto[[#This Row],[NUM]]+1,1)),\"\",INDEX(DetalhesDoProjeto[#Data],Última_entrada_do_projeto-Linha_de_início_do_projeto-DadosdeLinhadoTempodoProjeto[[#This Row],[NUM]]+1,1)),\"\")","v":""},{"$f":"IFERROR(IF(ISBLANK(INDEX(DetalhesDoProjeto[#Data],Última_entrada_do_projeto-Linha_de_início_do_projeto-DadosdeLinhadoTempodoProjeto[[#This Row],[NUM]]+1,2)),\"\",INDEX(DetalhesDoProjeto[#Data],Última_entrada_do_projeto-Linha_de_início_do_projeto-DadosdeLinhadoTempodoProjeto[[#This Row],[NUM]]+1,2)),\"\")","v":""},{"$f":"IFERROR(IF(ISBLANK(INDEX(DetalhesDoProjeto[#Data],Última_entrada_do_projeto-Linha_de_início_do_projeto-DadosdeLinhadoTempodoProjeto[[#This Row],[NUM]]+1,3)),\"\",INDEX(DetalhesDoProjeto[#Data],Última_entrada_do_projeto-Linha_de_início_do_projeto-DadosdeLinhadoTempodoProjeto[[#This Row],[NUM]]+1,3)),\"\")","v":""},{"$f":"IFERROR(IF(ISBLANK(INDEX(DetalhesDoProjeto[#Data],ROW(A307)+1,1)),\"\",IF($J311-1<=-1,\"\",$J311-1)),\"\")","v":""},null,null,{"$f":"IFERROR(DadosdeLinhadoTempodoProjeto[[#This Row],[NUM]]+1,\"\")","v":""},{"$f":"IFERROR(VLOOKUP(LinhadoTempoClassificada[[#This Row],[POSIÇÃO classificada]],DadosdeLinhadoTempodoProjeto[],3,0),\"\")","v":""},{"$f":"IFERROR(VLOOKUP(LinhadoTempoClassificada[[#This Row],[POSIÇÃO classificada]],DadosdeLinhadoTempodoProjeto[],4,0),\"\")","v":""},{"$f":"IFERROR(VLOOKUP(LinhadoTempoClassificada[[#This Row],[POSIÇÃO classificada]],DadosdeLinhadoTempodoProjeto[],5,0),\"\")","v":""}]
[{"$nulls":4},{"$f":"IFERROR(RANK(F313,DadosdeLinhadoTempodoProjeto[CLASSIFICAÇÃO])+SUMPRODUCT(--(F313=DadosdeLinhadoTempodoProjeto[CLASSIFICAÇÃO]),--(J313<DadosdeLinhadoTempodoProjeto[NUM])),\"\")","v":""},{"$f":"IFERROR(RANK(DadosdeLinhadoTempodoProjeto[[#This Row],[DATA]],DadosdeLinhadoTempodoProjeto[DATA],1),\"\")","v":""},{"$f":"IFERROR(IF(ISBLANK(INDEX(DetalhesDoProjeto[#Data],Última_entrada_do_projeto-Linha_de_início_do_projeto-DadosdeLinhadoTempodoProjeto[[#This Row],[NUM]]+1,1)),\"\",INDEX(DetalhesDoProjeto[#Data],Última_entrada_do_projeto-Linha_de_início_do_projeto-DadosdeLinhadoTempodoProjeto[[#This Row],[NUM]]+1,1)),\"\")","v":""},{"$f":"IFERROR(IF(ISBLANK(INDEX(DetalhesDoProjeto[#Data],Última_entrada_do_projeto-Linha_de_início_do_projeto-DadosdeLinhadoTempodoProjeto[[#This Row],[NUM]]+1,2)),\"\",INDEX(DetalhesDoProjeto[#Data],Última_entrada_do_projeto-Linha_de_início_do_projeto-DadosdeLinhadoTempodoProjeto[[#This Row],[NUM]]+1,2)),\"\")","v":""},{"$f":"IFERROR(IF(ISBLANK(INDEX(DetalhesDoProjeto[#Data],Última_entrada_do_projeto-Linha_de_início_do_projeto-DadosdeLinhadoTempodoProjeto[[#This Row],[NUM]]+1,3)),\"\",INDEX(DetalhesDoProjeto[#Data],Última_entrada_do_projeto-Linha_de_início_do_projeto-DadosdeLinhadoTempodoProjeto[[#This Row],[NUM]]+1,3)),\"\")","v":""},{"$f":"IFERROR(IF(ISBLANK(INDEX(DetalhesDoProjeto[#Data],ROW(A308)+1,1)),\"\",IF($J312-1<=-1,\"\",$J312-1)),\"\")","v":""},null,null,{"$f":"IFERROR(DadosdeLinhadoTempodoProjeto[[#This Row],[NUM]]+1,\"\")","v":""},{"$f":"IFERROR(VLOOKUP(LinhadoTempoClassificada[[#This Row],[POSIÇÃO classificada]],DadosdeLinhadoTempodoProjeto[],3,0),\"\")","v":""},{"$f":"IFERROR(VLOOKUP(LinhadoTempoClassificada[[#This Row],[POSIÇÃO classificada]],DadosdeLinhadoTempodoProjeto[],4,0),\"\")","v":""},{"$f":"IFERROR(VLOOKUP(LinhadoTempoClassificada[[#This Row],[POSIÇÃO classificada]],DadosdeLinhadoTempodoProjeto[],5,0),\"\")","v":""}]
[{"$nulls":4},{"$f":"IFERROR(RANK(F314,DadosdeLinhadoTempodoProjeto[CLASSIFICAÇÃO])+SUMPRODUCT(--(F314=DadosdeLinhadoTempodoProjeto[CLASSIFICAÇÃO]),--(J314<DadosdeLinhadoTempodoProjeto[NUM])),\"\")","v":""},{"$f":"IFERROR(RANK(DadosdeLinhadoTempodoProjeto[[#This Row],[DATA]],DadosdeLinhadoTempodoProjeto[DATA],1),\"\")","v":""},{"$f":"IFERROR(IF(ISBLANK(INDEX(DetalhesDoProjeto[#Data],Última_entrada_do_projeto-Linha_de_início_do_projeto-DadosdeLinhadoTempodoProjeto[[#This Row],[NUM]]+1,1)),\"\",INDEX(DetalhesDoProjeto[#Data],Última_entrada_do_projeto-Linha_de_início_do_projeto-DadosdeLinhadoTempodoProjeto[[#This Row],[NUM]]+1,1)),\"\")","v":""},{"$f":"IFERROR(IF(ISBLANK(INDEX(DetalhesDoProjeto[#Data],Última_entrada_do_projeto-Linha_de_início_do_projeto-DadosdeLinhadoTempodoProjeto[[#This Row],[NUM]]+1,2)),\"\",INDEX(DetalhesDoProjeto[#Data],Última_entrada_do_projeto-Linha_de_início_do_projeto-DadosdeLinhadoTempodoProjeto[[#This Row],[NUM]]+1,2)),\"\")","v":""},{"$f":"IFERROR(IF(ISBLANK(INDEX(DetalhesDoProjeto[#Data],Última_entrada_do_projeto-Linha_de_início_do_projeto-DadosdeLinhadoTempodoProjeto[[#This Row],[NUM]]+1,3)),\"\",INDEX(DetalhesDoProjeto[#Data],Última_entrada_do_projeto-Linha_de_início_do_projeto-DadosdeLinhadoTempodoProjeto[[#This Row],[NUM]]+1,3)),\"\")","v":""},{"$f":"IFERROR(IF(ISBLANK(INDEX(DetalhesDoProjeto[#Data],ROW(A309)+1,1)),\"\",IF($J313-1<=-1,\"\",$J313-1)),\"\")","v":""},null,null,{"$f":"IFERROR(DadosdeLinhadoTempodoProjeto[[#This Row],[NUM]]+1,\"\")","v":""},{"$f":"IFERROR(VLOOKUP(LinhadoTempoClassificada[[#This Row],[POSIÇÃO classificada]],DadosdeLinhadoTempodoProjeto[],3,0),\"\")","v":""},{"$f":"IFERROR(VLOOKUP(LinhadoTempoClassificada[[#This Row],[POSIÇÃO classificada]],DadosdeLinhadoTempodoProjeto[],4,0),\"\")","v":""},{"$f":"IFERROR(VLOOKUP(LinhadoTempoClassificada[[#This Row],[POSIÇÃO classificada]],DadosdeLinhadoTempodoProjeto[],5,0),\"\")","v":""}]
[{"$nulls":4},{"$f":"IFERROR(RANK(F315,DadosdeLinhadoTempodoProjeto[CLASSIFICAÇÃO])+SUMPRODUCT(--(F315=DadosdeLinhadoTempodoProjeto[CLASSIFICAÇÃO]),--(J315<DadosdeLinhadoTempodoProjeto[NUM])),\"\")","v":""},{"$f":"IFERROR(RANK(DadosdeLinhadoTempodoProjeto[[#This Row],[DATA]],DadosdeLinhadoTempodoProjeto[DATA],1),\"\")","v":""},{"$f":"IFERROR(IF(ISBLANK(INDEX(DetalhesDoProjeto[#Data],Última_entrada_do_projeto-Linha_de_início_do_projeto-DadosdeLinhadoTempodoProjeto[[#This Row],[NUM]]+1,1)),\"\",INDEX(DetalhesDoProjeto[#Data],Última_entrada_do_projeto-Linha_de_início_do_projeto-DadosdeLinhadoTempodoProjeto[[#This Row],[NUM]]+1,1)),\"\")","v":""},{"$f":"IFERROR(IF(ISBLANK(INDEX(DetalhesDoProjeto[#Data],Última_entrada_do_projeto-Linha_de_início_do_projeto-DadosdeLinhadoTempodoProjeto[[#This Row],[NUM]]+1,2)),\"\",INDEX(DetalhesDoProjeto[#Data],Última_entrada_do_projeto-Linha_de_início_do_projeto-DadosdeLinhadoTempodoProjeto[[#This Row],[NUM]]+1,2)),\"\")","v":""},{"$f":"IFERROR(IF(ISBLANK(INDEX(DetalhesDoProjeto[#Data],Última_entrada_do_projeto-Linha_de_início_do_projeto-DadosdeLinhadoTempodoProjeto[[#This Row],[NUM]]+1,3)),\"\",INDEX(DetalhesDoProjeto[#Data],Última_entrada_do_projeto-Linha_de_início_do_projeto-DadosdeLinhadoTempodoProjeto[[#This Row],[NUM]]+1,3)),\"\")","v":""},{"$f":"IFERROR(IF(ISBLANK(INDEX(DetalhesDoProjeto[#Data],ROW(A310)+1,1)),\"\",IF($J314-1<=-1,\"\",$J314-1)),\"\")","v":""},null,null,{"$f":"IFERROR(DadosdeLinhadoTempodoProjeto[[#This Row],[NUM]]+1,\"\")","v":""},{"$f":"IFERROR(VLOOKUP(LinhadoTempoClassificada[[#This Row],[POSIÇÃO classificada]],DadosdeLinhadoTempodoProjeto[],3,0),\"\")","v":""},{"$f":"IFERROR(VLOOKUP(LinhadoTempoClassificada[[#This Row],[POSIÇÃO classificada]],DadosdeLinhadoTempodoProjeto[],4,0),\"\")","v":""},{"$f":"IFERROR(VLOOKUP(LinhadoTempoClassificada[[#This Row],[POSIÇÃO classificada]],DadosdeLinhadoTempodoProjeto[],5,0),\"\")","v":""}]
[{"$nulls":4},{"$f":"IFERROR(RANK(F316,DadosdeLinhadoTempodoProjeto[CLASSIFICAÇÃO])+SUMPRODUCT(--(F316=DadosdeLinhadoTempodoProjeto[CLASSIFICAÇÃO]),--(J316<DadosdeLinhadoTempodoProjeto[NUM])),\"\")","v":""},{"$f":"IFERROR(RANK(DadosdeLinhadoTempodoProjeto[[#This Row],[DATA]],DadosdeLinhadoTempodoProjeto[DATA],1),\"\")","v":""},{"$f":"IFERROR(IF(ISBLANK(INDEX(DetalhesDoProjeto[#Data],Última_entrada_do_projeto-Linha_de_início_do_projeto-DadosdeLinhadoTempodoProjeto[[#This Row],[NUM]]+1,1)),\"\",INDEX(DetalhesDoProjeto[#Data],Última_entrada_do_projeto-Linha_de_início_do_projeto-DadosdeLinhadoTempodoProjeto[[#This Row],[NUM]]+1,1)),\"\")","v":""},{"$f":"IFERROR(IF(ISBLANK(INDEX(DetalhesDoProjeto[#Data],Última_entrada_do_projeto-Linha_de_início_do_projeto-DadosdeLinhadoTempodoProjeto[[#This Row],[NUM]]+1,2)),\"\",INDEX(DetalhesDoProjeto[#Data],Última_entrada_do_projeto-Linha_de_início_do_projeto-DadosdeLinhadoTempodoProjeto[[#This Row],[NUM]]+1,2)),\"\")","v":""},{"$f":"IFERROR(IF(ISBLANK(INDEX(DetalhesDoProjeto[#Data],Última_entrada_do_projeto-Linha_de_início_do_projeto-DadosdeLinhadoTempodoProjeto[[#This Row],[NUM]]+1,3)),\"\",INDEX(DetalhesDoProjeto[#Data],Última_entrada_do_projeto-Linha_de_início_do_projeto-DadosdeLinhadoTempodoProjeto[[#This Row],[NUM]]+1,3)),\"\")","v":""},{"$f":"IFERROR(IF(ISBLANK(INDEX(DetalhesDoProjeto[#Data],ROW(A311)+1,1)),\"\",IF($J315-1<=-1,\"\",$J315-1)),\"\")","v":""},null,null,{"$f":"IFERROR(DadosdeLinhadoTempodoProjeto[[#This Row],[NUM]]+1,\"\")","v":""},{"$f":"IFERROR(VLOOKUP(LinhadoTempoClassificada[[#This Row],[POSIÇÃO classificada]],DadosdeLinhadoTempodoProjeto[],3,0),\"\")","v":""},{"$f":"IFERROR(VLOOKUP(LinhadoTempoClassificada[[#This Row],[POSIÇÃO classificada]],DadosdeLinhadoTempodoProjeto[],4,0),\"\")","v":""},{"$f":"IFERROR(VLOOKUP(LinhadoTempoClassificada[[#This Row],[POSIÇÃO classificada]],DadosdeLinhadoTempodoProjeto[],5,0),\"\")","v":""}]
[{"$nulls":4},{"$f":"IFERROR(RANK(F317,DadosdeLinhadoTempodoProjeto[CLASSIFICAÇÃO])+SUMPRODUCT(--(F317=DadosdeLinhadoTempodoProjeto[CLASSIFICAÇÃO]),--(J317<DadosdeLinhadoTempodoProjeto[NUM])),\"\")","v":""},{"$f":"IFERROR(RANK(DadosdeLinhadoTempodoProjeto[[#This Row],[DATA]],DadosdeLinhadoTempodoProjeto[DATA],1),\"\")","v":""},{"$f":"IFERROR(IF(ISBLANK(INDEX(DetalhesDoProjeto[#Data],Última_entrada_do_projeto-Linha_de_início_do_projeto-DadosdeLinhadoTempodoProjeto[[#This Row],[NUM]]+1,1)),\"\",INDEX(DetalhesDoProjeto[#Data],Última_entrada_do_projeto-Linha_de_início_do_projeto-DadosdeLinhadoTempodoProjeto[[#This Row],[NUM]]+1,1)),\"\")","v":""},{"$f":"IFERROR(IF(ISBLANK(INDEX(DetalhesDoProjeto[#Data],Última_entrada_do_projeto-Linha_de_início_do_projeto-DadosdeLinhadoTempodoProjeto[[#This Row],[NUM]]+1,2)),\"\",INDEX(DetalhesDoProjeto[#Data],Última_entrada_do_projeto-Linha_de_início_do_projeto-DadosdeLinhadoTempodoProjeto[[#This Row],[NUM]]+1,2)),\"\")","v":""},{"$f":"IFERROR(IF(ISBLANK(INDEX(DetalhesDoProjeto[#Data],Última_entrada_do_projeto-Linha_de_início_do_projeto-DadosdeLinhadoTempodoProjeto[[#This Row],[NUM]]+1,3)),\"\",INDEX(DetalhesDoProjeto[#Data],Última_entrada_do_projeto-Linha_de_início_do_projeto-DadosdeLinhadoTempodoProjeto[[#This Row],[NUM]]+1,3)),\"\")","v":""},{"$f":"IFERROR(IF(ISBLANK(INDEX(DetalhesDoProjeto[#Data],ROW(A312)+1,1)),\"\",IF($J316-1<=-1,\"\",$J316-1)),\"\")","v":""},null,null,{"$f":"IFERROR(DadosdeLinhadoTempodoProjeto[[#This Row],[NUM]]+1,\"\")","v":""},{"$f":"IFERROR(VLOOKUP(LinhadoTempoClassificada[[#This Row],[POSIÇÃO classificada]],DadosdeLinhadoTempodoProjeto[],3,0),\"\")","v":""},{"$f":"IFERROR(VLOOKUP(LinhadoTempoClassificada[[#This Row],[POSIÇÃO classificada]],DadosdeLinhadoTempodoProjeto[],4,0),\"\")","v":""},{"$f":"IFERROR(VLOOKUP(LinhadoTempoClassificada[[#This Row],[POSIÇÃO classificada]],DadosdeLinhadoTempodoProjeto[],5,0),\"\")","v":""}]
[{"$nulls":4},{"$f":"IFERROR(RANK(F318,DadosdeLinhadoTempodoProjeto[CLASSIFICAÇÃO])+SUMPRODUCT(--(F318=DadosdeLinhadoTempodoProjeto[CLASSIFICAÇÃO]),--(J318<DadosdeLinhadoTempodoProjeto[NUM])),\"\")","v":""},{"$f":"IFERROR(RANK(DadosdeLinhadoTempodoProjeto[[#This Row],[DATA]],DadosdeLinhadoTempodoProjeto[DATA],1),\"\")","v":""},{"$f":"IFERROR(IF(ISBLANK(INDEX(DetalhesDoProjeto[#Data],Última_entrada_do_projeto-Linha_de_início_do_projeto-DadosdeLinhadoTempodoProjeto[[#This Row],[NUM]]+1,1)),\"\",INDEX(DetalhesDoProjeto[#Data],Última_entrada_do_projeto-Linha_de_início_do_projeto-DadosdeLinhadoTempodoProjeto[[#This Row],[NUM]]+1,1)),\"\")","v":""},{"$f":"IFERROR(IF(ISBLANK(INDEX(DetalhesDoProjeto[#Data],Última_entrada_do_projeto-Linha_de_início_do_projeto-DadosdeLinhadoTempodoProjeto[[#This Row],[NUM]]+1,2)),\"\",INDEX(DetalhesDoProjeto[#Data],Última_entrada_do_projeto-Linha_de_início_do_projeto-DadosdeLinhadoTempodoProjeto[[#This Row],[NUM]]+1,2)),\"\")","v":""},{"$f":"IFERROR(IF(ISBLANK(INDEX(DetalhesDoProjeto[#Data],Última_entrada_do_projeto-Linha_de_início_do_projeto-DadosdeLinhadoTempodoProjeto[[#This Row],[NUM]]+1,3)),\"\",INDEX(DetalhesDoProjeto[#Data],Última_entrada_do_projeto-Linha_de_início_do_projeto-DadosdeLinhadoTempodoProjeto[[#This Row],[NUM]]+1,3)),\"\")","v":""},{"$f":"IFERROR(IF(ISBLANK(INDEX(DetalhesDoProjeto[#Data],ROW(A313)+1,1)),\"\",IF($J317-1<=-1,\"\",$J317-1)),\"\")","v":""},null,null,{"$f":"IFERROR(DadosdeLinhadoTempodoProjeto[[#This Row],[NUM]]+1,\"\")","v":""},{"$f":"IFERROR(VLOOKUP(LinhadoTempoClassificada[[#This Row],[POSIÇÃO classificada]],DadosdeLinhadoTempodoProjeto[],3,0),\"\")","v":""},{"$f":"IFERROR(VLOOKUP(LinhadoTempoClassificada[[#This Row],[POSIÇÃO classificada]],DadosdeLinhadoTempodoProjeto[],4,0),\"\")","v":""},{"$f":"IFERROR(VLOOKUP(LinhadoTempoClassificada[[#This Row],[POSIÇÃO classificada]],DadosdeLinhadoTempodoProjeto[],5,0),\"\")","v":""}]
[{"$nulls":4},{"$f":"IFERROR(RANK(F319,DadosdeLinhadoTempodoProjeto[CLASSIFICAÇÃO])+SUMPRODUCT(--(F319=DadosdeLinhadoTempodoProjeto[CLASSIFICAÇÃO]),--(J319<DadosdeLinhadoTempodoProjeto[NUM])),\"\")","v":""},{"$f":"IFERROR(RANK(DadosdeLinhadoTempodoProjeto[[#This Row],[DATA]],DadosdeLinhadoTempodoProjeto[DATA],1),\"\")","v":""},{"$f":"IFERROR(IF(ISBLANK(INDEX(DetalhesDoProjeto[#Data],Última_entrada_do_projeto-Linha_de_início_do_projeto-DadosdeLinhadoTempodoProjeto[[#This Row],[NUM]]+1,1)),\"\",INDEX(DetalhesDoProjeto[#Data],Última_entrada_do_projeto-Linha_de_início_do_projeto-DadosdeLinhadoTempodoProjeto[[#This Row],[NUM]]+1,1)),\"\")","v":""},{"$f":"IFERROR(IF(ISBLANK(INDEX(DetalhesDoProjeto[#Data],Última_entrada_do_projeto-Linha_de_início_do_projeto-DadosdeLinhadoTempodoProjeto[[#This Row],[NUM]]+1,2)),\"\",INDEX(DetalhesDoProjeto[#Data],Última_entrada_do_projeto-Linha_de_início_do_projeto-DadosdeLinhadoTempodoProjeto[[#This Row],[NUM]]+1,2)),\"\")","v":""},{"$f":"IFERROR(IF(ISBLANK(INDEX(DetalhesDoProjeto[#Data],Última_entrada_do_projeto-Linha_de_início_do_projeto-DadosdeLinhadoTempodoProjeto[[#This Row],[NUM]]+1,3)),\"\",INDEX(DetalhesDoProjeto[#Data],Última_entrada_do_projeto-Linha_de_início_do_projeto-DadosdeLinhadoTempodoProjeto[[#This Row],[NUM]]+1,3)),\"\")","v":""},{"$f":"IFERROR(IF(ISBLANK(INDEX(DetalhesDoProjeto[#Data],ROW(A314)+1,1)),\"\",IF($J318-1<=-1,\"\",$J318-1)),\"\")","v":""},null,null,{"$f":"IFERROR(DadosdeLinhadoTempodoProjeto[[#This Row],[NUM]]+1,\"\")","v":""},{"$f":"IFERROR(VLOOKUP(LinhadoTempoClassificada[[#This Row],[POSIÇÃO classificada]],DadosdeLinhadoTempodoProjeto[],3,0),\"\")","v":""},{"$f":"IFERROR(VLOOKUP(LinhadoTempoClassificada[[#This Row],[POSIÇÃO classificada]],DadosdeLinhadoTempodoProjeto[],4,0),\"\")","v":""},{"$f":"IFERROR(VLOOKUP(LinhadoTempoClassificada[[#This Row],[POSIÇÃO classificada]],DadosdeLinhadoTempodoProjeto[],5,0),\"\")","v":""}]
[{"$nulls":4},{"$f":"IFERROR(RANK(F320,DadosdeLinhadoTempodoProjeto[CLASSIFICAÇÃO])+SUMPRODUCT(--(F320=DadosdeLinhadoTempodoProjeto[CLASSIFICAÇÃO]),--(J320<DadosdeLinhadoTempodoProjeto[NUM])),\"\")","v":""},{"$f":"IFERROR(RANK(DadosdeLinhadoTempodoProjeto[[#This Row],[DATA]],DadosdeLinhadoTempodoProjeto[DATA],1),\"\")","v":""},{"$f":"IFERROR(IF(ISBLANK(INDEX(DetalhesDoProjeto[#Data],Última_entrada_do_projeto-Linha_de_início_do_projeto-DadosdeLinhadoTempodoProjeto[[#This Row],[NUM]]+1,1)),\"\",INDEX(DetalhesDoProjeto[#Data],Última_entrada_do_projeto-Linha_de_início_do_projeto-DadosdeLinhadoTempodoProjeto[[#This Row],[NUM]]+1,1)),\"\")","v":""},{"$f":"IFERROR(IF(ISBLANK(INDEX(DetalhesDoProjeto[#Data],Última_entrada_do_projeto-Linha_de_início_do_projeto-DadosdeLinhadoTempodoProjeto[[#This Row],[NUM]]+1,2)),\"\",INDEX(DetalhesDoProjeto[#Data],Última_entrada_do_projeto-Linha_de_início_do_projeto-DadosdeLinhadoTempodoProjeto[[#This Row],[NUM]]+1,2)),\"\")","v":""},{"$f":"IFERROR(IF(ISBLANK(INDEX(DetalhesDoProjeto[#Data],Última_entrada_do_projeto-Linha_de_início_do_projeto-DadosdeLinhadoTempodoProjeto[[#This Row],[NUM]]+1,3)),\"\",INDEX(DetalhesDoProjeto[#Data],Última_entrada_do_projeto-Linha_de_início_do_projeto-DadosdeLinhadoTempodoProjeto[[#This Row],[NUM]]+1,3)),\"\")","v":""},{"$f":"IFERROR(IF(ISBLANK(INDEX(DetalhesDoProjeto[#Data],ROW(A315)+1,1)),\"\",IF($J319-1<=-1,\"\",$J319-1)),\"\")","v":""},null,null,{"$f":"IFERROR(DadosdeLinhadoTempodoProjeto[[#This Row],[NUM]]+1,\"\")","v":""},{"$f":"IFERROR(VLOOKUP(LinhadoTempoClassificada[[#This Row],[POSIÇÃO classificada]],DadosdeLinhadoTempodoProjeto[],3,0),\"\")","v":""},{"$f":"IFERROR(VLOOKUP(LinhadoTempoClassificada[[#This Row],[POSIÇÃO classificada]],DadosdeLinhadoTempodoProjeto[],4,0),\"\")","v":""},{"$f":"IFERROR(VLOOKUP(LinhadoTempoClassificada[[#This Row],[POSIÇÃO classificada]],DadosdeLinhadoTempodoProjeto[],5,0),\"\")","v":""}]
[{"$nulls":4},{"$f":"IFERROR(RANK(F321,DadosdeLinhadoTempodoProjeto[CLASSIFICAÇÃO])+SUMPRODUCT(--(F321=DadosdeLinhadoTempodoProjeto[CLASSIFICAÇÃO]),--(J321<DadosdeLinhadoTempodoProjeto[NUM])),\"\")","v":""},{"$f":"IFERROR(RANK(DadosdeLinhadoTempodoProjeto[[#This Row],[DATA]],DadosdeLinhadoTempodoProjeto[DATA],1),\"\")","v":""},{"$f":"IFERROR(IF(ISBLANK(INDEX(DetalhesDoProjeto[#Data],Última_entrada_do_projeto-Linha_de_início_do_projeto-DadosdeLinhadoTempodoProjeto[[#This Row],[NUM]]+1,1)),\"\",INDEX(DetalhesDoProjeto[#Data],Última_entrada_do_projeto-Linha_de_início_do_projeto-DadosdeLinhadoTempodoProjeto[[#This Row],[NUM]]+1,1)),\"\")","v":""},{"$f":"IFERROR(IF(ISBLANK(INDEX(DetalhesDoProjeto[#Data],Última_entrada_do_projeto-Linha_de_início_do_projeto-DadosdeLinhadoTempodoProjeto[[#This Row],[NUM]]+1,2)),\"\",INDEX(DetalhesDoProjeto[#Data],Última_entrada_do_projeto-Linha_de_início_do_projeto-DadosdeLinhadoTempodoProjeto[[#This Row],[NUM]]+1,2)),\"\")","v":""},{"$f":"IFERROR(IF(ISBLANK(INDEX(DetalhesDoProjeto[#Data],Última_entrada_do_projeto-Linha_de_início_do_projeto-DadosdeLinhadoTempodoProjeto[[#This Row],[NUM]]+1,3)),\"\",INDEX(DetalhesDoProjeto[#Data],Última_entrada_do_projeto-Linha_de_início_do_projeto-DadosdeLinhadoTempodoProjeto[[#This Row],[NUM]]+1,3)),\"\")","v":""},{"$f":"IFERROR(IF(ISBLANK(INDEX(DetalhesDoProjeto[#Data],ROW(A316)+1,1)),\"\",IF($J320-1<=-1,\"\",$J320-1)),\"\")","v":""},null,null,{"$f":"IFERROR(DadosdeLinhadoTempodoProjeto[[#This Row],[NUM]]+1,\"\")","v":""},{"$f":"IFERROR(VLOOKUP(LinhadoTempoClassificada[[#This Row],[POSIÇÃO classificada]],DadosdeLinhadoTempodoProjeto[],3,0),\"\")","v":""},{"$f":"IFERROR(VLOOKUP(LinhadoTempoClassificada[[#This Row],[POSIÇÃO classificada]],DadosdeLinhadoTempodoProjeto[],4,0),\"\")","v":""},{"$f":"IFERROR(VLOOKUP(LinhadoTempoClassificada[[#This Row],[POSIÇÃO classificada]],DadosdeLinhadoTempodoProjeto[],5,0),\"\")","v":""}]
[{"$nulls":4},{"$f":"IFERROR(RANK(F322,DadosdeLinhadoTempodoProjeto[CLASSIFICAÇÃO])+SUMPRODUCT(--(F322=DadosdeLinhadoTempodoProjeto[CLASSIFICAÇÃO]),--(J322<DadosdeLinhadoTempodoProjeto[NUM])),\"\")","v":""},{"$f":"IFERROR(RANK(DadosdeLinhadoTempodoProjeto[[#This Row],[DATA]],DadosdeLinhadoTempodoProjeto[DATA],1),\"\")","v":""},{"$f":"IFERROR(IF(ISBLANK(INDEX(DetalhesDoProjeto[#Data],Última_entrada_do_projeto-Linha_de_início_do_projeto-DadosdeLinhadoTempodoProjeto[[#This Row],[NUM]]+1,1)),\"\",INDEX(DetalhesDoProjeto[#Data],Última_entrada_do_projeto-Linha_de_início_do_projeto-DadosdeLinhadoTempodoProjeto[[#This Row],[NUM]]+1,1)),\"\")","v":""},{"$f":"IFERROR(IF(ISBLANK(INDEX(DetalhesDoProjeto[#Data],Última_entrada_do_projeto-Linha_de_início_do_projeto-DadosdeLinhadoTempodoProjeto[[#This Row],[NUM]]+1,2)),\"\",INDEX(DetalhesDoProjeto[#Data],Última_entrada_do_projeto-Linha_de_início_do_projeto-DadosdeLinhadoTempodoProjeto[[#This Row],[NUM]]+1,2)),\"\")","v":""},{"$f":"IFERROR(IF(ISBLANK(INDEX(DetalhesDoProjeto[#Data],Última_entrada_do_projeto-Linha_de_início_do_projeto-DadosdeLinhadoTempodoProjeto[[#This Row],[NUM]]+1,3)),\"\",INDEX(DetalhesDoProjeto[#Data],Última_entrada_do_projeto-Linha_de_início_do_projeto-DadosdeLinhadoTempodoProjeto[[#This Row],[NUM]]+1,3)),\"\")","v":""},{"$f":"IFERROR(IF(ISBLANK(INDEX(DetalhesDoProjeto[#Data],ROW(A317)+1,1)),\"\",IF($J321-1<=-1,\"\",$J321-1)),\"\")","v":""},null,null,{"$f":"IFERROR(DadosdeLinhadoTempodoProjeto[[#This Row],[NUM]]+1,\"\")","v":""},{"$f":"IFERROR(VLOOKUP(LinhadoTempoClassificada[[#This Row],[POSIÇÃO classificada]],DadosdeLinhadoTempodoProjeto[],3,0),\"\")","v":""},{"$f":"IFERROR(VLOOKUP(LinhadoTempoClassificada[[#This Row],[POSIÇÃO classificada]],DadosdeLinhadoTempodoProjeto[],4,0),\"\")","v":""},{"$f":"IFERROR(VLOOKUP(LinhadoTempoClassificada[[#This Row],[POSIÇÃO classificada]],DadosdeLinhadoTempodoProjeto[],5,0),\"\")","v":""}]
[{"$nulls":4},{"$f":"IFERROR(RANK(F323,DadosdeLinhadoTempodoProjeto[CLASSIFICAÇÃO])+SUMPRODUCT(--(F323=DadosdeLinhadoTempodoProjeto[CLASSIFICAÇÃO]),--(J323<DadosdeLinhadoTempodoProjeto[NUM])),\"\")","v":""},{"$f":"IFERROR(RANK(DadosdeLinhadoTempodoProjeto[[#This Row],[DATA]],DadosdeLinhadoTempodoProjeto[DATA],1),\"\")","v":""},{"$f":"IFERROR(IF(ISBLANK(INDEX(DetalhesDoProjeto[#Data],Última_entrada_do_projeto-Linha_de_início_do_projeto-DadosdeLinhadoTempodoProjeto[[#This Row],[NUM]]+1,1)),\"\",INDEX(DetalhesDoProjeto[#Data],Última_entrada_do_projeto-Linha_de_início_do_projeto-DadosdeLinhadoTempodoProjeto[[#This Row],[NUM]]+1,1)),\"\")","v":""},{"$f":"IFERROR(IF(ISBLANK(INDEX(DetalhesDoProjeto[#Data],Última_entrada_do_projeto-Linha_de_início_do_projeto-DadosdeLinhadoTempodoProjeto[[#This Row],[NUM]]+1,2)),\"\",INDEX(DetalhesDoProjeto[#Data],Última_entrada_do_projeto-Linha_de_início_do_projeto-DadosdeLinhadoTempodoProjeto[[#This Row],[NUM]]+1,2)),\"\")","v":""},{"$f":"IFERROR(IF(ISBLANK(INDEX(DetalhesDoProjeto[#Data],Última_entrada_do_projeto-Linha_de_início_do_projeto-DadosdeLinhadoTempodoProjeto[[#This Row],[NUM]]+1,3)),\"\",INDEX(DetalhesDoProjeto[#Data],Última_entrada_do_projeto-Linha_de_início_do_projeto-DadosdeLinhadoTempodoProjeto[[#This Row],[NUM]]+1,3)),\"\")","v":""},{"$f":"IFERROR(IF(ISBLANK(INDEX(DetalhesDoProjeto[#Data],ROW(A318)+1,1)),\"\",IF($J322-1<=-1,\"\",$J322-1)),\"\")","v":""},null,null,{"$f":"IFERROR(DadosdeLinhadoTempodoProjeto[[#This Row],[NUM]]+1,\"\")","v":""},{"$f":"IFERROR(VLOOKUP(LinhadoTempoClassificada[[#This Row],[POSIÇÃO classificada]],DadosdeLinhadoTempodoProjeto[],3,0),\"\")","v":""},{"$f":"IFERROR(VLOOKUP(LinhadoTempoClassificada[[#This Row],[POSIÇÃO classificada]],DadosdeLinhadoTempodoProjeto[],4,0),\"\")","v":""},{"$f":"IFERROR(VLOOKUP(LinhadoTempoClassificada[[#This Row],[POSIÇÃO classificada]],DadosdeLinhadoTempodoProjeto[],5,0),\"\")","v":""}]
[{"$nulls":4},{"$f":"IFERROR(RANK(F324,DadosdeLinhadoTempodoProjeto[CLASSIFICAÇÃO])+SUMPRODUCT(--(F324=DadosdeLinhadoTempodoProjeto[CLASSIFICAÇÃO]),--(J324<DadosdeLinhadoTempodoProjeto[NUM])),\"\")","v":""},{"$f":"IFERROR(RANK(DadosdeLinhadoTempodoProjeto[[#This Row],[DATA]],DadosdeLinhadoTempodoProjeto[DATA],1),\"\")","v":""},{"$f":"IFERROR(IF(ISBLANK(INDEX(DetalhesDoProjeto[#Data],Última_entrada_do_projeto-Linha_de_início_do_projeto-DadosdeLinhadoTempodoProjeto[[#This Row],[NUM]]+1,1)),\"\",INDEX(DetalhesDoProjeto[#Data],Última_entrada_do_projeto-Linha_de_início_do_projeto-DadosdeLinhadoTempodoProjeto[[#This Row],[NUM]]+1,1)),\"\")","v":""},{"$f":"IFERROR(IF(ISBLANK(INDEX(DetalhesDoProjeto[#Data],Última_entrada_do_projeto-Linha_de_início_do_projeto-DadosdeLinhadoTempodoProjeto[[#This Row],[NUM]]+1,2)),\"\",INDEX(DetalhesDoProjeto[#Data],Última_entrada_do_projeto-Linha_de_início_do_projeto-DadosdeLinhadoTempodoProjeto[[#This Row],[NUM]]+1,2)),\"\")","v":""},{"$f":"IFERROR(IF(ISBLANK(INDEX(DetalhesDoProjeto[#Data],Última_entrada_do_projeto-Linha_de_início_do_projeto-DadosdeLinhadoTempodoProjeto[[#This Row],[NUM]]+1,3)),\"\",INDEX(DetalhesDoProjeto[#Data],Última_entrada_do_projeto-Linha_de_início_do_projeto-DadosdeLinhadoTempodoProjeto[[#This Row],[NUM]]+1,3)),\"\")","v":""},{"$f":"IFERROR(IF(ISBLANK(INDEX(DetalhesDoProjeto[#Data],ROW(A319)+1,1)),\"\",IF($J323-1<=-1,\"\",$J323-1)),\"\")","v":""},null,null,{"$f":"IFERROR(DadosdeLinhadoTempodoProjeto[[#This Row],[NUM]]+1,\"\")","v":""},{"$f":"IFERROR(VLOOKUP(LinhadoTempoClassificada[[#This Row],[POSIÇÃO classificada]],DadosdeLinhadoTempodoProjeto[],3,0),\"\")","v":""},{"$f":"IFERROR(VLOOKUP(LinhadoTempoClassificada[[#This Row],[POSIÇÃO classificada]],DadosdeLinhadoTempodoProjeto[],4,0),\"\")","v":""},{"$f":"IFERROR(VLOOKUP(LinhadoTempoClassificada[[#This Row],[POSIÇÃO classificada]],DadosdeLinhadoTempodoProjeto[],5,0),\"\")","v":""}]
[{"$nulls":4},{"$f":"IFERROR(RANK(F325,DadosdeLinhadoTempodoProjeto[CLASSIFICAÇÃO])+SUMPRODUCT(--(F325=DadosdeLinhadoTempodoProjeto[CLASSIFICAÇÃO]),--(J325<DadosdeLinhadoTempodoProjeto[NUM])),\"\")","v":""},{"$f":"IFERROR(RANK(DadosdeLinhadoTempodoProjeto[[#This Row],[DATA]],DadosdeLinhadoTempodoProjeto[DATA],1),\"\")","v":""},{"$f":"IFERROR(IF(ISBLANK(INDEX(DetalhesDoProjeto[#Data],Última_entrada_do_projeto-Linha_de_início_do_projeto-DadosdeLinhadoTempodoProjeto[[#This Row],[NUM]]+1,1)),\"\",INDEX(DetalhesDoProjeto[#Data],Última_entrada_do_projeto-Linha_de_início_do_projeto-DadosdeLinhadoTempodoProjeto[[#This Row],[NUM]]+1,1)),\"\")","v":""},{"$f":"IFERROR(IF(ISBLANK(INDEX(DetalhesDoProjeto[#Data],Última_entrada_do_projeto-Linha_de_início_do_projeto-DadosdeLinhadoTempodoProjeto[[#This Row],[NUM]]+1,2)),\"\",INDEX(DetalhesDoProjeto[#Data],Última_entrada_do_projeto-Linha_de_início_do_projeto-DadosdeLinhadoTempodoProjeto[[#This Row],[NUM]]+1,2)),\"\")","v":""},{"$f":"IFERROR(IF(ISBLANK(INDEX(DetalhesDoProjeto[#Data],Última_entrada_do_projeto-Linha_de_início_do_projeto-DadosdeLinhadoTempodoProjeto[[#This Row],[NUM]]+1,3)),\"\",INDEX(DetalhesDoProjeto[#Data],Última_entrada_do_projeto-Linha_de_início_do_projeto-DadosdeLinhadoTempodoProjeto[[#This Row],[NUM]]+1,3)),\"\")","v":""},{"$f":"IFERROR(IF(ISBLANK(INDEX(DetalhesDoProjeto[#Data],ROW(A320)+1,1)),\"\",IF($J324-1<=-1,\"\",$J324-1)),\"\")","v":""},null,null,{"$f":"IFERROR(DadosdeLinhadoTempodoProjeto[[#This Row],[NUM]]+1,\"\")","v":""},{"$f":"IFERROR(VLOOKUP(LinhadoTempoClassificada[[#This Row],[POSIÇÃO classificada]],DadosdeLinhadoTempodoProjeto[],3,0),\"\")","v":""},{"$f":"IFERROR(VLOOKUP(LinhadoTempoClassificada[[#This Row],[POSIÇÃO classificada]],DadosdeLinhadoTempodoProjeto[],4,0),\"\")","v":""},{"$f":"IFERROR(VLOOKUP(LinhadoTempoClassificada[[#This Row],[POSIÇÃO classificada]],DadosdeLinhadoTempodoProjeto[],5,0),\"\")","v":""}]
[{"$nulls":4},{"$f":"IFERROR(RANK(F326,DadosdeLinhadoTempodoProjeto[CLASSIFICAÇÃO])+SUMPRODUCT(--(F326=DadosdeLinhadoTempodoProjeto[CLASSIFICAÇÃO]),--(J326<DadosdeLinhadoTempodoProjeto[NUM])),\"\")","v":""},{"$f":"IFERROR(RANK(DadosdeLinhadoTempodoProjeto[[#This Row],[DATA]],DadosdeLinhadoTempodoProjeto[DATA],1),\"\")","v":""},{"$f":"IFERROR(IF(ISBLANK(INDEX(DetalhesDoProjeto[#Data],Última_entrada_do_projeto-Linha_de_início_do_projeto-DadosdeLinhadoTempodoProjeto[[#This Row],[NUM]]+1,1)),\"\",INDEX(DetalhesDoProjeto[#Data],Última_entrada_do_projeto-Linha_de_início_do_projeto-DadosdeLinhadoTempodoProjeto[[#This Row],[NUM]]+1,1)),\"\")","v":""},{"$f":"IFERROR(IF(ISBLANK(INDEX(DetalhesDoProjeto[#Data],Última_entrada_do_projeto-Linha_de_início_do_projeto-DadosdeLinhadoTempodoProjeto[[#This Row],[NUM]]+1,2)),\"\",INDEX(DetalhesDoProjeto[#Data],Última_entrada_do_projeto-Linha_de_início_do_projeto-DadosdeLinhadoTempodoProjeto[[#This Row],[NUM]]+1,2)),\"\")","v":""},{"$f":"IFERROR(IF(ISBLANK(INDEX(DetalhesDoProjeto[#Data],Última_entrada_do_projeto-Linha_de_início_do_projeto-DadosdeLinhadoTempodoProjeto[[#This Row],[NUM]]+1,3)),\"\",INDEX(DetalhesDoProjeto[#Data],Última_entrada_do_projeto-Linha_de_início_do_projeto-DadosdeLinhadoTempodoProjeto[[#This Row],[NUM]]+1,3)),\"\")","v":""},{"$f":"IFERROR(IF(ISBLANK(INDEX(DetalhesDoProjeto[#Data],ROW(A321)+1,1)),\"\",IF($J325-1<=-1,\"\",$J325-1)),\"\")","v":""},null,null,{"$f":"IFERROR(DadosdeLinhadoTempodoProjeto[[#This Row],[NUM]]+1,\"\")","v":""},{"$f":"IFERROR(VLOOKUP(LinhadoTempoClassificada[[#This Row],[POSIÇÃO classificada]],DadosdeLinhadoTempodoProjeto[],3,0),\"\")","v":""},{"$f":"IFERROR(VLOOKUP(LinhadoTempoClassificada[[#This Row],[POSIÇÃO classificada]],DadosdeLinhadoTempodoProjeto[],4,0),\"\")","v":""},{"$f":"IFERROR(VLOOKUP(LinhadoTempoClassificada[[#This Row],[POSIÇÃO classificada]],DadosdeLinhadoTempodoProjeto[],5,0),\"\")","v":""}]
[{"$nulls":4},{"$f":"IFERROR(RANK(F327,DadosdeLinhadoTempodoProjeto[CLASSIFICAÇÃO])+SUMPRODUCT(--(F327=DadosdeLinhadoTempodoProjeto[CLASSIFICAÇÃO]),--(J327<DadosdeLinhadoTempodoProjeto[NUM])),\"\")","v":""},{"$f":"IFERROR(RANK(DadosdeLinhadoTempodoProjeto[[#This Row],[DATA]],DadosdeLinhadoTempodoProjeto[DATA],1),\"\")","v":""},{"$f":"IFERROR(IF(ISBLANK(INDEX(DetalhesDoProjeto[#Data],Última_entrada_do_projeto-Linha_de_início_do_projeto-DadosdeLinhadoTempodoProjeto[[#This Row],[NUM]]+1,1)),\"\",INDEX(DetalhesDoProjeto[#Data],Última_entrada_do_projeto-Linha_de_início_do_projeto-DadosdeLinhadoTempodoProjeto[[#This Row],[NUM]]+1,1)),\"\")","v":""},{"$f":"IFERROR(IF(ISBLANK(INDEX(DetalhesDoProjeto[#Data],Última_entrada_do_projeto-Linha_de_início_do_projeto-DadosdeLinhadoTempodoProjeto[[#This Row],[NUM]]+1,2)),\"\",INDEX(DetalhesDoProjeto[#Data],Última_entrada_do_projeto-Linha_de_início_do_projeto-DadosdeLinhadoTempodoProjeto[[#This Row],[NUM]]+1,2)),\"\")","v":""},{"$f":"IFERROR(IF(ISBLANK(INDEX(DetalhesDoProjeto[#Data],Última_entrada_do_projeto-Linha_de_início_do_projeto-DadosdeLinhadoTempodoProjeto[[#This Row],[NUM]]+1,3)),\"\",INDEX(DetalhesDoProjeto[#Data],Última_entrada_do_projeto-Linha_de_início_do_projeto-DadosdeLinhadoTempodoProjeto[[#This Row],[NUM]]+1,3)),\"\")","v":""},{"$f":"IFERROR(IF(ISBLANK(INDEX(DetalhesDoProjeto[#Data],ROW(A322)+1,1)),\"\",IF($J326-1<=-1,\"\",$J326-1)),\"\")","v":""},null,null,{"$f":"IFERROR(DadosdeLinhadoTempodoProjeto[[#This Row],[NUM]]+1,\"\")","v":""},{"$f":"IFERROR(VLOOKUP(LinhadoTempoClassificada[[#This Row],[POSIÇÃO classificada]],DadosdeLinhadoTempodoProjeto[],3,0),\"\")","v":""},{"$f":"IFERROR(VLOOKUP(LinhadoTempoClassificada[[#This Row],[POSIÇÃO classificada]],DadosdeLinhadoTempodoProjeto[],4,0),\"\")","v":""},{"$f":"IFERROR(VLOOKUP(LinhadoTempoClassificada[[#This Row],[POSIÇÃO classificada]],DadosdeLinhadoTempodoProjeto[],5,0),\"\")","v":""}]
[{"$nulls":4},{"$f":"IFERROR(RANK(F328,DadosdeLinhadoTempodoProjeto[CLASSIFICAÇÃO])+SUMPRODUCT(--(F328=DadosdeLinhadoTempodoProjeto[CLASSIFICAÇÃO]),--(J328<DadosdeLinhadoTempodoProjeto[NUM])),\"\")","v":""},{"$f":"IFERROR(RANK(DadosdeLinhadoTempodoProjeto[[#This Row],[DATA]],DadosdeLinhadoTempodoProjeto[DATA],1),\"\")","v":""},{"$f":"IFERROR(IF(ISBLANK(INDEX(DetalhesDoProjeto[#Data],Última_entrada_do_projeto-Linha_de_início_do_projeto-DadosdeLinhadoTempodoProjeto[[#This Row],[NUM]]+1,1)),\"\",INDEX(DetalhesDoProjeto[#Data],Última_entrada_do_projeto-Linha_de_início_do_projeto-DadosdeLinhadoTempodoProjeto[[#This Row],[NUM]]+1,1)),\"\")","v":""},{"$f":"IFERROR(IF(ISBLANK(INDEX(DetalhesDoProjeto[#Data],Última_entrada_do_projeto-Linha_de_início_do_projeto-DadosdeLinhadoTempodoProjeto[[#This Row],[NUM]]+1,2)),\"\",INDEX(DetalhesDoProjeto[#Data],Última_entrada_do_projeto-Linha_de_início_do_projeto-DadosdeLinhadoTempodoProjeto[[#This Row],[NUM]]+1,2)),\"\")","v":""},{"$f":"IFERROR(IF(ISBLANK(INDEX(DetalhesDoProjeto[#Data],Última_entrada_do_projeto-Linha_de_início_do_projeto-DadosdeLinhadoTempodoProjeto[[#This Row],[NUM]]+1,3)),\"\",INDEX(DetalhesDoProjeto[#Data],Última_entrada_do_projeto-Linha_de_início_do_projeto-DadosdeLinhadoTempodoProjeto[[#This Row],[NUM]]+1,3)),\"\")","v":""},{"$f":"IFERROR(IF(ISBLANK(INDEX(DetalhesDoProjeto[#Data],ROW(A323)+1,1)),\"\",IF($J327-1<=-1,\"\",$J327-1)),\"\")","v":""},null,null,{"$f":"IFERROR(DadosdeLinhadoTempodoProjeto[[#This Row],[NUM]]+1,\"\")","v":""},{"$f":"IFERROR(VLOOKUP(LinhadoTempoClassificada[[#This Row],[POSIÇÃO classificada]],DadosdeLinhadoTempodoProjeto[],3,0),\"\")","v":""},{"$f":"IFERROR(VLOOKUP(LinhadoTempoClassificada[[#This Row],[POSIÇÃO classificada]],DadosdeLinhadoTempodoProjeto[],4,0),\"\")","v":""},{"$f":"IFERROR(VLOOKUP(LinhadoTempoClassificada[[#This Row],[POSIÇÃO classificada]],DadosdeLinhadoTempodoProjeto[],5,0),\"\")","v":""}]
[{"$nulls":4},{"$f":"IFERROR(RANK(F329,DadosdeLinhadoTempodoProjeto[CLASSIFICAÇÃO])+SUMPRODUCT(--(F329=DadosdeLinhadoTempodoProjeto[CLASSIFICAÇÃO]),--(J329<DadosdeLinhadoTempodoProjeto[NUM])),\"\")","v":""},{"$f":"IFERROR(RANK(DadosdeLinhadoTempodoProjeto[[#This Row],[DATA]],DadosdeLinhadoTempodoProjeto[DATA],1),\"\")","v":""},{"$f":"IFERROR(IF(ISBLANK(INDEX(DetalhesDoProjeto[#Data],Última_entrada_do_projeto-Linha_de_início_do_projeto-DadosdeLinhadoTempodoProjeto[[#This Row],[NUM]]+1,1)),\"\",INDEX(DetalhesDoProjeto[#Data],Última_entrada_do_projeto-Linha_de_início_do_projeto-DadosdeLinhadoTempodoProjeto[[#This Row],[NUM]]+1,1)),\"\")","v":""},{"$f":"IFERROR(IF(ISBLANK(INDEX(DetalhesDoProjeto[#Data],Última_entrada_do_projeto-Linha_de_início_do_projeto-DadosdeLinhadoTempodoProjeto[[#This Row],[NUM]]+1,2)),\"\",INDEX(DetalhesDoProjeto[#Data],Última_entrada_do_projeto-Linha_de_início_do_projeto-DadosdeLinhadoTempodoProjeto[[#This Row],[NUM]]+1,2)),\"\")","v":""},{"$f":"IFERROR(IF(ISBLANK(INDEX(DetalhesDoProjeto[#Data],Última_entrada_do_projeto-Linha_de_início_do_projeto-DadosdeLinhadoTempodoProjeto[[#This Row],[NUM]]+1,3)),\"\",INDEX(DetalhesDoProjeto[#Data],Última_entrada_do_projeto-Linha_de_início_do_projeto-DadosdeLinhadoTempodoProjeto[[#This Row],[NUM]]+1,3)),\"\")","v":""},{"$f":"IFERROR(IF(ISBLANK(INDEX(DetalhesDoProjeto[#Data],ROW(A324)+1,1)),\"\",IF($J328-1<=-1,\"\",$J328-1)),\"\")","v":""},null,null,{"$f":"IFERROR(DadosdeLinhadoTempodoProjeto[[#This Row],[NUM]]+1,\"\")","v":""},{"$f":"IFERROR(VLOOKUP(LinhadoTempoClassificada[[#This Row],[POSIÇÃO classificada]],DadosdeLinhadoTempodoProjeto[],3,0),\"\")","v":""},{"$f":"IFERROR(VLOOKUP(LinhadoTempoClassificada[[#This Row],[POSIÇÃO classificada]],DadosdeLinhadoTempodoProjeto[],4,0),\"\")","v":""},{"$f":"IFERROR(VLOOKUP(LinhadoTempoClassificada[[#This Row],[POSIÇÃO classificada]],DadosdeLinhadoTempodoProjeto[],5,0),\"\")","v":""}]
[{"$nulls":4},{"$f":"IFERROR(RANK(F330,DadosdeLinhadoTempodoProjeto[CLASSIFICAÇÃO])+SUMPRODUCT(--(F330=DadosdeLinhadoTempodoProjeto[CLASSIFICAÇÃO]),--(J330<DadosdeLinhadoTempodoProjeto[NUM])),\"\")","v":""},{"$f":"IFERROR(RANK(DadosdeLinhadoTempodoProjeto[[#This Row],[DATA]],DadosdeLinhadoTempodoProjeto[DATA],1),\"\")","v":""},{"$f":"IFERROR(IF(ISBLANK(INDEX(DetalhesDoProjeto[#Data],Última_entrada_do_projeto-Linha_de_início_do_projeto-DadosdeLinhadoTempodoProjeto[[#This Row],[NUM]]+1,1)),\"\",INDEX(DetalhesDoProjeto[#Data],Última_entrada_do_projeto-Linha_de_início_do_projeto-DadosdeLinhadoTempodoProjeto[[#This Row],[NUM]]+1,1)),\"\")","v":""},{"$f":"IFERROR(IF(ISBLANK(INDEX(DetalhesDoProjeto[#Data],Última_entrada_do_projeto-Linha_de_início_do_projeto-DadosdeLinhadoTempodoProjeto[[#This Row],[NUM]]+1,2)),\"\",INDEX(DetalhesDoProjeto[#Data],Última_entrada_do_projeto-Linha_de_início_do_projeto-DadosdeLinhadoTempodoProjeto[[#This Row],[NUM]]+1,2)),\"\")","v":""},{"$f":"IFERROR(IF(ISBLANK(INDEX(DetalhesDoProjeto[#Data],Última_entrada_do_projeto-Linha_de_início_do_projeto-DadosdeLinhadoTempodoProjeto[[#This Row],[NUM]]+1,3)),\"\",INDEX(DetalhesDoProjeto[#Data],Última_entrada_do_projeto-Linha_de_início_do_projeto-DadosdeLinhadoTempodoProjeto[[#This Row],[NUM]]+1,3)),\"\")","v":""},{"$f":"IFERROR(IF(ISBLANK(INDEX(DetalhesDoProjeto[#Data],ROW(A325)+1,1)),\"\",IF($J329-1<=-1,\"\",$J329-1)),\"\")","v":""},null,null,{"$f":"IFERROR(DadosdeLinhadoTempodoProjeto[[#This Row],[NUM]]+1,\"\")","v":""},{"$f":"IFERROR(VLOOKUP(LinhadoTempoClassificada[[#This Row],[POSIÇÃO classificada]],DadosdeLinhadoTempodoProjeto[],3,0),\"\")","v":""},{"$f":"IFERROR(VLOOKUP(LinhadoTempoClassificada[[#This Row],[POSIÇÃO classificada]],DadosdeLinhadoTempodoProjeto[],4,0),\"\")","v":""},{"$f":"IFERROR(VLOOKUP(LinhadoTempoClassificada[[#This Row],[POSIÇÃO classificada]],DadosdeLinhadoTempodoProjeto[],5,0),\"\")","v":""}]
[{"$nulls":4},{"$f":"IFERROR(RANK(F331,DadosdeLinhadoTempodoProjeto[CLASSIFICAÇÃO])+SUMPRODUCT(--(F331=DadosdeLinhadoTempodoProjeto[CLASSIFICAÇÃO]),--(J331<DadosdeLinhadoTempodoProjeto[NUM])),\"\")","v":""},{"$f":"IFERROR(RANK(DadosdeLinhadoTempodoProjeto[[#This Row],[DATA]],DadosdeLinhadoTempodoProjeto[DATA],1),\"\")","v":""},{"$f":"IFERROR(IF(ISBLANK(INDEX(DetalhesDoProjeto[#Data],Última_entrada_do_projeto-Linha_de_início_do_projeto-DadosdeLinhadoTempodoProjeto[[#This Row],[NUM]]+1,1)),\"\",INDEX(DetalhesDoProjeto[#Data],Última_entrada_do_projeto-Linha_de_início_do_projeto-DadosdeLinhadoTempodoProjeto[[#This Row],[NUM]]+1,1)),\"\")","v":""},{"$f":"IFERROR(IF(ISBLANK(INDEX(DetalhesDoProjeto[#Data],Última_entrada_do_projeto-Linha_de_início_do_projeto-DadosdeLinhadoTempodoProjeto[[#This Row],[NUM]]+1,2)),\"\",INDEX(DetalhesDoProjeto[#Data],Última_entrada_do_projeto-Linha_de_início_do_projeto-DadosdeLinhadoTempodoProjeto[[#This Row],[NUM]]+1,2)),\"\")","v":""},{"$f":"IFERROR(IF(ISBLANK(INDEX(DetalhesDoProjeto[#Data],Última_entrada_do_projeto-Linha_de_início_do_projeto-DadosdeLinhadoTempodoProjeto[[#This Row],[NUM]]+1,3)),\"\",INDEX(DetalhesDoProjeto[#Data],Última_entrada_do_projeto-Linha_de_início_do_projeto-DadosdeLinhadoTempodoProjeto[[#This Row],[NUM]]+1,3)),\"\")","v":""},{"$f":"IFERROR(IF(ISBLANK(INDEX(DetalhesDoProjeto[#Data],ROW(A326)+1,1)),\"\",IF($J330-1<=-1,\"\",$J330-1)),\"\")","v":""},null,null,{"$f":"IFERROR(DadosdeLinhadoTempodoProjeto[[#This Row],[NUM]]+1,\"\")","v":""},{"$f":"IFERROR(VLOOKUP(LinhadoTempoClassificada[[#This Row],[POSIÇÃO classificada]],DadosdeLinhadoTempodoProjeto[],3,0),\"\")","v":""},{"$f":"IFERROR(VLOOKUP(LinhadoTempoClassificada[[#This Row],[POSIÇÃO classificada]],DadosdeLinhadoTempodoProjeto[],4,0),\"\")","v":""},{"$f":"IFERROR(VLOOKUP(LinhadoTempoClassificada[[#This Row],[POSIÇÃO classificada]],DadosdeLinhadoTempodoProjeto[],5,0),\"\")","v":""}]
[{"$nulls":4},{"$f":"IFERROR(RANK(F332,DadosdeLinhadoTempodoProjeto[CLASSIFICAÇÃO])+SUMPRODUCT(--(F332=DadosdeLinhadoTempodoProjeto[CLASSIFICAÇÃO]),--(J332<DadosdeLinhadoTempodoProjeto[NUM])),\"\")","v":""},{"$f":"IFERROR(RANK(DadosdeLinhadoTempodoProjeto[[#This Row],[DATA]],DadosdeLinhadoTempodoProjeto[DATA],1),\"\")","v":""},{"$f":"IFERROR(IF(ISBLANK(INDEX(DetalhesDoProjeto[#Data],Última_entrada_do_projeto-Linha_de_início_do_projeto-DadosdeLinhadoTempodoProjeto[[#This Row],[NUM]]+1,1)),\"\",INDEX(DetalhesDoProjeto[#Data],Última_entrada_do_projeto-Linha_de_início_do_projeto-DadosdeLinhadoTempodoProjeto[[#This Row],[NUM]]+1,1)),\"\")","v":""},{"$f":"IFERROR(IF(ISBLANK(INDEX(DetalhesDoProjeto[#Data],Última_entrada_do_projeto-Linha_de_início_do_projeto-DadosdeLinhadoTempodoProjeto[[#This Row],[NUM]]+1,2)),\"\",INDEX(DetalhesDoProjeto[#Data],Última_entrada_do_projeto-Linha_de_início_do_projeto-DadosdeLinhadoTempodoProjeto[[#This Row],[NUM]]+1,2)),\"\")","v":""},{"$f":"IFERROR(IF(ISBLANK(INDEX(DetalhesDoProjeto[#Data],Última_entrada_do_projeto-Linha_de_início_do_projeto-DadosdeLinhadoTempodoProjeto[[#This Row],[NUM]]+1,3)),\"\",INDEX(DetalhesDoProjeto[#Data],Última_entrada_do_projeto-Linha_de_início_do_projeto-DadosdeLinhadoTempodoProjeto[[#This Row],[NUM]]+1,3)),\"\")","v":""},{"$f":"IFERROR(IF(ISBLANK(INDEX(DetalhesDoProjeto[#Data],ROW(A327)+1,1)),\"\",IF($J331-1<=-1,\"\",$J331-1)),\"\")","v":""},null,null,{"$f":"IFERROR(DadosdeLinhadoTempodoProjeto[[#This Row],[NUM]]+1,\"\")","v":""},{"$f":"IFERROR(VLOOKUP(LinhadoTempoClassificada[[#This Row],[POSIÇÃO classificada]],DadosdeLinhadoTempodoProjeto[],3,0),\"\")","v":""},{"$f":"IFERROR(VLOOKUP(LinhadoTempoClassificada[[#This Row],[POSIÇÃO classificada]],DadosdeLinhadoTempodoProjeto[],4,0),\"\")","v":""},{"$f":"IFERROR(VLOOKUP(LinhadoTempoClassificada[[#This Row],[POSIÇÃO classificada]],DadosdeLinhadoTempodoProjeto[],5,0),\"\")","v":""}]
[{"$nulls":4},{"$f":"IFERROR(RANK(F333,DadosdeLinhadoTempodoProjeto[CLASSIFICAÇÃO])+SUMPRODUCT(--(F333=DadosdeLinhadoTempodoProjeto[CLASSIFICAÇÃO]),--(J333<DadosdeLinhadoTempodoProjeto[NUM])),\"\")","v":""},{"$f":"IFERROR(RANK(DadosdeLinhadoTempodoProjeto[[#This Row],[DATA]],DadosdeLinhadoTempodoProjeto[DATA],1),\"\")","v":""},{"$f":"IFERROR(IF(ISBLANK(INDEX(DetalhesDoProjeto[#Data],Última_entrada_do_projeto-Linha_de_início_do_projeto-DadosdeLinhadoTempodoProjeto[[#This Row],[NUM]]+1,1)),\"\",INDEX(DetalhesDoProjeto[#Data],Última_entrada_do_projeto-Linha_de_início_do_projeto-DadosdeLinhadoTempodoProjeto[[#This Row],[NUM]]+1,1)),\"\")","v":""},{"$f":"IFERROR(IF(ISBLANK(INDEX(DetalhesDoProjeto[#Data],Última_entrada_do_projeto-Linha_de_início_do_projeto-DadosdeLinhadoTempodoProjeto[[#This Row],[NUM]]+1,2)),\"\",INDEX(DetalhesDoProjeto[#Data],Última_entrada_do_projeto-Linha_de_início_do_projeto-DadosdeLinhadoTempodoProjeto[[#This Row],[NUM]]+1,2)),\"\")","v":""},{"$f":"IFERROR(IF(ISBLANK(INDEX(DetalhesDoProjeto[#Data],Última_entrada_do_projeto-Linha_de_início_do_projeto-DadosdeLinhadoTempodoProjeto[[#This Row],[NUM]]+1,3)),\"\",INDEX(DetalhesDoProjeto[#Data],Última_entrada_do_projeto-Linha_de_início_do_projeto-DadosdeLinhadoTempodoProjeto[[#This Row],[NUM]]+1,3)),\"\")","v":""},{"$f":"IFERROR(IF(ISBLANK(INDEX(DetalhesDoProjeto[#Data],ROW(A328)+1,1)),\"\",IF($J332-1<=-1,\"\",$J332-1)),\"\")","v":""},null,null,{"$f":"IFERROR(DadosdeLinhadoTempodoProjeto[[#This Row],[NUM]]+1,\"\")","v":""},{"$f":"IFERROR(VLOOKUP(LinhadoTempoClassificada[[#This Row],[POSIÇÃO classificada]],DadosdeLinhadoTempodoProjeto[],3,0),\"\")","v":""},{"$f":"IFERROR(VLOOKUP(LinhadoTempoClassificada[[#This Row],[POSIÇÃO classificada]],DadosdeLinhadoTempodoProjeto[],4,0),\"\")","v":""},{"$f":"IFERROR(VLOOKUP(LinhadoTempoClassificada[[#This Row],[POSIÇÃO classificada]],DadosdeLinhadoTempodoProjeto[],5,0),\"\")","v":""}]
[{"$nulls":4},{"$f":"IFERROR(RANK(F334,DadosdeLinhadoTempodoProjeto[CLASSIFICAÇÃO])+SUMPRODUCT(--(F334=DadosdeLinhadoTempodoProjeto[CLASSIFICAÇÃO]),--(J334<DadosdeLinhadoTempodoProjeto[NUM])),\"\")","v":""},{"$f":"IFERROR(RANK(DadosdeLinhadoTempodoProjeto[[#This Row],[DATA]],DadosdeLinhadoTempodoProjeto[DATA],1),\"\")","v":""},{"$f":"IFERROR(IF(ISBLANK(INDEX(DetalhesDoProjeto[#Data],Última_entrada_do_projeto-Linha_de_início_do_projeto-DadosdeLinhadoTempodoProjeto[[#This Row],[NUM]]+1,1)),\"\",INDEX(DetalhesDoProjeto[#Data],Última_entrada_do_projeto-Linha_de_início_do_projeto-DadosdeLinhadoTempodoProjeto[[#This Row],[NUM]]+1,1)),\"\")","v":""},{"$f":"IFERROR(IF(ISBLANK(INDEX(DetalhesDoProjeto[#Data],Última_entrada_do_projeto-Linha_de_início_do_projeto-DadosdeLinhadoTempodoProjeto[[#This Row],[NUM]]+1,2)),\"\",INDEX(DetalhesDoProjeto[#Data],Última_entrada_do_projeto-Linha_de_início_do_projeto-DadosdeLinhadoTempodoProjeto[[#This Row],[NUM]]+1,2)),\"\")","v":""},{"$f":"IFERROR(IF(ISBLANK(INDEX(DetalhesDoProjeto[#Data],Última_entrada_do_projeto-Linha_de_início_do_projeto-DadosdeLinhadoTempodoProjeto[[#This Row],[NUM]]+1,3)),\"\",INDEX(DetalhesDoProjeto[#Data],Última_entrada_do_projeto-Linha_de_início_do_projeto-DadosdeLinhadoTempodoProjeto[[#This Row],[NUM]]+1,3)),\"\")","v":""},{"$f":"IFERROR(IF(ISBLANK(INDEX(DetalhesDoProjeto[#Data],ROW(A329)+1,1)),\"\",IF($J333-1<=-1,\"\",$J333-1)),\"\")","v":""},null,null,{"$f":"IFERROR(DadosdeLinhadoTempodoProjeto[[#This Row],[NUM]]+1,\"\")","v":""},{"$f":"IFERROR(VLOOKUP(LinhadoTempoClassificada[[#This Row],[POSIÇÃO classificada]],DadosdeLinhadoTempodoProjeto[],3,0),\"\")","v":""},{"$f":"IFERROR(VLOOKUP(LinhadoTempoClassificada[[#This Row],[POSIÇÃO classificada]],DadosdeLinhadoTempodoProjeto[],4,0),\"\")","v":""},{"$f":"IFERROR(VLOOKUP(LinhadoTempoClassificada[[#This Row],[POSIÇÃO classificada]],DadosdeLinhadoTempodoProjeto[],5,0),\"\")","v":""}]
[{"$nulls":4},{"$f":"IFERROR(RANK(F335,DadosdeLinhadoTempodoProjeto[CLASSIFICAÇÃO])+SUMPRODUCT(--(F335=DadosdeLinhadoTempodoProjeto[CLASSIFICAÇÃO]),--(J335<DadosdeLinhadoTempodoProjeto[NUM])),\"\")","v":""},{"$f":"IFERROR(RANK(DadosdeLinhadoTempodoProjeto[[#This Row],[DATA]],DadosdeLinhadoTempodoProjeto[DATA],1),\"\")","v":""},{"$f":"IFERROR(IF(ISBLANK(INDEX(DetalhesDoProjeto[#Data],Última_entrada_do_projeto-Linha_de_início_do_projeto-DadosdeLinhadoTempodoProjeto[[#This Row],[NUM]]+1,1)),\"\",INDEX(DetalhesDoProjeto[#Data],Última_entrada_do_projeto-Linha_de_início_do_projeto-DadosdeLinhadoTempodoProjeto[[#This Row],[NUM]]+1,1)),\"\")","v":""},{"$f":"IFERROR(IF(ISBLANK(INDEX(DetalhesDoProjeto[#Data],Última_entrada_do_projeto-Linha_de_início_do_projeto-DadosdeLinhadoTempodoProjeto[[#This Row],[NUM]]+1,2)),\"\",INDEX(DetalhesDoProjeto[#Data],Última_entrada_do_projeto-Linha_de_início_do_projeto-DadosdeLinhadoTempodoProjeto[[#This Row],[NUM]]+1,2)),\"\")","v":""},{"$f":"IFERROR(IF(ISBLANK(INDEX(DetalhesDoProjeto[#Data],Última_entrada_do_projeto-Linha_de_início_do_projeto-DadosdeLinhadoTempodoProjeto[[#This Row],[NUM]]+1,3)),\"\",INDEX(DetalhesDoProjeto[#Data],Última_entrada_do_projeto-Linha_de_início_do_projeto-DadosdeLinhadoTempodoProjeto[[#This Row],[NUM]]+1,3)),\"\")","v":""},{"$f":"IFERROR(IF(ISBLANK(INDEX(DetalhesDoProjeto[#Data],ROW(A330)+1,1)),\"\",IF($J334-1<=-1,\"\",$J334-1)),\"\")","v":""},null,null,{"$f":"IFERROR(DadosdeLinhadoTempodoProjeto[[#This Row],[NUM]]+1,\"\")","v":""},{"$f":"IFERROR(VLOOKUP(LinhadoTempoClassificada[[#This Row],[POSIÇÃO classificada]],DadosdeLinhadoTempodoProjeto[],3,0),\"\")","v":""},{"$f":"IFERROR(VLOOKUP(LinhadoTempoClassificada[[#This Row],[POSIÇÃO classificada]],DadosdeLinhadoTempodoProjeto[],4,0),\"\")","v":""},{"$f":"IFERROR(VLOOKUP(LinhadoTempoClassificada[[#This Row],[POSIÇÃO classificada]],DadosdeLinhadoTempodoProjeto[],5,0),\"\")","v":""}]
[{"$nulls":4},{"$f":"IFERROR(RANK(F336,DadosdeLinhadoTempodoProjeto[CLASSIFICAÇÃO])+SUMPRODUCT(--(F336=DadosdeLinhadoTempodoProjeto[CLASSIFICAÇÃO]),--(J336<DadosdeLinhadoTempodoProjeto[NUM])),\"\")","v":""},{"$f":"IFERROR(RANK(DadosdeLinhadoTempodoProjeto[[#This Row],[DATA]],DadosdeLinhadoTempodoProjeto[DATA],1),\"\")","v":""},{"$f":"IFERROR(IF(ISBLANK(INDEX(DetalhesDoProjeto[#Data],Última_entrada_do_projeto-Linha_de_início_do_projeto-DadosdeLinhadoTempodoProjeto[[#This Row],[NUM]]+1,1)),\"\",INDEX(DetalhesDoProjeto[#Data],Última_entrada_do_projeto-Linha_de_início_do_projeto-DadosdeLinhadoTempodoProjeto[[#This Row],[NUM]]+1,1)),\"\")","v":""},{"$f":"IFERROR(IF(ISBLANK(INDEX(DetalhesDoProjeto[#Data],Última_entrada_do_projeto-Linha_de_início_do_projeto-DadosdeLinhadoTempodoProjeto[[#This Row],[NUM]]+1,2)),\"\",INDEX(DetalhesDoProjeto[#Data],Última_entrada_do_projeto-Linha_de_início_do_projeto-DadosdeLinhadoTempodoProjeto[[#This Row],[NUM]]+1,2)),\"\")","v":""},{"$f":"IFERROR(IF(ISBLANK(INDEX(DetalhesDoProjeto[#Data],Última_entrada_do_projeto-Linha_de_início_do_projeto-DadosdeLinhadoTempodoProjeto[[#This Row],[NUM]]+1,3)),\"\",INDEX(DetalhesDoProjeto[#Data],Última_entrada_do_projeto-Linha_de_início_do_projeto-DadosdeLinhadoTempodoProjeto[[#This Row],[NUM]]+1,3)),\"\")","v":""},{"$f":"IFERROR(IF(ISBLANK(INDEX(DetalhesDoProjeto[#Data],ROW(A331)+1,1)),\"\",IF($J335-1<=-1,\"\",$J335-1)),\"\")","v":""},null,null,{"$f":"IFERROR(DadosdeLinhadoTempodoProjeto[[#This Row],[NUM]]+1,\"\")","v":""},{"$f":"IFERROR(VLOOKUP(LinhadoTempoClassificada[[#This Row],[POSIÇÃO classificada]],DadosdeLinhadoTempodoProjeto[],3,0),\"\")","v":""},{"$f":"IFERROR(VLOOKUP(LinhadoTempoClassificada[[#This Row],[POSIÇÃO classificada]],DadosdeLinhadoTempodoProjeto[],4,0),\"\")","v":""},{"$f":"IFERROR(VLOOKUP(LinhadoTempoClassificada[[#This Row],[POSIÇÃO classificada]],DadosdeLinhadoTempodoProjeto[],5,0),\"\")","v":""}]
[{"$nulls":4},{"$f":"IFERROR(RANK(F337,DadosdeLinhadoTempodoProjeto[CLASSIFICAÇÃO])+SUMPRODUCT(--(F337=DadosdeLinhadoTempodoProjeto[CLASSIFICAÇÃO]),--(J337<DadosdeLinhadoTempodoProjeto[NUM])),\"\")","v":""},{"$f":"IFERROR(RANK(DadosdeLinhadoTempodoProjeto[[#This Row],[DATA]],DadosdeLinhadoTempodoProjeto[DATA],1),\"\")","v":""},{"$f":"IFERROR(IF(ISBLANK(INDEX(DetalhesDoProjeto[#Data],Última_entrada_do_projeto-Linha_de_início_do_projeto-DadosdeLinhadoTempodoProjeto[[#This Row],[NUM]]+1,1)),\"\",INDEX(DetalhesDoProjeto[#Data],Última_entrada_do_projeto-Linha_de_início_do_projeto-DadosdeLinhadoTempodoProjeto[[#This Row],[NUM]]+1,1)),\"\")","v":""},{"$f":"IFERROR(IF(ISBLANK(INDEX(DetalhesDoProjeto[#Data],Última_entrada_do_projeto-Linha_de_início_do_projeto-DadosdeLinhadoTempodoProjeto[[#This Row],[NUM]]+1,2)),\"\",INDEX(DetalhesDoProjeto[#Data],Última_entrada_do_projeto-Linha_de_início_do_projeto-DadosdeLinhadoTempodoProjeto[[#This Row],[NUM]]+1,2)),\"\")","v":""},{"$f":"IFERROR(IF(ISBLANK(INDEX(DetalhesDoProjeto[#Data],Última_entrada_do_projeto-Linha_de_início_do_projeto-DadosdeLinhadoTempodoProjeto[[#This Row],[NUM]]+1,3)),\"\",INDEX(DetalhesDoProjeto[#Data],Última_entrada_do_projeto-Linha_de_início_do_projeto-DadosdeLinhadoTempodoProjeto[[#This Row],[NUM]]+1,3)),\"\")","v":""},{"$f":"IFERROR(IF(ISBLANK(INDEX(DetalhesDoProjeto[#Data],ROW(A332)+1,1)),\"\",IF($J336-1<=-1,\"\",$J336-1)),\"\")","v":""},null,null,{"$f":"IFERROR(DadosdeLinhadoTempodoProjeto[[#This Row],[NUM]]+1,\"\")","v":""},{"$f":"IFERROR(VLOOKUP(LinhadoTempoClassificada[[#This Row],[POSIÇÃO classificada]],DadosdeLinhadoTempodoProjeto[],3,0),\"\")","v":""},{"$f":"IFERROR(VLOOKUP(LinhadoTempoClassificada[[#This Row],[POSIÇÃO classificada]],DadosdeLinhadoTempodoProjeto[],4,0),\"\")","v":""},{"$f":"IFERROR(VLOOKUP(LinhadoTempoClassificada[[#This Row],[POSIÇÃO classificada]],DadosdeLinhadoTempodoProjeto[],5,0),\"\")","v":""}]
[{"$nulls":4},{"$f":"IFERROR(RANK(F338,DadosdeLinhadoTempodoProjeto[CLASSIFICAÇÃO])+SUMPRODUCT(--(F338=DadosdeLinhadoTempodoProjeto[CLASSIFICAÇÃO]),--(J338<DadosdeLinhadoTempodoProjeto[NUM])),\"\")","v":""},{"$f":"IFERROR(RANK(DadosdeLinhadoTempodoProjeto[[#This Row],[DATA]],DadosdeLinhadoTempodoProjeto[DATA],1),\"\")","v":""},{"$f":"IFERROR(IF(ISBLANK(INDEX(DetalhesDoProjeto[#Data],Última_entrada_do_projeto-Linha_de_início_do_projeto-DadosdeLinhadoTempodoProjeto[[#This Row],[NUM]]+1,1)),\"\",INDEX(DetalhesDoProjeto[#Data],Última_entrada_do_projeto-Linha_de_início_do_projeto-DadosdeLinhadoTempodoProjeto[[#This Row],[NUM]]+1,1)),\"\")","v":""},{"$f":"IFERROR(IF(ISBLANK(INDEX(DetalhesDoProjeto[#Data],Última_entrada_do_projeto-Linha_de_início_do_projeto-DadosdeLinhadoTempodoProjeto[[#This Row],[NUM]]+1,2)),\"\",INDEX(DetalhesDoProjeto[#Data],Última_entrada_do_projeto-Linha_de_início_do_projeto-DadosdeLinhadoTempodoProjeto[[#This Row],[NUM]]+1,2)),\"\")","v":""},{"$f":"IFERROR(IF(ISBLANK(INDEX(DetalhesDoProjeto[#Data],Última_entrada_do_projeto-Linha_de_início_do_projeto-DadosdeLinhadoTempodoProjeto[[#This Row],[NUM]]+1,3)),\"\",INDEX(DetalhesDoProjeto[#Data],Última_entrada_do_projeto-Linha_de_início_do_projeto-DadosdeLinhadoTempodoProjeto[[#This Row],[NUM]]+1,3)),\"\")","v":""},{"$f":"IFERROR(IF(ISBLANK(INDEX(DetalhesDoProjeto[#Data],ROW(A333)+1,1)),\"\",IF($J337-1<=-1,\"\",$J337-1)),\"\")","v":""},null,null,{"$f":"IFERROR(DadosdeLinhadoTempodoProjeto[[#This Row],[NUM]]+1,\"\")","v":""},{"$f":"IFERROR(VLOOKUP(LinhadoTempoClassificada[[#This Row],[POSIÇÃO classificada]],DadosdeLinhadoTempodoProjeto[],3,0),\"\")","v":""},{"$f":"IFERROR(VLOOKUP(LinhadoTempoClassificada[[#This Row],[POSIÇÃO classificada]],DadosdeLinhadoTempodoProjeto[],4,0),\"\")","v":""},{"$f":"IFERROR(VLOOKUP(LinhadoTempoClassificada[[#This Row],[POSIÇÃO classificada]],DadosdeLinhadoTempodoProjeto[],5,0),\"\")","v":""}]
[{"$nulls":4},{"$f":"IFERROR(RANK(F339,DadosdeLinhadoTempodoProjeto[CLASSIFICAÇÃO])+SUMPRODUCT(--(F339=DadosdeLinhadoTempodoProjeto[CLASSIFICAÇÃO]),--(J339<DadosdeLinhadoTempodoProjeto[NUM])),\"\")","v":""},{"$f":"IFERROR(RANK(DadosdeLinhadoTempodoProjeto[[#This Row],[DATA]],DadosdeLinhadoTempodoProjeto[DATA],1),\"\")","v":""},{"$f":"IFERROR(IF(ISBLANK(INDEX(DetalhesDoProjeto[#Data],Última_entrada_do_projeto-Linha_de_início_do_projeto-DadosdeLinhadoTempodoProjeto[[#This Row],[NUM]]+1,1)),\"\",INDEX(DetalhesDoProjeto[#Data],Última_entrada_do_projeto-Linha_de_início_do_projeto-DadosdeLinhadoTempodoProjeto[[#This Row],[NUM]]+1,1)),\"\")","v":""},{"$f":"IFERROR(IF(ISBLANK(INDEX(DetalhesDoProjeto[#Data],Última_entrada_do_projeto-Linha_de_início_do_projeto-DadosdeLinhadoTempodoProjeto[[#This Row],[NUM]]+1,2)),\"\",INDEX(DetalhesDoProjeto[#Data],Última_entrada_do_projeto-Linha_de_início_do_projeto-DadosdeLinhadoTempodoProjeto[[#This Row],[NUM]]+1,2)),\"\")","v":""},{"$f":"IFERROR(IF(ISBLANK(INDEX(DetalhesDoProjeto[#Data],Última_entrada_do_projeto-Linha_de_início_do_projeto-DadosdeLinhadoTempodoProjeto[[#This Row],[NUM]]+1,3)),\"\",INDEX(DetalhesDoProjeto[#Data],Última_entrada_do_projeto-Linha_de_início_do_projeto-DadosdeLinhadoTempodoProjeto[[#This Row],[NUM]]+1,3)),\"\")","v":""},{"$f":"IFERROR(IF(ISBLANK(INDEX(DetalhesDoProjeto[#Data],ROW(A334)+1,1)),\"\",IF($J338-1<=-1,\"\",$J338-1)),\"\")","v":""},null,null,{"$f":"IFERROR(DadosdeLinhadoTempodoProjeto[[#This Row],[NUM]]+1,\"\")","v":""},{"$f":"IFERROR(VLOOKUP(LinhadoTempoClassificada[[#This Row],[POSIÇÃO classificada]],DadosdeLinhadoTempodoProjeto[],3,0),\"\")","v":""},{"$f":"IFERROR(VLOOKUP(LinhadoTempoClassificada[[#This Row],[POSIÇÃO classificada]],DadosdeLinhadoTempodoProjeto[],4,0),\"\")","v":""},{"$f":"IFERROR(VLOOKUP(LinhadoTempoClassificada[[#This Row],[POSIÇÃO classificada]],DadosdeLinhadoTempodoProjeto[],5,0),\"\")","v":""}]
[{"$nulls":4},{"$f":"IFERROR(RANK(F340,DadosdeLinhadoTempodoProjeto[CLASSIFICAÇÃO])+SUMPRODUCT(--(F340=DadosdeLinhadoTempodoProjeto[CLASSIFICAÇÃO]),--(J340<DadosdeLinhadoTempodoProjeto[NUM])),\"\")","v":""},{"$f":"IFERROR(RANK(DadosdeLinhadoTempodoProjeto[[#This Row],[DATA]],DadosdeLinhadoTempodoProjeto[DATA],1),\"\")","v":""},{"$f":"IFERROR(IF(ISBLANK(INDEX(DetalhesDoProjeto[#Data],Última_entrada_do_projeto-Linha_de_início_do_projeto-DadosdeLinhadoTempodoProjeto[[#This Row],[NUM]]+1,1)),\"\",INDEX(DetalhesDoProjeto[#Data],Última_entrada_do_projeto-Linha_de_início_do_projeto-DadosdeLinhadoTempodoProjeto[[#This Row],[NUM]]+1,1)),\"\")","v":""},{"$f":"IFERROR(IF(ISBLANK(INDEX(DetalhesDoProjeto[#Data],Última_entrada_do_projeto-Linha_de_início_do_projeto-DadosdeLinhadoTempodoProjeto[[#This Row],[NUM]]+1,2)),\"\",INDEX(DetalhesDoProjeto[#Data],Última_entrada_do_projeto-Linha_de_início_do_projeto-DadosdeLinhadoTempodoProjeto[[#This Row],[NUM]]+1,2)),\"\")","v":""},{"$f":"IFERROR(IF(ISBLANK(INDEX(DetalhesDoProjeto[#Data],Última_entrada_do_projeto-Linha_de_início_do_projeto-DadosdeLinhadoTempodoProjeto[[#This Row],[NUM]]+1,3)),\"\",INDEX(DetalhesDoProjeto[#Data],Última_entrada_do_projeto-Linha_de_início_do_projeto-DadosdeLinhadoTempodoProjeto[[#This Row],[NUM]]+1,3)),\"\")","v":""},{"$f":"IFERROR(IF(ISBLANK(INDEX(DetalhesDoProjeto[#Data],ROW(A335)+1,1)),\"\",IF($J339-1<=-1,\"\",$J339-1)),\"\")","v":""},null,null,{"$f":"IFERROR(DadosdeLinhadoTempodoProjeto[[#This Row],[NUM]]+1,\"\")","v":""},{"$f":"IFERROR(VLOOKUP(LinhadoTempoClassificada[[#This Row],[POSIÇÃO classificada]],DadosdeLinhadoTempodoProjeto[],3,0),\"\")","v":""},{"$f":"IFERROR(VLOOKUP(LinhadoTempoClassificada[[#This Row],[POSIÇÃO classificada]],DadosdeLinhadoTempodoProjeto[],4,0),\"\")","v":""},{"$f":"IFERROR(VLOOKUP(LinhadoTempoClassificada[[#This Row],[POSIÇÃO classificada]],DadosdeLinhadoTempodoProjeto[],5,0),\"\")","v":""}]
[{"$nulls":4},{"$f":"IFERROR(RANK(F341,DadosdeLinhadoTempodoProjeto[CLASSIFICAÇÃO])+SUMPRODUCT(--(F341=DadosdeLinhadoTempodoProjeto[CLASSIFICAÇÃO]),--(J341<DadosdeLinhadoTempodoProjeto[NUM])),\"\")","v":""},{"$f":"IFERROR(RANK(DadosdeLinhadoTempodoProjeto[[#This Row],[DATA]],DadosdeLinhadoTempodoProjeto[DATA],1),\"\")","v":""},{"$f":"IFERROR(IF(ISBLANK(INDEX(DetalhesDoProjeto[#Data],Última_entrada_do_projeto-Linha_de_início_do_projeto-DadosdeLinhadoTempodoProjeto[[#This Row],[NUM]]+1,1)),\"\",INDEX(DetalhesDoProjeto[#Data],Última_entrada_do_projeto-Linha_de_início_do_projeto-DadosdeLinhadoTempodoProjeto[[#This Row],[NUM]]+1,1)),\"\")","v":""},{"$f":"IFERROR(IF(ISBLANK(INDEX(DetalhesDoProjeto[#Data],Última_entrada_do_projeto-Linha_de_início_do_projeto-DadosdeLinhadoTempodoProjeto[[#This Row],[NUM]]+1,2)),\"\",INDEX(DetalhesDoProjeto[#Data],Última_entrada_do_projeto-Linha_de_início_do_projeto-DadosdeLinhadoTempodoProjeto[[#This Row],[NUM]]+1,2)),\"\")","v":""},{"$f":"IFERROR(IF(ISBLANK(INDEX(DetalhesDoProjeto[#Data],Última_entrada_do_projeto-Linha_de_início_do_projeto-DadosdeLinhadoTempodoProjeto[[#This Row],[NUM]]+1,3)),\"\",INDEX(DetalhesDoProjeto[#Data],Última_entrada_do_projeto-Linha_de_início_do_projeto-DadosdeLinhadoTempodoProjeto[[#This Row],[NUM]]+1,3)),\"\")","v":""},{"$f":"IFERROR(IF(ISBLANK(INDEX(DetalhesDoProjeto[#Data],ROW(A336)+1,1)),\"\",IF($J340-1<=-1,\"\",$J340-1)),\"\")","v":""},null,null,{"$f":"IFERROR(DadosdeLinhadoTempodoProjeto[[#This Row],[NUM]]+1,\"\")","v":""},{"$f":"IFERROR(VLOOKUP(LinhadoTempoClassificada[[#This Row],[POSIÇÃO classificada]],DadosdeLinhadoTempodoProjeto[],3,0),\"\")","v":""},{"$f":"IFERROR(VLOOKUP(LinhadoTempoClassificada[[#This Row],[POSIÇÃO classificada]],DadosdeLinhadoTempodoProjeto[],4,0),\"\")","v":""},{"$f":"IFERROR(VLOOKUP(LinhadoTempoClassificada[[#This Row],[POSIÇÃO classificada]],DadosdeLinhadoTempodoProjeto[],5,0),\"\")","v":""}]
[{"$nulls":4},{"$f":"IFERROR(RANK(F342,DadosdeLinhadoTempodoProjeto[CLASSIFICAÇÃO])+SUMPRODUCT(--(F342=DadosdeLinhadoTempodoProjeto[CLASSIFICAÇÃO]),--(J342<DadosdeLinhadoTempodoProjeto[NUM])),\"\")","v":""},{"$f":"IFERROR(RANK(DadosdeLinhadoTempodoProjeto[[#This Row],[DATA]],DadosdeLinhadoTempodoProjeto[DATA],1),\"\")","v":""},{"$f":"IFERROR(IF(ISBLANK(INDEX(DetalhesDoProjeto[#Data],Última_entrada_do_projeto-Linha_de_início_do_projeto-DadosdeLinhadoTempodoProjeto[[#This Row],[NUM]]+1,1)),\"\",INDEX(DetalhesDoProjeto[#Data],Última_entrada_do_projeto-Linha_de_início_do_projeto-DadosdeLinhadoTempodoProjeto[[#This Row],[NUM]]+1,1)),\"\")","v":""},{"$f":"IFERROR(IF(ISBLANK(INDEX(DetalhesDoProjeto[#Data],Última_entrada_do_projeto-Linha_de_início_do_projeto-DadosdeLinhadoTempodoProjeto[[#This Row],[NUM]]+1,2)),\"\",INDEX(DetalhesDoProjeto[#Data],Última_entrada_do_projeto-Linha_de_início_do_projeto-DadosdeLinhadoTempodoProjeto[[#This Row],[NUM]]+1,2)),\"\")","v":""},{"$f":"IFERROR(IF(ISBLANK(INDEX(DetalhesDoProjeto[#Data],Última_entrada_do_projeto-Linha_de_início_do_projeto-DadosdeLinhadoTempodoProjeto[[#This Row],[NUM]]+1,3)),\"\",INDEX(DetalhesDoProjeto[#Data],Última_entrada_do_projeto-Linha_de_início_do_projeto-DadosdeLinhadoTempodoProjeto[[#This Row],[NUM]]+1,3)),\"\")","v":""},{"$f":"IFERROR(IF(ISBLANK(INDEX(DetalhesDoProjeto[#Data],ROW(A337)+1,1)),\"\",IF($J341-1<=-1,\"\",$J341-1)),\"\")","v":""},null,null,{"$f":"IFERROR(DadosdeLinhadoTempodoProjeto[[#This Row],[NUM]]+1,\"\")","v":""},{"$f":"IFERROR(VLOOKUP(LinhadoTempoClassificada[[#This Row],[POSIÇÃO classificada]],DadosdeLinhadoTempodoProjeto[],3,0),\"\")","v":""},{"$f":"IFERROR(VLOOKUP(LinhadoTempoClassificada[[#This Row],[POSIÇÃO classificada]],DadosdeLinhadoTempodoProjeto[],4,0),\"\")","v":""},{"$f":"IFERROR(VLOOKUP(LinhadoTempoClassificada[[#This Row],[POSIÇÃO classificada]],DadosdeLinhadoTempodoProjeto[],5,0),\"\")","v":""}]
[{"$nulls":4},{"$f":"IFERROR(RANK(F343,DadosdeLinhadoTempodoProjeto[CLASSIFICAÇÃO])+SUMPRODUCT(--(F343=DadosdeLinhadoTempodoProjeto[CLASSIFICAÇÃO]),--(J343<DadosdeLinhadoTempodoProjeto[NUM])),\"\")","v":""},{"$f":"IFERROR(RANK(DadosdeLinhadoTempodoProjeto[[#This Row],[DATA]],DadosdeLinhadoTempodoProjeto[DATA],1),\"\")","v":""},{"$f":"IFERROR(IF(ISBLANK(INDEX(DetalhesDoProjeto[#Data],Última_entrada_do_projeto-Linha_de_início_do_projeto-DadosdeLinhadoTempodoProjeto[[#This Row],[NUM]]+1,1)),\"\",INDEX(DetalhesDoProjeto[#Data],Última_entrada_do_projeto-Linha_de_início_do_projeto-DadosdeLinhadoTempodoProjeto[[#This Row],[NUM]]+1,1)),\"\")","v":""},{"$f":"IFERROR(IF(ISBLANK(INDEX(DetalhesDoProjeto[#Data],Última_entrada_do_projeto-Linha_de_início_do_projeto-DadosdeLinhadoTempodoProjeto[[#This Row],[NUM]]+1,2)),\"\",INDEX(DetalhesDoProjeto[#Data],Última_entrada_do_projeto-Linha_de_início_do_projeto-DadosdeLinhadoTempodoProjeto[[#This Row],[NUM]]+1,2)),\"\")","v":""},{"$f":"IFERROR(IF(ISBLANK(INDEX(DetalhesDoProjeto[#Data],Última_entrada_do_projeto-Linha_de_início_do_projeto-DadosdeLinhadoTempodoProjeto[[#This Row],[NUM]]+1,3)),\"\",INDEX(DetalhesDoProjeto[#Data],Última_entrada_do_projeto-Linha_de_início_do_projeto-DadosdeLinhadoTempodoProjeto[[#This Row],[NUM]]+1,3)),\"\")","v":""},{"$f":"IFERROR(IF(ISBLANK(INDEX(DetalhesDoProjeto[#Data],ROW(A338)+1,1)),\"\",IF($J342-1<=-1,\"\",$J342-1)),\"\")","v":""},null,null,{"$f":"IFERROR(DadosdeLinhadoTempodoProjeto[[#This Row],[NUM]]+1,\"\")","v":""},{"$f":"IFERROR(VLOOKUP(LinhadoTempoClassificada[[#This Row],[POSIÇÃO classificada]],DadosdeLinhadoTempodoProjeto[],3,0),\"\")","v":""},{"$f":"IFERROR(VLOOKUP(LinhadoTempoClassificada[[#This Row],[POSIÇÃO classificada]],DadosdeLinhadoTempodoProjeto[],4,0),\"\")","v":""},{"$f":"IFERROR(VLOOKUP(LinhadoTempoClassificada[[#This Row],[POSIÇÃO classificada]],DadosdeLinhadoTempodoProjeto[],5,0),\"\")","v":""}]
[{"$nulls":4},{"$f":"IFERROR(RANK(F344,DadosdeLinhadoTempodoProjeto[CLASSIFICAÇÃO])+SUMPRODUCT(--(F344=DadosdeLinhadoTempodoProjeto[CLASSIFICAÇÃO]),--(J344<DadosdeLinhadoTempodoProjeto[NUM])),\"\")","v":""},{"$f":"IFERROR(RANK(DadosdeLinhadoTempodoProjeto[[#This Row],[DATA]],DadosdeLinhadoTempodoProjeto[DATA],1),\"\")","v":""},{"$f":"IFERROR(IF(ISBLANK(INDEX(DetalhesDoProjeto[#Data],Última_entrada_do_projeto-Linha_de_início_do_projeto-DadosdeLinhadoTempodoProjeto[[#This Row],[NUM]]+1,1)),\"\",INDEX(DetalhesDoProjeto[#Data],Última_entrada_do_projeto-Linha_de_início_do_projeto-DadosdeLinhadoTempodoProjeto[[#This Row],[NUM]]+1,1)),\"\")","v":""},{"$f":"IFERROR(IF(ISBLANK(INDEX(DetalhesDoProjeto[#Data],Última_entrada_do_projeto-Linha_de_início_do_projeto-DadosdeLinhadoTempodoProjeto[[#This Row],[NUM]]+1,2)),\"\",INDEX(DetalhesDoProjeto[#Data],Última_entrada_do_projeto-Linha_de_início_do_projeto-DadosdeLinhadoTempodoProjeto[[#This Row],[NUM]]+1,2)),\"\")","v":""},{"$f":"IFERROR(IF(ISBLANK(INDEX(DetalhesDoProjeto[#Data],Última_entrada_do_projeto-Linha_de_início_do_projeto-DadosdeLinhadoTempodoProjeto[[#This Row],[NUM]]+1,3)),\"\",INDEX(DetalhesDoProjeto[#Data],Última_entrada_do_projeto-Linha_de_início_do_projeto-DadosdeLinhadoTempodoProjeto[[#This Row],[NUM]]+1,3)),\"\")","v":""},{"$f":"IFERROR(IF(ISBLANK(INDEX(DetalhesDoProjeto[#Data],ROW(A339)+1,1)),\"\",IF($J343-1<=-1,\"\",$J343-1)),\"\")","v":""},null,null,{"$f":"IFERROR(DadosdeLinhadoTempodoProjeto[[#This Row],[NUM]]+1,\"\")","v":""},{"$f":"IFERROR(VLOOKUP(LinhadoTempoClassificada[[#This Row],[POSIÇÃO classificada]],DadosdeLinhadoTempodoProjeto[],3,0),\"\")","v":""},{"$f":"IFERROR(VLOOKUP(LinhadoTempoClassificada[[#This Row],[POSIÇÃO classificada]],DadosdeLinhadoTempodoProjeto[],4,0),\"\")","v":""},{"$f":"IFERROR(VLOOKUP(LinhadoTempoClassificada[[#This Row],[POSIÇÃO classificada]],DadosdeLinhadoTempodoProjeto[],5,0),\"\")","v":""}]
[{"$nulls":4},{"$f":"IFERROR(RANK(F345,DadosdeLinhadoTempodoProjeto[CLASSIFICAÇÃO])+SUMPRODUCT(--(F345=DadosdeLinhadoTempodoProjeto[CLASSIFICAÇÃO]),--(J345<DadosdeLinhadoTempodoProjeto[NUM])),\"\")","v":""},{"$f":"IFERROR(RANK(DadosdeLinhadoTempodoProjeto[[#This Row],[DATA]],DadosdeLinhadoTempodoProjeto[DATA],1),\"\")","v":""},{"$f":"IFERROR(IF(ISBLANK(INDEX(DetalhesDoProjeto[#Data],Última_entrada_do_projeto-Linha_de_início_do_projeto-DadosdeLinhadoTempodoProjeto[[#This Row],[NUM]]+1,1)),\"\",INDEX(DetalhesDoProjeto[#Data],Última_entrada_do_projeto-Linha_de_início_do_projeto-DadosdeLinhadoTempodoProjeto[[#This Row],[NUM]]+1,1)),\"\")","v":""},{"$f":"IFERROR(IF(ISBLANK(INDEX(DetalhesDoProjeto[#Data],Última_entrada_do_projeto-Linha_de_início_do_projeto-DadosdeLinhadoTempodoProjeto[[#This Row],[NUM]]+1,2)),\"\",INDEX(DetalhesDoProjeto[#Data],Última_entrada_do_projeto-Linha_de_início_do_projeto-DadosdeLinhadoTempodoProjeto[[#This Row],[NUM]]+1,2)),\"\")","v":""},{"$f":"IFERROR(IF(ISBLANK(INDEX(DetalhesDoProjeto[#Data],Última_entrada_do_projeto-Linha_de_início_do_projeto-DadosdeLinhadoTempodoProjeto[[#This Row],[NUM]]+1,3)),\"\",INDEX(DetalhesDoProjeto[#Data],Última_entrada_do_projeto-Linha_de_início_do_projeto-DadosdeLinhadoTempodoProjeto[[#This Row],[NUM]]+1,3)),\"\")","v":""},{"$f":"IFERROR(IF(ISBLANK(INDEX(DetalhesDoProjeto[#Data],ROW(A340)+1,1)),\"\",IF($J344-1<=-1,\"\",$J344-1)),\"\")","v":""},null,null,{"$f":"IFERROR(DadosdeLinhadoTempodoProjeto[[#This Row],[NUM]]+1,\"\")","v":""},{"$f":"IFERROR(VLOOKUP(LinhadoTempoClassificada[[#This Row],[POSIÇÃO classificada]],DadosdeLinhadoTempodoProjeto[],3,0),\"\")","v":""},{"$f":"IFERROR(VLOOKUP(LinhadoTempoClassificada[[#This Row],[POSIÇÃO classificada]],DadosdeLinhadoTempodoProjeto[],4,0),\"\")","v":""},{"$f":"IFERROR(VLOOKUP(LinhadoTempoClassificada[[#This Row],[POSIÇÃO classificada]],DadosdeLinhadoTempodoProjeto[],5,0),\"\")","v":""}]
[{"$nulls":4},{"$f":"IFERROR(RANK(F346,DadosdeLinhadoTempodoProjeto[CLASSIFICAÇÃO])+SUMPRODUCT(--(F346=DadosdeLinhadoTempodoProjeto[CLASSIFICAÇÃO]),--(J346<DadosdeLinhadoTempodoProjeto[NUM])),\"\")","v":""},{"$f":"IFERROR(RANK(DadosdeLinhadoTempodoProjeto[[#This Row],[DATA]],DadosdeLinhadoTempodoProjeto[DATA],1),\"\")","v":""},{"$f":"IFERROR(IF(ISBLANK(INDEX(DetalhesDoProjeto[#Data],Última_entrada_do_projeto-Linha_de_início_do_projeto-DadosdeLinhadoTempodoProjeto[[#This Row],[NUM]]+1,1)),\"\",INDEX(DetalhesDoProjeto[#Data],Última_entrada_do_projeto-Linha_de_início_do_projeto-DadosdeLinhadoTempodoProjeto[[#This Row],[NUM]]+1,1)),\"\")","v":""},{"$f":"IFERROR(IF(ISBLANK(INDEX(DetalhesDoProjeto[#Data],Última_entrada_do_projeto-Linha_de_início_do_projeto-DadosdeLinhadoTempodoProjeto[[#This Row],[NUM]]+1,2)),\"\",INDEX(DetalhesDoProjeto[#Data],Última_entrada_do_projeto-Linha_de_início_do_projeto-DadosdeLinhadoTempodoProjeto[[#This Row],[NUM]]+1,2)),\"\")","v":""},{"$f":"IFERROR(IF(ISBLANK(INDEX(DetalhesDoProjeto[#Data],Última_entrada_do_projeto-Linha_de_início_do_projeto-DadosdeLinhadoTempodoProjeto[[#This Row],[NUM]]+1,3)),\"\",INDEX(DetalhesDoProjeto[#Data],Última_entrada_do_projeto-Linha_de_início_do_projeto-DadosdeLinhadoTempodoProjeto[[#This Row],[NUM]]+1,3)),\"\")","v":""},{"$f":"IFERROR(IF(ISBLANK(INDEX(DetalhesDoProjeto[#Data],ROW(A341)+1,1)),\"\",IF($J345-1<=-1,\"\",$J345-1)),\"\")","v":""},null,null,{"$f":"IFERROR(DadosdeLinhadoTempodoProjeto[[#This Row],[NUM]]+1,\"\")","v":""},{"$f":"IFERROR(VLOOKUP(LinhadoTempoClassificada[[#This Row],[POSIÇÃO classificada]],DadosdeLinhadoTempodoProjeto[],3,0),\"\")","v":""},{"$f":"IFERROR(VLOOKUP(LinhadoTempoClassificada[[#This Row],[POSIÇÃO classificada]],DadosdeLinhadoTempodoProjeto[],4,0),\"\")","v":""},{"$f":"IFERROR(VLOOKUP(LinhadoTempoClassificada[[#This Row],[POSIÇÃO classificada]],DadosdeLinhadoTempodoProjeto[],5,0),\"\")","v":""}]
[{"$nulls":4},{"$f":"IFERROR(RANK(F347,DadosdeLinhadoTempodoProjeto[CLASSIFICAÇÃO])+SUMPRODUCT(--(F347=DadosdeLinhadoTempodoProjeto[CLASSIFICAÇÃO]),--(J347<DadosdeLinhadoTempodoProjeto[NUM])),\"\")","v":""},{"$f":"IFERROR(RANK(DadosdeLinhadoTempodoProjeto[[#This Row],[DATA]],DadosdeLinhadoTempodoProjeto[DATA],1),\"\")","v":""},{"$f":"IFERROR(IF(ISBLANK(INDEX(DetalhesDoProjeto[#Data],Última_entrada_do_projeto-Linha_de_início_do_projeto-DadosdeLinhadoTempodoProjeto[[#This Row],[NUM]]+1,1)),\"\",INDEX(DetalhesDoProjeto[#Data],Última_entrada_do_projeto-Linha_de_início_do_projeto-DadosdeLinhadoTempodoProjeto[[#This Row],[NUM]]+1,1)),\"\")","v":""},{"$f":"IFERROR(IF(ISBLANK(INDEX(DetalhesDoProjeto[#Data],Última_entrada_do_projeto-Linha_de_início_do_projeto-DadosdeLinhadoTempodoProjeto[[#This Row],[NUM]]+1,2)),\"\",INDEX(DetalhesDoProjeto[#Data],Última_entrada_do_projeto-Linha_de_início_do_projeto-DadosdeLinhadoTempodoProjeto[[#This Row],[NUM]]+1,2)),\"\")","v":""},{"$f":"IFERROR(IF(ISBLANK(INDEX(DetalhesDoProjeto[#Data],Última_entrada_do_projeto-Linha_de_início_do_projeto-DadosdeLinhadoTempodoProjeto[[#This Row],[NUM]]+1,3)),\"\",INDEX(DetalhesDoProjeto[#Data],Última_entrada_do_projeto-Linha_de_início_do_projeto-DadosdeLinhadoTempodoProjeto[[#This Row],[NUM]]+1,3)),\"\")","v":""},{"$f":"IFERROR(IF(ISBLANK(INDEX(DetalhesDoProjeto[#Data],ROW(A342)+1,1)),\"\",IF($J346-1<=-1,\"\",$J346-1)),\"\")","v":""},null,null,{"$f":"IFERROR(DadosdeLinhadoTempodoProjeto[[#This Row],[NUM]]+1,\"\")","v":""},{"$f":"IFERROR(VLOOKUP(LinhadoTempoClassificada[[#This Row],[POSIÇÃO classificada]],DadosdeLinhadoTempodoProjeto[],3,0),\"\")","v":""},{"$f":"IFERROR(VLOOKUP(LinhadoTempoClassificada[[#This Row],[POSIÇÃO classificada]],DadosdeLinhadoTempodoProjeto[],4,0),\"\")","v":""},{"$f":"IFERROR(VLOOKUP(LinhadoTempoClassificada[[#This Row],[POSIÇÃO classificada]],DadosdeLinhadoTempodoProjeto[],5,0),\"\")","v":""}]
[{"$nulls":4},{"$f":"IFERROR(RANK(F348,DadosdeLinhadoTempodoProjeto[CLASSIFICAÇÃO])+SUMPRODUCT(--(F348=DadosdeLinhadoTempodoProjeto[CLASSIFICAÇÃO]),--(J348<DadosdeLinhadoTempodoProjeto[NUM])),\"\")","v":""},{"$f":"IFERROR(RANK(DadosdeLinhadoTempodoProjeto[[#This Row],[DATA]],DadosdeLinhadoTempodoProjeto[DATA],1),\"\")","v":""},{"$f":"IFERROR(IF(ISBLANK(INDEX(DetalhesDoProjeto[#Data],Última_entrada_do_projeto-Linha_de_início_do_projeto-DadosdeLinhadoTempodoProjeto[[#This Row],[NUM]]+1,1)),\"\",INDEX(DetalhesDoProjeto[#Data],Última_entrada_do_projeto-Linha_de_início_do_projeto-DadosdeLinhadoTempodoProjeto[[#This Row],[NUM]]+1,1)),\"\")","v":""},{"$f":"IFERROR(IF(ISBLANK(INDEX(DetalhesDoProjeto[#Data],Última_entrada_do_projeto-Linha_de_início_do_projeto-DadosdeLinhadoTempodoProjeto[[#This Row],[NUM]]+1,2)),\"\",INDEX(DetalhesDoProjeto[#Data],Última_entrada_do_projeto-Linha_de_início_do_projeto-DadosdeLinhadoTempodoProjeto[[#This Row],[NUM]]+1,2)),\"\")","v":""},{"$f":"IFERROR(IF(ISBLANK(INDEX(DetalhesDoProjeto[#Data],Última_entrada_do_projeto-Linha_de_início_do_projeto-DadosdeLinhadoTempodoProjeto[[#This Row],[NUM]]+1,3)),\"\",INDEX(DetalhesDoProjeto[#Data],Última_entrada_do_projeto-Linha_de_início_do_projeto-DadosdeLinhadoTempodoProjeto[[#This Row],[NUM]]+1,3)),\"\")","v":""},{"$f":"IFERROR(IF(ISBLANK(INDEX(DetalhesDoProjeto[#Data],ROW(A343)+1,1)),\"\",IF($J347-1<=-1,\"\",$J347-1)),\"\")","v":""},null,null,{"$f":"IFERROR(DadosdeLinhadoTempodoProjeto[[#This Row],[NUM]]+1,\"\")","v":""},{"$f":"IFERROR(VLOOKUP(LinhadoTempoClassificada[[#This Row],[POSIÇÃO classificada]],DadosdeLinhadoTempodoProjeto[],3,0),\"\")","v":""},{"$f":"IFERROR(VLOOKUP(LinhadoTempoClassificada[[#This Row],[POSIÇÃO classificada]],DadosdeLinhadoTempodoProjeto[],4,0),\"\")","v":""},{"$f":"IFERROR(VLOOKUP(LinhadoTempoClassificada[[#This Row],[POSIÇÃO classificada]],DadosdeLinhadoTempodoProjeto[],5,0),\"\")","v":""}]
[{"$nulls":4},{"$f":"IFERROR(RANK(F349,DadosdeLinhadoTempodoProjeto[CLASSIFICAÇÃO])+SUMPRODUCT(--(F349=DadosdeLinhadoTempodoProjeto[CLASSIFICAÇÃO]),--(J349<DadosdeLinhadoTempodoProjeto[NUM])),\"\")","v":""},{"$f":"IFERROR(RANK(DadosdeLinhadoTempodoProjeto[[#This Row],[DATA]],DadosdeLinhadoTempodoProjeto[DATA],1),\"\")","v":""},{"$f":"IFERROR(IF(ISBLANK(INDEX(DetalhesDoProjeto[#Data],Última_entrada_do_projeto-Linha_de_início_do_projeto-DadosdeLinhadoTempodoProjeto[[#This Row],[NUM]]+1,1)),\"\",INDEX(DetalhesDoProjeto[#Data],Última_entrada_do_projeto-Linha_de_início_do_projeto-DadosdeLinhadoTempodoProjeto[[#This Row],[NUM]]+1,1)),\"\")","v":""},{"$f":"IFERROR(IF(ISBLANK(INDEX(DetalhesDoProjeto[#Data],Última_entrada_do_projeto-Linha_de_início_do_projeto-DadosdeLinhadoTempodoProjeto[[#This Row],[NUM]]+1,2)),\"\",INDEX(DetalhesDoProjeto[#Data],Última_entrada_do_projeto-Linha_de_início_do_projeto-DadosdeLinhadoTempodoProjeto[[#This Row],[NUM]]+1,2)),\"\")","v":""},{"$f":"IFERROR(IF(ISBLANK(INDEX(DetalhesDoProjeto[#Data],Última_entrada_do_projeto-Linha_de_início_do_projeto-DadosdeLinhadoTempodoProjeto[[#This Row],[NUM]]+1,3)),\"\",INDEX(DetalhesDoProjeto[#Data],Última_entrada_do_projeto-Linha_de_início_do_projeto-DadosdeLinhadoTempodoProjeto[[#This Row],[NUM]]+1,3)),\"\")","v":""},{"$f":"IFERROR(IF(ISBLANK(INDEX(DetalhesDoProjeto[#Data],ROW(A344)+1,1)),\"\",IF($J348-1<=-1,\"\",$J348-1)),\"\")","v":""},null,null,{"$f":"IFERROR(DadosdeLinhadoTempodoProjeto[[#This Row],[NUM]]+1,\"\")","v":""},{"$f":"IFERROR(VLOOKUP(LinhadoTempoClassificada[[#This Row],[POSIÇÃO classificada]],DadosdeLinhadoTempodoProjeto[],3,0),\"\")","v":""},{"$f":"IFERROR(VLOOKUP(LinhadoTempoClassificada[[#This Row],[POSIÇÃO classificada]],DadosdeLinhadoTempodoProjeto[],4,0),\"\")","v":""},{"$f":"IFERROR(VLOOKUP(LinhadoTempoClassificada[[#This Row],[POSIÇÃO classificada]],DadosdeLinhadoTempodoProjeto[],5,0),\"\")","v":""}]