{"text_format":"3","workbook":"xlsx","n_sheets":2,"sheets":["Dati candidato","Dati confronto candidati"],"not_rendered":{"defined_names":4},"read":"whole","date_system":"1900"}

{"sheet":"Dati candidato","index":0,"n_rows":2,"n_cols":13,"rows_kept":2,"merged":[[0,0,0,3]]}
["Dati candidato"]
["Cognome","Nome","Secondo nome","Posizione richiesta","Stato candidatura","Indirizzo","Telefono abitazione","Altro telefono","Indirizzo di posta elettronica","Origine candidatura","Curriculum vitae ricevuto il","Nome selezionatore","Note selezionatore"]

{"sheet":"Dati confronto candidati","index":1,"n_rows":59,"n_cols":12,"rows_kept":59,"merged":[[0,0,0,3]]}
["Dati confronto candidati"]
["Cognome","Nome","Secondo nome","Posizione richiesta","Attuale datore di lavoro","Posizione attuale","Titolo di studio","Servizio militare","Anni di esperienza in posizione analoga","Esperienze professionali pertinenti","Nome selezionatore","Note selezionatore"]
[{"$f":"IF('Dati candidato'!A3=\"\",\"\",'Dati candidato'!A3)","v":""},{"$f":"IF('Dati candidato'!B3=\"\",\"\",'Dati candidato'!B3)","v":""},{"$f":"IF('Dati candidato'!C3=\"\",\"\",'Dati candidato'!C3)","v":""},{"$f":"IF('Dati candidato'!D3=\"\",\"\",'Dati candidato'!D3)","v":""},{"$nulls":6},{"$f":"IF('Dati candidato'!L3=\"\",\"\",'Dati candidato'!L3)","v":""},{"$f":"IF('Dati candidato'!M3=\"\",\"\",'Dati candidato'!M3)","v":""}]
[{"$f":"IF('Dati candidato'!A4=\"\",\"\",'Dati candidato'!A4)","v":""},{"$f":"IF('Dati candidato'!B4=\"\",\"\",'Dati candidato'!B4)","v":""},{"$f":"IF('Dati candidato'!C4=\"\",\"\",'Dati candidato'!C4)","v":""},{"$f":"IF('Dati candidato'!D4=\"\",\"\",'Dati candidato'!D4)","v":""},{"$nulls":6},{"$f":"IF('Dati candidato'!L4=\"\",\"\",'Dati candidato'!L4)","v":""},{"$f":"IF('Dati candidato'!M4=\"\",\"\",'Dati candidato'!M4)","v":""}]
[{"$f":"IF('Dati candidato'!A5=\"\",\"\",'Dati candidato'!A5)","v":""},{"$f":"IF('Dati candidato'!B5=\"\",\"\",'Dati candidato'!B5)","v":""},{"$f":"IF('Dati candidato'!C5=\"\",\"\",'Dati candidato'!C5)","v":""},{"$f":"IF('Dati candidato'!D5=\"\",\"\",'Dati candidato'!D5)","v":""},{"$nulls":6},{"$f":"IF('Dati candidato'!L5=\"\",\"\",'Dati candidato'!L5)","v":""},{"$f":"IF('Dati candidato'!M5=\"\",\"\",'Dati candidato'!M5)","v":""}]
[{"$f":"IF('Dati candidato'!A6=\"\",\"\",'Dati candidato'!A6)","v":""},{"$f":"IF('Dati candidato'!B6=\"\",\"\",'Dati candidato'!B6)","v":""},{"$f":"IF('Dati candidato'!C6=\"\",\"\",'Dati candidato'!C6)","v":""},{"$f":"IF('Dati candidato'!D6=\"\",\"\",'Dati candidato'!D6)","v":""},{"$nulls":6},{"$f":"IF('Dati candidato'!L6=\"\",\"\",'Dati candidato'!L6)","v":""},{"$f":"IF('Dati candidato'!M6=\"\",\"\",'Dati candidato'!M6)","v":""}]
[{"$f":"IF('Dati candidato'!A7=\"\",\"\",'Dati candidato'!A7)","v":""},{"$f":"IF('Dati candidato'!B7=\"\",\"\",'Dati candidato'!B7)","v":""},{"$f":"IF('Dati candidato'!C7=\"\",\"\",'Dati candidato'!C7)","v":""},{"$f":"IF('Dati candidato'!D7=\"\",\"\",'Dati candidato'!D7)","v":""},{"$nulls":6},{"$f":"IF('Dati candidato'!L7=\"\",\"\",'Dati candidato'!L7)","v":""},{"$f":"IF('Dati candidato'!M7=\"\",\"\",'Dati candidato'!M7)","v":""}]
[{"$f":"IF('Dati candidato'!A8=\"\",\"\",'Dati candidato'!A8)","v":""},{"$f":"IF('Dati candidato'!B8=\"\",\"\",'Dati candidato'!B8)","v":""},{"$f":"IF('Dati candidato'!C8=\"\",\"\",'Dati candidato'!C8)","v":""},{"$f":"IF('Dati candidato'!D8=\"\",\"\",'Dati candidato'!D8)","v":""},{"$nulls":6},{"$f":"IF('Dati candidato'!L8=\"\",\"\",'Dati candidato'!L8)","v":""},{"$f":"IF('Dati candidato'!M8=\"\",\"\",'Dati candidato'!M8)","v":""}]
[{"$f":"IF('Dati candidato'!A9=\"\",\"\",'Dati candidato'!A9)","v":""},{"$f":"IF('Dati candidato'!B9=\"\",\"\",'Dati candidato'!B9)","v":""},{"$f":"IF('Dati candidato'!C9=\"\",\"\",'Dati candidato'!C9)","v":""},{"$f":"IF('Dati candidato'!D9=\"\",\"\",'Dati candidato'!D9)","v":""},{"$nulls":6},{"$f":"IF('Dati candidato'!L9=\"\",\"\",'Dati candidato'!L9)","v":""},{"$f":"IF('Dati candidato'!M9=\"\",\"\",'Dati candidato'!M9)","v":""}]
[{"$f":"IF('Dati candidato'!A10=\"\",\"\",'Dati candidato'!A10)","v":""},{"$f":"IF('Dati candidato'!B10=\"\",\"\",'Dati candidato'!B10)","v":""},{"$f":"IF('Dati candidato'!C10=\"\",\"\",'Dati candidato'!C10)","v":""},{"$f":"IF('Dati candidato'!D10=\"\",\"\",'Dati candidato'!D10)","v":""},{"$nulls":6},{"$f":"IF('Dati candidato'!L10=\"\",\"\",'Dati candidato'!L10)","v":""},{"$f":"IF('Dati candidato'!M10=\"\",\"\",'Dati candidato'!M10)","v":""}]
[{"$f":"IF('Dati candidato'!A11=\"\",\"\",'Dati candidato'!A11)","v":""},{"$f":"IF('Dati candidato'!B11=\"\",\"\",'Dati candidato'!B11)","v":""},{"$f":"IF('Dati candidato'!C11=\"\",\"\",'Dati candidato'!C11)","v":""},{"$f":"IF('Dati candidato'!D11=\"\",\"\",'Dati candidato'!D11)","v":""},{"$nulls":6},{"$f":"IF('Dati candidato'!L11=\"\",\"\",'Dati candidato'!L11)","v":""},{"$f":"IF('Dati candidato'!M11=\"\",\"\",'Dati candidato'!M11)","v":""}]
[{"$f":"IF('Dati candidato'!A12=\"\",\"\",'Dati candidato'!A12)","v":""},{"$f":"IF('Dati candidato'!B12=\"\",\"\",'Dati candidato'!B12)","v":""},{"$f":"IF('Dati candidato'!C12=\"\",\"\",'Dati candidato'!C12)","v":""},{"$f":"IF('Dati candidato'!D12=\"\",\"\",'Dati candidato'!D12)","v":""},{"$nulls":6},{"$f":"IF('Dati candidato'!L12=\"\",\"\",'Dati candidato'!L12)","v":""},{"$f":"IF('Dati candidato'!M12=\"\",\"\",'Dati candidato'!M12)","v":""}]
[{"$f":"IF('Dati candidato'!A13=\"\",\"\",'Dati candidato'!A13)","v":""},{"$f":"IF('Dati candidato'!B13=\"\",\"\",'Dati candidato'!B13)","v":""},{"$f":"IF('Dati candidato'!C13=\"\",\"\",'Dati candidato'!C13)","v":""},{"$f":"IF('Dati candidato'!D13=\"\",\"\",'Dati candidato'!D13)","v":""},{"$nulls":6},{"$f":"IF('Dati candidato'!L13=\"\",\"\",'Dati candidato'!L13)","v":""},{"$f":"IF('Dati candidato'!M13=\"\",\"\",'Dati candidato'!M13)","v":""}]
[{"$f":"IF('Dati candidato'!A14=\"\",\"\",'Dati candidato'!A14)","v":""},{"$f":"IF('Dati candidato'!B14=\"\",\"\",'Dati candidato'!B14)","v":""},{"$f":"IF('Dati candidato'!C14=\"\",\"\",'Dati candidato'!C14)","v":""},{"$f":"IF('Dati candidato'!D14=\"\",\"\",'Dati candidato'!D14)","v":""},{"$nulls":6},{"$f":"IF('Dati candidato'!L14=\"\",\"\",'Dati candidato'!L14)","v":""},{"$f":"IF('Dati candidato'!M14=\"\",\"\",'Dati candidato'!M14)","v":""}]
[{"$f":"IF('Dati candidato'!A15=\"\",\"\",'Dati candidato'!A15)","v":""},{"$f":"IF('Dati candidato'!B15=\"\",\"\",'Dati candidato'!B15)","v":""},{"$f":"IF('Dati candidato'!C15=\"\",\"\",'Dati candidato'!C15)","v":""},{"$f":"IF('Dati candidato'!D15=\"\",\"\",'Dati candidato'!D15)","v":""},{"$nulls":6},{"$f":"IF('Dati candidato'!L15=\"\",\"\",'Dati candidato'!L15)","v":""},{"$f":"IF('Dati candidato'!M15=\"\",\"\",'Dati candidato'!M15)","v":""}]
[{"$f":"IF('Dati candidato'!A16=\"\",\"\",'Dati candidato'!A16)","v":""},{"$f":"IF('Dati candidato'!B16=\"\",\"\",'Dati candidato'!B16)","v":""},{"$f":"IF('Dati candidato'!C16=\"\",\"\",'Dati candidato'!C16)","v":""},{"$f":"IF('Dati candidato'!D16=\"\",\"\",'Dati candidato'!D16)","v":""},{"$nulls":6},{"$f":"IF('Dati candidato'!L16=\"\",\"\",'Dati candidato'!L16)","v":""},{"$f":"IF('Dati candidato'!M16=\"\",\"\",'Dati candidato'!M16)","v":""}]
[{"$f":"IF('Dati candidato'!A17=\"\",\"\",'Dati candidato'!A17)","v":""},{"$f":"IF('Dati candidato'!B17=\"\",\"\",'Dati candidato'!B17)","v":""},{"$f":"IF('Dati candidato'!C17=\"\",\"\",'Dati candidato'!C17)","v":""},{"$f":"IF('Dati candidato'!D17=\"\",\"\",'Dati candidato'!D17)","v":""},{"$nulls":6},{"$f":"IF('Dati candidato'!L17=\"\",\"\",'Dati candidato'!L17)","v":""},{"$f":"IF('Dati candidato'!M17=\"\",\"\",'Dati candidato'!M17)","v":""}]
[{"$f":"IF('Dati candidato'!A18=\"\",\"\",'Dati candidato'!A18)","v":""},{"$f":"IF('Dati candidato'!B18=\"\",\"\",'Dati candidato'!B18)","v":""},{"$f":"IF('Dati candidato'!C18=\"\",\"\",'Dati candidato'!C18)","v":""},{"$f":"IF('Dati candidato'!D18=\"\",\"\",'Dati candidato'!D18)","v":""},{"$nulls":6},{"$f":"IF('Dati candidato'!L18=\"\",\"\",'Dati candidato'!L18)","v":""},{"$f":"IF('Dati candidato'!M18=\"\",\"\",'Dati candidato'!M18)","v":""}]
[{"$f":"IF('Dati candidato'!A19=\"\",\"\",'Dati candidato'!A19)","v":""},{"$f":"IF('Dati candidato'!B19=\"\",\"\",'Dati candidato'!B19)","v":""},{"$f":"IF('Dati candidato'!C19=\"\",\"\",'Dati candidato'!C19)","v":""},{"$f":"IF('Dati candidato'!D19=\"\",\"\",'Dati candidato'!D19)","v":""},{"$nulls":6},{"$f":"IF('Dati candidato'!L19=\"\",\"\",'Dati candidato'!L19)","v":""},{"$f":"IF('Dati candidato'!M19=\"\",\"\",'Dati candidato'!M19)","v":""}]
[{"$f":"IF('Dati candidato'!A20=\"\",\"\",'Dati candidato'!A20)","v":""},{"$f":"IF('Dati candidato'!B20=\"\",\"\",'Dati candidato'!B20)","v":""},{"$f":"IF('Dati candidato'!C20=\"\",\"\",'Dati candidato'!C20)","v":""},{"$f":"IF('Dati candidato'!D20=\"\",\"\",'Dati candidato'!D20)","v":""},{"$nulls":6},{"$f":"IF('Dati candidato'!L20=\"\",\"\",'Dati candidato'!L20)","v":""},{"$f":"IF('Dati candidato'!M20=\"\",\"\",'Dati candidato'!M20)","v":""}]
[{"$f":"IF('Dati candidato'!A21=\"\",\"\",'Dati candidato'!A21)","v":""},{"$f":"IF('Dati candidato'!B21=\"\",\"\",'Dati candidato'!B21)","v":""},{"$f":"IF('Dati candidato'!C21=\"\",\"\",'Dati candidato'!C21)","v":""},{"$f":"IF('Dati candidato'!D21=\"\",\"\",'Dati candidato'!D21)","v":""},{"$nulls":6},{"$f":"IF('Dati candidato'!L21=\"\",\"\",'Dati candidato'!L21)","v":""},{"$f":"IF('Dati candidato'!M21=\"\",\"\",'Dati candidato'!M21)","v":""}]
[{"$f":"IF('Dati candidato'!A22=\"\",\"\",'Dati candidato'!A22)","v":""},{"$f":"IF('Dati candidato'!B22=\"\",\"\",'Dati candidato'!B22)","v":""},{"$f":"IF('Dati candidato'!C22=\"\",\"\",'Dati candidato'!C22)","v":""},{"$f":"IF('Dati candidato'!D22=\"\",\"\",'Dati candidato'!D22)","v":""},{"$nulls":6},{"$f":"IF('Dati candidato'!L22=\"\",\"\",'Dati candidato'!L22)","v":""},{"$f":"IF('Dati candidato'!M22=\"\",\"\",'Dati candidato'!M22)","v":""}]
[{"$f":"IF('Dati candidato'!A23=\"\",\"\",'Dati candidato'!A23)","v":""},{"$f":"IF('Dati candidato'!B23=\"\",\"\",'Dati candidato'!B23)","v":""},{"$f":"IF('Dati candidato'!C23=\"\",\"\",'Dati candidato'!C23)","v":""},{"$f":"IF('Dati candidato'!D23=\"\",\"\",'Dati candidato'!D23)","v":""},{"$nulls":6},{"$f":"IF('Dati candidato'!L23=\"\",\"\",'Dati candidato'!L23)","v":""},{"$f":"IF('Dati candidato'!M23=\"\",\"\",'Dati candidato'!M23)","v":""}]
[{"$f":"IF('Dati candidato'!A24=\"\",\"\",'Dati candidato'!A24)","v":""},{"$f":"IF('Dati candidato'!B24=\"\",\"\",'Dati candidato'!B24)","v":""},{"$f":"IF('Dati candidato'!C24=\"\",\"\",'Dati candidato'!C24)","v":""},{"$f":"IF('Dati candidato'!D24=\"\",\"\",'Dati candidato'!D24)","v":""},{"$nulls":6},{"$f":"IF('Dati candidato'!L24=\"\",\"\",'Dati candidato'!L24)","v":""},{"$f":"IF('Dati candidato'!M24=\"\",\"\",'Dati candidato'!M24)","v":""}]
[{"$f":"IF('Dati candidato'!A25=\"\",\"\",'Dati candidato'!A25)","v":""},{"$f":"IF('Dati candidato'!B25=\"\",\"\",'Dati candidato'!B25)","v":""},{"$f":"IF('Dati candidato'!C25=\"\",\"\",'Dati candidato'!C25)","v":""},{"$f":"IF('Dati candidato'!D25=\"\",\"\",'Dati candidato'!D25)","v":""},{"$nulls":6},{"$f":"IF('Dati candidato'!L25=\"\",\"\",'Dati candidato'!L25)","v":""},{"$f":"IF('Dati candidato'!M25=\"\",\"\",'Dati candidato'!M25)","v":""}]
[{"$f":"IF('Dati candidato'!A26=\"\",\"\",'Dati candidato'!A26)","v":""},{"$f":"IF('Dati candidato'!B26=\"\",\"\",'Dati candidato'!B26)","v":""},{"$f":"IF('Dati candidato'!C26=\"\",\"\",'Dati candidato'!C26)","v":""},{"$f":"IF('Dati candidato'!D26=\"\",\"\",'Dati candidato'!D26)","v":""},{"$nulls":6},{"$f":"IF('Dati candidato'!L26=\"\",\"\",'Dati candidato'!L26)","v":""},{"$f":"IF('Dati candidato'!M26=\"\",\"\",'Dati candidato'!M26)","v":""}]
[{"$f":"IF('Dati candidato'!A27=\"\",\"\",'Dati candidato'!A27)","v":""},{"$f":"IF('Dati candidato'!B27=\"\",\"\",'Dati candidato'!B27)","v":""},{"$f":"IF('Dati candidato'!C27=\"\",\"\",'Dati candidato'!C27)","v":""},{"$f":"IF('Dati candidato'!D27=\"\",\"\",'Dati candidato'!D27)","v":""},{"$nulls":6},{"$f":"IF('Dati candidato'!L27=\"\",\"\",'Dati candidato'!L27)","v":""},{"$f":"IF('Dati candidato'!M27=\"\",\"\",'Dati candidato'!M27)","v":""}]
[{"$f":"IF('Dati candidato'!A28=\"\",\"\",'Dati candidato'!A28)","v":""},{"$f":"IF('Dati candidato'!B28=\"\",\"\",'Dati candidato'!B28)","v":""},{"$f":"IF('Dati candidato'!C28=\"\",\"\",'Dati candidato'!C28)","v":""},{"$f":"IF('Dati candidato'!D28=\"\",\"\",'Dati candidato'!D28)","v":""},{"$nulls":6},{"$f":"IF('Dati candidato'!L28=\"\",\"\",'Dati candidato'!L28)","v":""},{"$f":"IF('Dati candidato'!M28=\"\",\"\",'Dati candidato'!M28)","v":""}]
[{"$f":"IF('Dati candidato'!A29=\"\",\"\",'Dati candidato'!A29)","v":""},{"$f":"IF('Dati candidato'!B29=\"\",\"\",'Dati candidato'!B29)","v":""},{"$f":"IF('Dati candidato'!C29=\"\",\"\",'Dati candidato'!C29)","v":""},{"$f":"IF('Dati candidato'!D29=\"\",\"\",'Dati candidato'!D29)","v":""},{"$nulls":6},{"$f":"IF('Dati candidato'!L29=\"\",\"\",'Dati candidato'!L29)","v":""},{"$f":"IF('Dati candidato'!M29=\"\",\"\",'Dati candidato'!M29)","v":""}]
[{"$f":"IF('Dati candidato'!A30=\"\",\"\",'Dati candidato'!A30)","v":""},{"$f":"IF('Dati candidato'!B30=\"\",\"\",'Dati candidato'!B30)","v":""},{"$f":"IF('Dati candidato'!C30=\"\",\"\",'Dati candidato'!C30)","v":""},{"$f":"IF('Dati candidato'!D30=\"\",\"\",'Dati candidato'!D30)","v":""},{"$nulls":6},{"$f":"IF('Dati candidato'!L30=\"\",\"\",'Dati candidato'!L30)","v":""},{"$f":"IF('Dati candidato'!M30=\"\",\"\",'Dati candidato'!M30)","v":""}]
[{"$f":"IF('Dati candidato'!A31=\"\",\"\",'Dati candidato'!A31)","v":""},{"$f":"IF('Dati candidato'!B31=\"\",\"\",'Dati candidato'!B31)","v":""},{"$f":"IF('Dati candidato'!C31=\"\",\"\",'Dati candidato'!C31)","v":""},{"$f":"IF('Dati candidato'!D31=\"\",\"\",'Dati candidato'!D31)","v":""},{"$nulls":6},{"$f":"IF('Dati candidato'!L31=\"\",\"\",'Dati candidato'!L31)","v":""},{"$f":"IF('Dati candidato'!M31=\"\",\"\",'Dati candidato'!M31)","v":""}]
[{"$f":"IF('Dati candidato'!A32=\"\",\"\",'Dati candidato'!A32)","v":""},{"$f":"IF('Dati candidato'!B32=\"\",\"\",'Dati candidato'!B32)","v":""},{"$f":"IF('Dati candidato'!C32=\"\",\"\",'Dati candidato'!C32)","v":""},{"$f":"IF('Dati candidato'!D32=\"\",\"\",'Dati candidato'!D32)","v":""},{"$nulls":6},{"$f":"IF('Dati candidato'!L32=\"\",\"\",'Dati candidato'!L32)","v":""},{"$f":"IF('Dati candidato'!M32=\"\",\"\",'Dati candidato'!M32)","v":""}]
[{"$f":"IF('Dati candidato'!A33=\"\",\"\",'Dati candidato'!A33)","v":""},{"$f":"IF('Dati candidato'!B33=\"\",\"\",'Dati candidato'!B33)","v":""},{"$f":"IF('Dati candidato'!C33=\"\",\"\",'Dati candidato'!C33)","v":""},{"$f":"IF('Dati candidato'!D33=\"\",\"\",'Dati candidato'!D33)","v":""},{"$nulls":6},{"$f":"IF('Dati candidato'!L33=\"\",\"\",'Dati candidato'!L33)","v":""},{"$f":"IF('Dati candidato'!M33=\"\",\"\",'Dati candidato'!M33)","v":""}]
[{"$f":"IF('Dati candidato'!A34=\"\",\"\",'Dati candidato'!A34)","v":""},{"$f":"IF('Dati candidato'!B34=\"\",\"\",'Dati candidato'!B34)","v":""},{"$f":"IF('Dati candidato'!C34=\"\",\"\",'Dati candidato'!C34)","v":""},{"$f":"IF('Dati candidato'!D34=\"\",\"\",'Dati candidato'!D34)","v":""},{"$nulls":6},{"$f":"IF('Dati candidato'!L34=\"\",\"\",'Dati candidato'!L34)","v":""},{"$f":"IF('Dati candidato'!M34=\"\",\"\",'Dati candidato'!M34)","v":""}]
[{"$f":"IF('Dati candidato'!A35=\"\",\"\",'Dati candidato'!A35)","v":""},{"$f":"IF('Dati candidato'!B35=\"\",\"\",'Dati candidato'!B35)","v":""},{"$f":"IF('Dati candidato'!C35=\"\",\"\",'Dati candidato'!C35)","v":""},{"$f":"IF('Dati candidato'!D35=\"\",\"\",'Dati candidato'!D35)","v":""},{"$nulls":6},{"$f":"IF('Dati candidato'!L35=\"\",\"\",'Dati candidato'!L35)","v":""},{"$f":"IF('Dati candidato'!M35=\"\",\"\",'Dati candidato'!M35)","v":""}]
[{"$f":"IF('Dati candidato'!A36=\"\",\"\",'Dati candidato'!A36)","v":""},{"$f":"IF('Dati candidato'!B36=\"\",\"\",'Dati candidato'!B36)","v":""},{"$f":"IF('Dati candidato'!C36=\"\",\"\",'Dati candidato'!C36)","v":""},{"$f":"IF('Dati candidato'!D36=\"\",\"\",'Dati candidato'!D36)","v":""},{"$nulls":6},{"$f":"IF('Dati candidato'!L36=\"\",\"\",'Dati candidato'!L36)","v":""},{"$f":"IF('Dati candidato'!M36=\"\",\"\",'Dati candidato'!M36)","v":""}]
[{"$f":"IF('Dati candidato'!A37=\"\",\"\",'Dati candidato'!A37)","v":""},{"$f":"IF('Dati candidato'!B37=\"\",\"\",'Dati candidato'!B37)","v":""},{"$f":"IF('Dati candidato'!C37=\"\",\"\",'Dati candidato'!C37)","v":""},{"$f":"IF('Dati candidato'!D37=\"\",\"\",'Dati candidato'!D37)","v":""},{"$nulls":6},{"$f":"IF('Dati candidato'!L37=\"\",\"\",'Dati candidato'!L37)","v":""},{"$f":"IF('Dati candidato'!M37=\"\",\"\",'Dati candidato'!M37)","v":""}]
[{"$f":"IF('Dati candidato'!A38=\"\",\"\",'Dati candidato'!A38)","v":""},{"$f":"IF('Dati candidato'!B38=\"\",\"\",'Dati candidato'!B38)","v":""},{"$f":"IF('Dati candidato'!C38=\"\",\"\",'Dati candidato'!C38)","v":""},{"$f":"IF('Dati candidato'!D38=\"\",\"\",'Dati candidato'!D38)","v":""},{"$nulls":6},{"$f":"IF('Dati candidato'!L38=\"\",\"\",'Dati candidato'!L38)","v":""},{"$f":"IF('Dati candidato'!M38=\"\",\"\",'Dati candidato'!M38)","v":""}]
[{"$f":"IF('Dati candidato'!A39=\"\",\"\",'Dati candidato'!A39)","v":""},{"$f":"IF('Dati candidato'!B39=\"\",\"\",'Dati candidato'!B39)","v":""},{"$f":"IF('Dati candidato'!C39=\"\",\"\",'Dati candidato'!C39)","v":""},{"$f":"IF('Dati candidato'!D39=\"\",\"\",'Dati candidato'!D39)","v":""},{"$nulls":6},{"$f":"IF('Dati candidato'!L39=\"\",\"\",'Dati candidato'!L39)","v":""},{"$f":"IF('Dati candidato'!M39=\"\",\"\",'Dati candidato'!M39)","v":""}]
[{"$f":"IF('Dati candidato'!A40=\"\",\"\",'Dati candidato'!A40)","v":""},{"$f":"IF('Dati candidato'!B40=\"\",\"\",'Dati candidato'!B40)","v":""},{"$f":"IF('Dati candidato'!C40=\"\",\"\",'Dati candidato'!C40)","v":""},{"$f":"IF('Dati candidato'!D40=\"\",\"\",'Dati candidato'!D40)","v":""},{"$nulls":6},{"$f":"IF('Dati candidato'!L40=\"\",\"\",'Dati candidato'!L40)","v":""},{"$f":"IF('Dati candidato'!M40=\"\",\"\",'Dati candidato'!M40)","v":""}]
[{"$f":"IF('Dati candidato'!A41=\"\",\"\",'Dati candidato'!A41)","v":""},{"$f":"IF('Dati candidato'!B41=\"\",\"\",'Dati candidato'!B41)","v":""},{"$f":"IF('Dati candidato'!C41=\"\",\"\",'Dati candidato'!C41)","v":""},{"$f":"IF('Dati candidato'!D41=\"\",\"\",'Dati candidato'!D41)","v":""},{"$nulls":6},{"$f":"IF('Dati candidato'!L41=\"\",\"\",'Dati candidato'!L41)","v":""},{"$f":"IF('Dati candidato'!M41=\"\",\"\",'Dati candidato'!M41)","v":""}]
[{"$f":"IF('Dati candidato'!A42=\"\",\"\",'Dati candidato'!A42)","v":""},{"$f":"IF('Dati candidato'!B42=\"\",\"\",'Dati candidato'!B42)","v":""},{"$f":"IF('Dati candidato'!C42=\"\",\"\",'Dati candidato'!C42)","v":""},{"$f":"IF('Dati candidato'!D42=\"\",\"\",'Dati candidato'!D42)","v":""},{"$nulls":6},{"$f":"IF('Dati candidato'!L42=\"\",\"\",'Dati candidato'!L42)","v":""},{"$f":"IF('Dati candidato'!M42=\"\",\"\",'Dati candidato'!M42)","v":""}]
[{"$f":"IF('Dati candidato'!A43=\"\",\"\",'Dati candidato'!A43)","v":""},{"$f":"IF('Dati candidato'!B43=\"\",\"\",'Dati candidato'!B43)","v":""},{"$f":"IF('Dati candidato'!C43=\"\",\"\",'Dati candidato'!C43)","v":""},{"$f":"IF('Dati candidato'!D43=\"\",\"\",'Dati candidato'!D43)","v":""},{"$nulls":6},{"$f":"IF('Dati candidato'!L43=\"\",\"\",'Dati candidato'!L43)","v":""},{"$f":"IF('Dati candidato'!M43=\"\",\"\",'Dati candidato'!M43)","v":""}]
[{"$f":"IF('Dati candidato'!A44=\"\",\"\",'Dati candidato'!A44)","v":""},{"$f":"IF('Dati candidato'!B44=\"\",\"\",'Dati candidato'!B44)","v":""},{"$f":"IF('Dati candidato'!C44=\"\",\"\",'Dati candidato'!C44)","v":""},{"$f":"IF('Dati candidato'!D44=\"\",\"\",'Dati candidato'!D44)","v":""},{"$nulls":6},{"$f":"IF('Dati candidato'!L44=\"\",\"\",'Dati candidato'!L44)","v":""},{"$f":"IF('Dati candidato'!M44=\"\",\"\",'Dati candidato'!M44)","v":""}]
[{"$f":"IF('Dati candidato'!A45=\"\",\"\",'Dati candidato'!A45)","v":""},{"$f":"IF('Dati candidato'!B45=\"\",\"\",'Dati candidato'!B45)","v":""},{"$f":"IF('Dati candidato'!C45=\"\",\"\",'Dati candidato'!C45)","v":""},{"$f":"IF('Dati candidato'!D45=\"\",\"\",'Dati candidato'!D45)","v":""},{"$nulls":6},{"$f":"IF('Dati candidato'!L45=\"\",\"\",'Dati candidato'!L45)","v":""},{"$f":"IF('Dati candidato'!M45=\"\",\"\",'Dati candidato'!M45)","v":""}]
[{"$f":"IF('Dati candidato'!A46=\"\",\"\",'Dati candidato'!A46)","v":""},{"$f":"IF('Dati candidato'!B46=\"\",\"\",'Dati candidato'!B46)","v":""},{"$f":"IF('Dati candidato'!C46=\"\",\"\",'Dati candidato'!C46)","v":""},{"$f":"IF('Dati candidato'!D46=\"\",\"\",'Dati candidato'!D46)","v":""},{"$nulls":6},{"$f":"IF('Dati candidato'!L46=\"\",\"\",'Dati candidato'!L46)","v":""},{"$f":"IF('Dati candidato'!M46=\"\",\"\",'Dati candidato'!M46)","v":""}]
[{"$f":"IF('Dati candidato'!A47=\"\",\"\",'Dati candidato'!A47)","v":""},{"$f":"IF('Dati candidato'!B47=\"\",\"\",'Dati candidato'!B47)","v":""},{"$f":"IF('Dati candidato'!C47=\"\",\"\",'Dati candidato'!C47)","v":""},{"$f":"IF('Dati candidato'!D47=\"\",\"\",'Dati candidato'!D47)","v":""},{"$nulls":6},{"$f":"IF('Dati candidato'!L47=\"\",\"\",'Dati candidato'!L47)","v":""},{"$f":"IF('Dati candidato'!M47=\"\",\"\",'Dati candidato'!M47)","v":""}]
[{"$f":"IF('Dati candidato'!A48=\"\",\"\",'Dati candidato'!A48)","v":""},{"$f":"IF('Dati candidato'!B48=\"\",\"\",'Dati candidato'!B48)","v":""},{"$f":"IF('Dati candidato'!C48=\"\",\"\",'Dati candidato'!C48)","v":""},{"$f":"IF('Dati candidato'!D48=\"\",\"\",'Dati candidato'!D48)","v":""},{"$nulls":6},{"$f":"IF('Dati candidato'!L48=\"\",\"\",'Dati candidato'!L48)","v":""},{"$f":"IF('Dati candidato'!M48=\"\",\"\",'Dati candidato'!M48)","v":""}]
[{"$f":"IF('Dati candidato'!A49=\"\",\"\",'Dati candidato'!A49)","v":""},{"$f":"IF('Dati candidato'!B49=\"\",\"\",'Dati candidato'!B49)","v":""},{"$f":"IF('Dati candidato'!C49=\"\",\"\",'Dati candidato'!C49)","v":""},{"$f":"IF('Dati candidato'!D49=\"\",\"\",'Dati candidato'!D49)","v":""},{"$nulls":6},{"$f":"IF('Dati candidato'!L49=\"\",\"\",'Dati candidato'!L49)","v":""},{"$f":"IF('Dati candidato'!M49=\"\",\"\",'Dati candidato'!M49)","v":""}]
[{"$f":"IF('Dati candidato'!A50=\"\",\"\",'Dati candidato'!A50)","v":""},{"$f":"IF('Dati candidato'!B50=\"\",\"\",'Dati candidato'!B50)","v":""},{"$f":"IF('Dati candidato'!C50=\"\",\"\",'Dati candidato'!C50)","v":""},{"$f":"IF('Dati candidato'!D50=\"\",\"\",'Dati candidato'!D50)","v":""},{"$nulls":6},{"$f":"IF('Dati candidato'!L50=\"\",\"\",'Dati candidato'!L50)","v":""},{"$f":"IF('Dati candidato'!M50=\"\",\"\",'Dati candidato'!M50)","v":""}]
[{"$f":"IF('Dati candidato'!A51=\"\",\"\",'Dati candidato'!A51)","v":""},{"$f":"IF('Dati candidato'!B51=\"\",\"\",'Dati candidato'!B51)","v":""},{"$f":"IF('Dati candidato'!C51=\"\",\"\",'Dati candidato'!C51)","v":""},{"$f":"IF('Dati candidato'!D51=\"\",\"\",'Dati candidato'!D51)","v":""},{"$nulls":6},{"$f":"IF('Dati candidato'!L51=\"\",\"\",'Dati candidato'!L51)","v":""},{"$f":"IF('Dati candidato'!M51=\"\",\"\",'Dati candidato'!M51)","v":""}]
[{"$f":"IF('Dati candidato'!A52=\"\",\"\",'Dati candidato'!A52)","v":""},{"$f":"IF('Dati candidato'!B52=\"\",\"\",'Dati candidato'!B52)","v":""},{"$f":"IF('Dati candidato'!C52=\"\",\"\",'Dati candidato'!C52)","v":""},{"$f":"IF('Dati candidato'!D52=\"\",\"\",'Dati candidato'!D52)","v":""},{"$nulls":6},{"$f":"IF('Dati candidato'!L52=\"\",\"\",'Dati candidato'!L52)","v":""},{"$f":"IF('Dati candidato'!M52=\"\",\"\",'Dati candidato'!M52)","v":""}]
[{"$f":"IF('Dati candidato'!A53=\"\",\"\",'Dati candidato'!A53)","v":""},{"$f":"IF('Dati candidato'!B53=\"\",\"\",'Dati candidato'!B53)","v":""},{"$f":"IF('Dati candidato'!C53=\"\",\"\",'Dati candidato'!C53)","v":""},{"$f":"IF('Dati candidato'!D53=\"\",\"\",'Dati candidato'!D53)","v":""},{"$nulls":6},{"$f":"IF('Dati candidato'!L53=\"\",\"\",'Dati candidato'!L53)","v":""},{"$f":"IF('Dati candidato'!M53=\"\",\"\",'Dati candidato'!M53)","v":""}]
[{"$f":"IF('Dati candidato'!A54=\"\",\"\",'Dati candidato'!A54)","v":""},{"$f":"IF('Dati candidato'!B54=\"\",\"\",'Dati candidato'!B54)","v":""},{"$f":"IF('Dati candidato'!C54=\"\",\"\",'Dati candidato'!C54)","v":""},{"$f":"IF('Dati candidato'!D54=\"\",\"\",'Dati candidato'!D54)","v":""},{"$nulls":6},{"$f":"IF('Dati candidato'!L54=\"\",\"\",'Dati candidato'!L54)","v":""},{"$f":"IF('Dati candidato'!M54=\"\",\"\",'Dati candidato'!M54)","v":""}]
[{"$f":"IF('Dati candidato'!A55=\"\",\"\",'Dati candidato'!A55)","v":""},{"$f":"IF('Dati candidato'!B55=\"\",\"\",'Dati candidato'!B55)","v":""},{"$f":"IF('Dati candidato'!C55=\"\",\"\",'Dati candidato'!C55)","v":""},{"$f":"IF('Dati candidato'!D55=\"\",\"\",'Dati candidato'!D55)","v":""},{"$nulls":6},{"$f":"IF('Dati candidato'!L55=\"\",\"\",'Dati candidato'!L55)","v":""},{"$f":"IF('Dati candidato'!M55=\"\",\"\",'Dati candidato'!M55)","v":""}]
[{"$f":"IF('Dati candidato'!A56=\"\",\"\",'Dati candidato'!A56)","v":""},{"$f":"IF('Dati candidato'!B56=\"\",\"\",'Dati candidato'!B56)","v":""},{"$f":"IF('Dati candidato'!C56=\"\",\"\",'Dati candidato'!C56)","v":""},{"$f":"IF('Dati candidato'!D56=\"\",\"\",'Dati candidato'!D56)","v":""},{"$nulls":6},{"$f":"IF('Dati candidato'!L56=\"\",\"\",'Dati candidato'!L56)","v":""},{"$f":"IF('Dati candidato'!M56=\"\",\"\",'Dati candidato'!M56)","v":""}]
[{"$f":"IF('Dati candidato'!A57=\"\",\"\",'Dati candidato'!A57)","v":""},{"$f":"IF('Dati candidato'!B57=\"\",\"\",'Dati candidato'!B57)","v":""},{"$f":"IF('Dati candidato'!C57=\"\",\"\",'Dati candidato'!C57)","v":""},{"$f":"IF('Dati candidato'!D57=\"\",\"\",'Dati candidato'!D57)","v":""},{"$nulls":6},{"$f":"IF('Dati candidato'!L57=\"\",\"\",'Dati candidato'!L57)","v":""},{"$f":"IF('Dati candidato'!M57=\"\",\"\",'Dati candidato'!M57)","v":""}]
[{"$f":"IF('Dati candidato'!A58=\"\",\"\",'Dati candidato'!A58)","v":""},{"$f":"IF('Dati candidato'!B58=\"\",\"\",'Dati candidato'!B58)","v":""},{"$f":"IF('Dati candidato'!C58=\"\",\"\",'Dati candidato'!C58)","v":""},{"$f":"IF('Dati candidato'!D58=\"\",\"\",'Dati candidato'!D58)","v":""},{"$nulls":6},{"$f":"IF('Dati candidato'!L58=\"\",\"\",'Dati candidato'!L58)","v":""},{"$f":"IF('Dati candidato'!M58=\"\",\"\",'Dati candidato'!M58)","v":""}]
[{"$f":"IF('Dati candidato'!A59=\"\",\"\",'Dati candidato'!A59)","v":""},{"$f":"IF('Dati candidato'!B59=\"\",\"\",'Dati candidato'!B59)","v":""},{"$f":"IF('Dati candidato'!C59=\"\",\"\",'Dati candidato'!C59)","v":""},{"$f":"IF('Dati candidato'!D59=\"\",\"\",'Dati candidato'!D59)","v":""},{"$nulls":6},{"$f":"IF('Dati candidato'!L59=\"\",\"\",'Dati candidato'!L59)","v":""},{"$f":"IF('Dati candidato'!M59=\"\",\"\",'Dati candidato'!M59)","v":""}]