{"text_format":"3","workbook":"xlsx","n_sheets":7,"sheets":["Hétfő","Kedd","Szerda","Csütörtök","Péntek","Szombat","Vasárnap"],"not_rendered":{"defined_names":21},"read":"whole","date_system":"1900"}

{"sheet":"Hétfő","index":0,"n_rows":10,"n_cols":13,"rows_kept":10,"merged":[[0,1,0,4],[1,2,1,4],[2,2,2,4]]}
[null,"Műszakbeosztás"]
[null,"A következő hétre: ","Dátum"]
[null,"Részleg neve: ","Név"]
[]
[null,"HÉTFŐ","07:00","08:00","09:00","10:00","11:00","12:00","13:00","14:00","15:00","Beteg?","ÖSSZESEN"]
[null,"1. név","vezető","vezető","vezető","vezető","vezető","vezető","vezető","vezető","vezető",null,{"$f":"COUNTIF(Hétfő[[#This Row],[07:00]:[15:00]],\"*\")","v":9}]
[null,"2. név",null,"pénztáros","pénztáros","pénztáros","pénztáros",{"$nulls":5},{"$f":"COUNTIF(Hétfő[[#This Row],[07:00]:[15:00]],\"*\")","v":4}]
[null,"3. név",null,"recepciós","recepciós","recepciós","recepciós ","recepciós","recepciós","recepciós",null,null,{"$f":"COUNTIF(Hétfő[[#This Row],[07:00]:[15:00]],\"*\")","v":7}]
[null,"4. név",null,"recepciós","recepciós","recepciós","recepciós ","recepciós","recepciós","recepciós",null,null,{"$f":"COUNTIF(Hétfő[[#This Row],[07:00]:[15:00]],\"*\")","v":7}]
[null,"5. név",{"$nulls":9},"Betegség",{"$f":"COUNTIF(Hétfő[[#This Row],[07:00]:[15:00]],\"*\")","v":0}]

{"sheet":"Kedd","index":1,"n_rows":10,"n_cols":13,"rows_kept":10,"merged":[[0,1,0,4],[1,2,1,4],[2,2,2,4]]}
[null,"Műszakbeosztás"]
[null,"A következő hétre: ",{"$f":"Hétfő!C2","v":"Dátum"}]
[null,"Részleg neve: ",{"$f":"Hétfő!C3","v":"Név"}]
[]
[null,"KEDD","07:00","08:00","09:00","10:00","11:00","12:00","13:00","14:00","15:00","Beteg?","ÖSSZESEN"]
[null,"1. név","vezető","vezető","vezető","vezető","vezető","vezető","vezető","vezető","vezető",null,{"$f":"COUNTIF(Kedd[[#This Row],[07:00]:[15:00]],\"*\")","v":9}]
[null,"2. név",null,"pénztáros","pénztáros","pénztáros","pénztáros",{"$nulls":5},{"$f":"COUNTIF(Kedd[[#This Row],[07:00]:[15:00]],\"*\")","v":4}]
[null,"3. név",null,"recepciós","recepciós","recepciós","recepciós ","recepciós","recepciós","recepciós",null,null,{"$f":"COUNTIF(Kedd[[#This Row],[07:00]:[15:00]],\"*\")","v":7}]
[null,"4. név",null,"recepciós","recepciós","recepciós","recepciós ","recepciós","recepciós","recepciós",null,null,{"$f":"COUNTIF(Kedd[[#This Row],[07:00]:[15:00]],\"*\")","v":7}]
[null,"5. név",{"$nulls":9},"Betegség",{"$f":"COUNTIF(Kedd[[#This Row],[07:00]:[15:00]],\"*\")","v":0}]

{"sheet":"Szerda","index":2,"n_rows":10,"n_cols":13,"rows_kept":10,"merged":[[0,1,0,4],[1,2,1,4],[2,2,2,4]]}
[null,"Műszakbeosztás"]
[null,"A következő hétre: ",{"$f":"Hétfő!C2","v":"Dátum"}]
[null,"Részleg neve: ",{"$f":"Hétfő!C3","v":"Név"}]
[]
[null,"SZERDA","07:00","08:00","09:00","10:00","11:00","12:00","13:00","14:00","15:00","Beteg?","ÖSSZESEN"]
[null,"1. név","vezető","vezető","vezető","vezető","vezető","vezető","vezető","vezető","vezető",null,{"$f":"COUNTIF(Szerda[[#This Row],[07:00]:[15:00]],\"*\")","v":9}]
[null,"2. név",null,"pénztáros","pénztáros","pénztáros","pénztáros",{"$nulls":5},{"$f":"COUNTIF(Szerda[[#This Row],[07:00]:[15:00]],\"*\")","v":4}]
[null,"3. név",null,"recepciós","recepciós","recepciós","recepciós ","recepciós","recepciós","recepciós",null,null,{"$f":"COUNTIF(Szerda[[#This Row],[07:00]:[15:00]],\"*\")","v":7}]
[null,"4. név",null,"recepciós","recepciós","recepciós","recepciós ","recepciós","recepciós","recepciós",null,null,{"$f":"COUNTIF(Szerda[[#This Row],[07:00]:[15:00]],\"*\")","v":7}]
[null,"5. név",{"$nulls":9},"Betegség",{"$f":"COUNTIF(Szerda[[#This Row],[07:00]:[15:00]],\"*\")","v":0}]

{"sheet":"Csütörtök","index":3,"n_rows":10,"n_cols":13,"rows_kept":10,"merged":[[0,1,0,4],[1,2,1,4],[2,2,2,4]]}
[null,"Műszakbeosztás"]
[null,"A következő hétre: ",{"$f":"Hétfő!C2","v":"Dátum"}]
[null,"Részleg neve: ",{"$f":"Hétfő!C3","v":"Név"}]
[]
[null,"CSÜTÖRTÖK","07:00","08:00","09:00","10:00","11:00","12:00","13:00","14:00","15:00","Beteg?","ÖSSZESEN"]
[null,"1. név","vezető","vezető","vezető","vezető","vezető","vezető","vezető","vezető","vezető",null,{"$f":"COUNTIF(Csütörtök[[#This Row],[07:00]:[15:00]],\"*\")","v":9}]
[null,"2. név",null,"pénztáros","pénztáros","pénztáros","pénztáros",{"$nulls":5},{"$f":"COUNTIF(Csütörtök[[#This Row],[07:00]:[15:00]],\"*\")","v":4}]
[null,"3. név",null,"recepciós","recepciós","recepciós","recepciós ","recepciós","recepciós","recepciós",null,null,{"$f":"COUNTIF(Csütörtök[[#This Row],[07:00]:[15:00]],\"*\")","v":7}]
[null,"4. név",null,"recepciós","recepciós","recepciós","recepciós ","recepciós","recepciós","recepciós",null,null,{"$f":"COUNTIF(Csütörtök[[#This Row],[07:00]:[15:00]],\"*\")","v":7}]
[null,"5. név",{"$nulls":9},"Betegség",{"$f":"COUNTIF(Csütörtök[[#This Row],[07:00]:[15:00]],\"*\")","v":0}]

{"sheet":"Péntek","index":4,"n_rows":10,"n_cols":13,"rows_kept":10,"merged":[[0,1,0,4],[1,2,1,4],[2,2,2,4]]}
[null,"Műszakbeosztás"]
[null,"A következő hétre: ",{"$f":"Hétfő!C2","v":"Dátum"}]
[null,"Részleg neve: ",{"$f":"Hétfő!C3","v":"Név"}]
[]
[null,"PÉNTEK","07:00","08:00","09:00","10:00","11:00","12:00","13:00","14:00","15:00","Beteg?","ÖSSZESEN"]
[null,"1. név","vezető","vezető","vezető","vezető","vezető","vezető","vezető","vezető","vezető",null,{"$f":"COUNTIF(Péntek[[#This Row],[07:00]:[15:00]],\"*\")","v":9}]
[null,"2. név",null,"pénztáros","pénztáros","pénztáros","pénztáros",{"$nulls":5},{"$f":"COUNTIF(Péntek[[#This Row],[07:00]:[15:00]],\"*\")","v":4}]
[null,"3. név",null,"recepciós","recepciós","recepciós","recepciós ","recepciós","recepciós","recepciós",null,null,{"$f":"COUNTIF(Péntek[[#This Row],[07:00]:[15:00]],\"*\")","v":7}]
[null,"4. név",null,"recepciós","recepciós","recepciós","recepciós ","recepciós","recepciós","recepciós",null,null,{"$f":"COUNTIF(Péntek[[#This Row],[07:00]:[15:00]],\"*\")","v":7}]
[null,"5. név",{"$nulls":9},"Betegség",{"$f":"COUNTIF(Péntek[[#This Row],[07:00]:[15:00]],\"*\")","v":0}]

{"sheet":"Szombat","index":5,"n_rows":10,"n_cols":13,"rows_kept":10,"merged":[[0,1,0,4],[1,2,1,4],[2,2,2,4]]}
[null,"Műszakbeosztás"]
[null,"A következő hétre: ",{"$f":"Hétfő!C2","v":"Dátum"}]
[null,"Részleg neve: ",{"$f":"Hétfő!C3","v":"Név"}]
[]
[null,"SZOMBAT","07:00","08:00","09:00","10:00","11:00","12:00","13:00","14:00","15:00","Beteg?","ÖSSZESEN"]
[null,"1. név","vezető","vezető","vezető","vezető","vezető","vezető","vezető","vezető","vezető",null,{"$f":"COUNTIF(Szombat[[#This Row],[07:00]:[15:00]],\"*\")","v":9}]
[null,"2. név",null,"pénztáros","pénztáros","pénztáros","pénztáros",{"$nulls":5},{"$f":"COUNTIF(Szombat[[#This Row],[07:00]:[15:00]],\"*\")","v":4}]
[null,"3. név",null,"recepciós","recepciós","recepciós","recepciós ","recepciós","recepciós","recepciós",null,null,{"$f":"COUNTIF(Szombat[[#This Row],[07:00]:[15:00]],\"*\")","v":7}]
[null,"4. név",null,"recepciós","recepciós","recepciós","recepciós ","recepciós","recepciós","recepciós",null,null,{"$f":"COUNTIF(Szombat[[#This Row],[07:00]:[15:00]],\"*\")","v":7}]
[null,"5. név",{"$nulls":9},"Betegség",{"$f":"COUNTIF(Szombat[[#This Row],[07:00]:[15:00]],\"*\")","v":0}]

{"sheet":"Vasárnap","index":6,"n_rows":10,"n_cols":13,"rows_kept":10,"merged":[[0,1,0,4],[1,2,1,4],[2,2,2,4]]}
[null,"Műszakbeosztás"]
[null,"A következő hétre: ",{"$f":"Hétfő!C2","v":"Dátum"}]
[null,"Részleg neve: ",{"$f":"Hétfő!C3","v":"Név"}]
[]
[null,"VASÁRNAP","07:00","08:00","09:00","10:00","11:00","12:00","13:00","14:00","15:00","Beteg?","ÖSSZESEN"]
[null,"1. név","vezető","vezető","vezető","vezető","vezető","vezető","vezető","vezető","vezető",null,{"$f":"COUNTIF(Vasárnap[[#This Row],[07:00]:[15:00]],\"*\")","v":9}]
[null,"2. név",null,"pénztáros","pénztáros","pénztáros","pénztáros",{"$nulls":5},{"$f":"COUNTIF(Vasárnap[[#This Row],[07:00]:[15:00]],\"*\")","v":4}]
[null,"3. név",null,"recepciós","recepciós","recepciós","recepciós ","recepciós","recepciós","recepciós",null,null,{"$f":"COUNTIF(Vasárnap[[#This Row],[07:00]:[15:00]],\"*\")","v":7}]
[null,"4. név",null,"recepciós","recepciós","recepciós","recepciós ","recepciós","recepciós","recepciós",null,null,{"$f":"COUNTIF(Vasárnap[[#This Row],[07:00]:[15:00]],\"*\")","v":7}]
[null,"5. név",{"$nulls":9},"Betegség",{"$f":"COUNTIF(Vasárnap[[#This Row],[07:00]:[15:00]],\"*\")","v":0}]