{"text_format":"3","workbook":"xlsx","n_sheets":7,"sheets":["סיכום תקציב מתחילת השנה עד כה","הוצאות חודשיות","1000-משרד","2000-חנות","3000-צוות","4000-ציוד","5000-אחר"],"not_rendered":{"external_links":1,"defined_names":18},"read":"whole","date_system":"1900"}

{"sheet":"סיכום תקציב מתחילת השנה עד כה","index":0,"n_rows":18,"n_cols":6,"rows_kept":18,"merged":[[1,0,1,5]]}
[]
["2005 ממשי מול תקציב שנת"]
[]
[]
["חשבון",null,"מתחילת השנה","מתחילת השנה","נותר","נותר"]
["מספר","שם החשבון","ממשי","תקציב","תקציב ש\"ח","תקציב %"]
[]
[1000,"משרד",{"$f":"'הוצאות חודשיות'!O7","v":{"v":150,"d":"₪150.00"}},{"v":50000,"d":"₪50,000.00"},{"$f":"SUM(D8-C8)","v":{"v":49850,"d":"₪49,850.00"}},{"$f":"SUM(E8/D8)","v":{"v":0.997,"d":"99.70%"}}]
[]
[2000,"חנות",{"$f":"'הוצאות חודשיות'!O9","v":{"v":905.27,"d":"₪905.27"}},{"v":75000,"d":"₪75,000.00"},{"$f":"SUM(D10-C10)","v":{"v":74094.73,"d":"₪74,094.73"}},{"$f":"SUM(E10/D10)","v":{"v":0.9879297333333332,"d":"98.79%"}}]
[]
[3000,"צוות",{"$f":"'הוצאות חודשיות'!O11","v":{"v":2500,"d":"₪2,500.00"}},{"v":100000,"d":"₪100,000.00"},{"$f":"SUM(D12-C12)","v":{"v":97500,"d":"₪97,500.00"}},{"$f":"SUM(E12/D12)","v":{"v":0.975,"d":"97.50%"}}]
[]
[4000,"ציוד",{"$f":"'הוצאות חודשיות'!O13","v":{"v":1854,"d":"₪1,854.00"}},{"v":25000,"d":"₪25,000.00"},{"$f":"SUM(D14-C14)","v":{"v":23146,"d":"₪23,146.00"}},{"$f":"SUM(E14/D14)","v":{"v":0.92584,"d":"92.58%"}}]
[]
[5000,"אחר",{"$f":"'הוצאות חודשיות'!O15","v":{"v":35.6,"d":"₪35.60"}},{"v":50000,"d":"₪50,000.00"},{"$f":"SUM(D16-C16)","v":{"v":49964.4,"d":"₪49,964.40"}},{"$f":"SUM(E16/D16)","v":{"v":0.9992880000000001,"d":"99.93%"}}]
[]
[null,"סך הכל",{"$f":"SUM(C8:C16)","v":{"v":5444.870000000001,"d":"₪5,444.87"}},{"$f":"SUM(D8:D16)","v":{"v":300000,"d":"₪300,000.00"}},{"$f":"SUM(E8:E16)","v":{"v":294555.13,"d":"₪294,555.13"}},{"$f":"SUM(E18/D18)","v":{"v":0.9818504333333333,"d":"98.19%"}}]

{"sheet":"הוצאות חודשיות","index":1,"n_rows":17,"n_cols":15,"rows_kept":17,"merged":[[1,0,1,14]]}
[]
["הוצאות חודשיות לשנת 2005"]
[]
[]
["מספר חשבון","שם חשבון","2005-01-01","2005-02-01","2005-03-01","2005-04-01","2005-05-01","2005-06-01","2005-07-01","2005-08-01","2005-09-01","2005-10-01","2005-11-01","2005-12-01",2005]
[]
[1000,"משרד",{"$f":"SUMIF('1000-משרד'!$J:$J,\"=\"&(TEXT(C$5,\"mmm-yy\")),'1000-משרד'!$E:$E)","v":{"v":100,"d":"₪100.00"}},{"$f":"SUMIF('1000-משרד'!$J:$J,\"=\"&(TEXT(D$5,\"mmm-yy\")),'1000-משרד'!$E:$E)","v":{"v":50,"d":"₪50.00"}},{"$f":"SUMIF('1000-משרד'!$J:$J,\"=\"&(TEXT(E$5,\"mmm-yy\")),'1000-משרד'!$E:$E)","v":0},{"$f":"SUMIF('1000-משרד'!$J:$J,\"=\"&(TEXT(F$5,\"mmm-yy\")),'1000-משרד'!$E:$E)","v":0},{"$f":"SUMIF('1000-משרד'!$J:$J,\"=\"&(TEXT(G$5,\"mmm-yy\")),'1000-משרד'!$E:$E)","v":0},{"$f":"SUMIF('1000-משרד'!$J:$J,\"=\"&(TEXT(H$5,\"mmm-yy\")),'1000-משרד'!$E:$E)","v":0},{"$f":"SUMIF('1000-משרד'!$J:$J,\"=\"&(TEXT(I$5,\"mmm-yy\")),'1000-משרד'!$E:$E)","v":0},{"$f":"SUMIF('1000-משרד'!$J:$J,\"=\"&(TEXT(J$5,\"mmm-yy\")),'1000-משרד'!$E:$E)","v":0},{"$f":"SUMIF('1000-משרד'!$J:$J,\"=\"&(TEXT(K$5,\"mmm-yy\")),'1000-משרד'!$E:$E)","v":0},{"$f":"SUMIF('1000-משרד'!$J:$J,\"=\"&(TEXT(L$5,\"mmm-yy\")),'1000-משרד'!$E:$E)","v":0},{"$f":"SUMIF('1000-משרד'!$J:$J,\"=\"&(TEXT(M$5,\"mmm-yy\")),'1000-משרד'!$E:$E)","v":0},{"$f":"SUMIF('1000-משרד'!$J:$J,\"=\"&(TEXT(N$5,\"mmm-yy\")),'1000-משרד'!$E:$E)","v":0},{"$f":"SUM(C7:N7)","v":{"v":150,"d":"₪150.00"}}]
[]
[2000,"חנות",{"$f":"SUMIF('2000-חנות'!$J:$J,\"=\"&(TEXT(C$5,\"mmm-yy\")),'2000-חנות'!$E:$E)","v":{"v":905.27,"d":"₪905.27"}},{"$f":"SUMIF('2000-חנות'!$J:$J,\"=\"&(TEXT(D$5,\"mmm-yy\")),'2000-חנות'!$E:$E)","v":0},{"$f":"SUMIF('2000-חנות'!$J:$J,\"=\"&(TEXT(E$5,\"mmm-yy\")),'2000-חנות'!$E:$E)","v":0},{"$f":"SUMIF('2000-חנות'!$J:$J,\"=\"&(TEXT(F$5,\"mmm-yy\")),'2000-חנות'!$E:$E)","v":0},{"$f":"SUMIF('2000-חנות'!$J:$J,\"=\"&(TEXT(G$5,\"mmm-yy\")),'2000-חנות'!$E:$E)","v":0},{"$f":"SUMIF('2000-חנות'!$J:$J,\"=\"&(TEXT(H$5,\"mmm-yy\")),'2000-חנות'!$E:$E)","v":0},{"$f":"SUMIF('2000-חנות'!$J:$J,\"=\"&(TEXT(I$5,\"mmm-yy\")),'2000-חנות'!$E:$E)","v":0},{"$f":"SUMIF('2000-חנות'!$J:$J,\"=\"&(TEXT(J$5,\"mmm-yy\")),'2000-חנות'!$E:$E)","v":0},{"$f":"SUMIF('2000-חנות'!$J:$J,\"=\"&(TEXT(K$5,\"mmm-yy\")),'2000-חנות'!$E:$E)","v":0},{"$f":"SUMIF('2000-חנות'!$J:$J,\"=\"&(TEXT(L$5,\"mmm-yy\")),'2000-חנות'!$E:$E)","v":0},{"$f":"SUMIF('2000-חנות'!$J:$J,\"=\"&(TEXT(M$5,\"mmm-yy\")),'2000-חנות'!$E:$E)","v":0},{"$f":"SUMIF('2000-חנות'!$J:$J,\"=\"&(TEXT(N$5,\"mmm-yy\")),'2000-חנות'!$E:$E)","v":0},{"$f":"SUM(C9:N9)","v":{"v":905.27,"d":"₪905.27"}}]
[]
[3000,"צוות",{"$f":"SUMIF('3000-צוות'!$J:$J,\"=\"&(TEXT(C$5,\"mmm-yy\")),'3000-צוות'!$E:$E)","v":0},{"$f":"SUMIF('3000-צוות'!$J:$J,\"=\"&(TEXT(D$5,\"mmm-yy\")),'3000-צוות'!$E:$E)","v":{"v":2500,"d":"₪2,500.00"}},{"$f":"SUMIF('3000-צוות'!$J:$J,\"=\"&(TEXT(E$5,\"mmm-yy\")),'3000-צוות'!$E:$E)","v":0},{"$f":"SUMIF('3000-צוות'!$J:$J,\"=\"&(TEXT(F$5,\"mmm-yy\")),'3000-צוות'!$E:$E)","v":0},{"$f":"SUMIF('3000-צוות'!$J:$J,\"=\"&(TEXT(G$5,\"mmm-yy\")),'3000-צוות'!$E:$E)","v":0},{"$f":"SUMIF('3000-צוות'!$J:$J,\"=\"&(TEXT(H$5,\"mmm-yy\")),'3000-צוות'!$E:$E)","v":0},{"$f":"SUMIF('3000-צוות'!$J:$J,\"=\"&(TEXT(I$5,\"mmm-yy\")),'3000-צוות'!$E:$E)","v":0},{"$f":"SUMIF('3000-צוות'!$J:$J,\"=\"&(TEXT(J$5,\"mmm-yy\")),'3000-צוות'!$E:$E)","v":0},{"$f":"SUMIF('3000-צוות'!$J:$J,\"=\"&(TEXT(K$5,\"mmm-yy\")),'3000-צוות'!$E:$E)","v":0},{"$f":"SUMIF('3000-צוות'!$J:$J,\"=\"&(TEXT(L$5,\"mmm-yy\")),'3000-צוות'!$E:$E)","v":0},{"$f":"SUMIF('3000-צוות'!$J:$J,\"=\"&(TEXT(M$5,\"mmm-yy\")),'3000-צוות'!$E:$E)","v":0},{"$f":"SUMIF('3000-צוות'!$J:$J,\"=\"&(TEXT(N$5,\"mmm-yy\")),'3000-צוות'!$E:$E)","v":0},{"$f":"SUM(C11:N11)","v":{"v":2500,"d":"₪2,500.00"}}]
[]
[4000,"ציוד",{"$f":"SUMIF('4000-ציוד'!$J:$J,\"=\"&(TEXT(C$5,\"mmm-yy\")),'4000-ציוד'!$E:$E)","v":{"v":1854,"d":"₪1,854.00"}},{"$f":"SUMIF('4000-ציוד'!$J:$J,\"=\"&(TEXT(D$5,\"mmm-yy\")),'4000-ציוד'!$E:$E)","v":0},{"$f":"SUMIF('4000-ציוד'!$J:$J,\"=\"&(TEXT(E$5,\"mmm-yy\")),'4000-ציוד'!$E:$E)","v":0},{"$f":"SUMIF('4000-ציוד'!$J:$J,\"=\"&(TEXT(F$5,\"mmm-yy\")),'4000-ציוד'!$E:$E)","v":0},{"$f":"SUMIF('4000-ציוד'!$J:$J,\"=\"&(TEXT(G$5,\"mmm-yy\")),'4000-ציוד'!$E:$E)","v":0},{"$f":"SUMIF('4000-ציוד'!$J:$J,\"=\"&(TEXT(H$5,\"mmm-yy\")),'4000-ציוד'!$E:$E)","v":0},{"$f":"SUMIF('4000-ציוד'!$J:$J,\"=\"&(TEXT(I$5,\"mmm-yy\")),'4000-ציוד'!$E:$E)","v":0},{"$f":"SUMIF('4000-ציוד'!$J:$J,\"=\"&(TEXT(J$5,\"mmm-yy\")),'4000-ציוד'!$E:$E)","v":0},{"$f":"SUMIF('4000-ציוד'!$J:$J,\"=\"&(TEXT(K$5,\"mmm-yy\")),'4000-ציוד'!$E:$E)","v":0},{"$f":"SUMIF('4000-ציוד'!$J:$J,\"=\"&(TEXT(L$5,\"mmm-yy\")),'4000-ציוד'!$E:$E)","v":0},{"$f":"SUMIF('4000-ציוד'!$J:$J,\"=\"&(TEXT(M$5,\"mmm-yy\")),'4000-ציוד'!$E:$E)","v":0},{"$f":"SUMIF('4000-ציוד'!$J:$J,\"=\"&(TEXT(N$5,\"mmm-yy\")),'4000-ציוד'!$E:$E)","v":0},{"$f":"SUM(C13:N13)","v":{"v":1854,"d":"₪1,854.00"}}]
[]
[5000,"אחר",{"$f":"SUMIF('5000-אחר'!$J:$J,\"=\"&(TEXT(C$5,\"mmm-yy\")),'5000-אחר'!$E:$E)","v":{"v":35.6,"d":"₪35.60"}},{"$f":"SUMIF('5000-אחר'!$J:$J,\"=\"&(TEXT(D$5,\"mmm-yy\")),'5000-אחר'!$E:$E)","v":0},{"$f":"SUMIF('5000-אחר'!$J:$J,\"=\"&(TEXT(E$5,\"mmm-yy\")),'5000-אחר'!$E:$E)","v":0},{"$f":"SUMIF('5000-אחר'!$J:$J,\"=\"&(TEXT(F$5,\"mmm-yy\")),'5000-אחר'!$E:$E)","v":0},{"$f":"SUMIF('5000-אחר'!$J:$J,\"=\"&(TEXT(G$5,\"mmm-yy\")),'5000-אחר'!$E:$E)","v":0},{"$f":"SUMIF('5000-אחר'!$J:$J,\"=\"&(TEXT(H$5,\"mmm-yy\")),'5000-אחר'!$E:$E)","v":0},{"$f":"SUMIF('5000-אחר'!$J:$J,\"=\"&(TEXT(I$5,\"mmm-yy\")),'5000-אחר'!$E:$E)","v":0},{"$f":"SUMIF('5000-אחר'!$J:$J,\"=\"&(TEXT(J$5,\"mmm-yy\")),'5000-אחר'!$E:$E)","v":0},{"$f":"SUMIF('5000-אחר'!$J:$J,\"=\"&(TEXT(K$5,\"mmm-yy\")),'5000-אחר'!$E:$E)","v":0},{"$f":"SUMIF('5000-אחר'!$J:$J,\"=\"&(TEXT(L$5,\"mmm-yy\")),'5000-אחר'!$E:$E)","v":0},{"$f":"SUMIF('5000-אחר'!$J:$J,\"=\"&(TEXT(M$5,\"mmm-yy\")),'5000-אחר'!$E:$E)","v":0},{"$f":"SUMIF('5000-אחר'!$J:$J,\"=\"&(TEXT(N$5,\"mmm-yy\")),'5000-אחר'!$E:$E)","v":0},{"$f":"SUM(C15:N15)","v":{"v":35.6,"d":"₪35.60"}}]
[]
[null,"סך הכל",{"$f":"SUM(C7:C15)","v":{"v":2894.87,"d":"₪2,894.87"}},{"v":2550,"d":"₪2,550.00"},0,0,0,0,0,0,0,0,0,0,{"$f":"SUM(C17:N17)","v":{"v":5444.87,"d":"₪5,444.87"}}]

{"sheet":"1000-משרד","index":2,"n_rows":100,"n_cols":10,"rows_kept":100}
["G/L - הוצאה","תאריך החשבונית","חשבונית #","לכבוד"," סכום ההמחאה ","שם מקבל התשלום","שימוש בהמחאה","אופן הרכישה","תאריך","שדה מפתח מורכב"]
[1000,"2005-01-15",1,"דוד דניאלס",{"v":100,"d":"₪100.00"},"שירות שליחים מהיר ","תקליטורים ריקים","יתרת זכות","2005-01-20",{"$f":"TEXT(B2,\"mmm-yy\")","v":"Jan-05"}]
[1000,"2005-02-07",5,"דוד דניאלס",{"v":50,"d":"₪50.00"},"שירות שליחים מהיר ","דיו למדפסת","יתרת זכות","2005-02-10","Feb-05"]
[1000,{"$nulls":8},"Jan-00"]
[1000,{"$nulls":8},"Jan-00"]
[1000,{"$nulls":8},"Jan-00"]
[1000,{"$nulls":8},"Jan-00"]
[1000,{"$nulls":8},"Jan-00"]
[1000,{"$nulls":8},"Jan-00"]
[1000,{"$nulls":8},"Jan-00"]
[1000,{"$nulls":8},"Jan-00"]
[1000,{"$nulls":8},"Jan-00"]
[1000,{"$nulls":8},"Jan-00"]
[1000,{"$nulls":8},"Jan-00"]
[1000,{"$nulls":8},"Jan-00"]
[1000,{"$nulls":8},"Jan-00"]
[1000,{"$nulls":8},"Jan-00"]
[1000,{"$nulls":8},"Jan-00"]
[1000,{"$nulls":8},"Jan-00"]
[1000,{"$nulls":8},"Jan-00"]
[1000,{"$nulls":8},"Jan-00"]
[1000,{"$nulls":8},"Jan-00"]
[1000,{"$nulls":8},"Jan-00"]
[1000,{"$nulls":8},"Jan-00"]
[1000,{"$nulls":8},"Jan-00"]
[1000,{"$nulls":8},"Jan-00"]
[1000,{"$nulls":8},"Jan-00"]
[1000,{"$nulls":8},"Jan-00"]
[1000,{"$nulls":8},"Jan-00"]
[1000,{"$nulls":8},"Jan-00"]
[1000,{"$nulls":8},"Jan-00"]
[1000,{"$nulls":8},"Jan-00"]
[1000,{"$nulls":8},"Jan-00"]
[1000,{"$nulls":8},{"$f":"TEXT(B34,\"mmm-yy\")","v":"Jan-00"}]
[1000,{"$nulls":8},"Jan-00"]
[1000,{"$nulls":8},"Jan-00"]
[1000,{"$nulls":8},"Jan-00"]
[1000,{"$nulls":8},"Jan-00"]
[1000,{"$nulls":8},"Jan-00"]
[1000,{"$nulls":8},"Jan-00"]
[1000,{"$nulls":8},"Jan-00"]
[1000,{"$nulls":8},"Jan-00"]
[1000,{"$nulls":8},"Jan-00"]
[1000,{"$nulls":8},"Jan-00"]
[1000,{"$nulls":8},"Jan-00"]
[1000,{"$nulls":8},"Jan-00"]
[1000,{"$nulls":8},"Jan-00"]
[1000,{"$nulls":8},"Jan-00"]
[1000,{"$nulls":8},"Jan-00"]
[1000,{"$nulls":8},"Jan-00"]
[1000,{"$nulls":8},"Jan-00"]
[1000,{"$nulls":8},"Jan-00"]
[1000,{"$nulls":8},"Jan-00"]
[1000,{"$nulls":8},"Jan-00"]
[1000,{"$nulls":8},"Jan-00"]
[1000,{"$nulls":8},"Jan-00"]
[1000,{"$nulls":8},"Jan-00"]
[1000,{"$nulls":8},"Jan-00"]
[1000,{"$nulls":8},"Jan-00"]
[1000,{"$nulls":8},"Jan-00"]
[1000,{"$nulls":8},"Jan-00"]
[1000,{"$nulls":8},"Jan-00"]
[1000,{"$nulls":8},"Jan-00"]
[1000,{"$nulls":8},"Jan-00"]
[1000,{"$nulls":8},"Jan-00"]
[1000,{"$nulls":8},{"$f":"TEXT(B66,\"mmm-yy\")","v":"Jan-00"}]
[1000,{"$nulls":8},"Jan-00"]
[1000,{"$nulls":8},"Jan-00"]
[1000,{"$nulls":8},"Jan-00"]
[1000,{"$nulls":8},"Jan-00"]
[1000,{"$nulls":8},"Jan-00"]
[1000,{"$nulls":8},"Jan-00"]
[1000,{"$nulls":8},"Jan-00"]
[1000,{"$nulls":8},"Jan-00"]
[1000,{"$nulls":8},"Jan-00"]
[1000,{"$nulls":8},"Jan-00"]
[1000,{"$nulls":8},"Jan-00"]
[1000,{"$nulls":8},"Jan-00"]
[1000,{"$nulls":8},"Jan-00"]
[1000,{"$nulls":8},"Jan-00"]
[1000,{"$nulls":8},"Jan-00"]
[1000,{"$nulls":8},"Jan-00"]
[1000,{"$nulls":8},"Jan-00"]
[1000,{"$nulls":8},"Jan-00"]
[1000,{"$nulls":8},"Jan-00"]
[1000,{"$nulls":8},"Jan-00"]
[1000,{"$nulls":8},"Jan-00"]
[1000,{"$nulls":8},"Jan-00"]
[1000,{"$nulls":8},"Jan-00"]
[1000,{"$nulls":8},"Jan-00"]
[1000,{"$nulls":8},"Jan-00"]
[1000,{"$nulls":8},"Jan-00"]
[1000,{"$nulls":8},"Jan-00"]
[1000,{"$nulls":8},"Jan-00"]
[1000,{"$nulls":8},"Jan-00"]
[1000,{"$nulls":8},"Jan-00"]
[1000,{"$nulls":8},"Jan-00"]
[1000,{"$nulls":8},"Jan-00"]
[1000,{"$nulls":8},"Jan-00"]
[1000,{"$nulls":8},"Jan-00"]

{"sheet":"2000-חנות","index":3,"n_rows":100,"n_cols":10,"rows_kept":100}
["G/L - הוצאה","תאריך חשבונית","חשבונית #","לכבוד"," סכום ההמחאה ","שם מקבל התשלום","שימוש בהמחאה","אופן הרכישה","תאריך","שדה מפתח מורכב"]
[2000,"2005-01-17",2,"מארק פבר",{"v":550,"d":"₪550.00"},"פבריקם בע\"מ ","החלפת חלון בחנות","יתרת זכות","2005-01-20",{"$f":"TEXT(B2,\"mmm-yy\")","v":"Jan-05"}]
[2000,"2005-01-19",3,"מארק פבר",{"v":355.27,"d":"₪355.27"},"תאגיד א. דנון ","קופה חדשה","יתרת זכות","2005-01-20","Jan-05"]
[2000,{"$nulls":8},"Jan-00"]
[2000,{"$nulls":8},"Jan-00"]
[2000,{"$nulls":8},"Jan-00"]
[2000,{"$nulls":8},"Jan-00"]
[2000,{"$nulls":8},"Jan-00"]
[2000,{"$nulls":8},"Jan-00"]
[2000,{"$nulls":8},"Jan-00"]
[2000,{"$nulls":8},"Jan-00"]
[2000,{"$nulls":8},"Jan-00"]
[2000,{"$nulls":8},"Jan-00"]
[2000,{"$nulls":8},"Jan-00"]
[2000,{"$nulls":8},"Jan-00"]
[2000,{"$nulls":8},"Jan-00"]
[2000,{"$nulls":8},"Jan-00"]
[2000,{"$nulls":8},"Jan-00"]
[2000,{"$nulls":8},"Jan-00"]
[2000,{"$nulls":8},"Jan-00"]
[2000,{"$nulls":8},"Jan-00"]
[2000,{"$nulls":8},"Jan-00"]
[2000,{"$nulls":8},"Jan-00"]
[2000,{"$nulls":8},"Jan-00"]
[2000,{"$nulls":8},"Jan-00"]
[2000,{"$nulls":8},"Jan-00"]
[2000,{"$nulls":8},"Jan-00"]
[2000,{"$nulls":8},"Jan-00"]
[2000,{"$nulls":8},"Jan-00"]
[2000,{"$nulls":8},"Jan-00"]
[2000,{"$nulls":8},"Jan-00"]
[2000,{"$nulls":8},"Jan-00"]
[2000,{"$nulls":8},"Jan-00"]
[2000,{"$nulls":8},{"$f":"TEXT(B34,\"mmm-yy\")","v":"Jan-00"}]
[2000,{"$nulls":8},"Jan-00"]
[2000,{"$nulls":8},"Jan-00"]
[2000,{"$nulls":8},"Jan-00"]
[2000,{"$nulls":8},"Jan-00"]
[2000,{"$nulls":8},"Jan-00"]
[2000,{"$nulls":8},"Jan-00"]
[2000,{"$nulls":8},"Jan-00"]
[2000,{"$nulls":8},"Jan-00"]
[2000,{"$nulls":8},"Jan-00"]
[2000,{"$nulls":8},"Jan-00"]
[2000,{"$nulls":8},"Jan-00"]
[2000,{"$nulls":8},"Jan-00"]
[2000,{"$nulls":8},"Jan-00"]
[2000,{"$nulls":8},"Jan-00"]
[2000,{"$nulls":8},"Jan-00"]
[2000,{"$nulls":8},"Jan-00"]
[2000,{"$nulls":8},"Jan-00"]
[2000,{"$nulls":8},"Jan-00"]
[2000,{"$nulls":8},"Jan-00"]
[2000,{"$nulls":8},"Jan-00"]
[2000,{"$nulls":8},"Jan-00"]
[2000,{"$nulls":8},"Jan-00"]
[2000,{"$nulls":8},"Jan-00"]
[2000,{"$nulls":8},"Jan-00"]
[2000,{"$nulls":8},"Jan-00"]
[2000,{"$nulls":8},"Jan-00"]
[2000,{"$nulls":8},"Jan-00"]
[2000,{"$nulls":8},"Jan-00"]
[2000,{"$nulls":8},"Jan-00"]
[2000,{"$nulls":8},"Jan-00"]
[2000,{"$nulls":8},"Jan-00"]
[2000,{"$nulls":8},{"$f":"TEXT(B66,\"mmm-yy\")","v":"Jan-00"}]
[2000,{"$nulls":8},"Jan-00"]
[2000,{"$nulls":8},"Jan-00"]
[2000,{"$nulls":8},"Jan-00"]
[2000,{"$nulls":8},"Jan-00"]
[2000,{"$nulls":8},"Jan-00"]
[2000,{"$nulls":8},"Jan-00"]
[2000,{"$nulls":8},"Jan-00"]
[2000,{"$nulls":8},"Jan-00"]
[2000,{"$nulls":8},"Jan-00"]
[2000,{"$nulls":8},"Jan-00"]
[2000,{"$nulls":8},"Jan-00"]
[2000,{"$nulls":8},"Jan-00"]
[2000,{"$nulls":8},"Jan-00"]
[2000,{"$nulls":8},"Jan-00"]
[2000,{"$nulls":8},"Jan-00"]
[2000,{"$nulls":8},"Jan-00"]
[2000,{"$nulls":8},"Jan-00"]
[2000,{"$nulls":8},"Jan-00"]
[2000,{"$nulls":8},"Jan-00"]
[2000,{"$nulls":8},"Jan-00"]
[2000,{"$nulls":8},"Jan-00"]
[2000,{"$nulls":8},"Jan-00"]
[2000,{"$nulls":8},"Jan-00"]
[2000,{"$nulls":8},"Jan-00"]
[2000,{"$nulls":8},"Jan-00"]
[2000,{"$nulls":8},"Jan-00"]
[2000,{"$nulls":8},"Jan-00"]
[2000,{"$nulls":8},"Jan-00"]
[2000,{"$nulls":8},"Jan-00"]
[2000,{"$nulls":8},"Jan-00"]
[2000,{"$nulls":8},"Jan-00"]
[2000,{"$nulls":8},"Jan-00"]
[2000,{"$nulls":8},"Jan-00"]
[2000,{"$nulls":8},"Jan-00"]

{"sheet":"3000-צוות","index":4,"n_rows":100,"n_cols":10,"rows_kept":100}
["G/L - הוצאה","תאריך החשבונית","חשבונית #","לכבוד"," סכום ההמחאה ","שם מקבל התשלום","שימוש בהמחאה","אופן הרכישה","תאריך","שדה מפתח מורכב"]
[3000,"2005-02-10",6,"רוברט אוהרה",{"v":2500,"d":"₪2,500.00"},"המכון לעיצוב גרפי ","מעצב חוזים","המחאה","2005-02-20",{"$f":"TEXT(B2,\"mmm-yy\")","v":"Feb-05"}]
[3000,{"$nulls":8},"Jan-00"]
[3000,{"$nulls":8},"Jan-00"]
[3000,{"$nulls":8},"Jan-00"]
[3000,{"$nulls":8},"Jan-00"]
[3000,{"$nulls":8},"Jan-00"]
[3000,{"$nulls":8},"Jan-00"]
[3000,{"$nulls":8},"Jan-00"]
[3000,{"$nulls":8},"Jan-00"]
[3000,{"$nulls":8},"Jan-00"]
[3000,{"$nulls":8},"Jan-00"]
[3000,{"$nulls":8},"Jan-00"]
[3000,{"$nulls":8},"Jan-00"]
[3000,{"$nulls":8},"Jan-00"]
[3000,{"$nulls":8},"Jan-00"]
[3000,{"$nulls":8},"Jan-00"]
[3000,{"$nulls":8},"Jan-00"]
[3000,{"$nulls":8},"Jan-00"]
[3000,{"$nulls":8},"Jan-00"]
[3000,{"$nulls":8},"Jan-00"]
[3000,{"$nulls":8},"Jan-00"]
[3000,{"$nulls":8},"Jan-00"]
[3000,{"$nulls":8},"Jan-00"]
[3000,{"$nulls":8},"Jan-00"]
[3000,{"$nulls":8},"Jan-00"]
[3000,{"$nulls":8},"Jan-00"]
[3000,{"$nulls":8},"Jan-00"]
[3000,{"$nulls":8},"Jan-00"]
[3000,{"$nulls":8},"Jan-00"]
[3000,{"$nulls":8},"Jan-00"]
[3000,{"$nulls":8},"Jan-00"]
[3000,{"$nulls":8},"Jan-00"]
[3000,{"$nulls":8},{"$f":"TEXT(B34,\"mmm-yy\")","v":"Jan-00"}]
[3000,{"$nulls":8},"Jan-00"]
[3000,{"$nulls":8},"Jan-00"]
[3000,{"$nulls":8},"Jan-00"]
[3000,{"$nulls":8},"Jan-00"]
[3000,{"$nulls":8},"Jan-00"]
[3000,{"$nulls":8},"Jan-00"]
[3000,{"$nulls":8},"Jan-00"]
[3000,{"$nulls":8},"Jan-00"]
[3000,{"$nulls":8},"Jan-00"]
[3000,{"$nulls":8},"Jan-00"]
[3000,{"$nulls":8},"Jan-00"]
[3000,{"$nulls":8},"Jan-00"]
[3000,{"$nulls":8},"Jan-00"]
[3000,{"$nulls":8},"Jan-00"]
[3000,{"$nulls":8},"Jan-00"]
[3000,{"$nulls":8},"Jan-00"]
[3000,{"$nulls":8},"Jan-00"]
[3000,{"$nulls":8},"Jan-00"]
[3000,{"$nulls":8},"Jan-00"]
[3000,{"$nulls":8},"Jan-00"]
[3000,{"$nulls":8},"Jan-00"]
[3000,{"$nulls":8},"Jan-00"]
[3000,{"$nulls":8},"Jan-00"]
[3000,{"$nulls":8},"Jan-00"]
[3000,{"$nulls":8},"Jan-00"]
[3000,{"$nulls":8},"Jan-00"]
[3000,{"$nulls":8},"Jan-00"]
[3000,{"$nulls":8},"Jan-00"]
[3000,{"$nulls":8},"Jan-00"]
[3000,{"$nulls":8},"Jan-00"]
[3000,{"$nulls":8},"Jan-00"]
[3000,{"$nulls":8},{"$f":"TEXT(B66,\"mmm-yy\")","v":"Jan-00"}]
[3000,{"$nulls":8},"Jan-00"]
[3000,{"$nulls":8},"Jan-00"]
[3000,{"$nulls":8},"Jan-00"]
[3000,{"$nulls":8},"Jan-00"]
[3000,{"$nulls":8},"Jan-00"]
[3000,{"$nulls":8},"Jan-00"]
[3000,{"$nulls":8},"Jan-00"]
[3000,{"$nulls":8},"Jan-00"]
[3000,{"$nulls":8},"Jan-00"]
[3000,{"$nulls":8},"Jan-00"]
[3000,{"$nulls":8},"Jan-00"]
[3000,{"$nulls":8},"Jan-00"]
[3000,{"$nulls":8},"Jan-00"]
[3000,{"$nulls":8},"Jan-00"]
[3000,{"$nulls":8},"Jan-00"]
[3000,{"$nulls":8},"Jan-00"]
[3000,{"$nulls":8},"Jan-00"]
[3000,{"$nulls":8},"Jan-00"]
[3000,{"$nulls":8},"Jan-00"]
[3000,{"$nulls":8},"Jan-00"]
[3000,{"$nulls":8},"Jan-00"]
[3000,{"$nulls":8},"Jan-00"]
[3000,{"$nulls":8},"Jan-00"]
[3000,{"$nulls":8},"Jan-00"]
[3000,{"$nulls":8},"Jan-00"]
[3000,{"$nulls":8},"Jan-00"]
[3000,{"$nulls":8},"Jan-00"]
[3000,{"$nulls":8},"Jan-00"]
[3000,{"$nulls":8},"Jan-00"]
[3000,{"$nulls":8},"Jan-00"]
[3000,{"$nulls":8},"Jan-00"]
[3000,{"$nulls":8},"Jan-00"]
[3000,{"$nulls":8},"Jan-00"]
[3000,{"$nulls":8},"Jan-00"]

{"sheet":"4000-ציוד","index":5,"n_rows":100,"n_cols":10,"rows_kept":100}
["ספר חשבונות ראשי - הוצאה","תאריך החשבונית","חשבונית #","לכבוד"," סכום ההמחאה ","שם מקבל התשלום","שימוש בהמחאה","אופן הרכישה","תאריך","שדה מפתח מורכב"]
[4000,"2005-01-25",5,"רוברט וולטרס",{"v":1854,"d":"₪1,854.00"},"טריי מחקרים ","מחשב נישא חדש","יתרת זכות","2005-01-25",{"$f":"TEXT(B2,\"mmm-yy\")","v":"Jan-05"}]
[4000,{"$nulls":8},"Jan-00"]
[4000,{"$nulls":8},"Jan-00"]
[4000,{"$nulls":8},"Jan-00"]
[4000,{"$nulls":8},"Jan-00"]
[4000,{"$nulls":8},"Jan-00"]
[4000,{"$nulls":8},"Jan-00"]
[4000,{"$nulls":8},"Jan-00"]
[4000,{"$nulls":8},"Jan-00"]
[4000,{"$nulls":8},"Jan-00"]
[4000,{"$nulls":8},"Jan-00"]
[4000,{"$nulls":8},"Jan-00"]
[4000,{"$nulls":8},"Jan-00"]
[4000,{"$nulls":8},"Jan-00"]
[4000,{"$nulls":8},"Jan-00"]
[4000,{"$nulls":8},"Jan-00"]
[4000,{"$nulls":8},"Jan-00"]
[4000,{"$nulls":8},"Jan-00"]
[4000,{"$nulls":8},"Jan-00"]
[4000,{"$nulls":8},"Jan-00"]
[4000,{"$nulls":8},"Jan-00"]
[4000,{"$nulls":8},"Jan-00"]
[4000,{"$nulls":8},"Jan-00"]
[4000,{"$nulls":8},"Jan-00"]
[4000,{"$nulls":8},"Jan-00"]
[4000,{"$nulls":8},"Jan-00"]
[4000,{"$nulls":8},"Jan-00"]
[4000,{"$nulls":8},"Jan-00"]
[4000,{"$nulls":8},"Jan-00"]
[4000,{"$nulls":8},"Jan-00"]
[4000,{"$nulls":8},"Jan-00"]
[4000,{"$nulls":8},"Jan-00"]
[4000,{"$nulls":8},{"$f":"TEXT(B34,\"mmm-yy\")","v":"Jan-00"}]
[4000,{"$nulls":8},"Jan-00"]
[4000,{"$nulls":8},"Jan-00"]
[4000,{"$nulls":8},"Jan-00"]
[4000,{"$nulls":8},"Jan-00"]
[4000,{"$nulls":8},"Jan-00"]
[4000,{"$nulls":8},"Jan-00"]
[4000,{"$nulls":8},"Jan-00"]
[4000,{"$nulls":8},"Jan-00"]
[4000,{"$nulls":8},"Jan-00"]
[4000,{"$nulls":8},"Jan-00"]
[4000,{"$nulls":8},"Jan-00"]
[4000,{"$nulls":8},"Jan-00"]
[4000,{"$nulls":8},"Jan-00"]
[4000,{"$nulls":8},"Jan-00"]
[4000,{"$nulls":8},"Jan-00"]
[4000,{"$nulls":8},"Jan-00"]
[4000,{"$nulls":8},"Jan-00"]
[4000,{"$nulls":8},"Jan-00"]
[4000,{"$nulls":8},"Jan-00"]
[4000,{"$nulls":8},"Jan-00"]
[4000,{"$nulls":8},"Jan-00"]
[4000,{"$nulls":8},"Jan-00"]
[4000,{"$nulls":8},"Jan-00"]
[4000,{"$nulls":8},"Jan-00"]
[4000,{"$nulls":8},"Jan-00"]
[4000,{"$nulls":8},"Jan-00"]
[4000,{"$nulls":8},"Jan-00"]
[4000,{"$nulls":8},"Jan-00"]
[4000,{"$nulls":8},"Jan-00"]
[4000,{"$nulls":8},"Jan-00"]
[4000,{"$nulls":8},"Jan-00"]
[4000,{"$nulls":8},{"$f":"TEXT(B66,\"mmm-yy\")","v":"Jan-00"}]
[4000,{"$nulls":8},"Jan-00"]
[4000,{"$nulls":8},"Jan-00"]
[4000,{"$nulls":8},"Jan-00"]
[4000,{"$nulls":8},"Jan-00"]
[4000,{"$nulls":8},"Jan-00"]
[4000,{"$nulls":8},"Jan-00"]
[4000,{"$nulls":8},"Jan-00"]
[4000,{"$nulls":8},"Jan-00"]
[4000,{"$nulls":8},"Jan-00"]
[4000,{"$nulls":8},"Jan-00"]
[4000,{"$nulls":8},"Jan-00"]
[4000,{"$nulls":8},"Jan-00"]
[4000,{"$nulls":8},"Jan-00"]
[4000,{"$nulls":8},"Jan-00"]
[4000,{"$nulls":8},"Jan-00"]
[4000,{"$nulls":8},"Jan-00"]
[4000,{"$nulls":8},"Jan-00"]
[4000,{"$nulls":8},"Jan-00"]
[4000,{"$nulls":8},"Jan-00"]
[4000,{"$nulls":8},"Jan-00"]
[4000,{"$nulls":8},"Jan-00"]
[4000,{"$nulls":8},"Jan-00"]
[4000,{"$nulls":8},"Jan-00"]
[4000,{"$nulls":8},"Jan-00"]
[4000,{"$nulls":8},"Jan-00"]
[4000,{"$nulls":8},"Jan-00"]
[4000,{"$nulls":8},"Jan-00"]
[4000,{"$nulls":8},"Jan-00"]
[4000,{"$nulls":8},"Jan-00"]
[4000,{"$nulls":8},"Jan-00"]
[4000,{"$nulls":8},"Jan-00"]
[4000,{"$nulls":8},"Jan-00"]
[4000,{"$nulls":8},"Jan-00"]
[4000,{"$nulls":8},"Jan-00"]

{"sheet":"5000-אחר","index":6,"n_rows":100,"n_cols":10,"rows_kept":100}
["ספר חשבונות ראשי - הוצאה","תאריך חשבונית","חשבונית #","לכבוד"," סכום ההמחאה ","שם מקבל התשלום","שימוש בהמחאה","אופן הרכישה","תאריך","שדה מפתח מורכב"]
[5000,"2005-01-23",4,"בוב גייג'",{"v":35.6,"d":"₪35.60"},"בוב גייג'","נסיעה במונית","המחאה","2005-01-23",{"$f":"TEXT(B2,\"mmm-yy\")","v":"Jan-05"}]
[5000,{"$nulls":8},"Jan-00"]
[5000,{"$nulls":8},"Jan-00"]
[5000,{"$nulls":8},"Jan-00"]
[5000,{"$nulls":8},"Jan-00"]
[5000,{"$nulls":8},"Jan-00"]
[5000,{"$nulls":8},"Jan-00"]
[5000,{"$nulls":8},"Jan-00"]
[5000,{"$nulls":8},"Jan-00"]
[5000,{"$nulls":8},"Jan-00"]
[5000,{"$nulls":8},"Jan-00"]
[5000,{"$nulls":8},"Jan-00"]
[5000,{"$nulls":8},"Jan-00"]
[5000,{"$nulls":8},"Jan-00"]
[5000,{"$nulls":8},"Jan-00"]
[5000,{"$nulls":8},"Jan-00"]
[5000,{"$nulls":8},"Jan-00"]
[5000,{"$nulls":8},"Jan-00"]
[5000,{"$nulls":8},"Jan-00"]
[5000,{"$nulls":8},"Jan-00"]
[5000,{"$nulls":8},"Jan-00"]
[5000,{"$nulls":8},"Jan-00"]
[5000,{"$nulls":8},"Jan-00"]
[5000,{"$nulls":8},"Jan-00"]
[5000,{"$nulls":8},"Jan-00"]
[5000,{"$nulls":8},"Jan-00"]
[5000,{"$nulls":8},"Jan-00"]
[5000,{"$nulls":8},"Jan-00"]
[5000,{"$nulls":8},"Jan-00"]
[5000,{"$nulls":8},"Jan-00"]
[5000,{"$nulls":8},"Jan-00"]
[5000,{"$nulls":8},"Jan-00"]
[5000,{"$nulls":8},{"$f":"TEXT(B34,\"mmm-yy\")","v":"Jan-00"}]
[5000,{"$nulls":8},"Jan-00"]
[5000,{"$nulls":8},"Jan-00"]
[5000,{"$nulls":8},"Jan-00"]
[5000,{"$nulls":8},"Jan-00"]
[5000,{"$nulls":8},"Jan-00"]
[5000,{"$nulls":8},"Jan-00"]
[5000,{"$nulls":8},"Jan-00"]
[5000,{"$nulls":8},"Jan-00"]
[5000,{"$nulls":8},"Jan-00"]
[5000,{"$nulls":8},"Jan-00"]
[5000,{"$nulls":8},"Jan-00"]
[5000,{"$nulls":8},"Jan-00"]
[5000,{"$nulls":8},"Jan-00"]
[5000,{"$nulls":8},"Jan-00"]
[5000,{"$nulls":8},"Jan-00"]
[5000,{"$nulls":8},"Jan-00"]
[5000,{"$nulls":8},"Jan-00"]
[5000,{"$nulls":8},"Jan-00"]
[5000,{"$nulls":8},"Jan-00"]
[5000,{"$nulls":8},"Jan-00"]
[5000,{"$nulls":8},"Jan-00"]
[5000,{"$nulls":8},"Jan-00"]
[5000,{"$nulls":8},"Jan-00"]
[5000,{"$nulls":8},"Jan-00"]
[5000,{"$nulls":8},"Jan-00"]
[5000,{"$nulls":8},"Jan-00"]
[5000,{"$nulls":8},"Jan-00"]
[5000,{"$nulls":8},"Jan-00"]
[5000,{"$nulls":8},"Jan-00"]
[5000,{"$nulls":8},"Jan-00"]
[5000,{"$nulls":8},"Jan-00"]
[5000,{"$nulls":8},{"$f":"TEXT(B66,\"mmm-yy\")","v":"Jan-00"}]
[5000,{"$nulls":8},"Jan-00"]
[5000,{"$nulls":8},"Jan-00"]
[5000,{"$nulls":8},"Jan-00"]
[5000,{"$nulls":8},"Jan-00"]
[5000,{"$nulls":8},"Jan-00"]
[5000,{"$nulls":8},"Jan-00"]
[5000,{"$nulls":8},"Jan-00"]
[5000,{"$nulls":8},"Jan-00"]
[5000,{"$nulls":8},"Jan-00"]
[5000,{"$nulls":8},"Jan-00"]
[5000,{"$nulls":8},"Jan-00"]
[5000,{"$nulls":8},"Jan-00"]
[5000,{"$nulls":8},"Jan-00"]
[5000,{"$nulls":8},"Jan-00"]
[5000,{"$nulls":8},"Jan-00"]
[5000,{"$nulls":8},"Jan-00"]
[5000,{"$nulls":8},"Jan-00"]
[5000,{"$nulls":8},"Jan-00"]
[5000,{"$nulls":8},"Jan-00"]
[5000,{"$nulls":8},"Jan-00"]
[5000,{"$nulls":8},"Jan-00"]
[5000,{"$nulls":8},"Jan-00"]
[5000,{"$nulls":8},"Jan-00"]
[5000,{"$nulls":8},"Jan-00"]
[5000,{"$nulls":8},"Jan-00"]
[5000,{"$nulls":8},"Jan-00"]
[5000,{"$nulls":8},"Jan-00"]
[5000,{"$nulls":8},"Jan-00"]
[5000,{"$nulls":8},"Jan-00"]
[5000,{"$nulls":8},"Jan-00"]
[5000,{"$nulls":8},"Jan-00"]
[5000,{"$nulls":8},"Jan-00"]
[5000,{"$nulls":8},"Jan-00"]
[5000,{"$nulls":8},"Jan-00"]