{"text_format":"3","workbook":"xlsx","n_sheets":2,"sheets":["Project timeline","Project Data Sorted"],"not_rendered":{"charts":1,"defined_names":5},"read":"whole","date_system":"1900"}

{"sheet":"Project timeline","index":0,"n_rows":16,"n_cols":8,"rows_kept":16}
[null,"PROJECT TIMELINE"]
[]
[null,"PROJECT DETAILS"]
[null,"DATE","MILESTONE","POSITION","BASELINE","POSITION ADJUSTED","DATE ADJUSTED","MILESTONE ADJUSTED"]
[null,{"$f":"DATE(YEAR(TODAY()),1,23)","v":"2019-01-23"},"Project Start",25,{"$f":"IF(ISBLANK(ProjectDetails[[#This Row],[DATE]]),\"\",0)","v":0},{"$f":"IFERROR(IF('Project Data Sorted'!P5=\"\",5,'Project Data Sorted'!P5),0)","v":25},{"$f":"IFERROR(IF('Project Data Sorted'!N5=\"\",ProjectEnd,'Project Data Sorted'!N5),ProjectEnd)","v":"2019-01-23"},{"$f":"IFERROR(IF('Project Data Sorted'!O5=\"\",\"\",'Project Data Sorted'!O5),\"\")","v":"Project Start"}]
[null,{"$f":"DATE(YEAR(TODAY()),2,24)","v":"2019-02-24"},"Milestone 1",10,{"$f":"IF(ISBLANK(ProjectDetails[[#This Row],[DATE]]),\"\",0)","v":0},{"$f":"IFERROR(IF('Project Data Sorted'!P6=\"\",5,'Project Data Sorted'!P6),0)","v":-10},{"$f":"IFERROR(IF('Project Data Sorted'!N6=\"\",ProjectEnd,'Project Data Sorted'!N6),ProjectEnd)","v":"2019-02-24"},{"$f":"IFERROR(IF('Project Data Sorted'!O6=\"\",\"\",'Project Data Sorted'!O6),\"\")","v":"Milestone 2"}]
[null,{"$f":"DATE(YEAR(TODAY()),2,24)","v":"2019-02-24"},"Milestone 2",-10,{"$f":"IF(ISBLANK(ProjectDetails[[#This Row],[DATE]]),\"\",0)","v":0},{"$f":"IFERROR(IF('Project Data Sorted'!P7=\"\",5,'Project Data Sorted'!P7),0)","v":10},{"$f":"IFERROR(IF('Project Data Sorted'!N7=\"\",ProjectEnd,'Project Data Sorted'!N7),ProjectEnd)","v":"2019-02-24"},{"$f":"IFERROR(IF('Project Data Sorted'!O7=\"\",\"\",'Project Data Sorted'!O7),\"\")","v":"Milestone 1"}]
[null,{"$f":"DATE(YEAR(TODAY()),3,1)","v":"2019-03-01"},"Milestone 3",15,{"$f":"IF(ISBLANK(ProjectDetails[[#This Row],[DATE]]),\"\",0)","v":0},{"$f":"IFERROR(IF('Project Data Sorted'!P8=\"\",5,'Project Data Sorted'!P8),0)","v":15},{"$f":"IFERROR(IF('Project Data Sorted'!N8=\"\",ProjectEnd,'Project Data Sorted'!N8),ProjectEnd)","v":"2019-03-01"},{"$f":"IFERROR(IF('Project Data Sorted'!O8=\"\",\"\",'Project Data Sorted'!O8),\"\")","v":"Milestone 3"}]
[null,{"$f":"DATE(YEAR(TODAY()),3,15)","v":"2019-03-15"},"Milestone 4",-15,{"$f":"IF(ISBLANK(ProjectDetails[[#This Row],[DATE]]),\"\",0)","v":0},{"$f":"IFERROR(IF('Project Data Sorted'!P9=\"\",5,'Project Data Sorted'!P9),0)","v":-15},{"$f":"IFERROR(IF('Project Data Sorted'!N9=\"\",ProjectEnd,'Project Data Sorted'!N9),ProjectEnd)","v":"2019-03-15"},{"$f":"IFERROR(IF('Project Data Sorted'!O9=\"\",\"\",'Project Data Sorted'!O9),\"\")","v":"Milestone 4"}]
[null,{"$f":"DATE(YEAR(TODAY()),5,15)","v":"2019-05-15"},"Milestone 5",15,{"$f":"IF(ISBLANK(ProjectDetails[[#This Row],[DATE]]),\"\",0)","v":0},{"$f":"IFERROR(IF('Project Data Sorted'!P10=\"\",5,'Project Data Sorted'!P10),0)","v":15},{"$f":"IFERROR(IF('Project Data Sorted'!N10=\"\",ProjectEnd,'Project Data Sorted'!N10),ProjectEnd)","v":"2019-05-15"},{"$f":"IFERROR(IF('Project Data Sorted'!O10=\"\",\"\",'Project Data Sorted'!O10),\"\")","v":"Milestone 5"}]
[null,{"$f":"DATE(YEAR(TODAY()),6,15)","v":"2019-06-15"},"Milestone 6",-15,{"$f":"IF(ISBLANK(ProjectDetails[[#This Row],[DATE]]),\"\",0)","v":0},{"$f":"IFERROR(IF('Project Data Sorted'!P11=\"\",5,'Project Data Sorted'!P11),0)","v":-15},{"$f":"IFERROR(IF('Project Data Sorted'!N11=\"\",ProjectEnd,'Project Data Sorted'!N11),ProjectEnd)","v":"2019-06-15"},{"$f":"IFERROR(IF('Project Data Sorted'!O11=\"\",\"\",'Project Data Sorted'!O11),\"\")","v":"Milestone 6"}]
[null,{"$f":"DATE(YEAR(TODAY()),6,30)","v":"2019-06-30"},"Milestone 7",15,{"$f":"IF(ISBLANK(ProjectDetails[[#This Row],[DATE]]),\"\",0)","v":0},{"$f":"IFERROR(IF('Project Data Sorted'!P12=\"\",5,'Project Data Sorted'!P12),0)","v":15},{"$f":"IFERROR(IF('Project Data Sorted'!N12=\"\",ProjectEnd,'Project Data Sorted'!N12),ProjectEnd)","v":"2019-06-30"},{"$f":"IFERROR(IF('Project Data Sorted'!O12=\"\",\"\",'Project Data Sorted'!O12),\"\")","v":"Milestone 7"}]
[null,{"$f":"DATE(YEAR(TODAY()),7,15)","v":"2019-07-15"},"Milestone 8",-20,{"$f":"IF(ISBLANK(ProjectDetails[[#This Row],[DATE]]),\"\",0)","v":0},{"$f":"IFERROR(IF('Project Data Sorted'!P13=\"\",5,'Project Data Sorted'!P13),0)","v":-20},{"$f":"IFERROR(IF('Project Data Sorted'!N13=\"\",ProjectEnd,'Project Data Sorted'!N13),ProjectEnd)","v":"2019-07-15"},{"$f":"IFERROR(IF('Project Data Sorted'!O13=\"\",\"\",'Project Data Sorted'!O13),\"\")","v":"Milestone 8"}]
[null,{"$f":"DATE(YEAR(TODAY()),7,30)","v":"2019-07-30"},"Milestone 9",20,{"$f":"IF(ISBLANK(ProjectDetails[[#This Row],[DATE]]),\"\",0)","v":0},{"$f":"IFERROR(IF('Project Data Sorted'!P14=\"\",5,'Project Data Sorted'!P14),0)","v":20},{"$f":"IFERROR(IF('Project Data Sorted'!N14=\"\",ProjectEnd,'Project Data Sorted'!N14),ProjectEnd)","v":"2019-07-30"},{"$f":"IFERROR(IF('Project Data Sorted'!O14=\"\",\"\",'Project Data Sorted'!O14),\"\")","v":"Milestone 9"}]
[null,{"$f":"DATE(YEAR(TODAY()),10,23)","v":"2019-10-23"},"Milestone 10",-15,{"$f":"IF(ISBLANK(ProjectDetails[[#This Row],[DATE]]),\"\",0)","v":0},{"$f":"IFERROR(IF('Project Data Sorted'!P15=\"\",5,'Project Data Sorted'!P15),0)","v":-15},{"$f":"IFERROR(IF('Project Data Sorted'!N15=\"\",ProjectEnd,'Project Data Sorted'!N15),ProjectEnd)","v":"2019-10-23"},{"$f":"IFERROR(IF('Project Data Sorted'!O15=\"\",\"\",'Project Data Sorted'!O15),\"\")","v":"Milestone 10"}]
[null,{"$f":"DATE(YEAR(TODAY()),12,31)","v":"2019-12-31"},"Project End",15,{"$f":"IF(ISBLANK(ProjectDetails[[#This Row],[DATE]]),\"\",0)","v":0},{"$f":"IFERROR(IF('Project Data Sorted'!P16=\"\",5,'Project Data Sorted'!P16),0)","v":15},{"$f":"IFERROR(IF('Project Data Sorted'!N16=\"\",ProjectEnd,'Project Data Sorted'!N16),ProjectEnd)","v":"2019-12-31"},{"$f":"IFERROR(IF('Project Data Sorted'!O16=\"\",\"\",'Project Data Sorted'!O16),\"\")","v":"Project End"}]

{"sheet":"Project Data Sorted","index":1,"n_rows":349,"n_cols":16,"rows_kept":349,"hidden":true}
["Sort the dates to populate the timeline in chronological order"]
[]
[{"$nulls":4},"data analysis",{"$nulls":7},"Actual data to chart, which is fed into the Project Timeline worksheet via hidden columns F-H."]
[null,"start row",{"$f":"ROW(ProjectDetails[[#Headers],[DATE]])+1","v":5},null,"TIE BREAK","RANK","DATE","MILESTONE","POSITION","NUM",null,null,"RANK Sorted","DATE","MILESTONE","POSITION"]
[null,"last entry",{"$f":"IFERROR(MATCH(9.99E+307,ProjectDetails[DATE])+Project_start_row-1,Project_start_row)","v":16},null,{"$f":"IFERROR(RANK(F5,ProjectTimelineData[RANK])+SUMPRODUCT(--(F5=ProjectTimelineData[RANK]),--(J5<ProjectTimelineData[NUM])),\"\")","v":12},{"$f":"IFERROR(RANK(ProjectTimelineData[[#This Row],[DATE]],ProjectTimelineData[DATE],1),\"\")","v":1},{"$f":"IFERROR(IF(AND(Project_last_entry-Project_start_row=0,ISBLANK(INDEX(ProjectDetails[#Data],1,1))),\"\",IF(Project_last_entry-Project_start_row=0,INDEX(ProjectDetails[#Data],1,1),INDEX(ProjectDetails[#Data],Project_last_entry-Project_start_row-ProjectTimelineData[[#This Row],[NUM]]+1,1))),\"\")","v":"2019-01-23"},{"$f":"IFERROR(IF(AND(Project_last_entry-Project_start_row=0,ISBLANK(INDEX(ProjectDetails[#Data],1,2))),\"\",IF(Project_last_entry-Project_start_row=0,INDEX(ProjectDetails[#Data],1,2),INDEX(ProjectDetails[#Data],Project_last_entry-Project_start_row-ProjectTimelineData[[#This Row],[NUM]]+1,2))),\"\")","v":"Project Start"},{"$f":"IFERROR(IF(AND(Project_last_entry-Project_start_row=0,ISBLANK(INDEX(ProjectDetails[#Data],1,3))),\"\",IF(Project_last_entry-Project_start_row=0,INDEX(ProjectDetails[#Data],1,3),INDEX(ProjectDetails[#Data],Project_last_entry-Project_start_row-ProjectTimelineData[[#This Row],[NUM]]+1,3))),\"\")","v":25},{"$f":"IFERROR(IF(AND(Project_last_entry-Project_start_row=0,ISBLANK(INDEX(ProjectDetails[#Data],1,1))),\"\",IF(Project_last_entry-Project_start_row=0,0,Project_last_entry-Project_start_row)),\"\")","v":11},null,null,{"$f":"IFERROR(ProjectTimelineData[[#This Row],[NUM]]+1,\"\")","v":12},{"$f":"IFERROR(VLOOKUP(SortedTimeline[[#This Row],[RANK Sorted]],ProjectTimelineData[],3,0),\"\")","v":"2019-01-23"},{"$f":"IFERROR(VLOOKUP(SortedTimeline[[#This Row],[RANK Sorted]],ProjectTimelineData[],4,0),\"\")","v":"Project Start"},{"$f":"IFERROR(VLOOKUP(SortedTimeline[[#This Row],[RANK Sorted]],ProjectTimelineData[],5,0),\"\")","v":25}]
[{"$nulls":4},{"$f":"IFERROR(RANK(F6,ProjectTimelineData[RANK])+SUMPRODUCT(--(F6=ProjectTimelineData[RANK]),--(J6<ProjectTimelineData[NUM])),\"\")","v":10},{"$f":"IFERROR(RANK(ProjectTimelineData[[#This Row],[DATE]],ProjectTimelineData[DATE],1),\"\")","v":2},{"$f":"IFERROR(IF(ISBLANK(INDEX(ProjectDetails[#Data],Project_last_entry-Project_start_row-ProjectTimelineData[[#This Row],[NUM]]+1,1)),\"\",INDEX(ProjectDetails[#Data],Project_last_entry-Project_start_row-ProjectTimelineData[[#This Row],[NUM]]+1,1)),\"\")","v":"2019-02-24"},{"$f":"IFERROR(IF(ISBLANK(INDEX(ProjectDetails[#Data],Project_last_entry-Project_start_row-ProjectTimelineData[[#This Row],[NUM]]+1,2)),\"\",INDEX(ProjectDetails[#Data],Project_last_entry-Project_start_row-ProjectTimelineData[[#This Row],[NUM]]+1,2)),\"\")","v":"Milestone 1"},{"$f":"IFERROR(IF(ISBLANK(INDEX(ProjectDetails[#Data],Project_last_entry-Project_start_row-ProjectTimelineData[[#This Row],[NUM]]+1,3)),\"\",INDEX(ProjectDetails[#Data],Project_last_entry-Project_start_row-ProjectTimelineData[[#This Row],[NUM]]+1,3)),\"\")","v":10},{"$f":"IFERROR(IF(ISBLANK(INDEX(ProjectDetails[#Data],ROW(A1)+1,1)),\"\",IF($J5-1<=-1,\"\",$J5-1)),\"\")","v":10},null,null,{"$f":"IFERROR(ProjectTimelineData[[#This Row],[NUM]]+1,\"\")","v":11},{"$f":"IFERROR(VLOOKUP(SortedTimeline[[#This Row],[RANK Sorted]],ProjectTimelineData[],3,0),\"\")","v":"2019-02-24"},{"$f":"IFERROR(VLOOKUP(SortedTimeline[[#This Row],[RANK Sorted]],ProjectTimelineData[],4,0),\"\")","v":"Milestone 2"},{"$f":"IFERROR(VLOOKUP(SortedTimeline[[#This Row],[RANK Sorted]],ProjectTimelineData[],5,0),\"\")","v":-10}]
[{"$nulls":4},{"$f":"IFERROR(RANK(F7,ProjectTimelineData[RANK])+SUMPRODUCT(--(F7=ProjectTimelineData[RANK]),--(J7<ProjectTimelineData[NUM])),\"\")","v":11},{"$f":"IFERROR(RANK(ProjectTimelineData[[#This Row],[DATE]],ProjectTimelineData[DATE],1),\"\")","v":2},{"$f":"IFERROR(IF(ISBLANK(INDEX(ProjectDetails[#Data],Project_last_entry-Project_start_row-ProjectTimelineData[[#This Row],[NUM]]+1,1)),\"\",INDEX(ProjectDetails[#Data],Project_last_entry-Project_start_row-ProjectTimelineData[[#This Row],[NUM]]+1,1)),\"\")","v":"2019-02-24"},{"$f":"IFERROR(IF(ISBLANK(INDEX(ProjectDetails[#Data],Project_last_entry-Project_start_row-ProjectTimelineData[[#This Row],[NUM]]+1,2)),\"\",INDEX(ProjectDetails[#Data],Project_last_entry-Project_start_row-ProjectTimelineData[[#This Row],[NUM]]+1,2)),\"\")","v":"Milestone 2"},{"$f":"IFERROR(IF(ISBLANK(INDEX(ProjectDetails[#Data],Project_last_entry-Project_start_row-ProjectTimelineData[[#This Row],[NUM]]+1,3)),\"\",INDEX(ProjectDetails[#Data],Project_last_entry-Project_start_row-ProjectTimelineData[[#This Row],[NUM]]+1,3)),\"\")","v":-10},{"$f":"IFERROR(IF(ISBLANK(INDEX(ProjectDetails[#Data],ROW(A2)+1,1)),\"\",IF($J6-1<=-1,\"\",$J6-1)),\"\")","v":9},null,null,{"$f":"IFERROR(ProjectTimelineData[[#This Row],[NUM]]+1,\"\")","v":10},{"$f":"IFERROR(VLOOKUP(SortedTimeline[[#This Row],[RANK Sorted]],ProjectTimelineData[],3,0),\"\")","v":"2019-02-24"},{"$f":"IFERROR(VLOOKUP(SortedTimeline[[#This Row],[RANK Sorted]],ProjectTimelineData[],4,0),\"\")","v":"Milestone 1"},{"$f":"IFERROR(VLOOKUP(SortedTimeline[[#This Row],[RANK Sorted]],ProjectTimelineData[],5,0),\"\")","v":10}]
[{"$nulls":4},{"$f":"IFERROR(RANK(F8,ProjectTimelineData[RANK])+SUMPRODUCT(--(F8=ProjectTimelineData[RANK]),--(J8<ProjectTimelineData[NUM])),\"\")","v":9},{"$f":"IFERROR(RANK(ProjectTimelineData[[#This Row],[DATE]],ProjectTimelineData[DATE],1),\"\")","v":4},{"$f":"IFERROR(IF(ISBLANK(INDEX(ProjectDetails[#Data],Project_last_entry-Project_start_row-ProjectTimelineData[[#This Row],[NUM]]+1,1)),\"\",INDEX(ProjectDetails[#Data],Project_last_entry-Project_start_row-ProjectTimelineData[[#This Row],[NUM]]+1,1)),\"\")","v":"2019-03-01"},{"$f":"IFERROR(IF(ISBLANK(INDEX(ProjectDetails[#Data],Project_last_entry-Project_start_row-ProjectTimelineData[[#This Row],[NUM]]+1,2)),\"\",INDEX(ProjectDetails[#Data],Project_last_entry-Project_start_row-ProjectTimelineData[[#This Row],[NUM]]+1,2)),\"\")","v":"Milestone 3"},{"$f":"IFERROR(IF(ISBLANK(INDEX(ProjectDetails[#Data],Project_last_entry-Project_start_row-ProjectTimelineData[[#This Row],[NUM]]+1,3)),\"\",INDEX(ProjectDetails[#Data],Project_last_entry-Project_start_row-ProjectTimelineData[[#This Row],[NUM]]+1,3)),\"\")","v":15},{"$f":"IFERROR(IF(ISBLANK(INDEX(ProjectDetails[#Data],ROW(A3)+1,1)),\"\",IF($J7-1<=-1,\"\",$J7-1)),\"\")","v":8},null,null,{"$f":"IFERROR(ProjectTimelineData[[#This Row],[NUM]]+1,\"\")","v":9},{"$f":"IFERROR(VLOOKUP(SortedTimeline[[#This Row],[RANK Sorted]],ProjectTimelineData[],3,0),\"\")","v":"2019-03-01"},{"$f":"IFERROR(VLOOKUP(SortedTimeline[[#This Row],[RANK Sorted]],ProjectTimelineData[],4,0),\"\")","v":"Milestone 3"},{"$f":"IFERROR(VLOOKUP(SortedTimeline[[#This Row],[RANK Sorted]],ProjectTimelineData[],5,0),\"\")","v":15}]
[{"$nulls":4},{"$f":"IFERROR(RANK(F9,ProjectTimelineData[RANK])+SUMPRODUCT(--(F9=ProjectTimelineData[RANK]),--(J9<ProjectTimelineData[NUM])),\"\")","v":8},{"$f":"IFERROR(RANK(ProjectTimelineData[[#This Row],[DATE]],ProjectTimelineData[DATE],1),\"\")","v":5},{"$f":"IFERROR(IF(ISBLANK(INDEX(ProjectDetails[#Data],Project_last_entry-Project_start_row-ProjectTimelineData[[#This Row],[NUM]]+1,1)),\"\",INDEX(ProjectDetails[#Data],Project_last_entry-Project_start_row-ProjectTimelineData[[#This Row],[NUM]]+1,1)),\"\")","v":"2019-03-15"},{"$f":"IFERROR(IF(ISBLANK(INDEX(ProjectDetails[#Data],Project_last_entry-Project_start_row-ProjectTimelineData[[#This Row],[NUM]]+1,2)),\"\",INDEX(ProjectDetails[#Data],Project_last_entry-Project_start_row-ProjectTimelineData[[#This Row],[NUM]]+1,2)),\"\")","v":"Milestone 4"},{"$f":"IFERROR(IF(ISBLANK(INDEX(ProjectDetails[#Data],Project_last_entry-Project_start_row-ProjectTimelineData[[#This Row],[NUM]]+1,3)),\"\",INDEX(ProjectDetails[#Data],Project_last_entry-Project_start_row-ProjectTimelineData[[#This Row],[NUM]]+1,3)),\"\")","v":-15},{"$f":"IFERROR(IF(ISBLANK(INDEX(ProjectDetails[#Data],ROW(A4)+1,1)),\"\",IF($J8-1<=-1,\"\",$J8-1)),\"\")","v":7},null,null,{"$f":"IFERROR(ProjectTimelineData[[#This Row],[NUM]]+1,\"\")","v":8},{"$f":"IFERROR(VLOOKUP(SortedTimeline[[#This Row],[RANK Sorted]],ProjectTimelineData[],3,0),\"\")","v":"2019-03-15"},{"$f":"IFERROR(VLOOKUP(SortedTimeline[[#This Row],[RANK Sorted]],ProjectTimelineData[],4,0),\"\")","v":"Milestone 4"},{"$f":"IFERROR(VLOOKUP(SortedTimeline[[#This Row],[RANK Sorted]],ProjectTimelineData[],5,0),\"\")","v":-15}]
[{"$nulls":4},{"$f":"IFERROR(RANK(F10,ProjectTimelineData[RANK])+SUMPRODUCT(--(F10=ProjectTimelineData[RANK]),--(J10<ProjectTimelineData[NUM])),\"\")","v":7},{"$f":"IFERROR(RANK(ProjectTimelineData[[#This Row],[DATE]],ProjectTimelineData[DATE],1),\"\")","v":6},{"$f":"IFERROR(IF(ISBLANK(INDEX(ProjectDetails[#Data],Project_last_entry-Project_start_row-ProjectTimelineData[[#This Row],[NUM]]+1,1)),\"\",INDEX(ProjectDetails[#Data],Project_last_entry-Project_start_row-ProjectTimelineData[[#This Row],[NUM]]+1,1)),\"\")","v":"2019-05-15"},{"$f":"IFERROR(IF(ISBLANK(INDEX(ProjectDetails[#Data],Project_last_entry-Project_start_row-ProjectTimelineData[[#This Row],[NUM]]+1,2)),\"\",INDEX(ProjectDetails[#Data],Project_last_entry-Project_start_row-ProjectTimelineData[[#This Row],[NUM]]+1,2)),\"\")","v":"Milestone 5"},{"$f":"IFERROR(IF(ISBLANK(INDEX(ProjectDetails[#Data],Project_last_entry-Project_start_row-ProjectTimelineData[[#This Row],[NUM]]+1,3)),\"\",INDEX(ProjectDetails[#Data],Project_last_entry-Project_start_row-ProjectTimelineData[[#This Row],[NUM]]+1,3)),\"\")","v":15},{"$f":"IFERROR(IF(ISBLANK(INDEX(ProjectDetails[#Data],ROW(A5)+1,1)),\"\",IF($J9-1<=-1,\"\",$J9-1)),\"\")","v":6},null,null,{"$f":"IFERROR(ProjectTimelineData[[#This Row],[NUM]]+1,\"\")","v":7},{"$f":"IFERROR(VLOOKUP(SortedTimeline[[#This Row],[RANK Sorted]],ProjectTimelineData[],3,0),\"\")","v":"2019-05-15"},{"$f":"IFERROR(VLOOKUP(SortedTimeline[[#This Row],[RANK Sorted]],ProjectTimelineData[],4,0),\"\")","v":"Milestone 5"},{"$f":"IFERROR(VLOOKUP(SortedTimeline[[#This Row],[RANK Sorted]],ProjectTimelineData[],5,0),\"\")","v":15}]
[{"$nulls":4},{"$f":"IFERROR(RANK(F11,ProjectTimelineData[RANK])+SUMPRODUCT(--(F11=ProjectTimelineData[RANK]),--(J11<ProjectTimelineData[NUM])),\"\")","v":6},{"$f":"IFERROR(RANK(ProjectTimelineData[[#This Row],[DATE]],ProjectTimelineData[DATE],1),\"\")","v":7},{"$f":"IFERROR(IF(ISBLANK(INDEX(ProjectDetails[#Data],Project_last_entry-Project_start_row-ProjectTimelineData[[#This Row],[NUM]]+1,1)),\"\",INDEX(ProjectDetails[#Data],Project_last_entry-Project_start_row-ProjectTimelineData[[#This Row],[NUM]]+1,1)),\"\")","v":"2019-06-15"},{"$f":"IFERROR(IF(ISBLANK(INDEX(ProjectDetails[#Data],Project_last_entry-Project_start_row-ProjectTimelineData[[#This Row],[NUM]]+1,2)),\"\",INDEX(ProjectDetails[#Data],Project_last_entry-Project_start_row-ProjectTimelineData[[#This Row],[NUM]]+1,2)),\"\")","v":"Milestone 6"},{"$f":"IFERROR(IF(ISBLANK(INDEX(ProjectDetails[#Data],Project_last_entry-Project_start_row-ProjectTimelineData[[#This Row],[NUM]]+1,3)),\"\",INDEX(ProjectDetails[#Data],Project_last_entry-Project_start_row-ProjectTimelineData[[#This Row],[NUM]]+1,3)),\"\")","v":-15},{"$f":"IFERROR(IF(ISBLANK(INDEX(ProjectDetails[#Data],ROW(A6)+1,1)),\"\",IF($J10-1<=-1,\"\",$J10-1)),\"\")","v":5},null,null,{"$f":"IFERROR(ProjectTimelineData[[#This Row],[NUM]]+1,\"\")","v":6},{"$f":"IFERROR(VLOOKUP(SortedTimeline[[#This Row],[RANK Sorted]],ProjectTimelineData[],3,0),\"\")","v":"2019-06-15"},{"$f":"IFERROR(VLOOKUP(SortedTimeline[[#This Row],[RANK Sorted]],ProjectTimelineData[],4,0),\"\")","v":"Milestone 6"},{"$f":"IFERROR(VLOOKUP(SortedTimeline[[#This Row],[RANK Sorted]],ProjectTimelineData[],5,0),\"\")","v":-15}]
[{"$nulls":4},{"$f":"IFERROR(RANK(F12,ProjectTimelineData[RANK])+SUMPRODUCT(--(F12=ProjectTimelineData[RANK]),--(J12<ProjectTimelineData[NUM])),\"\")","v":5},{"$f":"IFERROR(RANK(ProjectTimelineData[[#This Row],[DATE]],ProjectTimelineData[DATE],1),\"\")","v":8},{"$f":"IFERROR(IF(ISBLANK(INDEX(ProjectDetails[#Data],Project_last_entry-Project_start_row-ProjectTimelineData[[#This Row],[NUM]]+1,1)),\"\",INDEX(ProjectDetails[#Data],Project_last_entry-Project_start_row-ProjectTimelineData[[#This Row],[NUM]]+1,1)),\"\")","v":"2019-06-30"},{"$f":"IFERROR(IF(ISBLANK(INDEX(ProjectDetails[#Data],Project_last_entry-Project_start_row-ProjectTimelineData[[#This Row],[NUM]]+1,2)),\"\",INDEX(ProjectDetails[#Data],Project_last_entry-Project_start_row-ProjectTimelineData[[#This Row],[NUM]]+1,2)),\"\")","v":"Milestone 7"},{"$f":"IFERROR(IF(ISBLANK(INDEX(ProjectDetails[#Data],Project_last_entry-Project_start_row-ProjectTimelineData[[#This Row],[NUM]]+1,3)),\"\",INDEX(ProjectDetails[#Data],Project_last_entry-Project_start_row-ProjectTimelineData[[#This Row],[NUM]]+1,3)),\"\")","v":15},{"$f":"IFERROR(IF(ISBLANK(INDEX(ProjectDetails[#Data],ROW(A7)+1,1)),\"\",IF($J11-1<=-1,\"\",$J11-1)),\"\")","v":4},null,null,{"$f":"IFERROR(ProjectTimelineData[[#This Row],[NUM]]+1,\"\")","v":5},{"$f":"IFERROR(VLOOKUP(SortedTimeline[[#This Row],[RANK Sorted]],ProjectTimelineData[],3,0),\"\")","v":"2019-06-30"},{"$f":"IFERROR(VLOOKUP(SortedTimeline[[#This Row],[RANK Sorted]],ProjectTimelineData[],4,0),\"\")","v":"Milestone 7"},{"$f":"IFERROR(VLOOKUP(SortedTimeline[[#This Row],[RANK Sorted]],ProjectTimelineData[],5,0),\"\")","v":15}]
[{"$nulls":4},{"$f":"IFERROR(RANK(F13,ProjectTimelineData[RANK])+SUMPRODUCT(--(F13=ProjectTimelineData[RANK]),--(J13<ProjectTimelineData[NUM])),\"\")","v":4},{"$f":"IFERROR(RANK(ProjectTimelineData[[#This Row],[DATE]],ProjectTimelineData[DATE],1),\"\")","v":9},{"$f":"IFERROR(IF(ISBLANK(INDEX(ProjectDetails[#Data],Project_last_entry-Project_start_row-ProjectTimelineData[[#This Row],[NUM]]+1,1)),\"\",INDEX(ProjectDetails[#Data],Project_last_entry-Project_start_row-ProjectTimelineData[[#This Row],[NUM]]+1,1)),\"\")","v":"2019-07-15"},{"$f":"IFERROR(IF(ISBLANK(INDEX(ProjectDetails[#Data],Project_last_entry-Project_start_row-ProjectTimelineData[[#This Row],[NUM]]+1,2)),\"\",INDEX(ProjectDetails[#Data],Project_last_entry-Project_start_row-ProjectTimelineData[[#This Row],[NUM]]+1,2)),\"\")","v":"Milestone 8"},{"$f":"IFERROR(IF(ISBLANK(INDEX(ProjectDetails[#Data],Project_last_entry-Project_start_row-ProjectTimelineData[[#This Row],[NUM]]+1,3)),\"\",INDEX(ProjectDetails[#Data],Project_last_entry-Project_start_row-ProjectTimelineData[[#This Row],[NUM]]+1,3)),\"\")","v":-20},{"$f":"IFERROR(IF(ISBLANK(INDEX(ProjectDetails[#Data],ROW(A8)+1,1)),\"\",IF($J12-1<=-1,\"\",$J12-1)),\"\")","v":3},null,null,{"$f":"IFERROR(ProjectTimelineData[[#This Row],[NUM]]+1,\"\")","v":4},{"$f":"IFERROR(VLOOKUP(SortedTimeline[[#This Row],[RANK Sorted]],ProjectTimelineData[],3,0),\"\")","v":"2019-07-15"},{"$f":"IFERROR(VLOOKUP(SortedTimeline[[#This Row],[RANK Sorted]],ProjectTimelineData[],4,0),\"\")","v":"Milestone 8"},{"$f":"IFERROR(VLOOKUP(SortedTimeline[[#This Row],[RANK Sorted]],ProjectTimelineData[],5,0),\"\")","v":-20}]
[{"$nulls":4},{"$f":"IFERROR(RANK(F14,ProjectTimelineData[RANK])+SUMPRODUCT(--(F14=ProjectTimelineData[RANK]),--(J14<ProjectTimelineData[NUM])),\"\")","v":3},{"$f":"IFERROR(RANK(ProjectTimelineData[[#This Row],[DATE]],ProjectTimelineData[DATE],1),\"\")","v":10},{"$f":"IFERROR(IF(ISBLANK(INDEX(ProjectDetails[#Data],Project_last_entry-Project_start_row-ProjectTimelineData[[#This Row],[NUM]]+1,1)),\"\",INDEX(ProjectDetails[#Data],Project_last_entry-Project_start_row-ProjectTimelineData[[#This Row],[NUM]]+1,1)),\"\")","v":"2019-07-30"},{"$f":"IFERROR(IF(ISBLANK(INDEX(ProjectDetails[#Data],Project_last_entry-Project_start_row-ProjectTimelineData[[#This Row],[NUM]]+1,2)),\"\",INDEX(ProjectDetails[#Data],Project_last_entry-Project_start_row-ProjectTimelineData[[#This Row],[NUM]]+1,2)),\"\")","v":"Milestone 9"},{"$f":"IFERROR(IF(ISBLANK(INDEX(ProjectDetails[#Data],Project_last_entry-Project_start_row-ProjectTimelineData[[#This Row],[NUM]]+1,3)),\"\",INDEX(ProjectDetails[#Data],Project_last_entry-Project_start_row-ProjectTimelineData[[#This Row],[NUM]]+1,3)),\"\")","v":20},{"$f":"IFERROR(IF(ISBLANK(INDEX(ProjectDetails[#Data],ROW(A9)+1,1)),\"\",IF($J13-1<=-1,\"\",$J13-1)),\"\")","v":2},null,null,{"$f":"IFERROR(ProjectTimelineData[[#This Row],[NUM]]+1,\"\")","v":3},{"$f":"IFERROR(VLOOKUP(SortedTimeline[[#This Row],[RANK Sorted]],ProjectTimelineData[],3,0),\"\")","v":"2019-07-30"},{"$f":"IFERROR(VLOOKUP(SortedTimeline[[#This Row],[RANK Sorted]],ProjectTimelineData[],4,0),\"\")","v":"Milestone 9"},{"$f":"IFERROR(VLOOKUP(SortedTimeline[[#This Row],[RANK Sorted]],ProjectTimelineData[],5,0),\"\")","v":20}]
[{"$nulls":4},{"$f":"IFERROR(RANK(F15,ProjectTimelineData[RANK])+SUMPRODUCT(--(F15=ProjectTimelineData[RANK]),--(J15<ProjectTimelineData[NUM])),\"\")","v":2},{"$f":"IFERROR(RANK(ProjectTimelineData[[#This Row],[DATE]],ProjectTimelineData[DATE],1),\"\")","v":11},{"$f":"IFERROR(IF(ISBLANK(INDEX(ProjectDetails[#Data],Project_last_entry-Project_start_row-ProjectTimelineData[[#This Row],[NUM]]+1,1)),\"\",INDEX(ProjectDetails[#Data],Project_last_entry-Project_start_row-ProjectTimelineData[[#This Row],[NUM]]+1,1)),\"\")","v":"2019-10-23"},{"$f":"IFERROR(IF(ISBLANK(INDEX(ProjectDetails[#Data],Project_last_entry-Project_start_row-ProjectTimelineData[[#This Row],[NUM]]+1,2)),\"\",INDEX(ProjectDetails[#Data],Project_last_entry-Project_start_row-ProjectTimelineData[[#This Row],[NUM]]+1,2)),\"\")","v":"Milestone 10"},{"$f":"IFERROR(IF(ISBLANK(INDEX(ProjectDetails[#Data],Project_last_entry-Project_start_row-ProjectTimelineData[[#This Row],[NUM]]+1,3)),\"\",INDEX(ProjectDetails[#Data],Project_last_entry-Project_start_row-ProjectTimelineData[[#This Row],[NUM]]+1,3)),\"\")","v":-15},{"$f":"IFERROR(IF(ISBLANK(INDEX(ProjectDetails[#Data],ROW(A10)+1,1)),\"\",IF($J14-1<=-1,\"\",$J14-1)),\"\")","v":1},null,null,{"$f":"IFERROR(ProjectTimelineData[[#This Row],[NUM]]+1,\"\")","v":2},{"$f":"IFERROR(VLOOKUP(SortedTimeline[[#This Row],[RANK Sorted]],ProjectTimelineData[],3,0),\"\")","v":"2019-10-23"},{"$f":"IFERROR(VLOOKUP(SortedTimeline[[#This Row],[RANK Sorted]],ProjectTimelineData[],4,0),\"\")","v":"Milestone 10"},{"$f":"IFERROR(VLOOKUP(SortedTimeline[[#This Row],[RANK Sorted]],ProjectTimelineData[],5,0),\"\")","v":-15}]
[{"$nulls":4},{"$f":"IFERROR(RANK(F16,ProjectTimelineData[RANK])+SUMPRODUCT(--(F16=ProjectTimelineData[RANK]),--(J16<ProjectTimelineData[NUM])),\"\")","v":1},{"$f":"IFERROR(RANK(ProjectTimelineData[[#This Row],[DATE]],ProjectTimelineData[DATE],1),\"\")","v":12},{"$f":"IFERROR(IF(ISBLANK(INDEX(ProjectDetails[#Data],Project_last_entry-Project_start_row-ProjectTimelineData[[#This Row],[NUM]]+1,1)),\"\",INDEX(ProjectDetails[#Data],Project_last_entry-Project_start_row-ProjectTimelineData[[#This Row],[NUM]]+1,1)),\"\")","v":"2019-12-31"},{"$f":"IFERROR(IF(ISBLANK(INDEX(ProjectDetails[#Data],Project_last_entry-Project_start_row-ProjectTimelineData[[#This Row],[NUM]]+1,2)),\"\",INDEX(ProjectDetails[#Data],Project_last_entry-Project_start_row-ProjectTimelineData[[#This Row],[NUM]]+1,2)),\"\")","v":"Project End"},{"$f":"IFERROR(IF(ISBLANK(INDEX(ProjectDetails[#Data],Project_last_entry-Project_start_row-ProjectTimelineData[[#This Row],[NUM]]+1,3)),\"\",INDEX(ProjectDetails[#Data],Project_last_entry-Project_start_row-ProjectTimelineData[[#This Row],[NUM]]+1,3)),\"\")","v":15},{"$f":"IFERROR(IF(ISBLANK(INDEX(ProjectDetails[#Data],ROW(A11)+1,1)),\"\",IF($J15-1<=-1,\"\",$J15-1)),\"\")","v":0},null,null,{"$f":"IFERROR(ProjectTimelineData[[#This Row],[NUM]]+1,\"\")","v":1},{"$f":"IFERROR(VLOOKUP(SortedTimeline[[#This Row],[RANK Sorted]],ProjectTimelineData[],3,0),\"\")","v":"2019-12-31"},{"$f":"IFERROR(VLOOKUP(SortedTimeline[[#This Row],[RANK Sorted]],ProjectTimelineData[],4,0),\"\")","v":"Project End"},{"$f":"IFERROR(VLOOKUP(SortedTimeline[[#This Row],[RANK Sorted]],ProjectTimelineData[],5,0),\"\")","v":15}]
[{"$nulls":4},{"$f":"IFERROR(RANK(F17,ProjectTimelineData[RANK])+SUMPRODUCT(--(F17=ProjectTimelineData[RANK]),--(J17<ProjectTimelineData[NUM])),\"\")","v":""},{"$f":"IFERROR(RANK(ProjectTimelineData[[#This Row],[DATE]],ProjectTimelineData[DATE],1),\"\")","v":""},{"$f":"IFERROR(IF(ISBLANK(INDEX(ProjectDetails[#Data],Project_last_entry-Project_start_row-ProjectTimelineData[[#This Row],[NUM]]+1,1)),\"\",INDEX(ProjectDetails[#Data],Project_last_entry-Project_start_row-ProjectTimelineData[[#This Row],[NUM]]+1,1)),\"\")","v":""},{"$f":"IFERROR(IF(ISBLANK(INDEX(ProjectDetails[#Data],Project_last_entry-Project_start_row-ProjectTimelineData[[#This Row],[NUM]]+1,2)),\"\",INDEX(ProjectDetails[#Data],Project_last_entry-Project_start_row-ProjectTimelineData[[#This Row],[NUM]]+1,2)),\"\")","v":""},{"$f":"IFERROR(IF(ISBLANK(INDEX(ProjectDetails[#Data],Project_last_entry-Project_start_row-ProjectTimelineData[[#This Row],[NUM]]+1,3)),\"\",INDEX(ProjectDetails[#Data],Project_last_entry-Project_start_row-ProjectTimelineData[[#This Row],[NUM]]+1,3)),\"\")","v":""},{"$f":"IFERROR(IF(ISBLANK(INDEX(ProjectDetails[#Data],ROW(A12)+1,1)),\"\",IF($J16-1<=-1,\"\",$J16-1)),\"\")","v":""},null,null,{"$f":"IFERROR(ProjectTimelineData[[#This Row],[NUM]]+1,\"\")","v":""},{"$f":"IFERROR(VLOOKUP(SortedTimeline[[#This Row],[RANK Sorted]],ProjectTimelineData[],3,0),\"\")","v":""},{"$f":"IFERROR(VLOOKUP(SortedTimeline[[#This Row],[RANK Sorted]],ProjectTimelineData[],4,0),\"\")","v":""},{"$f":"IFERROR(VLOOKUP(SortedTimeline[[#This Row],[RANK Sorted]],ProjectTimelineData[],5,0),\"\")","v":""}]
[{"$nulls":4},{"$f":"IFERROR(RANK(F18,ProjectTimelineData[RANK])+SUMPRODUCT(--(F18=ProjectTimelineData[RANK]),--(J18<ProjectTimelineData[NUM])),\"\")","v":""},{"$f":"IFERROR(RANK(ProjectTimelineData[[#This Row],[DATE]],ProjectTimelineData[DATE],1),\"\")","v":""},{"$f":"IFERROR(IF(ISBLANK(INDEX(ProjectDetails[#Data],Project_last_entry-Project_start_row-ProjectTimelineData[[#This Row],[NUM]]+1,1)),\"\",INDEX(ProjectDetails[#Data],Project_last_entry-Project_start_row-ProjectTimelineData[[#This Row],[NUM]]+1,1)),\"\")","v":""},{"$f":"IFERROR(IF(ISBLANK(INDEX(ProjectDetails[#Data],Project_last_entry-Project_start_row-ProjectTimelineData[[#This Row],[NUM]]+1,2)),\"\",INDEX(ProjectDetails[#Data],Project_last_entry-Project_start_row-ProjectTimelineData[[#This Row],[NUM]]+1,2)),\"\")","v":""},{"$f":"IFERROR(IF(ISBLANK(INDEX(ProjectDetails[#Data],Project_last_entry-Project_start_row-ProjectTimelineData[[#This Row],[NUM]]+1,3)),\"\",INDEX(ProjectDetails[#Data],Project_last_entry-Project_start_row-ProjectTimelineData[[#This Row],[NUM]]+1,3)),\"\")","v":""},{"$f":"IFERROR(IF(ISBLANK(INDEX(ProjectDetails[#Data],ROW(A13)+1,1)),\"\",IF($J17-1<=-1,\"\",$J17-1)),\"\")","v":""},null,null,{"$f":"IFERROR(ProjectTimelineData[[#This Row],[NUM]]+1,\"\")","v":""},{"$f":"IFERROR(VLOOKUP(SortedTimeline[[#This Row],[RANK Sorted]],ProjectTimelineData[],3,0),\"\")","v":""},{"$f":"IFERROR(VLOOKUP(SortedTimeline[[#This Row],[RANK Sorted]],ProjectTimelineData[],4,0),\"\")","v":""},{"$f":"IFERROR(VLOOKUP(SortedTimeline[[#This Row],[RANK Sorted]],ProjectTimelineData[],5,0),\"\")","v":""}]
[{"$nulls":4},{"$f":"IFERROR(RANK(F19,ProjectTimelineData[RANK])+SUMPRODUCT(--(F19=ProjectTimelineData[RANK]),--(J19<ProjectTimelineData[NUM])),\"\")","v":""},{"$f":"IFERROR(RANK(ProjectTimelineData[[#This Row],[DATE]],ProjectTimelineData[DATE],1),\"\")","v":""},{"$f":"IFERROR(IF(ISBLANK(INDEX(ProjectDetails[#Data],Project_last_entry-Project_start_row-ProjectTimelineData[[#This Row],[NUM]]+1,1)),\"\",INDEX(ProjectDetails[#Data],Project_last_entry-Project_start_row-ProjectTimelineData[[#This Row],[NUM]]+1,1)),\"\")","v":""},{"$f":"IFERROR(IF(ISBLANK(INDEX(ProjectDetails[#Data],Project_last_entry-Project_start_row-ProjectTimelineData[[#This Row],[NUM]]+1,2)),\"\",INDEX(ProjectDetails[#Data],Project_last_entry-Project_start_row-ProjectTimelineData[[#This Row],[NUM]]+1,2)),\"\")","v":""},{"$f":"IFERROR(IF(ISBLANK(INDEX(ProjectDetails[#Data],Project_last_entry-Project_start_row-ProjectTimelineData[[#This Row],[NUM]]+1,3)),\"\",INDEX(ProjectDetails[#Data],Project_last_entry-Project_start_row-ProjectTimelineData[[#This Row],[NUM]]+1,3)),\"\")","v":""},{"$f":"IFERROR(IF(ISBLANK(INDEX(ProjectDetails[#Data],ROW(A14)+1,1)),\"\",IF($J18-1<=-1,\"\",$J18-1)),\"\")","v":""},null,null,{"$f":"IFERROR(ProjectTimelineData[[#This Row],[NUM]]+1,\"\")","v":""},{"$f":"IFERROR(VLOOKUP(SortedTimeline[[#This Row],[RANK Sorted]],ProjectTimelineData[],3,0),\"\")","v":""},{"$f":"IFERROR(VLOOKUP(SortedTimeline[[#This Row],[RANK Sorted]],ProjectTimelineData[],4,0),\"\")","v":""},{"$f":"IFERROR(VLOOKUP(SortedTimeline[[#This Row],[RANK Sorted]],ProjectTimelineData[],5,0),\"\")","v":""}]
[{"$nulls":4},{"$f":"IFERROR(RANK(F20,ProjectTimelineData[RANK])+SUMPRODUCT(--(F20=ProjectTimelineData[RANK]),--(J20<ProjectTimelineData[NUM])),\"\")","v":""},{"$f":"IFERROR(RANK(ProjectTimelineData[[#This Row],[DATE]],ProjectTimelineData[DATE],1),\"\")","v":""},{"$f":"IFERROR(IF(ISBLANK(INDEX(ProjectDetails[#Data],Project_last_entry-Project_start_row-ProjectTimelineData[[#This Row],[NUM]]+1,1)),\"\",INDEX(ProjectDetails[#Data],Project_last_entry-Project_start_row-ProjectTimelineData[[#This Row],[NUM]]+1,1)),\"\")","v":""},{"$f":"IFERROR(IF(ISBLANK(INDEX(ProjectDetails[#Data],Project_last_entry-Project_start_row-ProjectTimelineData[[#This Row],[NUM]]+1,2)),\"\",INDEX(ProjectDetails[#Data],Project_last_entry-Project_start_row-ProjectTimelineData[[#This Row],[NUM]]+1,2)),\"\")","v":""},{"$f":"IFERROR(IF(ISBLANK(INDEX(ProjectDetails[#Data],Project_last_entry-Project_start_row-ProjectTimelineData[[#This Row],[NUM]]+1,3)),\"\",INDEX(ProjectDetails[#Data],Project_last_entry-Project_start_row-ProjectTimelineData[[#This Row],[NUM]]+1,3)),\"\")","v":""},{"$f":"IFERROR(IF(ISBLANK(INDEX(ProjectDetails[#Data],ROW(A15)+1,1)),\"\",IF($J19-1<=-1,\"\",$J19-1)),\"\")","v":""},null,null,{"$f":"IFERROR(ProjectTimelineData[[#This Row],[NUM]]+1,\"\")","v":""},{"$f":"IFERROR(VLOOKUP(SortedTimeline[[#This Row],[RANK Sorted]],ProjectTimelineData[],3,0),\"\")","v":""},{"$f":"IFERROR(VLOOKUP(SortedTimeline[[#This Row],[RANK Sorted]],ProjectTimelineData[],4,0),\"\")","v":""},{"$f":"IFERROR(VLOOKUP(SortedTimeline[[#This Row],[RANK Sorted]],ProjectTimelineData[],5,0),\"\")","v":""}]
[{"$nulls":4},{"$f":"IFERROR(RANK(F21,ProjectTimelineData[RANK])+SUMPRODUCT(--(F21=ProjectTimelineData[RANK]),--(J21<ProjectTimelineData[NUM])),\"\")","v":""},{"$f":"IFERROR(RANK(ProjectTimelineData[[#This Row],[DATE]],ProjectTimelineData[DATE],1),\"\")","v":""},{"$f":"IFERROR(IF(ISBLANK(INDEX(ProjectDetails[#Data],Project_last_entry-Project_start_row-ProjectTimelineData[[#This Row],[NUM]]+1,1)),\"\",INDEX(ProjectDetails[#Data],Project_last_entry-Project_start_row-ProjectTimelineData[[#This Row],[NUM]]+1,1)),\"\")","v":""},{"$f":"IFERROR(IF(ISBLANK(INDEX(ProjectDetails[#Data],Project_last_entry-Project_start_row-ProjectTimelineData[[#This Row],[NUM]]+1,2)),\"\",INDEX(ProjectDetails[#Data],Project_last_entry-Project_start_row-ProjectTimelineData[[#This Row],[NUM]]+1,2)),\"\")","v":""},{"$f":"IFERROR(IF(ISBLANK(INDEX(ProjectDetails[#Data],Project_last_entry-Project_start_row-ProjectTimelineData[[#This Row],[NUM]]+1,3)),\"\",INDEX(ProjectDetails[#Data],Project_last_entry-Project_start_row-ProjectTimelineData[[#This Row],[NUM]]+1,3)),\"\")","v":""},{"$f":"IFERROR(IF(ISBLANK(INDEX(ProjectDetails[#Data],ROW(A16)+1,1)),\"\",IF($J20-1<=-1,\"\",$J20-1)),\"\")","v":""},null,null,{"$f":"IFERROR(ProjectTimelineData[[#This Row],[NUM]]+1,\"\")","v":""},{"$f":"IFERROR(VLOOKUP(SortedTimeline[[#This Row],[RANK Sorted]],ProjectTimelineData[],3,0),\"\")","v":""},{"$f":"IFERROR(VLOOKUP(SortedTimeline[[#This Row],[RANK Sorted]],ProjectTimelineData[],4,0),\"\")","v":""},{"$f":"IFERROR(VLOOKUP(SortedTimeline[[#This Row],[RANK Sorted]],ProjectTimelineData[],5,0),\"\")","v":""}]
[{"$nulls":4},{"$f":"IFERROR(RANK(F22,ProjectTimelineData[RANK])+SUMPRODUCT(--(F22=ProjectTimelineData[RANK]),--(J22<ProjectTimelineData[NUM])),\"\")","v":""},{"$f":"IFERROR(RANK(ProjectTimelineData[[#This Row],[DATE]],ProjectTimelineData[DATE],1),\"\")","v":""},{"$f":"IFERROR(IF(ISBLANK(INDEX(ProjectDetails[#Data],Project_last_entry-Project_start_row-ProjectTimelineData[[#This Row],[NUM]]+1,1)),\"\",INDEX(ProjectDetails[#Data],Project_last_entry-Project_start_row-ProjectTimelineData[[#This Row],[NUM]]+1,1)),\"\")","v":""},{"$f":"IFERROR(IF(ISBLANK(INDEX(ProjectDetails[#Data],Project_last_entry-Project_start_row-ProjectTimelineData[[#This Row],[NUM]]+1,2)),\"\",INDEX(ProjectDetails[#Data],Project_last_entry-Project_start_row-ProjectTimelineData[[#This Row],[NUM]]+1,2)),\"\")","v":""},{"$f":"IFERROR(IF(ISBLANK(INDEX(ProjectDetails[#Data],Project_last_entry-Project_start_row-ProjectTimelineData[[#This Row],[NUM]]+1,3)),\"\",INDEX(ProjectDetails[#Data],Project_last_entry-Project_start_row-ProjectTimelineData[[#This Row],[NUM]]+1,3)),\"\")","v":""},{"$f":"IFERROR(IF(ISBLANK(INDEX(ProjectDetails[#Data],ROW(A17)+1,1)),\"\",IF($J21-1<=-1,\"\",$J21-1)),\"\")","v":""},null,null,{"$f":"IFERROR(ProjectTimelineData[[#This Row],[NUM]]+1,\"\")","v":""},{"$f":"IFERROR(VLOOKUP(SortedTimeline[[#This Row],[RANK Sorted]],ProjectTimelineData[],3,0),\"\")","v":""},{"$f":"IFERROR(VLOOKUP(SortedTimeline[[#This Row],[RANK Sorted]],ProjectTimelineData[],4,0),\"\")","v":""},{"$f":"IFERROR(VLOOKUP(SortedTimeline[[#This Row],[RANK Sorted]],ProjectTimelineData[],5,0),\"\")","v":""}]
[{"$nulls":4},{"$f":"IFERROR(RANK(F23,ProjectTimelineData[RANK])+SUMPRODUCT(--(F23=ProjectTimelineData[RANK]),--(J23<ProjectTimelineData[NUM])),\"\")","v":""},{"$f":"IFERROR(RANK(ProjectTimelineData[[#This Row],[DATE]],ProjectTimelineData[DATE],1),\"\")","v":""},{"$f":"IFERROR(IF(ISBLANK(INDEX(ProjectDetails[#Data],Project_last_entry-Project_start_row-ProjectTimelineData[[#This Row],[NUM]]+1,1)),\"\",INDEX(ProjectDetails[#Data],Project_last_entry-Project_start_row-ProjectTimelineData[[#This Row],[NUM]]+1,1)),\"\")","v":""},{"$f":"IFERROR(IF(ISBLANK(INDEX(ProjectDetails[#Data],Project_last_entry-Project_start_row-ProjectTimelineData[[#This Row],[NUM]]+1,2)),\"\",INDEX(ProjectDetails[#Data],Project_last_entry-Project_start_row-ProjectTimelineData[[#This Row],[NUM]]+1,2)),\"\")","v":""},{"$f":"IFERROR(IF(ISBLANK(INDEX(ProjectDetails[#Data],Project_last_entry-Project_start_row-ProjectTimelineData[[#This Row],[NUM]]+1,3)),\"\",INDEX(ProjectDetails[#Data],Project_last_entry-Project_start_row-ProjectTimelineData[[#This Row],[NUM]]+1,3)),\"\")","v":""},{"$f":"IFERROR(IF(ISBLANK(INDEX(ProjectDetails[#Data],ROW(A18)+1,1)),\"\",IF($J22-1<=-1,\"\",$J22-1)),\"\")","v":""},null,null,{"$f":"IFERROR(ProjectTimelineData[[#This Row],[NUM]]+1,\"\")","v":""},{"$f":"IFERROR(VLOOKUP(SortedTimeline[[#This Row],[RANK Sorted]],ProjectTimelineData[],3,0),\"\")","v":""},{"$f":"IFERROR(VLOOKUP(SortedTimeline[[#This Row],[RANK Sorted]],ProjectTimelineData[],4,0),\"\")","v":""},{"$f":"IFERROR(VLOOKUP(SortedTimeline[[#This Row],[RANK Sorted]],ProjectTimelineData[],5,0),\"\")","v":""}]
[{"$nulls":4},{"$f":"IFERROR(RANK(F24,ProjectTimelineData[RANK])+SUMPRODUCT(--(F24=ProjectTimelineData[RANK]),--(J24<ProjectTimelineData[NUM])),\"\")","v":""},{"$f":"IFERROR(RANK(ProjectTimelineData[[#This Row],[DATE]],ProjectTimelineData[DATE],1),\"\")","v":""},{"$f":"IFERROR(IF(ISBLANK(INDEX(ProjectDetails[#Data],Project_last_entry-Project_start_row-ProjectTimelineData[[#This Row],[NUM]]+1,1)),\"\",INDEX(ProjectDetails[#Data],Project_last_entry-Project_start_row-ProjectTimelineData[[#This Row],[NUM]]+1,1)),\"\")","v":""},{"$f":"IFERROR(IF(ISBLANK(INDEX(ProjectDetails[#Data],Project_last_entry-Project_start_row-ProjectTimelineData[[#This Row],[NUM]]+1,2)),\"\",INDEX(ProjectDetails[#Data],Project_last_entry-Project_start_row-ProjectTimelineData[[#This Row],[NUM]]+1,2)),\"\")","v":""},{"$f":"IFERROR(IF(ISBLANK(INDEX(ProjectDetails[#Data],Project_last_entry-Project_start_row-ProjectTimelineData[[#This Row],[NUM]]+1,3)),\"\",INDEX(ProjectDetails[#Data],Project_last_entry-Project_start_row-ProjectTimelineData[[#This Row],[NUM]]+1,3)),\"\")","v":""},{"$f":"IFERROR(IF(ISBLANK(INDEX(ProjectDetails[#Data],ROW(A19)+1,1)),\"\",IF($J23-1<=-1,\"\",$J23-1)),\"\")","v":""},null,null,{"$f":"IFERROR(ProjectTimelineData[[#This Row],[NUM]]+1,\"\")","v":""},{"$f":"IFERROR(VLOOKUP(SortedTimeline[[#This Row],[RANK Sorted]],ProjectTimelineData[],3,0),\"\")","v":""},{"$f":"IFERROR(VLOOKUP(SortedTimeline[[#This Row],[RANK Sorted]],ProjectTimelineData[],4,0),\"\")","v":""},{"$f":"IFERROR(VLOOKUP(SortedTimeline[[#This Row],[RANK Sorted]],ProjectTimelineData[],5,0),\"\")","v":""}]
[{"$nulls":4},{"$f":"IFERROR(RANK(F25,ProjectTimelineData[RANK])+SUMPRODUCT(--(F25=ProjectTimelineData[RANK]),--(J25<ProjectTimelineData[NUM])),\"\")","v":""},{"$f":"IFERROR(RANK(ProjectTimelineData[[#This Row],[DATE]],ProjectTimelineData[DATE],1),\"\")","v":""},{"$f":"IFERROR(IF(ISBLANK(INDEX(ProjectDetails[#Data],Project_last_entry-Project_start_row-ProjectTimelineData[[#This Row],[NUM]]+1,1)),\"\",INDEX(ProjectDetails[#Data],Project_last_entry-Project_start_row-ProjectTimelineData[[#This Row],[NUM]]+1,1)),\"\")","v":""},{"$f":"IFERROR(IF(ISBLANK(INDEX(ProjectDetails[#Data],Project_last_entry-Project_start_row-ProjectTimelineData[[#This Row],[NUM]]+1,2)),\"\",INDEX(ProjectDetails[#Data],Project_last_entry-Project_start_row-ProjectTimelineData[[#This Row],[NUM]]+1,2)),\"\")","v":""},{"$f":"IFERROR(IF(ISBLANK(INDEX(ProjectDetails[#Data],Project_last_entry-Project_start_row-ProjectTimelineData[[#This Row],[NUM]]+1,3)),\"\",INDEX(ProjectDetails[#Data],Project_last_entry-Project_start_row-ProjectTimelineData[[#This Row],[NUM]]+1,3)),\"\")","v":""},{"$f":"IFERROR(IF(ISBLANK(INDEX(ProjectDetails[#Data],ROW(A20)+1,1)),\"\",IF($J24-1<=-1,\"\",$J24-1)),\"\")","v":""},null,null,{"$f":"IFERROR(ProjectTimelineData[[#This Row],[NUM]]+1,\"\")","v":""},{"$f":"IFERROR(VLOOKUP(SortedTimeline[[#This Row],[RANK Sorted]],ProjectTimelineData[],3,0),\"\")","v":""},{"$f":"IFERROR(VLOOKUP(SortedTimeline[[#This Row],[RANK Sorted]],ProjectTimelineData[],4,0),\"\")","v":""},{"$f":"IFERROR(VLOOKUP(SortedTimeline[[#This Row],[RANK Sorted]],ProjectTimelineData[],5,0),\"\")","v":""}]
[{"$nulls":4},{"$f":"IFERROR(RANK(F26,ProjectTimelineData[RANK])+SUMPRODUCT(--(F26=ProjectTimelineData[RANK]),--(J26<ProjectTimelineData[NUM])),\"\")","v":""},{"$f":"IFERROR(RANK(ProjectTimelineData[[#This Row],[DATE]],ProjectTimelineData[DATE],1),\"\")","v":""},{"$f":"IFERROR(IF(ISBLANK(INDEX(ProjectDetails[#Data],Project_last_entry-Project_start_row-ProjectTimelineData[[#This Row],[NUM]]+1,1)),\"\",INDEX(ProjectDetails[#Data],Project_last_entry-Project_start_row-ProjectTimelineData[[#This Row],[NUM]]+1,1)),\"\")","v":""},{"$f":"IFERROR(IF(ISBLANK(INDEX(ProjectDetails[#Data],Project_last_entry-Project_start_row-ProjectTimelineData[[#This Row],[NUM]]+1,2)),\"\",INDEX(ProjectDetails[#Data],Project_last_entry-Project_start_row-ProjectTimelineData[[#This Row],[NUM]]+1,2)),\"\")","v":""},{"$f":"IFERROR(IF(ISBLANK(INDEX(ProjectDetails[#Data],Project_last_entry-Project_start_row-ProjectTimelineData[[#This Row],[NUM]]+1,3)),\"\",INDEX(ProjectDetails[#Data],Project_last_entry-Project_start_row-ProjectTimelineData[[#This Row],[NUM]]+1,3)),\"\")","v":""},{"$f":"IFERROR(IF(ISBLANK(INDEX(ProjectDetails[#Data],ROW(A21)+1,1)),\"\",IF($J25-1<=-1,\"\",$J25-1)),\"\")","v":""},null,null,{"$f":"IFERROR(ProjectTimelineData[[#This Row],[NUM]]+1,\"\")","v":""},{"$f":"IFERROR(VLOOKUP(SortedTimeline[[#This Row],[RANK Sorted]],ProjectTimelineData[],3,0),\"\")","v":""},{"$f":"IFERROR(VLOOKUP(SortedTimeline[[#This Row],[RANK Sorted]],ProjectTimelineData[],4,0),\"\")","v":""},{"$f":"IFERROR(VLOOKUP(SortedTimeline[[#This Row],[RANK Sorted]],ProjectTimelineData[],5,0),\"\")","v":""}]
[{"$nulls":4},{"$f":"IFERROR(RANK(F27,ProjectTimelineData[RANK])+SUMPRODUCT(--(F27=ProjectTimelineData[RANK]),--(J27<ProjectTimelineData[NUM])),\"\")","v":""},{"$f":"IFERROR(RANK(ProjectTimelineData[[#This Row],[DATE]],ProjectTimelineData[DATE],1),\"\")","v":""},{"$f":"IFERROR(IF(ISBLANK(INDEX(ProjectDetails[#Data],Project_last_entry-Project_start_row-ProjectTimelineData[[#This Row],[NUM]]+1,1)),\"\",INDEX(ProjectDetails[#Data],Project_last_entry-Project_start_row-ProjectTimelineData[[#This Row],[NUM]]+1,1)),\"\")","v":""},{"$f":"IFERROR(IF(ISBLANK(INDEX(ProjectDetails[#Data],Project_last_entry-Project_start_row-ProjectTimelineData[[#This Row],[NUM]]+1,2)),\"\",INDEX(ProjectDetails[#Data],Project_last_entry-Project_start_row-ProjectTimelineData[[#This Row],[NUM]]+1,2)),\"\")","v":""},{"$f":"IFERROR(IF(ISBLANK(INDEX(ProjectDetails[#Data],Project_last_entry-Project_start_row-ProjectTimelineData[[#This Row],[NUM]]+1,3)),\"\",INDEX(ProjectDetails[#Data],Project_last_entry-Project_start_row-ProjectTimelineData[[#This Row],[NUM]]+1,3)),\"\")","v":""},{"$f":"IFERROR(IF(ISBLANK(INDEX(ProjectDetails[#Data],ROW(A22)+1,1)),\"\",IF($J26-1<=-1,\"\",$J26-1)),\"\")","v":""},null,null,{"$f":"IFERROR(ProjectTimelineData[[#This Row],[NUM]]+1,\"\")","v":""},{"$f":"IFERROR(VLOOKUP(SortedTimeline[[#This Row],[RANK Sorted]],ProjectTimelineData[],3,0),\"\")","v":""},{"$f":"IFERROR(VLOOKUP(SortedTimeline[[#This Row],[RANK Sorted]],ProjectTimelineData[],4,0),\"\")","v":""},{"$f":"IFERROR(VLOOKUP(SortedTimeline[[#This Row],[RANK Sorted]],ProjectTimelineData[],5,0),\"\")","v":""}]
[{"$nulls":4},{"$f":"IFERROR(RANK(F28,ProjectTimelineData[RANK])+SUMPRODUCT(--(F28=ProjectTimelineData[RANK]),--(J28<ProjectTimelineData[NUM])),\"\")","v":""},{"$f":"IFERROR(RANK(ProjectTimelineData[[#This Row],[DATE]],ProjectTimelineData[DATE],1),\"\")","v":""},{"$f":"IFERROR(IF(ISBLANK(INDEX(ProjectDetails[#Data],Project_last_entry-Project_start_row-ProjectTimelineData[[#This Row],[NUM]]+1,1)),\"\",INDEX(ProjectDetails[#Data],Project_last_entry-Project_start_row-ProjectTimelineData[[#This Row],[NUM]]+1,1)),\"\")","v":""},{"$f":"IFERROR(IF(ISBLANK(INDEX(ProjectDetails[#Data],Project_last_entry-Project_start_row-ProjectTimelineData[[#This Row],[NUM]]+1,2)),\"\",INDEX(ProjectDetails[#Data],Project_last_entry-Project_start_row-ProjectTimelineData[[#This Row],[NUM]]+1,2)),\"\")","v":""},{"$f":"IFERROR(IF(ISBLANK(INDEX(ProjectDetails[#Data],Project_last_entry-Project_start_row-ProjectTimelineData[[#This Row],[NUM]]+1,3)),\"\",INDEX(ProjectDetails[#Data],Project_last_entry-Project_start_row-ProjectTimelineData[[#This Row],[NUM]]+1,3)),\"\")","v":""},{"$f":"IFERROR(IF(ISBLANK(INDEX(ProjectDetails[#Data],ROW(A23)+1,1)),\"\",IF($J27-1<=-1,\"\",$J27-1)),\"\")","v":""},null,null,{"$f":"IFERROR(ProjectTimelineData[[#This Row],[NUM]]+1,\"\")","v":""},{"$f":"IFERROR(VLOOKUP(SortedTimeline[[#This Row],[RANK Sorted]],ProjectTimelineData[],3,0),\"\")","v":""},{"$f":"IFERROR(VLOOKUP(SortedTimeline[[#This Row],[RANK Sorted]],ProjectTimelineData[],4,0),\"\")","v":""},{"$f":"IFERROR(VLOOKUP(SortedTimeline[[#This Row],[RANK Sorted]],ProjectTimelineData[],5,0),\"\")","v":""}]
[{"$nulls":4},{"$f":"IFERROR(RANK(F29,ProjectTimelineData[RANK])+SUMPRODUCT(--(F29=ProjectTimelineData[RANK]),--(J29<ProjectTimelineData[NUM])),\"\")","v":""},{"$f":"IFERROR(RANK(ProjectTimelineData[[#This Row],[DATE]],ProjectTimelineData[DATE],1),\"\")","v":""},{"$f":"IFERROR(IF(ISBLANK(INDEX(ProjectDetails[#Data],Project_last_entry-Project_start_row-ProjectTimelineData[[#This Row],[NUM]]+1,1)),\"\",INDEX(ProjectDetails[#Data],Project_last_entry-Project_start_row-ProjectTimelineData[[#This Row],[NUM]]+1,1)),\"\")","v":""},{"$f":"IFERROR(IF(ISBLANK(INDEX(ProjectDetails[#Data],Project_last_entry-Project_start_row-ProjectTimelineData[[#This Row],[NUM]]+1,2)),\"\",INDEX(ProjectDetails[#Data],Project_last_entry-Project_start_row-ProjectTimelineData[[#This Row],[NUM]]+1,2)),\"\")","v":""},{"$f":"IFERROR(IF(ISBLANK(INDEX(ProjectDetails[#Data],Project_last_entry-Project_start_row-ProjectTimelineData[[#This Row],[NUM]]+1,3)),\"\",INDEX(ProjectDetails[#Data],Project_last_entry-Project_start_row-ProjectTimelineData[[#This Row],[NUM]]+1,3)),\"\")","v":""},{"$f":"IFERROR(IF(ISBLANK(INDEX(ProjectDetails[#Data],ROW(A24)+1,1)),\"\",IF($J28-1<=-1,\"\",$J28-1)),\"\")","v":""},null,null,{"$f":"IFERROR(ProjectTimelineData[[#This Row],[NUM]]+1,\"\")","v":""},{"$f":"IFERROR(VLOOKUP(SortedTimeline[[#This Row],[RANK Sorted]],ProjectTimelineData[],3,0),\"\")","v":""},{"$f":"IFERROR(VLOOKUP(SortedTimeline[[#This Row],[RANK Sorted]],ProjectTimelineData[],4,0),\"\")","v":""},{"$f":"IFERROR(VLOOKUP(SortedTimeline[[#This Row],[RANK Sorted]],ProjectTimelineData[],5,0),\"\")","v":""}]
[{"$nulls":4},{"$f":"IFERROR(RANK(F30,ProjectTimelineData[RANK])+SUMPRODUCT(--(F30=ProjectTimelineData[RANK]),--(J30<ProjectTimelineData[NUM])),\"\")","v":""},{"$f":"IFERROR(RANK(ProjectTimelineData[[#This Row],[DATE]],ProjectTimelineData[DATE],1),\"\")","v":""},{"$f":"IFERROR(IF(ISBLANK(INDEX(ProjectDetails[#Data],Project_last_entry-Project_start_row-ProjectTimelineData[[#This Row],[NUM]]+1,1)),\"\",INDEX(ProjectDetails[#Data],Project_last_entry-Project_start_row-ProjectTimelineData[[#This Row],[NUM]]+1,1)),\"\")","v":""},{"$f":"IFERROR(IF(ISBLANK(INDEX(ProjectDetails[#Data],Project_last_entry-Project_start_row-ProjectTimelineData[[#This Row],[NUM]]+1,2)),\"\",INDEX(ProjectDetails[#Data],Project_last_entry-Project_start_row-ProjectTimelineData[[#This Row],[NUM]]+1,2)),\"\")","v":""},{"$f":"IFERROR(IF(ISBLANK(INDEX(ProjectDetails[#Data],Project_last_entry-Project_start_row-ProjectTimelineData[[#This Row],[NUM]]+1,3)),\"\",INDEX(ProjectDetails[#Data],Project_last_entry-Project_start_row-ProjectTimelineData[[#This Row],[NUM]]+1,3)),\"\")","v":""},{"$f":"IFERROR(IF(ISBLANK(INDEX(ProjectDetails[#Data],ROW(A25)+1,1)),\"\",IF($J29-1<=-1,\"\",$J29-1)),\"\")","v":""},null,null,{"$f":"IFERROR(ProjectTimelineData[[#This Row],[NUM]]+1,\"\")","v":""},{"$f":"IFERROR(VLOOKUP(SortedTimeline[[#This Row],[RANK Sorted]],ProjectTimelineData[],3,0),\"\")","v":""},{"$f":"IFERROR(VLOOKUP(SortedTimeline[[#This Row],[RANK Sorted]],ProjectTimelineData[],4,0),\"\")","v":""},{"$f":"IFERROR(VLOOKUP(SortedTimeline[[#This Row],[RANK Sorted]],ProjectTimelineData[],5,0),\"\")","v":""}]
[{"$nulls":4},{"$f":"IFERROR(RANK(F31,ProjectTimelineData[RANK])+SUMPRODUCT(--(F31=ProjectTimelineData[RANK]),--(J31<ProjectTimelineData[NUM])),\"\")","v":""},{"$f":"IFERROR(RANK(ProjectTimelineData[[#This Row],[DATE]],ProjectTimelineData[DATE],1),\"\")","v":""},{"$f":"IFERROR(IF(ISBLANK(INDEX(ProjectDetails[#Data],Project_last_entry-Project_start_row-ProjectTimelineData[[#This Row],[NUM]]+1,1)),\"\",INDEX(ProjectDetails[#Data],Project_last_entry-Project_start_row-ProjectTimelineData[[#This Row],[NUM]]+1,1)),\"\")","v":""},{"$f":"IFERROR(IF(ISBLANK(INDEX(ProjectDetails[#Data],Project_last_entry-Project_start_row-ProjectTimelineData[[#This Row],[NUM]]+1,2)),\"\",INDEX(ProjectDetails[#Data],Project_last_entry-Project_start_row-ProjectTimelineData[[#This Row],[NUM]]+1,2)),\"\")","v":""},{"$f":"IFERROR(IF(ISBLANK(INDEX(ProjectDetails[#Data],Project_last_entry-Project_start_row-ProjectTimelineData[[#This Row],[NUM]]+1,3)),\"\",INDEX(ProjectDetails[#Data],Project_last_entry-Project_start_row-ProjectTimelineData[[#This Row],[NUM]]+1,3)),\"\")","v":""},{"$f":"IFERROR(IF(ISBLANK(INDEX(ProjectDetails[#Data],ROW(A26)+1,1)),\"\",IF($J30-1<=-1,\"\",$J30-1)),\"\")","v":""},null,null,{"$f":"IFERROR(ProjectTimelineData[[#This Row],[NUM]]+1,\"\")","v":""},{"$f":"IFERROR(VLOOKUP(SortedTimeline[[#This Row],[RANK Sorted]],ProjectTimelineData[],3,0),\"\")","v":""},{"$f":"IFERROR(VLOOKUP(SortedTimeline[[#This Row],[RANK Sorted]],ProjectTimelineData[],4,0),\"\")","v":""},{"$f":"IFERROR(VLOOKUP(SortedTimeline[[#This Row],[RANK Sorted]],ProjectTimelineData[],5,0),\"\")","v":""}]
[{"$nulls":4},{"$f":"IFERROR(RANK(F32,ProjectTimelineData[RANK])+SUMPRODUCT(--(F32=ProjectTimelineData[RANK]),--(J32<ProjectTimelineData[NUM])),\"\")","v":""},{"$f":"IFERROR(RANK(ProjectTimelineData[[#This Row],[DATE]],ProjectTimelineData[DATE],1),\"\")","v":""},{"$f":"IFERROR(IF(ISBLANK(INDEX(ProjectDetails[#Data],Project_last_entry-Project_start_row-ProjectTimelineData[[#This Row],[NUM]]+1,1)),\"\",INDEX(ProjectDetails[#Data],Project_last_entry-Project_start_row-ProjectTimelineData[[#This Row],[NUM]]+1,1)),\"\")","v":""},{"$f":"IFERROR(IF(ISBLANK(INDEX(ProjectDetails[#Data],Project_last_entry-Project_start_row-ProjectTimelineData[[#This Row],[NUM]]+1,2)),\"\",INDEX(ProjectDetails[#Data],Project_last_entry-Project_start_row-ProjectTimelineData[[#This Row],[NUM]]+1,2)),\"\")","v":""},{"$f":"IFERROR(IF(ISBLANK(INDEX(ProjectDetails[#Data],Project_last_entry-Project_start_row-ProjectTimelineData[[#This Row],[NUM]]+1,3)),\"\",INDEX(ProjectDetails[#Data],Project_last_entry-Project_start_row-ProjectTimelineData[[#This Row],[NUM]]+1,3)),\"\")","v":""},{"$f":"IFERROR(IF(ISBLANK(INDEX(ProjectDetails[#Data],ROW(A27)+1,1)),\"\",IF($J31-1<=-1,\"\",$J31-1)),\"\")","v":""},null,null,{"$f":"IFERROR(ProjectTimelineData[[#This Row],[NUM]]+1,\"\")","v":""},{"$f":"IFERROR(VLOOKUP(SortedTimeline[[#This Row],[RANK Sorted]],ProjectTimelineData[],3,0),\"\")","v":""},{"$f":"IFERROR(VLOOKUP(SortedTimeline[[#This Row],[RANK Sorted]],ProjectTimelineData[],4,0),\"\")","v":""},{"$f":"IFERROR(VLOOKUP(SortedTimeline[[#This Row],[RANK Sorted]],ProjectTimelineData[],5,0),\"\")","v":""}]
[{"$nulls":4},{"$f":"IFERROR(RANK(F33,ProjectTimelineData[RANK])+SUMPRODUCT(--(F33=ProjectTimelineData[RANK]),--(J33<ProjectTimelineData[NUM])),\"\")","v":""},{"$f":"IFERROR(RANK(ProjectTimelineData[[#This Row],[DATE]],ProjectTimelineData[DATE],1),\"\")","v":""},{"$f":"IFERROR(IF(ISBLANK(INDEX(ProjectDetails[#Data],Project_last_entry-Project_start_row-ProjectTimelineData[[#This Row],[NUM]]+1,1)),\"\",INDEX(ProjectDetails[#Data],Project_last_entry-Project_start_row-ProjectTimelineData[[#This Row],[NUM]]+1,1)),\"\")","v":""},{"$f":"IFERROR(IF(ISBLANK(INDEX(ProjectDetails[#Data],Project_last_entry-Project_start_row-ProjectTimelineData[[#This Row],[NUM]]+1,2)),\"\",INDEX(ProjectDetails[#Data],Project_last_entry-Project_start_row-ProjectTimelineData[[#This Row],[NUM]]+1,2)),\"\")","v":""},{"$f":"IFERROR(IF(ISBLANK(INDEX(ProjectDetails[#Data],Project_last_entry-Project_start_row-ProjectTimelineData[[#This Row],[NUM]]+1,3)),\"\",INDEX(ProjectDetails[#Data],Project_last_entry-Project_start_row-ProjectTimelineData[[#This Row],[NUM]]+1,3)),\"\")","v":""},{"$f":"IFERROR(IF(ISBLANK(INDEX(ProjectDetails[#Data],ROW(A28)+1,1)),\"\",IF($J32-1<=-1,\"\",$J32-1)),\"\")","v":""},null,null,{"$f":"IFERROR(ProjectTimelineData[[#This Row],[NUM]]+1,\"\")","v":""},{"$f":"IFERROR(VLOOKUP(SortedTimeline[[#This Row],[RANK Sorted]],ProjectTimelineData[],3,0),\"\")","v":""},{"$f":"IFERROR(VLOOKUP(SortedTimeline[[#This Row],[RANK Sorted]],ProjectTimelineData[],4,0),\"\")","v":""},{"$f":"IFERROR(VLOOKUP(SortedTimeline[[#This Row],[RANK Sorted]],ProjectTimelineData[],5,0),\"\")","v":""}]
[{"$nulls":4},{"$f":"IFERROR(RANK(F34,ProjectTimelineData[RANK])+SUMPRODUCT(--(F34=ProjectTimelineData[RANK]),--(J34<ProjectTimelineData[NUM])),\"\")","v":""},{"$f":"IFERROR(RANK(ProjectTimelineData[[#This Row],[DATE]],ProjectTimelineData[DATE],1),\"\")","v":""},{"$f":"IFERROR(IF(ISBLANK(INDEX(ProjectDetails[#Data],Project_last_entry-Project_start_row-ProjectTimelineData[[#This Row],[NUM]]+1,1)),\"\",INDEX(ProjectDetails[#Data],Project_last_entry-Project_start_row-ProjectTimelineData[[#This Row],[NUM]]+1,1)),\"\")","v":""},{"$f":"IFERROR(IF(ISBLANK(INDEX(ProjectDetails[#Data],Project_last_entry-Project_start_row-ProjectTimelineData[[#This Row],[NUM]]+1,2)),\"\",INDEX(ProjectDetails[#Data],Project_last_entry-Project_start_row-ProjectTimelineData[[#This Row],[NUM]]+1,2)),\"\")","v":""},{"$f":"IFERROR(IF(ISBLANK(INDEX(ProjectDetails[#Data],Project_last_entry-Project_start_row-ProjectTimelineData[[#This Row],[NUM]]+1,3)),\"\",INDEX(ProjectDetails[#Data],Project_last_entry-Project_start_row-ProjectTimelineData[[#This Row],[NUM]]+1,3)),\"\")","v":""},{"$f":"IFERROR(IF(ISBLANK(INDEX(ProjectDetails[#Data],ROW(A29)+1,1)),\"\",IF($J33-1<=-1,\"\",$J33-1)),\"\")","v":""},null,null,{"$f":"IFERROR(ProjectTimelineData[[#This Row],[NUM]]+1,\"\")","v":""},{"$f":"IFERROR(VLOOKUP(SortedTimeline[[#This Row],[RANK Sorted]],ProjectTimelineData[],3,0),\"\")","v":""},{"$f":"IFERROR(VLOOKUP(SortedTimeline[[#This Row],[RANK Sorted]],ProjectTimelineData[],4,0),\"\")","v":""},{"$f":"IFERROR(VLOOKUP(SortedTimeline[[#This Row],[RANK Sorted]],ProjectTimelineData[],5,0),\"\")","v":""}]
[{"$nulls":4},{"$f":"IFERROR(RANK(F35,ProjectTimelineData[RANK])+SUMPRODUCT(--(F35=ProjectTimelineData[RANK]),--(J35<ProjectTimelineData[NUM])),\"\")","v":""},{"$f":"IFERROR(RANK(ProjectTimelineData[[#This Row],[DATE]],ProjectTimelineData[DATE],1),\"\")","v":""},{"$f":"IFERROR(IF(ISBLANK(INDEX(ProjectDetails[#Data],Project_last_entry-Project_start_row-ProjectTimelineData[[#This Row],[NUM]]+1,1)),\"\",INDEX(ProjectDetails[#Data],Project_last_entry-Project_start_row-ProjectTimelineData[[#This Row],[NUM]]+1,1)),\"\")","v":""},{"$f":"IFERROR(IF(ISBLANK(INDEX(ProjectDetails[#Data],Project_last_entry-Project_start_row-ProjectTimelineData[[#This Row],[NUM]]+1,2)),\"\",INDEX(ProjectDetails[#Data],Project_last_entry-Project_start_row-ProjectTimelineData[[#This Row],[NUM]]+1,2)),\"\")","v":""},{"$f":"IFERROR(IF(ISBLANK(INDEX(ProjectDetails[#Data],Project_last_entry-Project_start_row-ProjectTimelineData[[#This Row],[NUM]]+1,3)),\"\",INDEX(ProjectDetails[#Data],Project_last_entry-Project_start_row-ProjectTimelineData[[#This Row],[NUM]]+1,3)),\"\")","v":""},{"$f":"IFERROR(IF(ISBLANK(INDEX(ProjectDetails[#Data],ROW(A30)+1,1)),\"\",IF($J34-1<=-1,\"\",$J34-1)),\"\")","v":""},null,null,{"$f":"IFERROR(ProjectTimelineData[[#This Row],[NUM]]+1,\"\")","v":""},{"$f":"IFERROR(VLOOKUP(SortedTimeline[[#This Row],[RANK Sorted]],ProjectTimelineData[],3,0),\"\")","v":""},{"$f":"IFERROR(VLOOKUP(SortedTimeline[[#This Row],[RANK Sorted]],ProjectTimelineData[],4,0),\"\")","v":""},{"$f":"IFERROR(VLOOKUP(SortedTimeline[[#This Row],[RANK Sorted]],ProjectTimelineData[],5,0),\"\")","v":""}]
[{"$nulls":4},{"$f":"IFERROR(RANK(F36,ProjectTimelineData[RANK])+SUMPRODUCT(--(F36=ProjectTimelineData[RANK]),--(J36<ProjectTimelineData[NUM])),\"\")","v":""},{"$f":"IFERROR(RANK(ProjectTimelineData[[#This Row],[DATE]],ProjectTimelineData[DATE],1),\"\")","v":""},{"$f":"IFERROR(IF(ISBLANK(INDEX(ProjectDetails[#Data],Project_last_entry-Project_start_row-ProjectTimelineData[[#This Row],[NUM]]+1,1)),\"\",INDEX(ProjectDetails[#Data],Project_last_entry-Project_start_row-ProjectTimelineData[[#This Row],[NUM]]+1,1)),\"\")","v":""},{"$f":"IFERROR(IF(ISBLANK(INDEX(ProjectDetails[#Data],Project_last_entry-Project_start_row-ProjectTimelineData[[#This Row],[NUM]]+1,2)),\"\",INDEX(ProjectDetails[#Data],Project_last_entry-Project_start_row-ProjectTimelineData[[#This Row],[NUM]]+1,2)),\"\")","v":""},{"$f":"IFERROR(IF(ISBLANK(INDEX(ProjectDetails[#Data],Project_last_entry-Project_start_row-ProjectTimelineData[[#This Row],[NUM]]+1,3)),\"\",INDEX(ProjectDetails[#Data],Project_last_entry-Project_start_row-ProjectTimelineData[[#This Row],[NUM]]+1,3)),\"\")","v":""},{"$f":"IFERROR(IF(ISBLANK(INDEX(ProjectDetails[#Data],ROW(A31)+1,1)),\"\",IF($J35-1<=-1,\"\",$J35-1)),\"\")","v":""},null,null,{"$f":"IFERROR(ProjectTimelineData[[#This Row],[NUM]]+1,\"\")","v":""},{"$f":"IFERROR(VLOOKUP(SortedTimeline[[#This Row],[RANK Sorted]],ProjectTimelineData[],3,0),\"\")","v":""},{"$f":"IFERROR(VLOOKUP(SortedTimeline[[#This Row],[RANK Sorted]],ProjectTimelineData[],4,0),\"\")","v":""},{"$f":"IFERROR(VLOOKUP(SortedTimeline[[#This Row],[RANK Sorted]],ProjectTimelineData[],5,0),\"\")","v":""}]
[{"$nulls":4},{"$f":"IFERROR(RANK(F37,ProjectTimelineData[RANK])+SUMPRODUCT(--(F37=ProjectTimelineData[RANK]),--(J37<ProjectTimelineData[NUM])),\"\")","v":""},{"$f":"IFERROR(RANK(ProjectTimelineData[[#This Row],[DATE]],ProjectTimelineData[DATE],1),\"\")","v":""},{"$f":"IFERROR(IF(ISBLANK(INDEX(ProjectDetails[#Data],Project_last_entry-Project_start_row-ProjectTimelineData[[#This Row],[NUM]]+1,1)),\"\",INDEX(ProjectDetails[#Data],Project_last_entry-Project_start_row-ProjectTimelineData[[#This Row],[NUM]]+1,1)),\"\")","v":""},{"$f":"IFERROR(IF(ISBLANK(INDEX(ProjectDetails[#Data],Project_last_entry-Project_start_row-ProjectTimelineData[[#This Row],[NUM]]+1,2)),\"\",INDEX(ProjectDetails[#Data],Project_last_entry-Project_start_row-ProjectTimelineData[[#This Row],[NUM]]+1,2)),\"\")","v":""},{"$f":"IFERROR(IF(ISBLANK(INDEX(ProjectDetails[#Data],Project_last_entry-Project_start_row-ProjectTimelineData[[#This Row],[NUM]]+1,3)),\"\",INDEX(ProjectDetails[#Data],Project_last_entry-Project_start_row-ProjectTimelineData[[#This Row],[NUM]]+1,3)),\"\")","v":""},{"$f":"IFERROR(IF(ISBLANK(INDEX(ProjectDetails[#Data],ROW(A32)+1,1)),\"\",IF($J36-1<=-1,\"\",$J36-1)),\"\")","v":""},null,null,{"$f":"IFERROR(ProjectTimelineData[[#This Row],[NUM]]+1,\"\")","v":""},{"$f":"IFERROR(VLOOKUP(SortedTimeline[[#This Row],[RANK Sorted]],ProjectTimelineData[],3,0),\"\")","v":""},{"$f":"IFERROR(VLOOKUP(SortedTimeline[[#This Row],[RANK Sorted]],ProjectTimelineData[],4,0),\"\")","v":""},{"$f":"IFERROR(VLOOKUP(SortedTimeline[[#This Row],[RANK Sorted]],ProjectTimelineData[],5,0),\"\")","v":""}]
[{"$nulls":4},{"$f":"IFERROR(RANK(F38,ProjectTimelineData[RANK])+SUMPRODUCT(--(F38=ProjectTimelineData[RANK]),--(J38<ProjectTimelineData[NUM])),\"\")","v":""},{"$f":"IFERROR(RANK(ProjectTimelineData[[#This Row],[DATE]],ProjectTimelineData[DATE],1),\"\")","v":""},{"$f":"IFERROR(IF(ISBLANK(INDEX(ProjectDetails[#Data],Project_last_entry-Project_start_row-ProjectTimelineData[[#This Row],[NUM]]+1,1)),\"\",INDEX(ProjectDetails[#Data],Project_last_entry-Project_start_row-ProjectTimelineData[[#This Row],[NUM]]+1,1)),\"\")","v":""},{"$f":"IFERROR(IF(ISBLANK(INDEX(ProjectDetails[#Data],Project_last_entry-Project_start_row-ProjectTimelineData[[#This Row],[NUM]]+1,2)),\"\",INDEX(ProjectDetails[#Data],Project_last_entry-Project_start_row-ProjectTimelineData[[#This Row],[NUM]]+1,2)),\"\")","v":""},{"$f":"IFERROR(IF(ISBLANK(INDEX(ProjectDetails[#Data],Project_last_entry-Project_start_row-ProjectTimelineData[[#This Row],[NUM]]+1,3)),\"\",INDEX(ProjectDetails[#Data],Project_last_entry-Project_start_row-ProjectTimelineData[[#This Row],[NUM]]+1,3)),\"\")","v":""},{"$f":"IFERROR(IF(ISBLANK(INDEX(ProjectDetails[#Data],ROW(A33)+1,1)),\"\",IF($J37-1<=-1,\"\",$J37-1)),\"\")","v":""},null,null,{"$f":"IFERROR(ProjectTimelineData[[#This Row],[NUM]]+1,\"\")","v":""},{"$f":"IFERROR(VLOOKUP(SortedTimeline[[#This Row],[RANK Sorted]],ProjectTimelineData[],3,0),\"\")","v":""},{"$f":"IFERROR(VLOOKUP(SortedTimeline[[#This Row],[RANK Sorted]],ProjectTimelineData[],4,0),\"\")","v":""},{"$f":"IFERROR(VLOOKUP(SortedTimeline[[#This Row],[RANK Sorted]],ProjectTimelineData[],5,0),\"\")","v":""}]
[{"$nulls":4},{"$f":"IFERROR(RANK(F39,ProjectTimelineData[RANK])+SUMPRODUCT(--(F39=ProjectTimelineData[RANK]),--(J39<ProjectTimelineData[NUM])),\"\")","v":""},{"$f":"IFERROR(RANK(ProjectTimelineData[[#This Row],[DATE]],ProjectTimelineData[DATE],1),\"\")","v":""},{"$f":"IFERROR(IF(ISBLANK(INDEX(ProjectDetails[#Data],Project_last_entry-Project_start_row-ProjectTimelineData[[#This Row],[NUM]]+1,1)),\"\",INDEX(ProjectDetails[#Data],Project_last_entry-Project_start_row-ProjectTimelineData[[#This Row],[NUM]]+1,1)),\"\")","v":""},{"$f":"IFERROR(IF(ISBLANK(INDEX(ProjectDetails[#Data],Project_last_entry-Project_start_row-ProjectTimelineData[[#This Row],[NUM]]+1,2)),\"\",INDEX(ProjectDetails[#Data],Project_last_entry-Project_start_row-ProjectTimelineData[[#This Row],[NUM]]+1,2)),\"\")","v":""},{"$f":"IFERROR(IF(ISBLANK(INDEX(ProjectDetails[#Data],Project_last_entry-Project_start_row-ProjectTimelineData[[#This Row],[NUM]]+1,3)),\"\",INDEX(ProjectDetails[#Data],Project_last_entry-Project_start_row-ProjectTimelineData[[#This Row],[NUM]]+1,3)),\"\")","v":""},{"$f":"IFERROR(IF(ISBLANK(INDEX(ProjectDetails[#Data],ROW(A34)+1,1)),\"\",IF($J38-1<=-1,\"\",$J38-1)),\"\")","v":""},null,null,{"$f":"IFERROR(ProjectTimelineData[[#This Row],[NUM]]+1,\"\")","v":""},{"$f":"IFERROR(VLOOKUP(SortedTimeline[[#This Row],[RANK Sorted]],ProjectTimelineData[],3,0),\"\")","v":""},{"$f":"IFERROR(VLOOKUP(SortedTimeline[[#This Row],[RANK Sorted]],ProjectTimelineData[],4,0),\"\")","v":""},{"$f":"IFERROR(VLOOKUP(SortedTimeline[[#This Row],[RANK Sorted]],ProjectTimelineData[],5,0),\"\")","v":""}]
[{"$nulls":4},{"$f":"IFERROR(RANK(F40,ProjectTimelineData[RANK])+SUMPRODUCT(--(F40=ProjectTimelineData[RANK]),--(J40<ProjectTimelineData[NUM])),\"\")","v":""},{"$f":"IFERROR(RANK(ProjectTimelineData[[#This Row],[DATE]],ProjectTimelineData[DATE],1),\"\")","v":""},{"$f":"IFERROR(IF(ISBLANK(INDEX(ProjectDetails[#Data],Project_last_entry-Project_start_row-ProjectTimelineData[[#This Row],[NUM]]+1,1)),\"\",INDEX(ProjectDetails[#Data],Project_last_entry-Project_start_row-ProjectTimelineData[[#This Row],[NUM]]+1,1)),\"\")","v":""},{"$f":"IFERROR(IF(ISBLANK(INDEX(ProjectDetails[#Data],Project_last_entry-Project_start_row-ProjectTimelineData[[#This Row],[NUM]]+1,2)),\"\",INDEX(ProjectDetails[#Data],Project_last_entry-Project_start_row-ProjectTimelineData[[#This Row],[NUM]]+1,2)),\"\")","v":""},{"$f":"IFERROR(IF(ISBLANK(INDEX(ProjectDetails[#Data],Project_last_entry-Project_start_row-ProjectTimelineData[[#This Row],[NUM]]+1,3)),\"\",INDEX(ProjectDetails[#Data],Project_last_entry-Project_start_row-ProjectTimelineData[[#This Row],[NUM]]+1,3)),\"\")","v":""},{"$f":"IFERROR(IF(ISBLANK(INDEX(ProjectDetails[#Data],ROW(A35)+1,1)),\"\",IF($J39-1<=-1,\"\",$J39-1)),\"\")","v":""},null,null,{"$f":"IFERROR(ProjectTimelineData[[#This Row],[NUM]]+1,\"\")","v":""},{"$f":"IFERROR(VLOOKUP(SortedTimeline[[#This Row],[RANK Sorted]],ProjectTimelineData[],3,0),\"\")","v":""},{"$f":"IFERROR(VLOOKUP(SortedTimeline[[#This Row],[RANK Sorted]],ProjectTimelineData[],4,0),\"\")","v":""},{"$f":"IFERROR(VLOOKUP(SortedTimeline[[#This Row],[RANK Sorted]],ProjectTimelineData[],5,0),\"\")","v":""}]
[{"$nulls":4},{"$f":"IFERROR(RANK(F41,ProjectTimelineData[RANK])+SUMPRODUCT(--(F41=ProjectTimelineData[RANK]),--(J41<ProjectTimelineData[NUM])),\"\")","v":""},{"$f":"IFERROR(RANK(ProjectTimelineData[[#This Row],[DATE]],ProjectTimelineData[DATE],1),\"\")","v":""},{"$f":"IFERROR(IF(ISBLANK(INDEX(ProjectDetails[#Data],Project_last_entry-Project_start_row-ProjectTimelineData[[#This Row],[NUM]]+1,1)),\"\",INDEX(ProjectDetails[#Data],Project_last_entry-Project_start_row-ProjectTimelineData[[#This Row],[NUM]]+1,1)),\"\")","v":""},{"$f":"IFERROR(IF(ISBLANK(INDEX(ProjectDetails[#Data],Project_last_entry-Project_start_row-ProjectTimelineData[[#This Row],[NUM]]+1,2)),\"\",INDEX(ProjectDetails[#Data],Project_last_entry-Project_start_row-ProjectTimelineData[[#This Row],[NUM]]+1,2)),\"\")","v":""},{"$f":"IFERROR(IF(ISBLANK(INDEX(ProjectDetails[#Data],Project_last_entry-Project_start_row-ProjectTimelineData[[#This Row],[NUM]]+1,3)),\"\",INDEX(ProjectDetails[#Data],Project_last_entry-Project_start_row-ProjectTimelineData[[#This Row],[NUM]]+1,3)),\"\")","v":""},{"$f":"IFERROR(IF(ISBLANK(INDEX(ProjectDetails[#Data],ROW(A36)+1,1)),\"\",IF($J40-1<=-1,\"\",$J40-1)),\"\")","v":""},null,null,{"$f":"IFERROR(ProjectTimelineData[[#This Row],[NUM]]+1,\"\")","v":""},{"$f":"IFERROR(VLOOKUP(SortedTimeline[[#This Row],[RANK Sorted]],ProjectTimelineData[],3,0),\"\")","v":""},{"$f":"IFERROR(VLOOKUP(SortedTimeline[[#This Row],[RANK Sorted]],ProjectTimelineData[],4,0),\"\")","v":""},{"$f":"IFERROR(VLOOKUP(SortedTimeline[[#This Row],[RANK Sorted]],ProjectTimelineData[],5,0),\"\")","v":""}]
[{"$nulls":4},{"$f":"IFERROR(RANK(F42,ProjectTimelineData[RANK])+SUMPRODUCT(--(F42=ProjectTimelineData[RANK]),--(J42<ProjectTimelineData[NUM])),\"\")","v":""},{"$f":"IFERROR(RANK(ProjectTimelineData[[#This Row],[DATE]],ProjectTimelineData[DATE],1),\"\")","v":""},{"$f":"IFERROR(IF(ISBLANK(INDEX(ProjectDetails[#Data],Project_last_entry-Project_start_row-ProjectTimelineData[[#This Row],[NUM]]+1,1)),\"\",INDEX(ProjectDetails[#Data],Project_last_entry-Project_start_row-ProjectTimelineData[[#This Row],[NUM]]+1,1)),\"\")","v":""},{"$f":"IFERROR(IF(ISBLANK(INDEX(ProjectDetails[#Data],Project_last_entry-Project_start_row-ProjectTimelineData[[#This Row],[NUM]]+1,2)),\"\",INDEX(ProjectDetails[#Data],Project_last_entry-Project_start_row-ProjectTimelineData[[#This Row],[NUM]]+1,2)),\"\")","v":""},{"$f":"IFERROR(IF(ISBLANK(INDEX(ProjectDetails[#Data],Project_last_entry-Project_start_row-ProjectTimelineData[[#This Row],[NUM]]+1,3)),\"\",INDEX(ProjectDetails[#Data],Project_last_entry-Project_start_row-ProjectTimelineData[[#This Row],[NUM]]+1,3)),\"\")","v":""},{"$f":"IFERROR(IF(ISBLANK(INDEX(ProjectDetails[#Data],ROW(A37)+1,1)),\"\",IF($J41-1<=-1,\"\",$J41-1)),\"\")","v":""},null,null,{"$f":"IFERROR(ProjectTimelineData[[#This Row],[NUM]]+1,\"\")","v":""},{"$f":"IFERROR(VLOOKUP(SortedTimeline[[#This Row],[RANK Sorted]],ProjectTimelineData[],3,0),\"\")","v":""},{"$f":"IFERROR(VLOOKUP(SortedTimeline[[#This Row],[RANK Sorted]],ProjectTimelineData[],4,0),\"\")","v":""},{"$f":"IFERROR(VLOOKUP(SortedTimeline[[#This Row],[RANK Sorted]],ProjectTimelineData[],5,0),\"\")","v":""}]
[{"$nulls":4},{"$f":"IFERROR(RANK(F43,ProjectTimelineData[RANK])+SUMPRODUCT(--(F43=ProjectTimelineData[RANK]),--(J43<ProjectTimelineData[NUM])),\"\")","v":""},{"$f":"IFERROR(RANK(ProjectTimelineData[[#This Row],[DATE]],ProjectTimelineData[DATE],1),\"\")","v":""},{"$f":"IFERROR(IF(ISBLANK(INDEX(ProjectDetails[#Data],Project_last_entry-Project_start_row-ProjectTimelineData[[#This Row],[NUM]]+1,1)),\"\",INDEX(ProjectDetails[#Data],Project_last_entry-Project_start_row-ProjectTimelineData[[#This Row],[NUM]]+1,1)),\"\")","v":""},{"$f":"IFERROR(IF(ISBLANK(INDEX(ProjectDetails[#Data],Project_last_entry-Project_start_row-ProjectTimelineData[[#This Row],[NUM]]+1,2)),\"\",INDEX(ProjectDetails[#Data],Project_last_entry-Project_start_row-ProjectTimelineData[[#This Row],[NUM]]+1,2)),\"\")","v":""},{"$f":"IFERROR(IF(ISBLANK(INDEX(ProjectDetails[#Data],Project_last_entry-Project_start_row-ProjectTimelineData[[#This Row],[NUM]]+1,3)),\"\",INDEX(ProjectDetails[#Data],Project_last_entry-Project_start_row-ProjectTimelineData[[#This Row],[NUM]]+1,3)),\"\")","v":""},{"$f":"IFERROR(IF(ISBLANK(INDEX(ProjectDetails[#Data],ROW(A38)+1,1)),\"\",IF($J42-1<=-1,\"\",$J42-1)),\"\")","v":""},null,null,{"$f":"IFERROR(ProjectTimelineData[[#This Row],[NUM]]+1,\"\")","v":""},{"$f":"IFERROR(VLOOKUP(SortedTimeline[[#This Row],[RANK Sorted]],ProjectTimelineData[],3,0),\"\")","v":""},{"$f":"IFERROR(VLOOKUP(SortedTimeline[[#This Row],[RANK Sorted]],ProjectTimelineData[],4,0),\"\")","v":""},{"$f":"IFERROR(VLOOKUP(SortedTimeline[[#This Row],[RANK Sorted]],ProjectTimelineData[],5,0),\"\")","v":""}]
[{"$nulls":4},{"$f":"IFERROR(RANK(F44,ProjectTimelineData[RANK])+SUMPRODUCT(--(F44=ProjectTimelineData[RANK]),--(J44<ProjectTimelineData[NUM])),\"\")","v":""},{"$f":"IFERROR(RANK(ProjectTimelineData[[#This Row],[DATE]],ProjectTimelineData[DATE],1),\"\")","v":""},{"$f":"IFERROR(IF(ISBLANK(INDEX(ProjectDetails[#Data],Project_last_entry-Project_start_row-ProjectTimelineData[[#This Row],[NUM]]+1,1)),\"\",INDEX(ProjectDetails[#Data],Project_last_entry-Project_start_row-ProjectTimelineData[[#This Row],[NUM]]+1,1)),\"\")","v":""},{"$f":"IFERROR(IF(ISBLANK(INDEX(ProjectDetails[#Data],Project_last_entry-Project_start_row-ProjectTimelineData[[#This Row],[NUM]]+1,2)),\"\",INDEX(ProjectDetails[#Data],Project_last_entry-Project_start_row-ProjectTimelineData[[#This Row],[NUM]]+1,2)),\"\")","v":""},{"$f":"IFERROR(IF(ISBLANK(INDEX(ProjectDetails[#Data],Project_last_entry-Project_start_row-ProjectTimelineData[[#This Row],[NUM]]+1,3)),\"\",INDEX(ProjectDetails[#Data],Project_last_entry-Project_start_row-ProjectTimelineData[[#This Row],[NUM]]+1,3)),\"\")","v":""},{"$f":"IFERROR(IF(ISBLANK(INDEX(ProjectDetails[#Data],ROW(A39)+1,1)),\"\",IF($J43-1<=-1,\"\",$J43-1)),\"\")","v":""},null,null,{"$f":"IFERROR(ProjectTimelineData[[#This Row],[NUM]]+1,\"\")","v":""},{"$f":"IFERROR(VLOOKUP(SortedTimeline[[#This Row],[RANK Sorted]],ProjectTimelineData[],3,0),\"\")","v":""},{"$f":"IFERROR(VLOOKUP(SortedTimeline[[#This Row],[RANK Sorted]],ProjectTimelineData[],4,0),\"\")","v":""},{"$f":"IFERROR(VLOOKUP(SortedTimeline[[#This Row],[RANK Sorted]],ProjectTimelineData[],5,0),\"\")","v":""}]
[{"$nulls":4},{"$f":"IFERROR(RANK(F45,ProjectTimelineData[RANK])+SUMPRODUCT(--(F45=ProjectTimelineData[RANK]),--(J45<ProjectTimelineData[NUM])),\"\")","v":""},{"$f":"IFERROR(RANK(ProjectTimelineData[[#This Row],[DATE]],ProjectTimelineData[DATE],1),\"\")","v":""},{"$f":"IFERROR(IF(ISBLANK(INDEX(ProjectDetails[#Data],Project_last_entry-Project_start_row-ProjectTimelineData[[#This Row],[NUM]]+1,1)),\"\",INDEX(ProjectDetails[#Data],Project_last_entry-Project_start_row-ProjectTimelineData[[#This Row],[NUM]]+1,1)),\"\")","v":""},{"$f":"IFERROR(IF(ISBLANK(INDEX(ProjectDetails[#Data],Project_last_entry-Project_start_row-ProjectTimelineData[[#This Row],[NUM]]+1,2)),\"\",INDEX(ProjectDetails[#Data],Project_last_entry-Project_start_row-ProjectTimelineData[[#This Row],[NUM]]+1,2)),\"\")","v":""},{"$f":"IFERROR(IF(ISBLANK(INDEX(ProjectDetails[#Data],Project_last_entry-Project_start_row-ProjectTimelineData[[#This Row],[NUM]]+1,3)),\"\",INDEX(ProjectDetails[#Data],Project_last_entry-Project_start_row-ProjectTimelineData[[#This Row],[NUM]]+1,3)),\"\")","v":""},{"$f":"IFERROR(IF(ISBLANK(INDEX(ProjectDetails[#Data],ROW(A40)+1,1)),\"\",IF($J44-1<=-1,\"\",$J44-1)),\"\")","v":""},null,null,{"$f":"IFERROR(ProjectTimelineData[[#This Row],[NUM]]+1,\"\")","v":""},{"$f":"IFERROR(VLOOKUP(SortedTimeline[[#This Row],[RANK Sorted]],ProjectTimelineData[],3,0),\"\")","v":""},{"$f":"IFERROR(VLOOKUP(SortedTimeline[[#This Row],[RANK Sorted]],ProjectTimelineData[],4,0),\"\")","v":""},{"$f":"IFERROR(VLOOKUP(SortedTimeline[[#This Row],[RANK Sorted]],ProjectTimelineData[],5,0),\"\")","v":""}]
[{"$nulls":4},{"$f":"IFERROR(RANK(F46,ProjectTimelineData[RANK])+SUMPRODUCT(--(F46=ProjectTimelineData[RANK]),--(J46<ProjectTimelineData[NUM])),\"\")","v":""},{"$f":"IFERROR(RANK(ProjectTimelineData[[#This Row],[DATE]],ProjectTimelineData[DATE],1),\"\")","v":""},{"$f":"IFERROR(IF(ISBLANK(INDEX(ProjectDetails[#Data],Project_last_entry-Project_start_row-ProjectTimelineData[[#This Row],[NUM]]+1,1)),\"\",INDEX(ProjectDetails[#Data],Project_last_entry-Project_start_row-ProjectTimelineData[[#This Row],[NUM]]+1,1)),\"\")","v":""},{"$f":"IFERROR(IF(ISBLANK(INDEX(ProjectDetails[#Data],Project_last_entry-Project_start_row-ProjectTimelineData[[#This Row],[NUM]]+1,2)),\"\",INDEX(ProjectDetails[#Data],Project_last_entry-Project_start_row-ProjectTimelineData[[#This Row],[NUM]]+1,2)),\"\")","v":""},{"$f":"IFERROR(IF(ISBLANK(INDEX(ProjectDetails[#Data],Project_last_entry-Project_start_row-ProjectTimelineData[[#This Row],[NUM]]+1,3)),\"\",INDEX(ProjectDetails[#Data],Project_last_entry-Project_start_row-ProjectTimelineData[[#This Row],[NUM]]+1,3)),\"\")","v":""},{"$f":"IFERROR(IF(ISBLANK(INDEX(ProjectDetails[#Data],ROW(A41)+1,1)),\"\",IF($J45-1<=-1,\"\",$J45-1)),\"\")","v":""},null,null,{"$f":"IFERROR(ProjectTimelineData[[#This Row],[NUM]]+1,\"\")","v":""},{"$f":"IFERROR(VLOOKUP(SortedTimeline[[#This Row],[RANK Sorted]],ProjectTimelineData[],3,0),\"\")","v":""},{"$f":"IFERROR(VLOOKUP(SortedTimeline[[#This Row],[RANK Sorted]],ProjectTimelineData[],4,0),\"\")","v":""},{"$f":"IFERROR(VLOOKUP(SortedTimeline[[#This Row],[RANK Sorted]],ProjectTimelineData[],5,0),\"\")","v":""}]
[{"$nulls":4},{"$f":"IFERROR(RANK(F47,ProjectTimelineData[RANK])+SUMPRODUCT(--(F47=ProjectTimelineData[RANK]),--(J47<ProjectTimelineData[NUM])),\"\")","v":""},{"$f":"IFERROR(RANK(ProjectTimelineData[[#This Row],[DATE]],ProjectTimelineData[DATE],1),\"\")","v":""},{"$f":"IFERROR(IF(ISBLANK(INDEX(ProjectDetails[#Data],Project_last_entry-Project_start_row-ProjectTimelineData[[#This Row],[NUM]]+1,1)),\"\",INDEX(ProjectDetails[#Data],Project_last_entry-Project_start_row-ProjectTimelineData[[#This Row],[NUM]]+1,1)),\"\")","v":""},{"$f":"IFERROR(IF(ISBLANK(INDEX(ProjectDetails[#Data],Project_last_entry-Project_start_row-ProjectTimelineData[[#This Row],[NUM]]+1,2)),\"\",INDEX(ProjectDetails[#Data],Project_last_entry-Project_start_row-ProjectTimelineData[[#This Row],[NUM]]+1,2)),\"\")","v":""},{"$f":"IFERROR(IF(ISBLANK(INDEX(ProjectDetails[#Data],Project_last_entry-Project_start_row-ProjectTimelineData[[#This Row],[NUM]]+1,3)),\"\",INDEX(ProjectDetails[#Data],Project_last_entry-Project_start_row-ProjectTimelineData[[#This Row],[NUM]]+1,3)),\"\")","v":""},{"$f":"IFERROR(IF(ISBLANK(INDEX(ProjectDetails[#Data],ROW(A42)+1,1)),\"\",IF($J46-1<=-1,\"\",$J46-1)),\"\")","v":""},null,null,{"$f":"IFERROR(ProjectTimelineData[[#This Row],[NUM]]+1,\"\")","v":""},{"$f":"IFERROR(VLOOKUP(SortedTimeline[[#This Row],[RANK Sorted]],ProjectTimelineData[],3,0),\"\")","v":""},{"$f":"IFERROR(VLOOKUP(SortedTimeline[[#This Row],[RANK Sorted]],ProjectTimelineData[],4,0),\"\")","v":""},{"$f":"IFERROR(VLOOKUP(SortedTimeline[[#This Row],[RANK Sorted]],ProjectTimelineData[],5,0),\"\")","v":""}]
[{"$nulls":4},{"$f":"IFERROR(RANK(F48,ProjectTimelineData[RANK])+SUMPRODUCT(--(F48=ProjectTimelineData[RANK]),--(J48<ProjectTimelineData[NUM])),\"\")","v":""},{"$f":"IFERROR(RANK(ProjectTimelineData[[#This Row],[DATE]],ProjectTimelineData[DATE],1),\"\")","v":""},{"$f":"IFERROR(IF(ISBLANK(INDEX(ProjectDetails[#Data],Project_last_entry-Project_start_row-ProjectTimelineData[[#This Row],[NUM]]+1,1)),\"\",INDEX(ProjectDetails[#Data],Project_last_entry-Project_start_row-ProjectTimelineData[[#This Row],[NUM]]+1,1)),\"\")","v":""},{"$f":"IFERROR(IF(ISBLANK(INDEX(ProjectDetails[#Data],Project_last_entry-Project_start_row-ProjectTimelineData[[#This Row],[NUM]]+1,2)),\"\",INDEX(ProjectDetails[#Data],Project_last_entry-Project_start_row-ProjectTimelineData[[#This Row],[NUM]]+1,2)),\"\")","v":""},{"$f":"IFERROR(IF(ISBLANK(INDEX(ProjectDetails[#Data],Project_last_entry-Project_start_row-ProjectTimelineData[[#This Row],[NUM]]+1,3)),\"\",INDEX(ProjectDetails[#Data],Project_last_entry-Project_start_row-ProjectTimelineData[[#This Row],[NUM]]+1,3)),\"\")","v":""},{"$f":"IFERROR(IF(ISBLANK(INDEX(ProjectDetails[#Data],ROW(A43)+1,1)),\"\",IF($J47-1<=-1,\"\",$J47-1)),\"\")","v":""},null,null,{"$f":"IFERROR(ProjectTimelineData[[#This Row],[NUM]]+1,\"\")","v":""},{"$f":"IFERROR(VLOOKUP(SortedTimeline[[#This Row],[RANK Sorted]],ProjectTimelineData[],3,0),\"\")","v":""},{"$f":"IFERROR(VLOOKUP(SortedTimeline[[#This Row],[RANK Sorted]],ProjectTimelineData[],4,0),\"\")","v":""},{"$f":"IFERROR(VLOOKUP(SortedTimeline[[#This Row],[RANK Sorted]],ProjectTimelineData[],5,0),\"\")","v":""}]
[{"$nulls":4},{"$f":"IFERROR(RANK(F49,ProjectTimelineData[RANK])+SUMPRODUCT(--(F49=ProjectTimelineData[RANK]),--(J49<ProjectTimelineData[NUM])),\"\")","v":""},{"$f":"IFERROR(RANK(ProjectTimelineData[[#This Row],[DATE]],ProjectTimelineData[DATE],1),\"\")","v":""},{"$f":"IFERROR(IF(ISBLANK(INDEX(ProjectDetails[#Data],Project_last_entry-Project_start_row-ProjectTimelineData[[#This Row],[NUM]]+1,1)),\"\",INDEX(ProjectDetails[#Data],Project_last_entry-Project_start_row-ProjectTimelineData[[#This Row],[NUM]]+1,1)),\"\")","v":""},{"$f":"IFERROR(IF(ISBLANK(INDEX(ProjectDetails[#Data],Project_last_entry-Project_start_row-ProjectTimelineData[[#This Row],[NUM]]+1,2)),\"\",INDEX(ProjectDetails[#Data],Project_last_entry-Project_start_row-ProjectTimelineData[[#This Row],[NUM]]+1,2)),\"\")","v":""},{"$f":"IFERROR(IF(ISBLANK(INDEX(ProjectDetails[#Data],Project_last_entry-Project_start_row-ProjectTimelineData[[#This Row],[NUM]]+1,3)),\"\",INDEX(ProjectDetails[#Data],Project_last_entry-Project_start_row-ProjectTimelineData[[#This Row],[NUM]]+1,3)),\"\")","v":""},{"$f":"IFERROR(IF(ISBLANK(INDEX(ProjectDetails[#Data],ROW(A44)+1,1)),\"\",IF($J48-1<=-1,\"\",$J48-1)),\"\")","v":""},null,null,{"$f":"IFERROR(ProjectTimelineData[[#This Row],[NUM]]+1,\"\")","v":""},{"$f":"IFERROR(VLOOKUP(SortedTimeline[[#This Row],[RANK Sorted]],ProjectTimelineData[],3,0),\"\")","v":""},{"$f":"IFERROR(VLOOKUP(SortedTimeline[[#This Row],[RANK Sorted]],ProjectTimelineData[],4,0),\"\")","v":""},{"$f":"IFERROR(VLOOKUP(SortedTimeline[[#This Row],[RANK Sorted]],ProjectTimelineData[],5,0),\"\")","v":""}]
[{"$nulls":4},{"$f":"IFERROR(RANK(F50,ProjectTimelineData[RANK])+SUMPRODUCT(--(F50=ProjectTimelineData[RANK]),--(J50<ProjectTimelineData[NUM])),\"\")","v":""},{"$f":"IFERROR(RANK(ProjectTimelineData[[#This Row],[DATE]],ProjectTimelineData[DATE],1),\"\")","v":""},{"$f":"IFERROR(IF(ISBLANK(INDEX(ProjectDetails[#Data],Project_last_entry-Project_start_row-ProjectTimelineData[[#This Row],[NUM]]+1,1)),\"\",INDEX(ProjectDetails[#Data],Project_last_entry-Project_start_row-ProjectTimelineData[[#This Row],[NUM]]+1,1)),\"\")","v":""},{"$f":"IFERROR(IF(ISBLANK(INDEX(ProjectDetails[#Data],Project_last_entry-Project_start_row-ProjectTimelineData[[#This Row],[NUM]]+1,2)),\"\",INDEX(ProjectDetails[#Data],Project_last_entry-Project_start_row-ProjectTimelineData[[#This Row],[NUM]]+1,2)),\"\")","v":""},{"$f":"IFERROR(IF(ISBLANK(INDEX(ProjectDetails[#Data],Project_last_entry-Project_start_row-ProjectTimelineData[[#This Row],[NUM]]+1,3)),\"\",INDEX(ProjectDetails[#Data],Project_last_entry-Project_start_row-ProjectTimelineData[[#This Row],[NUM]]+1,3)),\"\")","v":""},{"$f":"IFERROR(IF(ISBLANK(INDEX(ProjectDetails[#Data],ROW(A45)+1,1)),\"\",IF($J49-1<=-1,\"\",$J49-1)),\"\")","v":""},null,null,{"$f":"IFERROR(ProjectTimelineData[[#This Row],[NUM]]+1,\"\")","v":""},{"$f":"IFERROR(VLOOKUP(SortedTimeline[[#This Row],[RANK Sorted]],ProjectTimelineData[],3,0),\"\")","v":""},{"$f":"IFERROR(VLOOKUP(SortedTimeline[[#This Row],[RANK Sorted]],ProjectTimelineData[],4,0),\"\")","v":""},{"$f":"IFERROR(VLOOKUP(SortedTimeline[[#This Row],[RANK Sorted]],ProjectTimelineData[],5,0),\"\")","v":""}]
[{"$nulls":4},{"$f":"IFERROR(RANK(F51,ProjectTimelineData[RANK])+SUMPRODUCT(--(F51=ProjectTimelineData[RANK]),--(J51<ProjectTimelineData[NUM])),\"\")","v":""},{"$f":"IFERROR(RANK(ProjectTimelineData[[#This Row],[DATE]],ProjectTimelineData[DATE],1),\"\")","v":""},{"$f":"IFERROR(IF(ISBLANK(INDEX(ProjectDetails[#Data],Project_last_entry-Project_start_row-ProjectTimelineData[[#This Row],[NUM]]+1,1)),\"\",INDEX(ProjectDetails[#Data],Project_last_entry-Project_start_row-ProjectTimelineData[[#This Row],[NUM]]+1,1)),\"\")","v":""},{"$f":"IFERROR(IF(ISBLANK(INDEX(ProjectDetails[#Data],Project_last_entry-Project_start_row-ProjectTimelineData[[#This Row],[NUM]]+1,2)),\"\",INDEX(ProjectDetails[#Data],Project_last_entry-Project_start_row-ProjectTimelineData[[#This Row],[NUM]]+1,2)),\"\")","v":""},{"$f":"IFERROR(IF(ISBLANK(INDEX(ProjectDetails[#Data],Project_last_entry-Project_start_row-ProjectTimelineData[[#This Row],[NUM]]+1,3)),\"\",INDEX(ProjectDetails[#Data],Project_last_entry-Project_start_row-ProjectTimelineData[[#This Row],[NUM]]+1,3)),\"\")","v":""},{"$f":"IFERROR(IF(ISBLANK(INDEX(ProjectDetails[#Data],ROW(A46)+1,1)),\"\",IF($J50-1<=-1,\"\",$J50-1)),\"\")","v":""},null,null,{"$f":"IFERROR(ProjectTimelineData[[#This Row],[NUM]]+1,\"\")","v":""},{"$f":"IFERROR(VLOOKUP(SortedTimeline[[#This Row],[RANK Sorted]],ProjectTimelineData[],3,0),\"\")","v":""},{"$f":"IFERROR(VLOOKUP(SortedTimeline[[#This Row],[RANK Sorted]],ProjectTimelineData[],4,0),\"\")","v":""},{"$f":"IFERROR(VLOOKUP(SortedTimeline[[#This Row],[RANK Sorted]],ProjectTimelineData[],5,0),\"\")","v":""}]
[{"$nulls":4},{"$f":"IFERROR(RANK(F52,ProjectTimelineData[RANK])+SUMPRODUCT(--(F52=ProjectTimelineData[RANK]),--(J52<ProjectTimelineData[NUM])),\"\")","v":""},{"$f":"IFERROR(RANK(ProjectTimelineData[[#This Row],[DATE]],ProjectTimelineData[DATE],1),\"\")","v":""},{"$f":"IFERROR(IF(ISBLANK(INDEX(ProjectDetails[#Data],Project_last_entry-Project_start_row-ProjectTimelineData[[#This Row],[NUM]]+1,1)),\"\",INDEX(ProjectDetails[#Data],Project_last_entry-Project_start_row-ProjectTimelineData[[#This Row],[NUM]]+1,1)),\"\")","v":""},{"$f":"IFERROR(IF(ISBLANK(INDEX(ProjectDetails[#Data],Project_last_entry-Project_start_row-ProjectTimelineData[[#This Row],[NUM]]+1,2)),\"\",INDEX(ProjectDetails[#Data],Project_last_entry-Project_start_row-ProjectTimelineData[[#This Row],[NUM]]+1,2)),\"\")","v":""},{"$f":"IFERROR(IF(ISBLANK(INDEX(ProjectDetails[#Data],Project_last_entry-Project_start_row-ProjectTimelineData[[#This Row],[NUM]]+1,3)),\"\",INDEX(ProjectDetails[#Data],Project_last_entry-Project_start_row-ProjectTimelineData[[#This Row],[NUM]]+1,3)),\"\")","v":""},{"$f":"IFERROR(IF(ISBLANK(INDEX(ProjectDetails[#Data],ROW(A47)+1,1)),\"\",IF($J51-1<=-1,\"\",$J51-1)),\"\")","v":""},null,null,{"$f":"IFERROR(ProjectTimelineData[[#This Row],[NUM]]+1,\"\")","v":""},{"$f":"IFERROR(VLOOKUP(SortedTimeline[[#This Row],[RANK Sorted]],ProjectTimelineData[],3,0),\"\")","v":""},{"$f":"IFERROR(VLOOKUP(SortedTimeline[[#This Row],[RANK Sorted]],ProjectTimelineData[],4,0),\"\")","v":""},{"$f":"IFERROR(VLOOKUP(SortedTimeline[[#This Row],[RANK Sorted]],ProjectTimelineData[],5,0),\"\")","v":""}]
[{"$nulls":4},{"$f":"IFERROR(RANK(F53,ProjectTimelineData[RANK])+SUMPRODUCT(--(F53=ProjectTimelineData[RANK]),--(J53<ProjectTimelineData[NUM])),\"\")","v":""},{"$f":"IFERROR(RANK(ProjectTimelineData[[#This Row],[DATE]],ProjectTimelineData[DATE],1),\"\")","v":""},{"$f":"IFERROR(IF(ISBLANK(INDEX(ProjectDetails[#Data],Project_last_entry-Project_start_row-ProjectTimelineData[[#This Row],[NUM]]+1,1)),\"\",INDEX(ProjectDetails[#Data],Project_last_entry-Project_start_row-ProjectTimelineData[[#This Row],[NUM]]+1,1)),\"\")","v":""},{"$f":"IFERROR(IF(ISBLANK(INDEX(ProjectDetails[#Data],Project_last_entry-Project_start_row-ProjectTimelineData[[#This Row],[NUM]]+1,2)),\"\",INDEX(ProjectDetails[#Data],Project_last_entry-Project_start_row-ProjectTimelineData[[#This Row],[NUM]]+1,2)),\"\")","v":""},{"$f":"IFERROR(IF(ISBLANK(INDEX(ProjectDetails[#Data],Project_last_entry-Project_start_row-ProjectTimelineData[[#This Row],[NUM]]+1,3)),\"\",INDEX(ProjectDetails[#Data],Project_last_entry-Project_start_row-ProjectTimelineData[[#This Row],[NUM]]+1,3)),\"\")","v":""},{"$f":"IFERROR(IF(ISBLANK(INDEX(ProjectDetails[#Data],ROW(A48)+1,1)),\"\",IF($J52-1<=-1,\"\",$J52-1)),\"\")","v":""},null,null,{"$f":"IFERROR(ProjectTimelineData[[#This Row],[NUM]]+1,\"\")","v":""},{"$f":"IFERROR(VLOOKUP(SortedTimeline[[#This Row],[RANK Sorted]],ProjectTimelineData[],3,0),\"\")","v":""},{"$f":"IFERROR(VLOOKUP(SortedTimeline[[#This Row],[RANK Sorted]],ProjectTimelineData[],4,0),\"\")","v":""},{"$f":"IFERROR(VLOOKUP(SortedTimeline[[#This Row],[RANK Sorted]],ProjectTimelineData[],5,0),\"\")","v":""}]
[{"$nulls":4},{"$f":"IFERROR(RANK(F54,ProjectTimelineData[RANK])+SUMPRODUCT(--(F54=ProjectTimelineData[RANK]),--(J54<ProjectTimelineData[NUM])),\"\")","v":""},{"$f":"IFERROR(RANK(ProjectTimelineData[[#This Row],[DATE]],ProjectTimelineData[DATE],1),\"\")","v":""},{"$f":"IFERROR(IF(ISBLANK(INDEX(ProjectDetails[#Data],Project_last_entry-Project_start_row-ProjectTimelineData[[#This Row],[NUM]]+1,1)),\"\",INDEX(ProjectDetails[#Data],Project_last_entry-Project_start_row-ProjectTimelineData[[#This Row],[NUM]]+1,1)),\"\")","v":""},{"$f":"IFERROR(IF(ISBLANK(INDEX(ProjectDetails[#Data],Project_last_entry-Project_start_row-ProjectTimelineData[[#This Row],[NUM]]+1,2)),\"\",INDEX(ProjectDetails[#Data],Project_last_entry-Project_start_row-ProjectTimelineData[[#This Row],[NUM]]+1,2)),\"\")","v":""},{"$f":"IFERROR(IF(ISBLANK(INDEX(ProjectDetails[#Data],Project_last_entry-Project_start_row-ProjectTimelineData[[#This Row],[NUM]]+1,3)),\"\",INDEX(ProjectDetails[#Data],Project_last_entry-Project_start_row-ProjectTimelineData[[#This Row],[NUM]]+1,3)),\"\")","v":""},{"$f":"IFERROR(IF(ISBLANK(INDEX(ProjectDetails[#Data],ROW(A49)+1,1)),\"\",IF($J53-1<=-1,\"\",$J53-1)),\"\")","v":""},null,null,{"$f":"IFERROR(ProjectTimelineData[[#This Row],[NUM]]+1,\"\")","v":""},{"$f":"IFERROR(VLOOKUP(SortedTimeline[[#This Row],[RANK Sorted]],ProjectTimelineData[],3,0),\"\")","v":""},{"$f":"IFERROR(VLOOKUP(SortedTimeline[[#This Row],[RANK Sorted]],ProjectTimelineData[],4,0),\"\")","v":""},{"$f":"IFERROR(VLOOKUP(SortedTimeline[[#This Row],[RANK Sorted]],ProjectTimelineData[],5,0),\"\")","v":""}]
[{"$nulls":4},{"$f":"IFERROR(RANK(F55,ProjectTimelineData[RANK])+SUMPRODUCT(--(F55=ProjectTimelineData[RANK]),--(J55<ProjectTimelineData[NUM])),\"\")","v":""},{"$f":"IFERROR(RANK(ProjectTimelineData[[#This Row],[DATE]],ProjectTimelineData[DATE],1),\"\")","v":""},{"$f":"IFERROR(IF(ISBLANK(INDEX(ProjectDetails[#Data],Project_last_entry-Project_start_row-ProjectTimelineData[[#This Row],[NUM]]+1,1)),\"\",INDEX(ProjectDetails[#Data],Project_last_entry-Project_start_row-ProjectTimelineData[[#This Row],[NUM]]+1,1)),\"\")","v":""},{"$f":"IFERROR(IF(ISBLANK(INDEX(ProjectDetails[#Data],Project_last_entry-Project_start_row-ProjectTimelineData[[#This Row],[NUM]]+1,2)),\"\",INDEX(ProjectDetails[#Data],Project_last_entry-Project_start_row-ProjectTimelineData[[#This Row],[NUM]]+1,2)),\"\")","v":""},{"$f":"IFERROR(IF(ISBLANK(INDEX(ProjectDetails[#Data],Project_last_entry-Project_start_row-ProjectTimelineData[[#This Row],[NUM]]+1,3)),\"\",INDEX(ProjectDetails[#Data],Project_last_entry-Project_start_row-ProjectTimelineData[[#This Row],[NUM]]+1,3)),\"\")","v":""},{"$f":"IFERROR(IF(ISBLANK(INDEX(ProjectDetails[#Data],ROW(A50)+1,1)),\"\",IF($J54-1<=-1,\"\",$J54-1)),\"\")","v":""},null,null,{"$f":"IFERROR(ProjectTimelineData[[#This Row],[NUM]]+1,\"\")","v":""},{"$f":"IFERROR(VLOOKUP(SortedTimeline[[#This Row],[RANK Sorted]],ProjectTimelineData[],3,0),\"\")","v":""},{"$f":"IFERROR(VLOOKUP(SortedTimeline[[#This Row],[RANK Sorted]],ProjectTimelineData[],4,0),\"\")","v":""},{"$f":"IFERROR(VLOOKUP(SortedTimeline[[#This Row],[RANK Sorted]],ProjectTimelineData[],5,0),\"\")","v":""}]
[{"$nulls":4},{"$f":"IFERROR(RANK(F56,ProjectTimelineData[RANK])+SUMPRODUCT(--(F56=ProjectTimelineData[RANK]),--(J56<ProjectTimelineData[NUM])),\"\")","v":""},{"$f":"IFERROR(RANK(ProjectTimelineData[[#This Row],[DATE]],ProjectTimelineData[DATE],1),\"\")","v":""},{"$f":"IFERROR(IF(ISBLANK(INDEX(ProjectDetails[#Data],Project_last_entry-Project_start_row-ProjectTimelineData[[#This Row],[NUM]]+1,1)),\"\",INDEX(ProjectDetails[#Data],Project_last_entry-Project_start_row-ProjectTimelineData[[#This Row],[NUM]]+1,1)),\"\")","v":""},{"$f":"IFERROR(IF(ISBLANK(INDEX(ProjectDetails[#Data],Project_last_entry-Project_start_row-ProjectTimelineData[[#This Row],[NUM]]+1,2)),\"\",INDEX(ProjectDetails[#Data],Project_last_entry-Project_start_row-ProjectTimelineData[[#This Row],[NUM]]+1,2)),\"\")","v":""},{"$f":"IFERROR(IF(ISBLANK(INDEX(ProjectDetails[#Data],Project_last_entry-Project_start_row-ProjectTimelineData[[#This Row],[NUM]]+1,3)),\"\",INDEX(ProjectDetails[#Data],Project_last_entry-Project_start_row-ProjectTimelineData[[#This Row],[NUM]]+1,3)),\"\")","v":""},{"$f":"IFERROR(IF(ISBLANK(INDEX(ProjectDetails[#Data],ROW(A51)+1,1)),\"\",IF($J55-1<=-1,\"\",$J55-1)),\"\")","v":""},null,null,{"$f":"IFERROR(ProjectTimelineData[[#This Row],[NUM]]+1,\"\")","v":""},{"$f":"IFERROR(VLOOKUP(SortedTimeline[[#This Row],[RANK Sorted]],ProjectTimelineData[],3,0),\"\")","v":""},{"$f":"IFERROR(VLOOKUP(SortedTimeline[[#This Row],[RANK Sorted]],ProjectTimelineData[],4,0),\"\")","v":""},{"$f":"IFERROR(VLOOKUP(SortedTimeline[[#This Row],[RANK Sorted]],ProjectTimelineData[],5,0),\"\")","v":""}]
[{"$nulls":4},{"$f":"IFERROR(RANK(F57,ProjectTimelineData[RANK])+SUMPRODUCT(--(F57=ProjectTimelineData[RANK]),--(J57<ProjectTimelineData[NUM])),\"\")","v":""},{"$f":"IFERROR(RANK(ProjectTimelineData[[#This Row],[DATE]],ProjectTimelineData[DATE],1),\"\")","v":""},{"$f":"IFERROR(IF(ISBLANK(INDEX(ProjectDetails[#Data],Project_last_entry-Project_start_row-ProjectTimelineData[[#This Row],[NUM]]+1,1)),\"\",INDEX(ProjectDetails[#Data],Project_last_entry-Project_start_row-ProjectTimelineData[[#This Row],[NUM]]+1,1)),\"\")","v":""},{"$f":"IFERROR(IF(ISBLANK(INDEX(ProjectDetails[#Data],Project_last_entry-Project_start_row-ProjectTimelineData[[#This Row],[NUM]]+1,2)),\"\",INDEX(ProjectDetails[#Data],Project_last_entry-Project_start_row-ProjectTimelineData[[#This Row],[NUM]]+1,2)),\"\")","v":""},{"$f":"IFERROR(IF(ISBLANK(INDEX(ProjectDetails[#Data],Project_last_entry-Project_start_row-ProjectTimelineData[[#This Row],[NUM]]+1,3)),\"\",INDEX(ProjectDetails[#Data],Project_last_entry-Project_start_row-ProjectTimelineData[[#This Row],[NUM]]+1,3)),\"\")","v":""},{"$f":"IFERROR(IF(ISBLANK(INDEX(ProjectDetails[#Data],ROW(A52)+1,1)),\"\",IF($J56-1<=-1,\"\",$J56-1)),\"\")","v":""},null,null,{"$f":"IFERROR(ProjectTimelineData[[#This Row],[NUM]]+1,\"\")","v":""},{"$f":"IFERROR(VLOOKUP(SortedTimeline[[#This Row],[RANK Sorted]],ProjectTimelineData[],3,0),\"\")","v":""},{"$f":"IFERROR(VLOOKUP(SortedTimeline[[#This Row],[RANK Sorted]],ProjectTimelineData[],4,0),\"\")","v":""},{"$f":"IFERROR(VLOOKUP(SortedTimeline[[#This Row],[RANK Sorted]],ProjectTimelineData[],5,0),\"\")","v":""}]
[{"$nulls":4},{"$f":"IFERROR(RANK(F58,ProjectTimelineData[RANK])+SUMPRODUCT(--(F58=ProjectTimelineData[RANK]),--(J58<ProjectTimelineData[NUM])),\"\")","v":""},{"$f":"IFERROR(RANK(ProjectTimelineData[[#This Row],[DATE]],ProjectTimelineData[DATE],1),\"\")","v":""},{"$f":"IFERROR(IF(ISBLANK(INDEX(ProjectDetails[#Data],Project_last_entry-Project_start_row-ProjectTimelineData[[#This Row],[NUM]]+1,1)),\"\",INDEX(ProjectDetails[#Data],Project_last_entry-Project_start_row-ProjectTimelineData[[#This Row],[NUM]]+1,1)),\"\")","v":""},{"$f":"IFERROR(IF(ISBLANK(INDEX(ProjectDetails[#Data],Project_last_entry-Project_start_row-ProjectTimelineData[[#This Row],[NUM]]+1,2)),\"\",INDEX(ProjectDetails[#Data],Project_last_entry-Project_start_row-ProjectTimelineData[[#This Row],[NUM]]+1,2)),\"\")","v":""},{"$f":"IFERROR(IF(ISBLANK(INDEX(ProjectDetails[#Data],Project_last_entry-Project_start_row-ProjectTimelineData[[#This Row],[NUM]]+1,3)),\"\",INDEX(ProjectDetails[#Data],Project_last_entry-Project_start_row-ProjectTimelineData[[#This Row],[NUM]]+1,3)),\"\")","v":""},{"$f":"IFERROR(IF(ISBLANK(INDEX(ProjectDetails[#Data],ROW(A53)+1,1)),\"\",IF($J57-1<=-1,\"\",$J57-1)),\"\")","v":""},null,null,{"$f":"IFERROR(ProjectTimelineData[[#This Row],[NUM]]+1,\"\")","v":""},{"$f":"IFERROR(VLOOKUP(SortedTimeline[[#This Row],[RANK Sorted]],ProjectTimelineData[],3,0),\"\")","v":""},{"$f":"IFERROR(VLOOKUP(SortedTimeline[[#This Row],[RANK Sorted]],ProjectTimelineData[],4,0),\"\")","v":""},{"$f":"IFERROR(VLOOKUP(SortedTimeline[[#This Row],[RANK Sorted]],ProjectTimelineData[],5,0),\"\")","v":""}]
[{"$nulls":4},{"$f":"IFERROR(RANK(F59,ProjectTimelineData[RANK])+SUMPRODUCT(--(F59=ProjectTimelineData[RANK]),--(J59<ProjectTimelineData[NUM])),\"\")","v":""},{"$f":"IFERROR(RANK(ProjectTimelineData[[#This Row],[DATE]],ProjectTimelineData[DATE],1),\"\")","v":""},{"$f":"IFERROR(IF(ISBLANK(INDEX(ProjectDetails[#Data],Project_last_entry-Project_start_row-ProjectTimelineData[[#This Row],[NUM]]+1,1)),\"\",INDEX(ProjectDetails[#Data],Project_last_entry-Project_start_row-ProjectTimelineData[[#This Row],[NUM]]+1,1)),\"\")","v":""},{"$f":"IFERROR(IF(ISBLANK(INDEX(ProjectDetails[#Data],Project_last_entry-Project_start_row-ProjectTimelineData[[#This Row],[NUM]]+1,2)),\"\",INDEX(ProjectDetails[#Data],Project_last_entry-Project_start_row-ProjectTimelineData[[#This Row],[NUM]]+1,2)),\"\")","v":""},{"$f":"IFERROR(IF(ISBLANK(INDEX(ProjectDetails[#Data],Project_last_entry-Project_start_row-ProjectTimelineData[[#This Row],[NUM]]+1,3)),\"\",INDEX(ProjectDetails[#Data],Project_last_entry-Project_start_row-ProjectTimelineData[[#This Row],[NUM]]+1,3)),\"\")","v":""},{"$f":"IFERROR(IF(ISBLANK(INDEX(ProjectDetails[#Data],ROW(A54)+1,1)),\"\",IF($J58-1<=-1,\"\",$J58-1)),\"\")","v":""},null,null,{"$f":"IFERROR(ProjectTimelineData[[#This Row],[NUM]]+1,\"\")","v":""},{"$f":"IFERROR(VLOOKUP(SortedTimeline[[#This Row],[RANK Sorted]],ProjectTimelineData[],3,0),\"\")","v":""},{"$f":"IFERROR(VLOOKUP(SortedTimeline[[#This Row],[RANK Sorted]],ProjectTimelineData[],4,0),\"\")","v":""},{"$f":"IFERROR(VLOOKUP(SortedTimeline[[#This Row],[RANK Sorted]],ProjectTimelineData[],5,0),\"\")","v":""}]
[{"$nulls":4},{"$f":"IFERROR(RANK(F60,ProjectTimelineData[RANK])+SUMPRODUCT(--(F60=ProjectTimelineData[RANK]),--(J60<ProjectTimelineData[NUM])),\"\")","v":""},{"$f":"IFERROR(RANK(ProjectTimelineData[[#This Row],[DATE]],ProjectTimelineData[DATE],1),\"\")","v":""},{"$f":"IFERROR(IF(ISBLANK(INDEX(ProjectDetails[#Data],Project_last_entry-Project_start_row-ProjectTimelineData[[#This Row],[NUM]]+1,1)),\"\",INDEX(ProjectDetails[#Data],Project_last_entry-Project_start_row-ProjectTimelineData[[#This Row],[NUM]]+1,1)),\"\")","v":""},{"$f":"IFERROR(IF(ISBLANK(INDEX(ProjectDetails[#Data],Project_last_entry-Project_start_row-ProjectTimelineData[[#This Row],[NUM]]+1,2)),\"\",INDEX(ProjectDetails[#Data],Project_last_entry-Project_start_row-ProjectTimelineData[[#This Row],[NUM]]+1,2)),\"\")","v":""},{"$f":"IFERROR(IF(ISBLANK(INDEX(ProjectDetails[#Data],Project_last_entry-Project_start_row-ProjectTimelineData[[#This Row],[NUM]]+1,3)),\"\",INDEX(ProjectDetails[#Data],Project_last_entry-Project_start_row-ProjectTimelineData[[#This Row],[NUM]]+1,3)),\"\")","v":""},{"$f":"IFERROR(IF(ISBLANK(INDEX(ProjectDetails[#Data],ROW(A55)+1,1)),\"\",IF($J59-1<=-1,\"\",$J59-1)),\"\")","v":""},null,null,{"$f":"IFERROR(ProjectTimelineData[[#This Row],[NUM]]+1,\"\")","v":""},{"$f":"IFERROR(VLOOKUP(SortedTimeline[[#This Row],[RANK Sorted]],ProjectTimelineData[],3,0),\"\")","v":""},{"$f":"IFERROR(VLOOKUP(SortedTimeline[[#This Row],[RANK Sorted]],ProjectTimelineData[],4,0),\"\")","v":""},{"$f":"IFERROR(VLOOKUP(SortedTimeline[[#This Row],[RANK Sorted]],ProjectTimelineData[],5,0),\"\")","v":""}]
[{"$nulls":4},{"$f":"IFERROR(RANK(F61,ProjectTimelineData[RANK])+SUMPRODUCT(--(F61=ProjectTimelineData[RANK]),--(J61<ProjectTimelineData[NUM])),\"\")","v":""},{"$f":"IFERROR(RANK(ProjectTimelineData[[#This Row],[DATE]],ProjectTimelineData[DATE],1),\"\")","v":""},{"$f":"IFERROR(IF(ISBLANK(INDEX(ProjectDetails[#Data],Project_last_entry-Project_start_row-ProjectTimelineData[[#This Row],[NUM]]+1,1)),\"\",INDEX(ProjectDetails[#Data],Project_last_entry-Project_start_row-ProjectTimelineData[[#This Row],[NUM]]+1,1)),\"\")","v":""},{"$f":"IFERROR(IF(ISBLANK(INDEX(ProjectDetails[#Data],Project_last_entry-Project_start_row-ProjectTimelineData[[#This Row],[NUM]]+1,2)),\"\",INDEX(ProjectDetails[#Data],Project_last_entry-Project_start_row-ProjectTimelineData[[#This Row],[NUM]]+1,2)),\"\")","v":""},{"$f":"IFERROR(IF(ISBLANK(INDEX(ProjectDetails[#Data],Project_last_entry-Project_start_row-ProjectTimelineData[[#This Row],[NUM]]+1,3)),\"\",INDEX(ProjectDetails[#Data],Project_last_entry-Project_start_row-ProjectTimelineData[[#This Row],[NUM]]+1,3)),\"\")","v":""},{"$f":"IFERROR(IF(ISBLANK(INDEX(ProjectDetails[#Data],ROW(A56)+1,1)),\"\",IF($J60-1<=-1,\"\",$J60-1)),\"\")","v":""},null,null,{"$f":"IFERROR(ProjectTimelineData[[#This Row],[NUM]]+1,\"\")","v":""},{"$f":"IFERROR(VLOOKUP(SortedTimeline[[#This Row],[RANK Sorted]],ProjectTimelineData[],3,0),\"\")","v":""},{"$f":"IFERROR(VLOOKUP(SortedTimeline[[#This Row],[RANK Sorted]],ProjectTimelineData[],4,0),\"\")","v":""},{"$f":"IFERROR(VLOOKUP(SortedTimeline[[#This Row],[RANK Sorted]],ProjectTimelineData[],5,0),\"\")","v":""}]
[{"$nulls":4},{"$f":"IFERROR(RANK(F62,ProjectTimelineData[RANK])+SUMPRODUCT(--(F62=ProjectTimelineData[RANK]),--(J62<ProjectTimelineData[NUM])),\"\")","v":""},{"$f":"IFERROR(RANK(ProjectTimelineData[[#This Row],[DATE]],ProjectTimelineData[DATE],1),\"\")","v":""},{"$f":"IFERROR(IF(ISBLANK(INDEX(ProjectDetails[#Data],Project_last_entry-Project_start_row-ProjectTimelineData[[#This Row],[NUM]]+1,1)),\"\",INDEX(ProjectDetails[#Data],Project_last_entry-Project_start_row-ProjectTimelineData[[#This Row],[NUM]]+1,1)),\"\")","v":""},{"$f":"IFERROR(IF(ISBLANK(INDEX(ProjectDetails[#Data],Project_last_entry-Project_start_row-ProjectTimelineData[[#This Row],[NUM]]+1,2)),\"\",INDEX(ProjectDetails[#Data],Project_last_entry-Project_start_row-ProjectTimelineData[[#This Row],[NUM]]+1,2)),\"\")","v":""},{"$f":"IFERROR(IF(ISBLANK(INDEX(ProjectDetails[#Data],Project_last_entry-Project_start_row-ProjectTimelineData[[#This Row],[NUM]]+1,3)),\"\",INDEX(ProjectDetails[#Data],Project_last_entry-Project_start_row-ProjectTimelineData[[#This Row],[NUM]]+1,3)),\"\")","v":""},{"$f":"IFERROR(IF(ISBLANK(INDEX(ProjectDetails[#Data],ROW(A57)+1,1)),\"\",IF($J61-1<=-1,\"\",$J61-1)),\"\")","v":""},null,null,{"$f":"IFERROR(ProjectTimelineData[[#This Row],[NUM]]+1,\"\")","v":""},{"$f":"IFERROR(VLOOKUP(SortedTimeline[[#This Row],[RANK Sorted]],ProjectTimelineData[],3,0),\"\")","v":""},{"$f":"IFERROR(VLOOKUP(SortedTimeline[[#This Row],[RANK Sorted]],ProjectTimelineData[],4,0),\"\")","v":""},{"$f":"IFERROR(VLOOKUP(SortedTimeline[[#This Row],[RANK Sorted]],ProjectTimelineData[],5,0),\"\")","v":""}]
[{"$nulls":4},{"$f":"IFERROR(RANK(F63,ProjectTimelineData[RANK])+SUMPRODUCT(--(F63=ProjectTimelineData[RANK]),--(J63<ProjectTimelineData[NUM])),\"\")","v":""},{"$f":"IFERROR(RANK(ProjectTimelineData[[#This Row],[DATE]],ProjectTimelineData[DATE],1),\"\")","v":""},{"$f":"IFERROR(IF(ISBLANK(INDEX(ProjectDetails[#Data],Project_last_entry-Project_start_row-ProjectTimelineData[[#This Row],[NUM]]+1,1)),\"\",INDEX(ProjectDetails[#Data],Project_last_entry-Project_start_row-ProjectTimelineData[[#This Row],[NUM]]+1,1)),\"\")","v":""},{"$f":"IFERROR(IF(ISBLANK(INDEX(ProjectDetails[#Data],Project_last_entry-Project_start_row-ProjectTimelineData[[#This Row],[NUM]]+1,2)),\"\",INDEX(ProjectDetails[#Data],Project_last_entry-Project_start_row-ProjectTimelineData[[#This Row],[NUM]]+1,2)),\"\")","v":""},{"$f":"IFERROR(IF(ISBLANK(INDEX(ProjectDetails[#Data],Project_last_entry-Project_start_row-ProjectTimelineData[[#This Row],[NUM]]+1,3)),\"\",INDEX(ProjectDetails[#Data],Project_last_entry-Project_start_row-ProjectTimelineData[[#This Row],[NUM]]+1,3)),\"\")","v":""},{"$f":"IFERROR(IF(ISBLANK(INDEX(ProjectDetails[#Data],ROW(A58)+1,1)),\"\",IF($J62-1<=-1,\"\",$J62-1)),\"\")","v":""},null,null,{"$f":"IFERROR(ProjectTimelineData[[#This Row],[NUM]]+1,\"\")","v":""},{"$f":"IFERROR(VLOOKUP(SortedTimeline[[#This Row],[RANK Sorted]],ProjectTimelineData[],3,0),\"\")","v":""},{"$f":"IFERROR(VLOOKUP(SortedTimeline[[#This Row],[RANK Sorted]],ProjectTimelineData[],4,0),\"\")","v":""},{"$f":"IFERROR(VLOOKUP(SortedTimeline[[#This Row],[RANK Sorted]],ProjectTimelineData[],5,0),\"\")","v":""}]
[{"$nulls":4},{"$f":"IFERROR(RANK(F64,ProjectTimelineData[RANK])+SUMPRODUCT(--(F64=ProjectTimelineData[RANK]),--(J64<ProjectTimelineData[NUM])),\"\")","v":""},{"$f":"IFERROR(RANK(ProjectTimelineData[[#This Row],[DATE]],ProjectTimelineData[DATE],1),\"\")","v":""},{"$f":"IFERROR(IF(ISBLANK(INDEX(ProjectDetails[#Data],Project_last_entry-Project_start_row-ProjectTimelineData[[#This Row],[NUM]]+1,1)),\"\",INDEX(ProjectDetails[#Data],Project_last_entry-Project_start_row-ProjectTimelineData[[#This Row],[NUM]]+1,1)),\"\")","v":""},{"$f":"IFERROR(IF(ISBLANK(INDEX(ProjectDetails[#Data],Project_last_entry-Project_start_row-ProjectTimelineData[[#This Row],[NUM]]+1,2)),\"\",INDEX(ProjectDetails[#Data],Project_last_entry-Project_start_row-ProjectTimelineData[[#This Row],[NUM]]+1,2)),\"\")","v":""},{"$f":"IFERROR(IF(ISBLANK(INDEX(ProjectDetails[#Data],Project_last_entry-Project_start_row-ProjectTimelineData[[#This Row],[NUM]]+1,3)),\"\",INDEX(ProjectDetails[#Data],Project_last_entry-Project_start_row-ProjectTimelineData[[#This Row],[NUM]]+1,3)),\"\")","v":""},{"$f":"IFERROR(IF(ISBLANK(INDEX(ProjectDetails[#Data],ROW(A59)+1,1)),\"\",IF($J63-1<=-1,\"\",$J63-1)),\"\")","v":""},null,null,{"$f":"IFERROR(ProjectTimelineData[[#This Row],[NUM]]+1,\"\")","v":""},{"$f":"IFERROR(VLOOKUP(SortedTimeline[[#This Row],[RANK Sorted]],ProjectTimelineData[],3,0),\"\")","v":""},{"$f":"IFERROR(VLOOKUP(SortedTimeline[[#This Row],[RANK Sorted]],ProjectTimelineData[],4,0),\"\")","v":""},{"$f":"IFERROR(VLOOKUP(SortedTimeline[[#This Row],[RANK Sorted]],ProjectTimelineData[],5,0),\"\")","v":""}]
[{"$nulls":4},{"$f":"IFERROR(RANK(F65,ProjectTimelineData[RANK])+SUMPRODUCT(--(F65=ProjectTimelineData[RANK]),--(J65<ProjectTimelineData[NUM])),\"\")","v":""},{"$f":"IFERROR(RANK(ProjectTimelineData[[#This Row],[DATE]],ProjectTimelineData[DATE],1),\"\")","v":""},{"$f":"IFERROR(IF(ISBLANK(INDEX(ProjectDetails[#Data],Project_last_entry-Project_start_row-ProjectTimelineData[[#This Row],[NUM]]+1,1)),\"\",INDEX(ProjectDetails[#Data],Project_last_entry-Project_start_row-ProjectTimelineData[[#This Row],[NUM]]+1,1)),\"\")","v":""},{"$f":"IFERROR(IF(ISBLANK(INDEX(ProjectDetails[#Data],Project_last_entry-Project_start_row-ProjectTimelineData[[#This Row],[NUM]]+1,2)),\"\",INDEX(ProjectDetails[#Data],Project_last_entry-Project_start_row-ProjectTimelineData[[#This Row],[NUM]]+1,2)),\"\")","v":""},{"$f":"IFERROR(IF(ISBLANK(INDEX(ProjectDetails[#Data],Project_last_entry-Project_start_row-ProjectTimelineData[[#This Row],[NUM]]+1,3)),\"\",INDEX(ProjectDetails[#Data],Project_last_entry-Project_start_row-ProjectTimelineData[[#This Row],[NUM]]+1,3)),\"\")","v":""},{"$f":"IFERROR(IF(ISBLANK(INDEX(ProjectDetails[#Data],ROW(A60)+1,1)),\"\",IF($J64-1<=-1,\"\",$J64-1)),\"\")","v":""},null,null,{"$f":"IFERROR(ProjectTimelineData[[#This Row],[NUM]]+1,\"\")","v":""},{"$f":"IFERROR(VLOOKUP(SortedTimeline[[#This Row],[RANK Sorted]],ProjectTimelineData[],3,0),\"\")","v":""},{"$f":"IFERROR(VLOOKUP(SortedTimeline[[#This Row],[RANK Sorted]],ProjectTimelineData[],4,0),\"\")","v":""},{"$f":"IFERROR(VLOOKUP(SortedTimeline[[#This Row],[RANK Sorted]],ProjectTimelineData[],5,0),\"\")","v":""}]
[{"$nulls":4},{"$f":"IFERROR(RANK(F66,ProjectTimelineData[RANK])+SUMPRODUCT(--(F66=ProjectTimelineData[RANK]),--(J66<ProjectTimelineData[NUM])),\"\")","v":""},{"$f":"IFERROR(RANK(ProjectTimelineData[[#This Row],[DATE]],ProjectTimelineData[DATE],1),\"\")","v":""},{"$f":"IFERROR(IF(ISBLANK(INDEX(ProjectDetails[#Data],Project_last_entry-Project_start_row-ProjectTimelineData[[#This Row],[NUM]]+1,1)),\"\",INDEX(ProjectDetails[#Data],Project_last_entry-Project_start_row-ProjectTimelineData[[#This Row],[NUM]]+1,1)),\"\")","v":""},{"$f":"IFERROR(IF(ISBLANK(INDEX(ProjectDetails[#Data],Project_last_entry-Project_start_row-ProjectTimelineData[[#This Row],[NUM]]+1,2)),\"\",INDEX(ProjectDetails[#Data],Project_last_entry-Project_start_row-ProjectTimelineData[[#This Row],[NUM]]+1,2)),\"\")","v":""},{"$f":"IFERROR(IF(ISBLANK(INDEX(ProjectDetails[#Data],Project_last_entry-Project_start_row-ProjectTimelineData[[#This Row],[NUM]]+1,3)),\"\",INDEX(ProjectDetails[#Data],Project_last_entry-Project_start_row-ProjectTimelineData[[#This Row],[NUM]]+1,3)),\"\")","v":""},{"$f":"IFERROR(IF(ISBLANK(INDEX(ProjectDetails[#Data],ROW(A61)+1,1)),\"\",IF($J65-1<=-1,\"\",$J65-1)),\"\")","v":""},null,null,{"$f":"IFERROR(ProjectTimelineData[[#This Row],[NUM]]+1,\"\")","v":""},{"$f":"IFERROR(VLOOKUP(SortedTimeline[[#This Row],[RANK Sorted]],ProjectTimelineData[],3,0),\"\")","v":""},{"$f":"IFERROR(VLOOKUP(SortedTimeline[[#This Row],[RANK Sorted]],ProjectTimelineData[],4,0),\"\")","v":""},{"$f":"IFERROR(VLOOKUP(SortedTimeline[[#This Row],[RANK Sorted]],ProjectTimelineData[],5,0),\"\")","v":""}]
[{"$nulls":4},{"$f":"IFERROR(RANK(F67,ProjectTimelineData[RANK])+SUMPRODUCT(--(F67=ProjectTimelineData[RANK]),--(J67<ProjectTimelineData[NUM])),\"\")","v":""},{"$f":"IFERROR(RANK(ProjectTimelineData[[#This Row],[DATE]],ProjectTimelineData[DATE],1),\"\")","v":""},{"$f":"IFERROR(IF(ISBLANK(INDEX(ProjectDetails[#Data],Project_last_entry-Project_start_row-ProjectTimelineData[[#This Row],[NUM]]+1,1)),\"\",INDEX(ProjectDetails[#Data],Project_last_entry-Project_start_row-ProjectTimelineData[[#This Row],[NUM]]+1,1)),\"\")","v":""},{"$f":"IFERROR(IF(ISBLANK(INDEX(ProjectDetails[#Data],Project_last_entry-Project_start_row-ProjectTimelineData[[#This Row],[NUM]]+1,2)),\"\",INDEX(ProjectDetails[#Data],Project_last_entry-Project_start_row-ProjectTimelineData[[#This Row],[NUM]]+1,2)),\"\")","v":""},{"$f":"IFERROR(IF(ISBLANK(INDEX(ProjectDetails[#Data],Project_last_entry-Project_start_row-ProjectTimelineData[[#This Row],[NUM]]+1,3)),\"\",INDEX(ProjectDetails[#Data],Project_last_entry-Project_start_row-ProjectTimelineData[[#This Row],[NUM]]+1,3)),\"\")","v":""},{"$f":"IFERROR(IF(ISBLANK(INDEX(ProjectDetails[#Data],ROW(A62)+1,1)),\"\",IF($J66-1<=-1,\"\",$J66-1)),\"\")","v":""},null,null,{"$f":"IFERROR(ProjectTimelineData[[#This Row],[NUM]]+1,\"\")","v":""},{"$f":"IFERROR(VLOOKUP(SortedTimeline[[#This Row],[RANK Sorted]],ProjectTimelineData[],3,0),\"\")","v":""},{"$f":"IFERROR(VLOOKUP(SortedTimeline[[#This Row],[RANK Sorted]],ProjectTimelineData[],4,0),\"\")","v":""},{"$f":"IFERROR(VLOOKUP(SortedTimeline[[#This Row],[RANK Sorted]],ProjectTimelineData[],5,0),\"\")","v":""}]
[{"$nulls":4},{"$f":"IFERROR(RANK(F68,ProjectTimelineData[RANK])+SUMPRODUCT(--(F68=ProjectTimelineData[RANK]),--(J68<ProjectTimelineData[NUM])),\"\")","v":""},{"$f":"IFERROR(RANK(ProjectTimelineData[[#This Row],[DATE]],ProjectTimelineData[DATE],1),\"\")","v":""},{"$f":"IFERROR(IF(ISBLANK(INDEX(ProjectDetails[#Data],Project_last_entry-Project_start_row-ProjectTimelineData[[#This Row],[NUM]]+1,1)),\"\",INDEX(ProjectDetails[#Data],Project_last_entry-Project_start_row-ProjectTimelineData[[#This Row],[NUM]]+1,1)),\"\")","v":""},{"$f":"IFERROR(IF(ISBLANK(INDEX(ProjectDetails[#Data],Project_last_entry-Project_start_row-ProjectTimelineData[[#This Row],[NUM]]+1,2)),\"\",INDEX(ProjectDetails[#Data],Project_last_entry-Project_start_row-ProjectTimelineData[[#This Row],[NUM]]+1,2)),\"\")","v":""},{"$f":"IFERROR(IF(ISBLANK(INDEX(ProjectDetails[#Data],Project_last_entry-Project_start_row-ProjectTimelineData[[#This Row],[NUM]]+1,3)),\"\",INDEX(ProjectDetails[#Data],Project_last_entry-Project_start_row-ProjectTimelineData[[#This Row],[NUM]]+1,3)),\"\")","v":""},{"$f":"IFERROR(IF(ISBLANK(INDEX(ProjectDetails[#Data],ROW(A63)+1,1)),\"\",IF($J67-1<=-1,\"\",$J67-1)),\"\")","v":""},null,null,{"$f":"IFERROR(ProjectTimelineData[[#This Row],[NUM]]+1,\"\")","v":""},{"$f":"IFERROR(VLOOKUP(SortedTimeline[[#This Row],[RANK Sorted]],ProjectTimelineData[],3,0),\"\")","v":""},{"$f":"IFERROR(VLOOKUP(SortedTimeline[[#This Row],[RANK Sorted]],ProjectTimelineData[],4,0),\"\")","v":""},{"$f":"IFERROR(VLOOKUP(SortedTimeline[[#This Row],[RANK Sorted]],ProjectTimelineData[],5,0),\"\")","v":""}]
[{"$nulls":4},{"$f":"IFERROR(RANK(F69,ProjectTimelineData[RANK])+SUMPRODUCT(--(F69=ProjectTimelineData[RANK]),--(J69<ProjectTimelineData[NUM])),\"\")","v":""},{"$f":"IFERROR(RANK(ProjectTimelineData[[#This Row],[DATE]],ProjectTimelineData[DATE],1),\"\")","v":""},{"$f":"IFERROR(IF(ISBLANK(INDEX(ProjectDetails[#Data],Project_last_entry-Project_start_row-ProjectTimelineData[[#This Row],[NUM]]+1,1)),\"\",INDEX(ProjectDetails[#Data],Project_last_entry-Project_start_row-ProjectTimelineData[[#This Row],[NUM]]+1,1)),\"\")","v":""},{"$f":"IFERROR(IF(ISBLANK(INDEX(ProjectDetails[#Data],Project_last_entry-Project_start_row-ProjectTimelineData[[#This Row],[NUM]]+1,2)),\"\",INDEX(ProjectDetails[#Data],Project_last_entry-Project_start_row-ProjectTimelineData[[#This Row],[NUM]]+1,2)),\"\")","v":""},{"$f":"IFERROR(IF(ISBLANK(INDEX(ProjectDetails[#Data],Project_last_entry-Project_start_row-ProjectTimelineData[[#This Row],[NUM]]+1,3)),\"\",INDEX(ProjectDetails[#Data],Project_last_entry-Project_start_row-ProjectTimelineData[[#This Row],[NUM]]+1,3)),\"\")","v":""},{"$f":"IFERROR(IF(ISBLANK(INDEX(ProjectDetails[#Data],ROW(A64)+1,1)),\"\",IF($J68-1<=-1,\"\",$J68-1)),\"\")","v":""},null,null,{"$f":"IFERROR(ProjectTimelineData[[#This Row],[NUM]]+1,\"\")","v":""},{"$f":"IFERROR(VLOOKUP(SortedTimeline[[#This Row],[RANK Sorted]],ProjectTimelineData[],3,0),\"\")","v":""},{"$f":"IFERROR(VLOOKUP(SortedTimeline[[#This Row],[RANK Sorted]],ProjectTimelineData[],4,0),\"\")","v":""},{"$f":"IFERROR(VLOOKUP(SortedTimeline[[#This Row],[RANK Sorted]],ProjectTimelineData[],5,0),\"\")","v":""}]
[{"$nulls":4},{"$f":"IFERROR(RANK(F70,ProjectTimelineData[RANK])+SUMPRODUCT(--(F70=ProjectTimelineData[RANK]),--(J70<ProjectTimelineData[NUM])),\"\")","v":""},{"$f":"IFERROR(RANK(ProjectTimelineData[[#This Row],[DATE]],ProjectTimelineData[DATE],1),\"\")","v":""},{"$f":"IFERROR(IF(ISBLANK(INDEX(ProjectDetails[#Data],Project_last_entry-Project_start_row-ProjectTimelineData[[#This Row],[NUM]]+1,1)),\"\",INDEX(ProjectDetails[#Data],Project_last_entry-Project_start_row-ProjectTimelineData[[#This Row],[NUM]]+1,1)),\"\")","v":""},{"$f":"IFERROR(IF(ISBLANK(INDEX(ProjectDetails[#Data],Project_last_entry-Project_start_row-ProjectTimelineData[[#This Row],[NUM]]+1,2)),\"\",INDEX(ProjectDetails[#Data],Project_last_entry-Project_start_row-ProjectTimelineData[[#This Row],[NUM]]+1,2)),\"\")","v":""},{"$f":"IFERROR(IF(ISBLANK(INDEX(ProjectDetails[#Data],Project_last_entry-Project_start_row-ProjectTimelineData[[#This Row],[NUM]]+1,3)),\"\",INDEX(ProjectDetails[#Data],Project_last_entry-Project_start_row-ProjectTimelineData[[#This Row],[NUM]]+1,3)),\"\")","v":""},{"$f":"IFERROR(IF(ISBLANK(INDEX(ProjectDetails[#Data],ROW(A65)+1,1)),\"\",IF($J69-1<=-1,\"\",$J69-1)),\"\")","v":""},null,null,{"$f":"IFERROR(ProjectTimelineData[[#This Row],[NUM]]+1,\"\")","v":""},{"$f":"IFERROR(VLOOKUP(SortedTimeline[[#This Row],[RANK Sorted]],ProjectTimelineData[],3,0),\"\")","v":""},{"$f":"IFERROR(VLOOKUP(SortedTimeline[[#This Row],[RANK Sorted]],ProjectTimelineData[],4,0),\"\")","v":""},{"$f":"IFERROR(VLOOKUP(SortedTimeline[[#This Row],[RANK Sorted]],ProjectTimelineData[],5,0),\"\")","v":""}]
[{"$nulls":4},{"$f":"IFERROR(RANK(F71,ProjectTimelineData[RANK])+SUMPRODUCT(--(F71=ProjectTimelineData[RANK]),--(J71<ProjectTimelineData[NUM])),\"\")","v":""},{"$f":"IFERROR(RANK(ProjectTimelineData[[#This Row],[DATE]],ProjectTimelineData[DATE],1),\"\")","v":""},{"$f":"IFERROR(IF(ISBLANK(INDEX(ProjectDetails[#Data],Project_last_entry-Project_start_row-ProjectTimelineData[[#This Row],[NUM]]+1,1)),\"\",INDEX(ProjectDetails[#Data],Project_last_entry-Project_start_row-ProjectTimelineData[[#This Row],[NUM]]+1,1)),\"\")","v":""},{"$f":"IFERROR(IF(ISBLANK(INDEX(ProjectDetails[#Data],Project_last_entry-Project_start_row-ProjectTimelineData[[#This Row],[NUM]]+1,2)),\"\",INDEX(ProjectDetails[#Data],Project_last_entry-Project_start_row-ProjectTimelineData[[#This Row],[NUM]]+1,2)),\"\")","v":""},{"$f":"IFERROR(IF(ISBLANK(INDEX(ProjectDetails[#Data],Project_last_entry-Project_start_row-ProjectTimelineData[[#This Row],[NUM]]+1,3)),\"\",INDEX(ProjectDetails[#Data],Project_last_entry-Project_start_row-ProjectTimelineData[[#This Row],[NUM]]+1,3)),\"\")","v":""},{"$f":"IFERROR(IF(ISBLANK(INDEX(ProjectDetails[#Data],ROW(A66)+1,1)),\"\",IF($J70-1<=-1,\"\",$J70-1)),\"\")","v":""},null,null,{"$f":"IFERROR(ProjectTimelineData[[#This Row],[NUM]]+1,\"\")","v":""},{"$f":"IFERROR(VLOOKUP(SortedTimeline[[#This Row],[RANK Sorted]],ProjectTimelineData[],3,0),\"\")","v":""},{"$f":"IFERROR(VLOOKUP(SortedTimeline[[#This Row],[RANK Sorted]],ProjectTimelineData[],4,0),\"\")","v":""},{"$f":"IFERROR(VLOOKUP(SortedTimeline[[#This Row],[RANK Sorted]],ProjectTimelineData[],5,0),\"\")","v":""}]
[{"$nulls":4},{"$f":"IFERROR(RANK(F72,ProjectTimelineData[RANK])+SUMPRODUCT(--(F72=ProjectTimelineData[RANK]),--(J72<ProjectTimelineData[NUM])),\"\")","v":""},{"$f":"IFERROR(RANK(ProjectTimelineData[[#This Row],[DATE]],ProjectTimelineData[DATE],1),\"\")","v":""},{"$f":"IFERROR(IF(ISBLANK(INDEX(ProjectDetails[#Data],Project_last_entry-Project_start_row-ProjectTimelineData[[#This Row],[NUM]]+1,1)),\"\",INDEX(ProjectDetails[#Data],Project_last_entry-Project_start_row-ProjectTimelineData[[#This Row],[NUM]]+1,1)),\"\")","v":""},{"$f":"IFERROR(IF(ISBLANK(INDEX(ProjectDetails[#Data],Project_last_entry-Project_start_row-ProjectTimelineData[[#This Row],[NUM]]+1,2)),\"\",INDEX(ProjectDetails[#Data],Project_last_entry-Project_start_row-ProjectTimelineData[[#This Row],[NUM]]+1,2)),\"\")","v":""},{"$f":"IFERROR(IF(ISBLANK(INDEX(ProjectDetails[#Data],Project_last_entry-Project_start_row-ProjectTimelineData[[#This Row],[NUM]]+1,3)),\"\",INDEX(ProjectDetails[#Data],Project_last_entry-Project_start_row-ProjectTimelineData[[#This Row],[NUM]]+1,3)),\"\")","v":""},{"$f":"IFERROR(IF(ISBLANK(INDEX(ProjectDetails[#Data],ROW(A67)+1,1)),\"\",IF($J71-1<=-1,\"\",$J71-1)),\"\")","v":""},null,null,{"$f":"IFERROR(ProjectTimelineData[[#This Row],[NUM]]+1,\"\")","v":""},{"$f":"IFERROR(VLOOKUP(SortedTimeline[[#This Row],[RANK Sorted]],ProjectTimelineData[],3,0),\"\")","v":""},{"$f":"IFERROR(VLOOKUP(SortedTimeline[[#This Row],[RANK Sorted]],ProjectTimelineData[],4,0),\"\")","v":""},{"$f":"IFERROR(VLOOKUP(SortedTimeline[[#This Row],[RANK Sorted]],ProjectTimelineData[],5,0),\"\")","v":""}]
[{"$nulls":4},{"$f":"IFERROR(RANK(F73,ProjectTimelineData[RANK])+SUMPRODUCT(--(F73=ProjectTimelineData[RANK]),--(J73<ProjectTimelineData[NUM])),\"\")","v":""},{"$f":"IFERROR(RANK(ProjectTimelineData[[#This Row],[DATE]],ProjectTimelineData[DATE],1),\"\")","v":""},{"$f":"IFERROR(IF(ISBLANK(INDEX(ProjectDetails[#Data],Project_last_entry-Project_start_row-ProjectTimelineData[[#This Row],[NUM]]+1,1)),\"\",INDEX(ProjectDetails[#Data],Project_last_entry-Project_start_row-ProjectTimelineData[[#This Row],[NUM]]+1,1)),\"\")","v":""},{"$f":"IFERROR(IF(ISBLANK(INDEX(ProjectDetails[#Data],Project_last_entry-Project_start_row-ProjectTimelineData[[#This Row],[NUM]]+1,2)),\"\",INDEX(ProjectDetails[#Data],Project_last_entry-Project_start_row-ProjectTimelineData[[#This Row],[NUM]]+1,2)),\"\")","v":""},{"$f":"IFERROR(IF(ISBLANK(INDEX(ProjectDetails[#Data],Project_last_entry-Project_start_row-ProjectTimelineData[[#This Row],[NUM]]+1,3)),\"\",INDEX(ProjectDetails[#Data],Project_last_entry-Project_start_row-ProjectTimelineData[[#This Row],[NUM]]+1,3)),\"\")","v":""},{"$f":"IFERROR(IF(ISBLANK(INDEX(ProjectDetails[#Data],ROW(A68)+1,1)),\"\",IF($J72-1<=-1,\"\",$J72-1)),\"\")","v":""},null,null,{"$f":"IFERROR(ProjectTimelineData[[#This Row],[NUM]]+1,\"\")","v":""},{"$f":"IFERROR(VLOOKUP(SortedTimeline[[#This Row],[RANK Sorted]],ProjectTimelineData[],3,0),\"\")","v":""},{"$f":"IFERROR(VLOOKUP(SortedTimeline[[#This Row],[RANK Sorted]],ProjectTimelineData[],4,0),\"\")","v":""},{"$f":"IFERROR(VLOOKUP(SortedTimeline[[#This Row],[RANK Sorted]],ProjectTimelineData[],5,0),\"\")","v":""}]
[{"$nulls":4},{"$f":"IFERROR(RANK(F74,ProjectTimelineData[RANK])+SUMPRODUCT(--(F74=ProjectTimelineData[RANK]),--(J74<ProjectTimelineData[NUM])),\"\")","v":""},{"$f":"IFERROR(RANK(ProjectTimelineData[[#This Row],[DATE]],ProjectTimelineData[DATE],1),\"\")","v":""},{"$f":"IFERROR(IF(ISBLANK(INDEX(ProjectDetails[#Data],Project_last_entry-Project_start_row-ProjectTimelineData[[#This Row],[NUM]]+1,1)),\"\",INDEX(ProjectDetails[#Data],Project_last_entry-Project_start_row-ProjectTimelineData[[#This Row],[NUM]]+1,1)),\"\")","v":""},{"$f":"IFERROR(IF(ISBLANK(INDEX(ProjectDetails[#Data],Project_last_entry-Project_start_row-ProjectTimelineData[[#This Row],[NUM]]+1,2)),\"\",INDEX(ProjectDetails[#Data],Project_last_entry-Project_start_row-ProjectTimelineData[[#This Row],[NUM]]+1,2)),\"\")","v":""},{"$f":"IFERROR(IF(ISBLANK(INDEX(ProjectDetails[#Data],Project_last_entry-Project_start_row-ProjectTimelineData[[#This Row],[NUM]]+1,3)),\"\",INDEX(ProjectDetails[#Data],Project_last_entry-Project_start_row-ProjectTimelineData[[#This Row],[NUM]]+1,3)),\"\")","v":""},{"$f":"IFERROR(IF(ISBLANK(INDEX(ProjectDetails[#Data],ROW(A69)+1,1)),\"\",IF($J73-1<=-1,\"\",$J73-1)),\"\")","v":""},null,null,{"$f":"IFERROR(ProjectTimelineData[[#This Row],[NUM]]+1,\"\")","v":""},{"$f":"IFERROR(VLOOKUP(SortedTimeline[[#This Row],[RANK Sorted]],ProjectTimelineData[],3,0),\"\")","v":""},{"$f":"IFERROR(VLOOKUP(SortedTimeline[[#This Row],[RANK Sorted]],ProjectTimelineData[],4,0),\"\")","v":""},{"$f":"IFERROR(VLOOKUP(SortedTimeline[[#This Row],[RANK Sorted]],ProjectTimelineData[],5,0),\"\")","v":""}]
[{"$nulls":4},{"$f":"IFERROR(RANK(F75,ProjectTimelineData[RANK])+SUMPRODUCT(--(F75=ProjectTimelineData[RANK]),--(J75<ProjectTimelineData[NUM])),\"\")","v":""},{"$f":"IFERROR(RANK(ProjectTimelineData[[#This Row],[DATE]],ProjectTimelineData[DATE],1),\"\")","v":""},{"$f":"IFERROR(IF(ISBLANK(INDEX(ProjectDetails[#Data],Project_last_entry-Project_start_row-ProjectTimelineData[[#This Row],[NUM]]+1,1)),\"\",INDEX(ProjectDetails[#Data],Project_last_entry-Project_start_row-ProjectTimelineData[[#This Row],[NUM]]+1,1)),\"\")","v":""},{"$f":"IFERROR(IF(ISBLANK(INDEX(ProjectDetails[#Data],Project_last_entry-Project_start_row-ProjectTimelineData[[#This Row],[NUM]]+1,2)),\"\",INDEX(ProjectDetails[#Data],Project_last_entry-Project_start_row-ProjectTimelineData[[#This Row],[NUM]]+1,2)),\"\")","v":""},{"$f":"IFERROR(IF(ISBLANK(INDEX(ProjectDetails[#Data],Project_last_entry-Project_start_row-ProjectTimelineData[[#This Row],[NUM]]+1,3)),\"\",INDEX(ProjectDetails[#Data],Project_last_entry-Project_start_row-ProjectTimelineData[[#This Row],[NUM]]+1,3)),\"\")","v":""},{"$f":"IFERROR(IF(ISBLANK(INDEX(ProjectDetails[#Data],ROW(A70)+1,1)),\"\",IF($J74-1<=-1,\"\",$J74-1)),\"\")","v":""},null,null,{"$f":"IFERROR(ProjectTimelineData[[#This Row],[NUM]]+1,\"\")","v":""},{"$f":"IFERROR(VLOOKUP(SortedTimeline[[#This Row],[RANK Sorted]],ProjectTimelineData[],3,0),\"\")","v":""},{"$f":"IFERROR(VLOOKUP(SortedTimeline[[#This Row],[RANK Sorted]],ProjectTimelineData[],4,0),\"\")","v":""},{"$f":"IFERROR(VLOOKUP(SortedTimeline[[#This Row],[RANK Sorted]],ProjectTimelineData[],5,0),\"\")","v":""}]
[{"$nulls":4},{"$f":"IFERROR(RANK(F76,ProjectTimelineData[RANK])+SUMPRODUCT(--(F76=ProjectTimelineData[RANK]),--(J76<ProjectTimelineData[NUM])),\"\")","v":""},{"$f":"IFERROR(RANK(ProjectTimelineData[[#This Row],[DATE]],ProjectTimelineData[DATE],1),\"\")","v":""},{"$f":"IFERROR(IF(ISBLANK(INDEX(ProjectDetails[#Data],Project_last_entry-Project_start_row-ProjectTimelineData[[#This Row],[NUM]]+1,1)),\"\",INDEX(ProjectDetails[#Data],Project_last_entry-Project_start_row-ProjectTimelineData[[#This Row],[NUM]]+1,1)),\"\")","v":""},{"$f":"IFERROR(IF(ISBLANK(INDEX(ProjectDetails[#Data],Project_last_entry-Project_start_row-ProjectTimelineData[[#This Row],[NUM]]+1,2)),\"\",INDEX(ProjectDetails[#Data],Project_last_entry-Project_start_row-ProjectTimelineData[[#This Row],[NUM]]+1,2)),\"\")","v":""},{"$f":"IFERROR(IF(ISBLANK(INDEX(ProjectDetails[#Data],Project_last_entry-Project_start_row-ProjectTimelineData[[#This Row],[NUM]]+1,3)),\"\",INDEX(ProjectDetails[#Data],Project_last_entry-Project_start_row-ProjectTimelineData[[#This Row],[NUM]]+1,3)),\"\")","v":""},{"$f":"IFERROR(IF(ISBLANK(INDEX(ProjectDetails[#Data],ROW(A71)+1,1)),\"\",IF($J75-1<=-1,\"\",$J75-1)),\"\")","v":""},null,null,{"$f":"IFERROR(ProjectTimelineData[[#This Row],[NUM]]+1,\"\")","v":""},{"$f":"IFERROR(VLOOKUP(SortedTimeline[[#This Row],[RANK Sorted]],ProjectTimelineData[],3,0),\"\")","v":""},{"$f":"IFERROR(VLOOKUP(SortedTimeline[[#This Row],[RANK Sorted]],ProjectTimelineData[],4,0),\"\")","v":""},{"$f":"IFERROR(VLOOKUP(SortedTimeline[[#This Row],[RANK Sorted]],ProjectTimelineData[],5,0),\"\")","v":""}]
[{"$nulls":4},{"$f":"IFERROR(RANK(F77,ProjectTimelineData[RANK])+SUMPRODUCT(--(F77=ProjectTimelineData[RANK]),--(J77<ProjectTimelineData[NUM])),\"\")","v":""},{"$f":"IFERROR(RANK(ProjectTimelineData[[#This Row],[DATE]],ProjectTimelineData[DATE],1),\"\")","v":""},{"$f":"IFERROR(IF(ISBLANK(INDEX(ProjectDetails[#Data],Project_last_entry-Project_start_row-ProjectTimelineData[[#This Row],[NUM]]+1,1)),\"\",INDEX(ProjectDetails[#Data],Project_last_entry-Project_start_row-ProjectTimelineData[[#This Row],[NUM]]+1,1)),\"\")","v":""},{"$f":"IFERROR(IF(ISBLANK(INDEX(ProjectDetails[#Data],Project_last_entry-Project_start_row-ProjectTimelineData[[#This Row],[NUM]]+1,2)),\"\",INDEX(ProjectDetails[#Data],Project_last_entry-Project_start_row-ProjectTimelineData[[#This Row],[NUM]]+1,2)),\"\")","v":""},{"$f":"IFERROR(IF(ISBLANK(INDEX(ProjectDetails[#Data],Project_last_entry-Project_start_row-ProjectTimelineData[[#This Row],[NUM]]+1,3)),\"\",INDEX(ProjectDetails[#Data],Project_last_entry-Project_start_row-ProjectTimelineData[[#This Row],[NUM]]+1,3)),\"\")","v":""},{"$f":"IFERROR(IF(ISBLANK(INDEX(ProjectDetails[#Data],ROW(A72)+1,1)),\"\",IF($J76-1<=-1,\"\",$J76-1)),\"\")","v":""},null,null,{"$f":"IFERROR(ProjectTimelineData[[#This Row],[NUM]]+1,\"\")","v":""},{"$f":"IFERROR(VLOOKUP(SortedTimeline[[#This Row],[RANK Sorted]],ProjectTimelineData[],3,0),\"\")","v":""},{"$f":"IFERROR(VLOOKUP(SortedTimeline[[#This Row],[RANK Sorted]],ProjectTimelineData[],4,0),\"\")","v":""},{"$f":"IFERROR(VLOOKUP(SortedTimeline[[#This Row],[RANK Sorted]],ProjectTimelineData[],5,0),\"\")","v":""}]
[{"$nulls":4},{"$f":"IFERROR(RANK(F78,ProjectTimelineData[RANK])+SUMPRODUCT(--(F78=ProjectTimelineData[RANK]),--(J78<ProjectTimelineData[NUM])),\"\")","v":""},{"$f":"IFERROR(RANK(ProjectTimelineData[[#This Row],[DATE]],ProjectTimelineData[DATE],1),\"\")","v":""},{"$f":"IFERROR(IF(ISBLANK(INDEX(ProjectDetails[#Data],Project_last_entry-Project_start_row-ProjectTimelineData[[#This Row],[NUM]]+1,1)),\"\",INDEX(ProjectDetails[#Data],Project_last_entry-Project_start_row-ProjectTimelineData[[#This Row],[NUM]]+1,1)),\"\")","v":""},{"$f":"IFERROR(IF(ISBLANK(INDEX(ProjectDetails[#Data],Project_last_entry-Project_start_row-ProjectTimelineData[[#This Row],[NUM]]+1,2)),\"\",INDEX(ProjectDetails[#Data],Project_last_entry-Project_start_row-ProjectTimelineData[[#This Row],[NUM]]+1,2)),\"\")","v":""},{"$f":"IFERROR(IF(ISBLANK(INDEX(ProjectDetails[#Data],Project_last_entry-Project_start_row-ProjectTimelineData[[#This Row],[NUM]]+1,3)),\"\",INDEX(ProjectDetails[#Data],Project_last_entry-Project_start_row-ProjectTimelineData[[#This Row],[NUM]]+1,3)),\"\")","v":""},{"$f":"IFERROR(IF(ISBLANK(INDEX(ProjectDetails[#Data],ROW(A73)+1,1)),\"\",IF($J77-1<=-1,\"\",$J77-1)),\"\")","v":""},null,null,{"$f":"IFERROR(ProjectTimelineData[[#This Row],[NUM]]+1,\"\")","v":""},{"$f":"IFERROR(VLOOKUP(SortedTimeline[[#This Row],[RANK Sorted]],ProjectTimelineData[],3,0),\"\")","v":""},{"$f":"IFERROR(VLOOKUP(SortedTimeline[[#This Row],[RANK Sorted]],ProjectTimelineData[],4,0),\"\")","v":""},{"$f":"IFERROR(VLOOKUP(SortedTimeline[[#This Row],[RANK Sorted]],ProjectTimelineData[],5,0),\"\")","v":""}]
[{"$nulls":4},{"$f":"IFERROR(RANK(F79,ProjectTimelineData[RANK])+SUMPRODUCT(--(F79=ProjectTimelineData[RANK]),--(J79<ProjectTimelineData[NUM])),\"\")","v":""},{"$f":"IFERROR(RANK(ProjectTimelineData[[#This Row],[DATE]],ProjectTimelineData[DATE],1),\"\")","v":""},{"$f":"IFERROR(IF(ISBLANK(INDEX(ProjectDetails[#Data],Project_last_entry-Project_start_row-ProjectTimelineData[[#This Row],[NUM]]+1,1)),\"\",INDEX(ProjectDetails[#Data],Project_last_entry-Project_start_row-ProjectTimelineData[[#This Row],[NUM]]+1,1)),\"\")","v":""},{"$f":"IFERROR(IF(ISBLANK(INDEX(ProjectDetails[#Data],Project_last_entry-Project_start_row-ProjectTimelineData[[#This Row],[NUM]]+1,2)),\"\",INDEX(ProjectDetails[#Data],Project_last_entry-Project_start_row-ProjectTimelineData[[#This Row],[NUM]]+1,2)),\"\")","v":""},{"$f":"IFERROR(IF(ISBLANK(INDEX(ProjectDetails[#Data],Project_last_entry-Project_start_row-ProjectTimelineData[[#This Row],[NUM]]+1,3)),\"\",INDEX(ProjectDetails[#Data],Project_last_entry-Project_start_row-ProjectTimelineData[[#This Row],[NUM]]+1,3)),\"\")","v":""},{"$f":"IFERROR(IF(ISBLANK(INDEX(ProjectDetails[#Data],ROW(A74)+1,1)),\"\",IF($J78-1<=-1,\"\",$J78-1)),\"\")","v":""},null,null,{"$f":"IFERROR(ProjectTimelineData[[#This Row],[NUM]]+1,\"\")","v":""},{"$f":"IFERROR(VLOOKUP(SortedTimeline[[#This Row],[RANK Sorted]],ProjectTimelineData[],3,0),\"\")","v":""},{"$f":"IFERROR(VLOOKUP(SortedTimeline[[#This Row],[RANK Sorted]],ProjectTimelineData[],4,0),\"\")","v":""},{"$f":"IFERROR(VLOOKUP(SortedTimeline[[#This Row],[RANK Sorted]],ProjectTimelineData[],5,0),\"\")","v":""}]
[{"$nulls":4},{"$f":"IFERROR(RANK(F80,ProjectTimelineData[RANK])+SUMPRODUCT(--(F80=ProjectTimelineData[RANK]),--(J80<ProjectTimelineData[NUM])),\"\")","v":""},{"$f":"IFERROR(RANK(ProjectTimelineData[[#This Row],[DATE]],ProjectTimelineData[DATE],1),\"\")","v":""},{"$f":"IFERROR(IF(ISBLANK(INDEX(ProjectDetails[#Data],Project_last_entry-Project_start_row-ProjectTimelineData[[#This Row],[NUM]]+1,1)),\"\",INDEX(ProjectDetails[#Data],Project_last_entry-Project_start_row-ProjectTimelineData[[#This Row],[NUM]]+1,1)),\"\")","v":""},{"$f":"IFERROR(IF(ISBLANK(INDEX(ProjectDetails[#Data],Project_last_entry-Project_start_row-ProjectTimelineData[[#This Row],[NUM]]+1,2)),\"\",INDEX(ProjectDetails[#Data],Project_last_entry-Project_start_row-ProjectTimelineData[[#This Row],[NUM]]+1,2)),\"\")","v":""},{"$f":"IFERROR(IF(ISBLANK(INDEX(ProjectDetails[#Data],Project_last_entry-Project_start_row-ProjectTimelineData[[#This Row],[NUM]]+1,3)),\"\",INDEX(ProjectDetails[#Data],Project_last_entry-Project_start_row-ProjectTimelineData[[#This Row],[NUM]]+1,3)),\"\")","v":""},{"$f":"IFERROR(IF(ISBLANK(INDEX(ProjectDetails[#Data],ROW(A75)+1,1)),\"\",IF($J79-1<=-1,\"\",$J79-1)),\"\")","v":""},null,null,{"$f":"IFERROR(ProjectTimelineData[[#This Row],[NUM]]+1,\"\")","v":""},{"$f":"IFERROR(VLOOKUP(SortedTimeline[[#This Row],[RANK Sorted]],ProjectTimelineData[],3,0),\"\")","v":""},{"$f":"IFERROR(VLOOKUP(SortedTimeline[[#This Row],[RANK Sorted]],ProjectTimelineData[],4,0),\"\")","v":""},{"$f":"IFERROR(VLOOKUP(SortedTimeline[[#This Row],[RANK Sorted]],ProjectTimelineData[],5,0),\"\")","v":""}]
[{"$nulls":4},{"$f":"IFERROR(RANK(F81,ProjectTimelineData[RANK])+SUMPRODUCT(--(F81=ProjectTimelineData[RANK]),--(J81<ProjectTimelineData[NUM])),\"\")","v":""},{"$f":"IFERROR(RANK(ProjectTimelineData[[#This Row],[DATE]],ProjectTimelineData[DATE],1),\"\")","v":""},{"$f":"IFERROR(IF(ISBLANK(INDEX(ProjectDetails[#Data],Project_last_entry-Project_start_row-ProjectTimelineData[[#This Row],[NUM]]+1,1)),\"\",INDEX(ProjectDetails[#Data],Project_last_entry-Project_start_row-ProjectTimelineData[[#This Row],[NUM]]+1,1)),\"\")","v":""},{"$f":"IFERROR(IF(ISBLANK(INDEX(ProjectDetails[#Data],Project_last_entry-Project_start_row-ProjectTimelineData[[#This Row],[NUM]]+1,2)),\"\",INDEX(ProjectDetails[#Data],Project_last_entry-Project_start_row-ProjectTimelineData[[#This Row],[NUM]]+1,2)),\"\")","v":""},{"$f":"IFERROR(IF(ISBLANK(INDEX(ProjectDetails[#Data],Project_last_entry-Project_start_row-ProjectTimelineData[[#This Row],[NUM]]+1,3)),\"\",INDEX(ProjectDetails[#Data],Project_last_entry-Project_start_row-ProjectTimelineData[[#This Row],[NUM]]+1,3)),\"\")","v":""},{"$f":"IFERROR(IF(ISBLANK(INDEX(ProjectDetails[#Data],ROW(A76)+1,1)),\"\",IF($J80-1<=-1,\"\",$J80-1)),\"\")","v":""},null,null,{"$f":"IFERROR(ProjectTimelineData[[#This Row],[NUM]]+1,\"\")","v":""},{"$f":"IFERROR(VLOOKUP(SortedTimeline[[#This Row],[RANK Sorted]],ProjectTimelineData[],3,0),\"\")","v":""},{"$f":"IFERROR(VLOOKUP(SortedTimeline[[#This Row],[RANK Sorted]],ProjectTimelineData[],4,0),\"\")","v":""},{"$f":"IFERROR(VLOOKUP(SortedTimeline[[#This Row],[RANK Sorted]],ProjectTimelineData[],5,0),\"\")","v":""}]
[{"$nulls":4},{"$f":"IFERROR(RANK(F82,ProjectTimelineData[RANK])+SUMPRODUCT(--(F82=ProjectTimelineData[RANK]),--(J82<ProjectTimelineData[NUM])),\"\")","v":""},{"$f":"IFERROR(RANK(ProjectTimelineData[[#This Row],[DATE]],ProjectTimelineData[DATE],1),\"\")","v":""},{"$f":"IFERROR(IF(ISBLANK(INDEX(ProjectDetails[#Data],Project_last_entry-Project_start_row-ProjectTimelineData[[#This Row],[NUM]]+1,1)),\"\",INDEX(ProjectDetails[#Data],Project_last_entry-Project_start_row-ProjectTimelineData[[#This Row],[NUM]]+1,1)),\"\")","v":""},{"$f":"IFERROR(IF(ISBLANK(INDEX(ProjectDetails[#Data],Project_last_entry-Project_start_row-ProjectTimelineData[[#This Row],[NUM]]+1,2)),\"\",INDEX(ProjectDetails[#Data],Project_last_entry-Project_start_row-ProjectTimelineData[[#This Row],[NUM]]+1,2)),\"\")","v":""},{"$f":"IFERROR(IF(ISBLANK(INDEX(ProjectDetails[#Data],Project_last_entry-Project_start_row-ProjectTimelineData[[#This Row],[NUM]]+1,3)),\"\",INDEX(ProjectDetails[#Data],Project_last_entry-Project_start_row-ProjectTimelineData[[#This Row],[NUM]]+1,3)),\"\")","v":""},{"$f":"IFERROR(IF(ISBLANK(INDEX(ProjectDetails[#Data],ROW(A77)+1,1)),\"\",IF($J81-1<=-1,\"\",$J81-1)),\"\")","v":""},null,null,{"$f":"IFERROR(ProjectTimelineData[[#This Row],[NUM]]+1,\"\")","v":""},{"$f":"IFERROR(VLOOKUP(SortedTimeline[[#This Row],[RANK Sorted]],ProjectTimelineData[],3,0),\"\")","v":""},{"$f":"IFERROR(VLOOKUP(SortedTimeline[[#This Row],[RANK Sorted]],ProjectTimelineData[],4,0),\"\")","v":""},{"$f":"IFERROR(VLOOKUP(SortedTimeline[[#This Row],[RANK Sorted]],ProjectTimelineData[],5,0),\"\")","v":""}]
[{"$nulls":4},{"$f":"IFERROR(RANK(F83,ProjectTimelineData[RANK])+SUMPRODUCT(--(F83=ProjectTimelineData[RANK]),--(J83<ProjectTimelineData[NUM])),\"\")","v":""},{"$f":"IFERROR(RANK(ProjectTimelineData[[#This Row],[DATE]],ProjectTimelineData[DATE],1),\"\")","v":""},{"$f":"IFERROR(IF(ISBLANK(INDEX(ProjectDetails[#Data],Project_last_entry-Project_start_row-ProjectTimelineData[[#This Row],[NUM]]+1,1)),\"\",INDEX(ProjectDetails[#Data],Project_last_entry-Project_start_row-ProjectTimelineData[[#This Row],[NUM]]+1,1)),\"\")","v":""},{"$f":"IFERROR(IF(ISBLANK(INDEX(ProjectDetails[#Data],Project_last_entry-Project_start_row-ProjectTimelineData[[#This Row],[NUM]]+1,2)),\"\",INDEX(ProjectDetails[#Data],Project_last_entry-Project_start_row-ProjectTimelineData[[#This Row],[NUM]]+1,2)),\"\")","v":""},{"$f":"IFERROR(IF(ISBLANK(INDEX(ProjectDetails[#Data],Project_last_entry-Project_start_row-ProjectTimelineData[[#This Row],[NUM]]+1,3)),\"\",INDEX(ProjectDetails[#Data],Project_last_entry-Project_start_row-ProjectTimelineData[[#This Row],[NUM]]+1,3)),\"\")","v":""},{"$f":"IFERROR(IF(ISBLANK(INDEX(ProjectDetails[#Data],ROW(A78)+1,1)),\"\",IF($J82-1<=-1,\"\",$J82-1)),\"\")","v":""},null,null,{"$f":"IFERROR(ProjectTimelineData[[#This Row],[NUM]]+1,\"\")","v":""},{"$f":"IFERROR(VLOOKUP(SortedTimeline[[#This Row],[RANK Sorted]],ProjectTimelineData[],3,0),\"\")","v":""},{"$f":"IFERROR(VLOOKUP(SortedTimeline[[#This Row],[RANK Sorted]],ProjectTimelineData[],4,0),\"\")","v":""},{"$f":"IFERROR(VLOOKUP(SortedTimeline[[#This Row],[RANK Sorted]],ProjectTimelineData[],5,0),\"\")","v":""}]
[{"$nulls":4},{"$f":"IFERROR(RANK(F84,ProjectTimelineData[RANK])+SUMPRODUCT(--(F84=ProjectTimelineData[RANK]),--(J84<ProjectTimelineData[NUM])),\"\")","v":""},{"$f":"IFERROR(RANK(ProjectTimelineData[[#This Row],[DATE]],ProjectTimelineData[DATE],1),\"\")","v":""},{"$f":"IFERROR(IF(ISBLANK(INDEX(ProjectDetails[#Data],Project_last_entry-Project_start_row-ProjectTimelineData[[#This Row],[NUM]]+1,1)),\"\",INDEX(ProjectDetails[#Data],Project_last_entry-Project_start_row-ProjectTimelineData[[#This Row],[NUM]]+1,1)),\"\")","v":""},{"$f":"IFERROR(IF(ISBLANK(INDEX(ProjectDetails[#Data],Project_last_entry-Project_start_row-ProjectTimelineData[[#This Row],[NUM]]+1,2)),\"\",INDEX(ProjectDetails[#Data],Project_last_entry-Project_start_row-ProjectTimelineData[[#This Row],[NUM]]+1,2)),\"\")","v":""},{"$f":"IFERROR(IF(ISBLANK(INDEX(ProjectDetails[#Data],Project_last_entry-Project_start_row-ProjectTimelineData[[#This Row],[NUM]]+1,3)),\"\",INDEX(ProjectDetails[#Data],Project_last_entry-Project_start_row-ProjectTimelineData[[#This Row],[NUM]]+1,3)),\"\")","v":""},{"$f":"IFERROR(IF(ISBLANK(INDEX(ProjectDetails[#Data],ROW(A79)+1,1)),\"\",IF($J83-1<=-1,\"\",$J83-1)),\"\")","v":""},null,null,{"$f":"IFERROR(ProjectTimelineData[[#This Row],[NUM]]+1,\"\")","v":""},{"$f":"IFERROR(VLOOKUP(SortedTimeline[[#This Row],[RANK Sorted]],ProjectTimelineData[],3,0),\"\")","v":""},{"$f":"IFERROR(VLOOKUP(SortedTimeline[[#This Row],[RANK Sorted]],ProjectTimelineData[],4,0),\"\")","v":""},{"$f":"IFERROR(VLOOKUP(SortedTimeline[[#This Row],[RANK Sorted]],ProjectTimelineData[],5,0),\"\")","v":""}]
[{"$nulls":4},{"$f":"IFERROR(RANK(F85,ProjectTimelineData[RANK])+SUMPRODUCT(--(F85=ProjectTimelineData[RANK]),--(J85<ProjectTimelineData[NUM])),\"\")","v":""},{"$f":"IFERROR(RANK(ProjectTimelineData[[#This Row],[DATE]],ProjectTimelineData[DATE],1),\"\")","v":""},{"$f":"IFERROR(IF(ISBLANK(INDEX(ProjectDetails[#Data],Project_last_entry-Project_start_row-ProjectTimelineData[[#This Row],[NUM]]+1,1)),\"\",INDEX(ProjectDetails[#Data],Project_last_entry-Project_start_row-ProjectTimelineData[[#This Row],[NUM]]+1,1)),\"\")","v":""},{"$f":"IFERROR(IF(ISBLANK(INDEX(ProjectDetails[#Data],Project_last_entry-Project_start_row-ProjectTimelineData[[#This Row],[NUM]]+1,2)),\"\",INDEX(ProjectDetails[#Data],Project_last_entry-Project_start_row-ProjectTimelineData[[#This Row],[NUM]]+1,2)),\"\")","v":""},{"$f":"IFERROR(IF(ISBLANK(INDEX(ProjectDetails[#Data],Project_last_entry-Project_start_row-ProjectTimelineData[[#This Row],[NUM]]+1,3)),\"\",INDEX(ProjectDetails[#Data],Project_last_entry-Project_start_row-ProjectTimelineData[[#This Row],[NUM]]+1,3)),\"\")","v":""},{"$f":"IFERROR(IF(ISBLANK(INDEX(ProjectDetails[#Data],ROW(A80)+1,1)),\"\",IF($J84-1<=-1,\"\",$J84-1)),\"\")","v":""},null,null,{"$f":"IFERROR(ProjectTimelineData[[#This Row],[NUM]]+1,\"\")","v":""},{"$f":"IFERROR(VLOOKUP(SortedTimeline[[#This Row],[RANK Sorted]],ProjectTimelineData[],3,0),\"\")","v":""},{"$f":"IFERROR(VLOOKUP(SortedTimeline[[#This Row],[RANK Sorted]],ProjectTimelineData[],4,0),\"\")","v":""},{"$f":"IFERROR(VLOOKUP(SortedTimeline[[#This Row],[RANK Sorted]],ProjectTimelineData[],5,0),\"\")","v":""}]
[{"$nulls":4},{"$f":"IFERROR(RANK(F86,ProjectTimelineData[RANK])+SUMPRODUCT(--(F86=ProjectTimelineData[RANK]),--(J86<ProjectTimelineData[NUM])),\"\")","v":""},{"$f":"IFERROR(RANK(ProjectTimelineData[[#This Row],[DATE]],ProjectTimelineData[DATE],1),\"\")","v":""},{"$f":"IFERROR(IF(ISBLANK(INDEX(ProjectDetails[#Data],Project_last_entry-Project_start_row-ProjectTimelineData[[#This Row],[NUM]]+1,1)),\"\",INDEX(ProjectDetails[#Data],Project_last_entry-Project_start_row-ProjectTimelineData[[#This Row],[NUM]]+1,1)),\"\")","v":""},{"$f":"IFERROR(IF(ISBLANK(INDEX(ProjectDetails[#Data],Project_last_entry-Project_start_row-ProjectTimelineData[[#This Row],[NUM]]+1,2)),\"\",INDEX(ProjectDetails[#Data],Project_last_entry-Project_start_row-ProjectTimelineData[[#This Row],[NUM]]+1,2)),\"\")","v":""},{"$f":"IFERROR(IF(ISBLANK(INDEX(ProjectDetails[#Data],Project_last_entry-Project_start_row-ProjectTimelineData[[#This Row],[NUM]]+1,3)),\"\",INDEX(ProjectDetails[#Data],Project_last_entry-Project_start_row-ProjectTimelineData[[#This Row],[NUM]]+1,3)),\"\")","v":""},{"$f":"IFERROR(IF(ISBLANK(INDEX(ProjectDetails[#Data],ROW(A81)+1,1)),\"\",IF($J85-1<=-1,\"\",$J85-1)),\"\")","v":""},null,null,{"$f":"IFERROR(ProjectTimelineData[[#This Row],[NUM]]+1,\"\")","v":""},{"$f":"IFERROR(VLOOKUP(SortedTimeline[[#This Row],[RANK Sorted]],ProjectTimelineData[],3,0),\"\")","v":""},{"$f":"IFERROR(VLOOKUP(SortedTimeline[[#This Row],[RANK Sorted]],ProjectTimelineData[],4,0),\"\")","v":""},{"$f":"IFERROR(VLOOKUP(SortedTimeline[[#This Row],[RANK Sorted]],ProjectTimelineData[],5,0),\"\")","v":""}]
[{"$nulls":4},{"$f":"IFERROR(RANK(F87,ProjectTimelineData[RANK])+SUMPRODUCT(--(F87=ProjectTimelineData[RANK]),--(J87<ProjectTimelineData[NUM])),\"\")","v":""},{"$f":"IFERROR(RANK(ProjectTimelineData[[#This Row],[DATE]],ProjectTimelineData[DATE],1),\"\")","v":""},{"$f":"IFERROR(IF(ISBLANK(INDEX(ProjectDetails[#Data],Project_last_entry-Project_start_row-ProjectTimelineData[[#This Row],[NUM]]+1,1)),\"\",INDEX(ProjectDetails[#Data],Project_last_entry-Project_start_row-ProjectTimelineData[[#This Row],[NUM]]+1,1)),\"\")","v":""},{"$f":"IFERROR(IF(ISBLANK(INDEX(ProjectDetails[#Data],Project_last_entry-Project_start_row-ProjectTimelineData[[#This Row],[NUM]]+1,2)),\"\",INDEX(ProjectDetails[#Data],Project_last_entry-Project_start_row-ProjectTimelineData[[#This Row],[NUM]]+1,2)),\"\")","v":""},{"$f":"IFERROR(IF(ISBLANK(INDEX(ProjectDetails[#Data],Project_last_entry-Project_start_row-ProjectTimelineData[[#This Row],[NUM]]+1,3)),\"\",INDEX(ProjectDetails[#Data],Project_last_entry-Project_start_row-ProjectTimelineData[[#This Row],[NUM]]+1,3)),\"\")","v":""},{"$f":"IFERROR(IF(ISBLANK(INDEX(ProjectDetails[#Data],ROW(A82)+1,1)),\"\",IF($J86-1<=-1,\"\",$J86-1)),\"\")","v":""},null,null,{"$f":"IFERROR(ProjectTimelineData[[#This Row],[NUM]]+1,\"\")","v":""},{"$f":"IFERROR(VLOOKUP(SortedTimeline[[#This Row],[RANK Sorted]],ProjectTimelineData[],3,0),\"\")","v":""},{"$f":"IFERROR(VLOOKUP(SortedTimeline[[#This Row],[RANK Sorted]],ProjectTimelineData[],4,0),\"\")","v":""},{"$f":"IFERROR(VLOOKUP(SortedTimeline[[#This Row],[RANK Sorted]],ProjectTimelineData[],5,0),\"\")","v":""}]
[{"$nulls":4},{"$f":"IFERROR(RANK(F88,ProjectTimelineData[RANK])+SUMPRODUCT(--(F88=ProjectTimelineData[RANK]),--(J88<ProjectTimelineData[NUM])),\"\")","v":""},{"$f":"IFERROR(RANK(ProjectTimelineData[[#This Row],[DATE]],ProjectTimelineData[DATE],1),\"\")","v":""},{"$f":"IFERROR(IF(ISBLANK(INDEX(ProjectDetails[#Data],Project_last_entry-Project_start_row-ProjectTimelineData[[#This Row],[NUM]]+1,1)),\"\",INDEX(ProjectDetails[#Data],Project_last_entry-Project_start_row-ProjectTimelineData[[#This Row],[NUM]]+1,1)),\"\")","v":""},{"$f":"IFERROR(IF(ISBLANK(INDEX(ProjectDetails[#Data],Project_last_entry-Project_start_row-ProjectTimelineData[[#This Row],[NUM]]+1,2)),\"\",INDEX(ProjectDetails[#Data],Project_last_entry-Project_start_row-ProjectTimelineData[[#This Row],[NUM]]+1,2)),\"\")","v":""},{"$f":"IFERROR(IF(ISBLANK(INDEX(ProjectDetails[#Data],Project_last_entry-Project_start_row-ProjectTimelineData[[#This Row],[NUM]]+1,3)),\"\",INDEX(ProjectDetails[#Data],Project_last_entry-Project_start_row-ProjectTimelineData[[#This Row],[NUM]]+1,3)),\"\")","v":""},{"$f":"IFERROR(IF(ISBLANK(INDEX(ProjectDetails[#Data],ROW(A83)+1,1)),\"\",IF($J87-1<=-1,\"\",$J87-1)),\"\")","v":""},null,null,{"$f":"IFERROR(ProjectTimelineData[[#This Row],[NUM]]+1,\"\")","v":""},{"$f":"IFERROR(VLOOKUP(SortedTimeline[[#This Row],[RANK Sorted]],ProjectTimelineData[],3,0),\"\")","v":""},{"$f":"IFERROR(VLOOKUP(SortedTimeline[[#This Row],[RANK Sorted]],ProjectTimelineData[],4,0),\"\")","v":""},{"$f":"IFERROR(VLOOKUP(SortedTimeline[[#This Row],[RANK Sorted]],ProjectTimelineData[],5,0),\"\")","v":""}]
[{"$nulls":4},{"$f":"IFERROR(RANK(F89,ProjectTimelineData[RANK])+SUMPRODUCT(--(F89=ProjectTimelineData[RANK]),--(J89<ProjectTimelineData[NUM])),\"\")","v":""},{"$f":"IFERROR(RANK(ProjectTimelineData[[#This Row],[DATE]],ProjectTimelineData[DATE],1),\"\")","v":""},{"$f":"IFERROR(IF(ISBLANK(INDEX(ProjectDetails[#Data],Project_last_entry-Project_start_row-ProjectTimelineData[[#This Row],[NUM]]+1,1)),\"\",INDEX(ProjectDetails[#Data],Project_last_entry-Project_start_row-ProjectTimelineData[[#This Row],[NUM]]+1,1)),\"\")","v":""},{"$f":"IFERROR(IF(ISBLANK(INDEX(ProjectDetails[#Data],Project_last_entry-Project_start_row-ProjectTimelineData[[#This Row],[NUM]]+1,2)),\"\",INDEX(ProjectDetails[#Data],Project_last_entry-Project_start_row-ProjectTimelineData[[#This Row],[NUM]]+1,2)),\"\")","v":""},{"$f":"IFERROR(IF(ISBLANK(INDEX(ProjectDetails[#Data],Project_last_entry-Project_start_row-ProjectTimelineData[[#This Row],[NUM]]+1,3)),\"\",INDEX(ProjectDetails[#Data],Project_last_entry-Project_start_row-ProjectTimelineData[[#This Row],[NUM]]+1,3)),\"\")","v":""},{"$f":"IFERROR(IF(ISBLANK(INDEX(ProjectDetails[#Data],ROW(A84)+1,1)),\"\",IF($J88-1<=-1,\"\",$J88-1)),\"\")","v":""},null,null,{"$f":"IFERROR(ProjectTimelineData[[#This Row],[NUM]]+1,\"\")","v":""},{"$f":"IFERROR(VLOOKUP(SortedTimeline[[#This Row],[RANK Sorted]],ProjectTimelineData[],3,0),\"\")","v":""},{"$f":"IFERROR(VLOOKUP(SortedTimeline[[#This Row],[RANK Sorted]],ProjectTimelineData[],4,0),\"\")","v":""},{"$f":"IFERROR(VLOOKUP(SortedTimeline[[#This Row],[RANK Sorted]],ProjectTimelineData[],5,0),\"\")","v":""}]
[{"$nulls":4},{"$f":"IFERROR(RANK(F90,ProjectTimelineData[RANK])+SUMPRODUCT(--(F90=ProjectTimelineData[RANK]),--(J90<ProjectTimelineData[NUM])),\"\")","v":""},{"$f":"IFERROR(RANK(ProjectTimelineData[[#This Row],[DATE]],ProjectTimelineData[DATE],1),\"\")","v":""},{"$f":"IFERROR(IF(ISBLANK(INDEX(ProjectDetails[#Data],Project_last_entry-Project_start_row-ProjectTimelineData[[#This Row],[NUM]]+1,1)),\"\",INDEX(ProjectDetails[#Data],Project_last_entry-Project_start_row-ProjectTimelineData[[#This Row],[NUM]]+1,1)),\"\")","v":""},{"$f":"IFERROR(IF(ISBLANK(INDEX(ProjectDetails[#Data],Project_last_entry-Project_start_row-ProjectTimelineData[[#This Row],[NUM]]+1,2)),\"\",INDEX(ProjectDetails[#Data],Project_last_entry-Project_start_row-ProjectTimelineData[[#This Row],[NUM]]+1,2)),\"\")","v":""},{"$f":"IFERROR(IF(ISBLANK(INDEX(ProjectDetails[#Data],Project_last_entry-Project_start_row-ProjectTimelineData[[#This Row],[NUM]]+1,3)),\"\",INDEX(ProjectDetails[#Data],Project_last_entry-Project_start_row-ProjectTimelineData[[#This Row],[NUM]]+1,3)),\"\")","v":""},{"$f":"IFERROR(IF(ISBLANK(INDEX(ProjectDetails[#Data],ROW(A85)+1,1)),\"\",IF($J89-1<=-1,\"\",$J89-1)),\"\")","v":""},null,null,{"$f":"IFERROR(ProjectTimelineData[[#This Row],[NUM]]+1,\"\")","v":""},{"$f":"IFERROR(VLOOKUP(SortedTimeline[[#This Row],[RANK Sorted]],ProjectTimelineData[],3,0),\"\")","v":""},{"$f":"IFERROR(VLOOKUP(SortedTimeline[[#This Row],[RANK Sorted]],ProjectTimelineData[],4,0),\"\")","v":""},{"$f":"IFERROR(VLOOKUP(SortedTimeline[[#This Row],[RANK Sorted]],ProjectTimelineData[],5,0),\"\")","v":""}]
[{"$nulls":4},{"$f":"IFERROR(RANK(F91,ProjectTimelineData[RANK])+SUMPRODUCT(--(F91=ProjectTimelineData[RANK]),--(J91<ProjectTimelineData[NUM])),\"\")","v":""},{"$f":"IFERROR(RANK(ProjectTimelineData[[#This Row],[DATE]],ProjectTimelineData[DATE],1),\"\")","v":""},{"$f":"IFERROR(IF(ISBLANK(INDEX(ProjectDetails[#Data],Project_last_entry-Project_start_row-ProjectTimelineData[[#This Row],[NUM]]+1,1)),\"\",INDEX(ProjectDetails[#Data],Project_last_entry-Project_start_row-ProjectTimelineData[[#This Row],[NUM]]+1,1)),\"\")","v":""},{"$f":"IFERROR(IF(ISBLANK(INDEX(ProjectDetails[#Data],Project_last_entry-Project_start_row-ProjectTimelineData[[#This Row],[NUM]]+1,2)),\"\",INDEX(ProjectDetails[#Data],Project_last_entry-Project_start_row-ProjectTimelineData[[#This Row],[NUM]]+1,2)),\"\")","v":""},{"$f":"IFERROR(IF(ISBLANK(INDEX(ProjectDetails[#Data],Project_last_entry-Project_start_row-ProjectTimelineData[[#This Row],[NUM]]+1,3)),\"\",INDEX(ProjectDetails[#Data],Project_last_entry-Project_start_row-ProjectTimelineData[[#This Row],[NUM]]+1,3)),\"\")","v":""},{"$f":"IFERROR(IF(ISBLANK(INDEX(ProjectDetails[#Data],ROW(A86)+1,1)),\"\",IF($J90-1<=-1,\"\",$J90-1)),\"\")","v":""},null,null,{"$f":"IFERROR(ProjectTimelineData[[#This Row],[NUM]]+1,\"\")","v":""},{"$f":"IFERROR(VLOOKUP(SortedTimeline[[#This Row],[RANK Sorted]],ProjectTimelineData[],3,0),\"\")","v":""},{"$f":"IFERROR(VLOOKUP(SortedTimeline[[#This Row],[RANK Sorted]],ProjectTimelineData[],4,0),\"\")","v":""},{"$f":"IFERROR(VLOOKUP(SortedTimeline[[#This Row],[RANK Sorted]],ProjectTimelineData[],5,0),\"\")","v":""}]
[{"$nulls":4},{"$f":"IFERROR(RANK(F92,ProjectTimelineData[RANK])+SUMPRODUCT(--(F92=ProjectTimelineData[RANK]),--(J92<ProjectTimelineData[NUM])),\"\")","v":""},{"$f":"IFERROR(RANK(ProjectTimelineData[[#This Row],[DATE]],ProjectTimelineData[DATE],1),\"\")","v":""},{"$f":"IFERROR(IF(ISBLANK(INDEX(ProjectDetails[#Data],Project_last_entry-Project_start_row-ProjectTimelineData[[#This Row],[NUM]]+1,1)),\"\",INDEX(ProjectDetails[#Data],Project_last_entry-Project_start_row-ProjectTimelineData[[#This Row],[NUM]]+1,1)),\"\")","v":""},{"$f":"IFERROR(IF(ISBLANK(INDEX(ProjectDetails[#Data],Project_last_entry-Project_start_row-ProjectTimelineData[[#This Row],[NUM]]+1,2)),\"\",INDEX(ProjectDetails[#Data],Project_last_entry-Project_start_row-ProjectTimelineData[[#This Row],[NUM]]+1,2)),\"\")","v":""},{"$f":"IFERROR(IF(ISBLANK(INDEX(ProjectDetails[#Data],Project_last_entry-Project_start_row-ProjectTimelineData[[#This Row],[NUM]]+1,3)),\"\",INDEX(ProjectDetails[#Data],Project_last_entry-Project_start_row-ProjectTimelineData[[#This Row],[NUM]]+1,3)),\"\")","v":""},{"$f":"IFERROR(IF(ISBLANK(INDEX(ProjectDetails[#Data],ROW(A87)+1,1)),\"\",IF($J91-1<=-1,\"\",$J91-1)),\"\")","v":""},null,null,{"$f":"IFERROR(ProjectTimelineData[[#This Row],[NUM]]+1,\"\")","v":""},{"$f":"IFERROR(VLOOKUP(SortedTimeline[[#This Row],[RANK Sorted]],ProjectTimelineData[],3,0),\"\")","v":""},{"$f":"IFERROR(VLOOKUP(SortedTimeline[[#This Row],[RANK Sorted]],ProjectTimelineData[],4,0),\"\")","v":""},{"$f":"IFERROR(VLOOKUP(SortedTimeline[[#This Row],[RANK Sorted]],ProjectTimelineData[],5,0),\"\")","v":""}]
[{"$nulls":4},{"$f":"IFERROR(RANK(F93,ProjectTimelineData[RANK])+SUMPRODUCT(--(F93=ProjectTimelineData[RANK]),--(J93<ProjectTimelineData[NUM])),\"\")","v":""},{"$f":"IFERROR(RANK(ProjectTimelineData[[#This Row],[DATE]],ProjectTimelineData[DATE],1),\"\")","v":""},{"$f":"IFERROR(IF(ISBLANK(INDEX(ProjectDetails[#Data],Project_last_entry-Project_start_row-ProjectTimelineData[[#This Row],[NUM]]+1,1)),\"\",INDEX(ProjectDetails[#Data],Project_last_entry-Project_start_row-ProjectTimelineData[[#This Row],[NUM]]+1,1)),\"\")","v":""},{"$f":"IFERROR(IF(ISBLANK(INDEX(ProjectDetails[#Data],Project_last_entry-Project_start_row-ProjectTimelineData[[#This Row],[NUM]]+1,2)),\"\",INDEX(ProjectDetails[#Data],Project_last_entry-Project_start_row-ProjectTimelineData[[#This Row],[NUM]]+1,2)),\"\")","v":""},{"$f":"IFERROR(IF(ISBLANK(INDEX(ProjectDetails[#Data],Project_last_entry-Project_start_row-ProjectTimelineData[[#This Row],[NUM]]+1,3)),\"\",INDEX(ProjectDetails[#Data],Project_last_entry-Project_start_row-ProjectTimelineData[[#This Row],[NUM]]+1,3)),\"\")","v":""},{"$f":"IFERROR(IF(ISBLANK(INDEX(ProjectDetails[#Data],ROW(A88)+1,1)),\"\",IF($J92-1<=-1,\"\",$J92-1)),\"\")","v":""},null,null,{"$f":"IFERROR(ProjectTimelineData[[#This Row],[NUM]]+1,\"\")","v":""},{"$f":"IFERROR(VLOOKUP(SortedTimeline[[#This Row],[RANK Sorted]],ProjectTimelineData[],3,0),\"\")","v":""},{"$f":"IFERROR(VLOOKUP(SortedTimeline[[#This Row],[RANK Sorted]],ProjectTimelineData[],4,0),\"\")","v":""},{"$f":"IFERROR(VLOOKUP(SortedTimeline[[#This Row],[RANK Sorted]],ProjectTimelineData[],5,0),\"\")","v":""}]
[{"$nulls":4},{"$f":"IFERROR(RANK(F94,ProjectTimelineData[RANK])+SUMPRODUCT(--(F94=ProjectTimelineData[RANK]),--(J94<ProjectTimelineData[NUM])),\"\")","v":""},{"$f":"IFERROR(RANK(ProjectTimelineData[[#This Row],[DATE]],ProjectTimelineData[DATE],1),\"\")","v":""},{"$f":"IFERROR(IF(ISBLANK(INDEX(ProjectDetails[#Data],Project_last_entry-Project_start_row-ProjectTimelineData[[#This Row],[NUM]]+1,1)),\"\",INDEX(ProjectDetails[#Data],Project_last_entry-Project_start_row-ProjectTimelineData[[#This Row],[NUM]]+1,1)),\"\")","v":""},{"$f":"IFERROR(IF(ISBLANK(INDEX(ProjectDetails[#Data],Project_last_entry-Project_start_row-ProjectTimelineData[[#This Row],[NUM]]+1,2)),\"\",INDEX(ProjectDetails[#Data],Project_last_entry-Project_start_row-ProjectTimelineData[[#This Row],[NUM]]+1,2)),\"\")","v":""},{"$f":"IFERROR(IF(ISBLANK(INDEX(ProjectDetails[#Data],Project_last_entry-Project_start_row-ProjectTimelineData[[#This Row],[NUM]]+1,3)),\"\",INDEX(ProjectDetails[#Data],Project_last_entry-Project_start_row-ProjectTimelineData[[#This Row],[NUM]]+1,3)),\"\")","v":""},{"$f":"IFERROR(IF(ISBLANK(INDEX(ProjectDetails[#Data],ROW(A89)+1,1)),\"\",IF($J93-1<=-1,\"\",$J93-1)),\"\")","v":""},null,null,{"$f":"IFERROR(ProjectTimelineData[[#This Row],[NUM]]+1,\"\")","v":""},{"$f":"IFERROR(VLOOKUP(SortedTimeline[[#This Row],[RANK Sorted]],ProjectTimelineData[],3,0),\"\")","v":""},{"$f":"IFERROR(VLOOKUP(SortedTimeline[[#This Row],[RANK Sorted]],ProjectTimelineData[],4,0),\"\")","v":""},{"$f":"IFERROR(VLOOKUP(SortedTimeline[[#This Row],[RANK Sorted]],ProjectTimelineData[],5,0),\"\")","v":""}]
[{"$nulls":4},{"$f":"IFERROR(RANK(F95,ProjectTimelineData[RANK])+SUMPRODUCT(--(F95=ProjectTimelineData[RANK]),--(J95<ProjectTimelineData[NUM])),\"\")","v":""},{"$f":"IFERROR(RANK(ProjectTimelineData[[#This Row],[DATE]],ProjectTimelineData[DATE],1),\"\")","v":""},{"$f":"IFERROR(IF(ISBLANK(INDEX(ProjectDetails[#Data],Project_last_entry-Project_start_row-ProjectTimelineData[[#This Row],[NUM]]+1,1)),\"\",INDEX(ProjectDetails[#Data],Project_last_entry-Project_start_row-ProjectTimelineData[[#This Row],[NUM]]+1,1)),\"\")","v":""},{"$f":"IFERROR(IF(ISBLANK(INDEX(ProjectDetails[#Data],Project_last_entry-Project_start_row-ProjectTimelineData[[#This Row],[NUM]]+1,2)),\"\",INDEX(ProjectDetails[#Data],Project_last_entry-Project_start_row-ProjectTimelineData[[#This Row],[NUM]]+1,2)),\"\")","v":""},{"$f":"IFERROR(IF(ISBLANK(INDEX(ProjectDetails[#Data],Project_last_entry-Project_start_row-ProjectTimelineData[[#This Row],[NUM]]+1,3)),\"\",INDEX(ProjectDetails[#Data],Project_last_entry-Project_start_row-ProjectTimelineData[[#This Row],[NUM]]+1,3)),\"\")","v":""},{"$f":"IFERROR(IF(ISBLANK(INDEX(ProjectDetails[#Data],ROW(A90)+1,1)),\"\",IF($J94-1<=-1,\"\",$J94-1)),\"\")","v":""},null,null,{"$f":"IFERROR(ProjectTimelineData[[#This Row],[NUM]]+1,\"\")","v":""},{"$f":"IFERROR(VLOOKUP(SortedTimeline[[#This Row],[RANK Sorted]],ProjectTimelineData[],3,0),\"\")","v":""},{"$f":"IFERROR(VLOOKUP(SortedTimeline[[#This Row],[RANK Sorted]],ProjectTimelineData[],4,0),\"\")","v":""},{"$f":"IFERROR(VLOOKUP(SortedTimeline[[#This Row],[RANK Sorted]],ProjectTimelineData[],5,0),\"\")","v":""}]
[{"$nulls":4},{"$f":"IFERROR(RANK(F96,ProjectTimelineData[RANK])+SUMPRODUCT(--(F96=ProjectTimelineData[RANK]),--(J96<ProjectTimelineData[NUM])),\"\")","v":""},{"$f":"IFERROR(RANK(ProjectTimelineData[[#This Row],[DATE]],ProjectTimelineData[DATE],1),\"\")","v":""},{"$f":"IFERROR(IF(ISBLANK(INDEX(ProjectDetails[#Data],Project_last_entry-Project_start_row-ProjectTimelineData[[#This Row],[NUM]]+1,1)),\"\",INDEX(ProjectDetails[#Data],Project_last_entry-Project_start_row-ProjectTimelineData[[#This Row],[NUM]]+1,1)),\"\")","v":""},{"$f":"IFERROR(IF(ISBLANK(INDEX(ProjectDetails[#Data],Project_last_entry-Project_start_row-ProjectTimelineData[[#This Row],[NUM]]+1,2)),\"\",INDEX(ProjectDetails[#Data],Project_last_entry-Project_start_row-ProjectTimelineData[[#This Row],[NUM]]+1,2)),\"\")","v":""},{"$f":"IFERROR(IF(ISBLANK(INDEX(ProjectDetails[#Data],Project_last_entry-Project_start_row-ProjectTimelineData[[#This Row],[NUM]]+1,3)),\"\",INDEX(ProjectDetails[#Data],Project_last_entry-Project_start_row-ProjectTimelineData[[#This Row],[NUM]]+1,3)),\"\")","v":""},{"$f":"IFERROR(IF(ISBLANK(INDEX(ProjectDetails[#Data],ROW(A91)+1,1)),\"\",IF($J95-1<=-1,\"\",$J95-1)),\"\")","v":""},null,null,{"$f":"IFERROR(ProjectTimelineData[[#This Row],[NUM]]+1,\"\")","v":""},{"$f":"IFERROR(VLOOKUP(SortedTimeline[[#This Row],[RANK Sorted]],ProjectTimelineData[],3,0),\"\")","v":""},{"$f":"IFERROR(VLOOKUP(SortedTimeline[[#This Row],[RANK Sorted]],ProjectTimelineData[],4,0),\"\")","v":""},{"$f":"IFERROR(VLOOKUP(SortedTimeline[[#This Row],[RANK Sorted]],ProjectTimelineData[],5,0),\"\")","v":""}]
[{"$nulls":4},{"$f":"IFERROR(RANK(F97,ProjectTimelineData[RANK])+SUMPRODUCT(--(F97=ProjectTimelineData[RANK]),--(J97<ProjectTimelineData[NUM])),\"\")","v":""},{"$f":"IFERROR(RANK(ProjectTimelineData[[#This Row],[DATE]],ProjectTimelineData[DATE],1),\"\")","v":""},{"$f":"IFERROR(IF(ISBLANK(INDEX(ProjectDetails[#Data],Project_last_entry-Project_start_row-ProjectTimelineData[[#This Row],[NUM]]+1,1)),\"\",INDEX(ProjectDetails[#Data],Project_last_entry-Project_start_row-ProjectTimelineData[[#This Row],[NUM]]+1,1)),\"\")","v":""},{"$f":"IFERROR(IF(ISBLANK(INDEX(ProjectDetails[#Data],Project_last_entry-Project_start_row-ProjectTimelineData[[#This Row],[NUM]]+1,2)),\"\",INDEX(ProjectDetails[#Data],Project_last_entry-Project_start_row-ProjectTimelineData[[#This Row],[NUM]]+1,2)),\"\")","v":""},{"$f":"IFERROR(IF(ISBLANK(INDEX(ProjectDetails[#Data],Project_last_entry-Project_start_row-ProjectTimelineData[[#This Row],[NUM]]+1,3)),\"\",INDEX(ProjectDetails[#Data],Project_last_entry-Project_start_row-ProjectTimelineData[[#This Row],[NUM]]+1,3)),\"\")","v":""},{"$f":"IFERROR(IF(ISBLANK(INDEX(ProjectDetails[#Data],ROW(A92)+1,1)),\"\",IF($J96-1<=-1,\"\",$J96-1)),\"\")","v":""},null,null,{"$f":"IFERROR(ProjectTimelineData[[#This Row],[NUM]]+1,\"\")","v":""},{"$f":"IFERROR(VLOOKUP(SortedTimeline[[#This Row],[RANK Sorted]],ProjectTimelineData[],3,0),\"\")","v":""},{"$f":"IFERROR(VLOOKUP(SortedTimeline[[#This Row],[RANK Sorted]],ProjectTimelineData[],4,0),\"\")","v":""},{"$f":"IFERROR(VLOOKUP(SortedTimeline[[#This Row],[RANK Sorted]],ProjectTimelineData[],5,0),\"\")","v":""}]
[{"$nulls":4},{"$f":"IFERROR(RANK(F98,ProjectTimelineData[RANK])+SUMPRODUCT(--(F98=ProjectTimelineData[RANK]),--(J98<ProjectTimelineData[NUM])),\"\")","v":""},{"$f":"IFERROR(RANK(ProjectTimelineData[[#This Row],[DATE]],ProjectTimelineData[DATE],1),\"\")","v":""},{"$f":"IFERROR(IF(ISBLANK(INDEX(ProjectDetails[#Data],Project_last_entry-Project_start_row-ProjectTimelineData[[#This Row],[NUM]]+1,1)),\"\",INDEX(ProjectDetails[#Data],Project_last_entry-Project_start_row-ProjectTimelineData[[#This Row],[NUM]]+1,1)),\"\")","v":""},{"$f":"IFERROR(IF(ISBLANK(INDEX(ProjectDetails[#Data],Project_last_entry-Project_start_row-ProjectTimelineData[[#This Row],[NUM]]+1,2)),\"\",INDEX(ProjectDetails[#Data],Project_last_entry-Project_start_row-ProjectTimelineData[[#This Row],[NUM]]+1,2)),\"\")","v":""},{"$f":"IFERROR(IF(ISBLANK(INDEX(ProjectDetails[#Data],Project_last_entry-Project_start_row-ProjectTimelineData[[#This Row],[NUM]]+1,3)),\"\",INDEX(ProjectDetails[#Data],Project_last_entry-Project_start_row-ProjectTimelineData[[#This Row],[NUM]]+1,3)),\"\")","v":""},{"$f":"IFERROR(IF(ISBLANK(INDEX(ProjectDetails[#Data],ROW(A93)+1,1)),\"\",IF($J97-1<=-1,\"\",$J97-1)),\"\")","v":""},null,null,{"$f":"IFERROR(ProjectTimelineData[[#This Row],[NUM]]+1,\"\")","v":""},{"$f":"IFERROR(VLOOKUP(SortedTimeline[[#This Row],[RANK Sorted]],ProjectTimelineData[],3,0),\"\")","v":""},{"$f":"IFERROR(VLOOKUP(SortedTimeline[[#This Row],[RANK Sorted]],ProjectTimelineData[],4,0),\"\")","v":""},{"$f":"IFERROR(VLOOKUP(SortedTimeline[[#This Row],[RANK Sorted]],ProjectTimelineData[],5,0),\"\")","v":""}]
[{"$nulls":4},{"$f":"IFERROR(RANK(F99,ProjectTimelineData[RANK])+SUMPRODUCT(--(F99=ProjectTimelineData[RANK]),--(J99<ProjectTimelineData[NUM])),\"\")","v":""},{"$f":"IFERROR(RANK(ProjectTimelineData[[#This Row],[DATE]],ProjectTimelineData[DATE],1),\"\")","v":""},{"$f":"IFERROR(IF(ISBLANK(INDEX(ProjectDetails[#Data],Project_last_entry-Project_start_row-ProjectTimelineData[[#This Row],[NUM]]+1,1)),\"\",INDEX(ProjectDetails[#Data],Project_last_entry-Project_start_row-ProjectTimelineData[[#This Row],[NUM]]+1,1)),\"\")","v":""},{"$f":"IFERROR(IF(ISBLANK(INDEX(ProjectDetails[#Data],Project_last_entry-Project_start_row-ProjectTimelineData[[#This Row],[NUM]]+1,2)),\"\",INDEX(ProjectDetails[#Data],Project_last_entry-Project_start_row-ProjectTimelineData[[#This Row],[NUM]]+1,2)),\"\")","v":""},{"$f":"IFERROR(IF(ISBLANK(INDEX(ProjectDetails[#Data],Project_last_entry-Project_start_row-ProjectTimelineData[[#This Row],[NUM]]+1,3)),\"\",INDEX(ProjectDetails[#Data],Project_last_entry-Project_start_row-ProjectTimelineData[[#This Row],[NUM]]+1,3)),\"\")","v":""},{"$f":"IFERROR(IF(ISBLANK(INDEX(ProjectDetails[#Data],ROW(A94)+1,1)),\"\",IF($J98-1<=-1,\"\",$J98-1)),\"\")","v":""},null,null,{"$f":"IFERROR(ProjectTimelineData[[#This Row],[NUM]]+1,\"\")","v":""},{"$f":"IFERROR(VLOOKUP(SortedTimeline[[#This Row],[RANK Sorted]],ProjectTimelineData[],3,0),\"\")","v":""},{"$f":"IFERROR(VLOOKUP(SortedTimeline[[#This Row],[RANK Sorted]],ProjectTimelineData[],4,0),\"\")","v":""},{"$f":"IFERROR(VLOOKUP(SortedTimeline[[#This Row],[RANK Sorted]],ProjectTimelineData[],5,0),\"\")","v":""}]
[{"$nulls":4},{"$f":"IFERROR(RANK(F100,ProjectTimelineData[RANK])+SUMPRODUCT(--(F100=ProjectTimelineData[RANK]),--(J100<ProjectTimelineData[NUM])),\"\")","v":""},{"$f":"IFERROR(RANK(ProjectTimelineData[[#This Row],[DATE]],ProjectTimelineData[DATE],1),\"\")","v":""},{"$f":"IFERROR(IF(ISBLANK(INDEX(ProjectDetails[#Data],Project_last_entry-Project_start_row-ProjectTimelineData[[#This Row],[NUM]]+1,1)),\"\",INDEX(ProjectDetails[#Data],Project_last_entry-Project_start_row-ProjectTimelineData[[#This Row],[NUM]]+1,1)),\"\")","v":""},{"$f":"IFERROR(IF(ISBLANK(INDEX(ProjectDetails[#Data],Project_last_entry-Project_start_row-ProjectTimelineData[[#This Row],[NUM]]+1,2)),\"\",INDEX(ProjectDetails[#Data],Project_last_entry-Project_start_row-ProjectTimelineData[[#This Row],[NUM]]+1,2)),\"\")","v":""},{"$f":"IFERROR(IF(ISBLANK(INDEX(ProjectDetails[#Data],Project_last_entry-Project_start_row-ProjectTimelineData[[#This Row],[NUM]]+1,3)),\"\",INDEX(ProjectDetails[#Data],Project_last_entry-Project_start_row-ProjectTimelineData[[#This Row],[NUM]]+1,3)),\"\")","v":""},{"$f":"IFERROR(IF(ISBLANK(INDEX(ProjectDetails[#Data],ROW(A95)+1,1)),\"\",IF($J99-1<=-1,\"\",$J99-1)),\"\")","v":""},null,null,{"$f":"IFERROR(ProjectTimelineData[[#This Row],[NUM]]+1,\"\")","v":""},{"$f":"IFERROR(VLOOKUP(SortedTimeline[[#This Row],[RANK Sorted]],ProjectTimelineData[],3,0),\"\")","v":""},{"$f":"IFERROR(VLOOKUP(SortedTimeline[[#This Row],[RANK Sorted]],ProjectTimelineData[],4,0),\"\")","v":""},{"$f":"IFERROR(VLOOKUP(SortedTimeline[[#This Row],[RANK Sorted]],ProjectTimelineData[],5,0),\"\")","v":""}]
[{"$nulls":4},{"$f":"IFERROR(RANK(F101,ProjectTimelineData[RANK])+SUMPRODUCT(--(F101=ProjectTimelineData[RANK]),--(J101<ProjectTimelineData[NUM])),\"\")","v":""},{"$f":"IFERROR(RANK(ProjectTimelineData[[#This Row],[DATE]],ProjectTimelineData[DATE],1),\"\")","v":""},{"$f":"IFERROR(IF(ISBLANK(INDEX(ProjectDetails[#Data],Project_last_entry-Project_start_row-ProjectTimelineData[[#This Row],[NUM]]+1,1)),\"\",INDEX(ProjectDetails[#Data],Project_last_entry-Project_start_row-ProjectTimelineData[[#This Row],[NUM]]+1,1)),\"\")","v":""},{"$f":"IFERROR(IF(ISBLANK(INDEX(ProjectDetails[#Data],Project_last_entry-Project_start_row-ProjectTimelineData[[#This Row],[NUM]]+1,2)),\"\",INDEX(ProjectDetails[#Data],Project_last_entry-Project_start_row-ProjectTimelineData[[#This Row],[NUM]]+1,2)),\"\")","v":""},{"$f":"IFERROR(IF(ISBLANK(INDEX(ProjectDetails[#Data],Project_last_entry-Project_start_row-ProjectTimelineData[[#This Row],[NUM]]+1,3)),\"\",INDEX(ProjectDetails[#Data],Project_last_entry-Project_start_row-ProjectTimelineData[[#This Row],[NUM]]+1,3)),\"\")","v":""},{"$f":"IFERROR(IF(ISBLANK(INDEX(ProjectDetails[#Data],ROW(A96)+1,1)),\"\",IF($J100-1<=-1,\"\",$J100-1)),\"\")","v":""},null,null,{"$f":"IFERROR(ProjectTimelineData[[#This Row],[NUM]]+1,\"\")","v":""},{"$f":"IFERROR(VLOOKUP(SortedTimeline[[#This Row],[RANK Sorted]],ProjectTimelineData[],3,0),\"\")","v":""},{"$f":"IFERROR(VLOOKUP(SortedTimeline[[#This Row],[RANK Sorted]],ProjectTimelineData[],4,0),\"\")","v":""},{"$f":"IFERROR(VLOOKUP(SortedTimeline[[#This Row],[RANK Sorted]],ProjectTimelineData[],5,0),\"\")","v":""}]
[{"$nulls":4},{"$f":"IFERROR(RANK(F102,ProjectTimelineData[RANK])+SUMPRODUCT(--(F102=ProjectTimelineData[RANK]),--(J102<ProjectTimelineData[NUM])),\"\")","v":""},{"$f":"IFERROR(RANK(ProjectTimelineData[[#This Row],[DATE]],ProjectTimelineData[DATE],1),\"\")","v":""},{"$f":"IFERROR(IF(ISBLANK(INDEX(ProjectDetails[#Data],Project_last_entry-Project_start_row-ProjectTimelineData[[#This Row],[NUM]]+1,1)),\"\",INDEX(ProjectDetails[#Data],Project_last_entry-Project_start_row-ProjectTimelineData[[#This Row],[NUM]]+1,1)),\"\")","v":""},{"$f":"IFERROR(IF(ISBLANK(INDEX(ProjectDetails[#Data],Project_last_entry-Project_start_row-ProjectTimelineData[[#This Row],[NUM]]+1,2)),\"\",INDEX(ProjectDetails[#Data],Project_last_entry-Project_start_row-ProjectTimelineData[[#This Row],[NUM]]+1,2)),\"\")","v":""},{"$f":"IFERROR(IF(ISBLANK(INDEX(ProjectDetails[#Data],Project_last_entry-Project_start_row-ProjectTimelineData[[#This Row],[NUM]]+1,3)),\"\",INDEX(ProjectDetails[#Data],Project_last_entry-Project_start_row-ProjectTimelineData[[#This Row],[NUM]]+1,3)),\"\")","v":""},{"$f":"IFERROR(IF(ISBLANK(INDEX(ProjectDetails[#Data],ROW(A97)+1,1)),\"\",IF($J101-1<=-1,\"\",$J101-1)),\"\")","v":""},null,null,{"$f":"IFERROR(ProjectTimelineData[[#This Row],[NUM]]+1,\"\")","v":""},{"$f":"IFERROR(VLOOKUP(SortedTimeline[[#This Row],[RANK Sorted]],ProjectTimelineData[],3,0),\"\")","v":""},{"$f":"IFERROR(VLOOKUP(SortedTimeline[[#This Row],[RANK Sorted]],ProjectTimelineData[],4,0),\"\")","v":""},{"$f":"IFERROR(VLOOKUP(SortedTimeline[[#This Row],[RANK Sorted]],ProjectTimelineData[],5,0),\"\")","v":""}]
[{"$nulls":4},{"$f":"IFERROR(RANK(F103,ProjectTimelineData[RANK])+SUMPRODUCT(--(F103=ProjectTimelineData[RANK]),--(J103<ProjectTimelineData[NUM])),\"\")","v":""},{"$f":"IFERROR(RANK(ProjectTimelineData[[#This Row],[DATE]],ProjectTimelineData[DATE],1),\"\")","v":""},{"$f":"IFERROR(IF(ISBLANK(INDEX(ProjectDetails[#Data],Project_last_entry-Project_start_row-ProjectTimelineData[[#This Row],[NUM]]+1,1)),\"\",INDEX(ProjectDetails[#Data],Project_last_entry-Project_start_row-ProjectTimelineData[[#This Row],[NUM]]+1,1)),\"\")","v":""},{"$f":"IFERROR(IF(ISBLANK(INDEX(ProjectDetails[#Data],Project_last_entry-Project_start_row-ProjectTimelineData[[#This Row],[NUM]]+1,2)),\"\",INDEX(ProjectDetails[#Data],Project_last_entry-Project_start_row-ProjectTimelineData[[#This Row],[NUM]]+1,2)),\"\")","v":""},{"$f":"IFERROR(IF(ISBLANK(INDEX(ProjectDetails[#Data],Project_last_entry-Project_start_row-ProjectTimelineData[[#This Row],[NUM]]+1,3)),\"\",INDEX(ProjectDetails[#Data],Project_last_entry-Project_start_row-ProjectTimelineData[[#This Row],[NUM]]+1,3)),\"\")","v":""},{"$f":"IFERROR(IF(ISBLANK(INDEX(ProjectDetails[#Data],ROW(A98)+1,1)),\"\",IF($J102-1<=-1,\"\",$J102-1)),\"\")","v":""},null,null,{"$f":"IFERROR(ProjectTimelineData[[#This Row],[NUM]]+1,\"\")","v":""},{"$f":"IFERROR(VLOOKUP(SortedTimeline[[#This Row],[RANK Sorted]],ProjectTimelineData[],3,0),\"\")","v":""},{"$f":"IFERROR(VLOOKUP(SortedTimeline[[#This Row],[RANK Sorted]],ProjectTimelineData[],4,0),\"\")","v":""},{"$f":"IFERROR(VLOOKUP(SortedTimeline[[#This Row],[RANK Sorted]],ProjectTimelineData[],5,0),\"\")","v":""}]
[{"$nulls":4},{"$f":"IFERROR(RANK(F104,ProjectTimelineData[RANK])+SUMPRODUCT(--(F104=ProjectTimelineData[RANK]),--(J104<ProjectTimelineData[NUM])),\"\")","v":""},{"$f":"IFERROR(RANK(ProjectTimelineData[[#This Row],[DATE]],ProjectTimelineData[DATE],1),\"\")","v":""},{"$f":"IFERROR(IF(ISBLANK(INDEX(ProjectDetails[#Data],Project_last_entry-Project_start_row-ProjectTimelineData[[#This Row],[NUM]]+1,1)),\"\",INDEX(ProjectDetails[#Data],Project_last_entry-Project_start_row-ProjectTimelineData[[#This Row],[NUM]]+1,1)),\"\")","v":""},{"$f":"IFERROR(IF(ISBLANK(INDEX(ProjectDetails[#Data],Project_last_entry-Project_start_row-ProjectTimelineData[[#This Row],[NUM]]+1,2)),\"\",INDEX(ProjectDetails[#Data],Project_last_entry-Project_start_row-ProjectTimelineData[[#This Row],[NUM]]+1,2)),\"\")","v":""},{"$f":"IFERROR(IF(ISBLANK(INDEX(ProjectDetails[#Data],Project_last_entry-Project_start_row-ProjectTimelineData[[#This Row],[NUM]]+1,3)),\"\",INDEX(ProjectDetails[#Data],Project_last_entry-Project_start_row-ProjectTimelineData[[#This Row],[NUM]]+1,3)),\"\")","v":""},{"$f":"IFERROR(IF(ISBLANK(INDEX(ProjectDetails[#Data],ROW(A99)+1,1)),\"\",IF($J103-1<=-1,\"\",$J103-1)),\"\")","v":""},null,null,{"$f":"IFERROR(ProjectTimelineData[[#This Row],[NUM]]+1,\"\")","v":""},{"$f":"IFERROR(VLOOKUP(SortedTimeline[[#This Row],[RANK Sorted]],ProjectTimelineData[],3,0),\"\")","v":""},{"$f":"IFERROR(VLOOKUP(SortedTimeline[[#This Row],[RANK Sorted]],ProjectTimelineData[],4,0),\"\")","v":""},{"$f":"IFERROR(VLOOKUP(SortedTimeline[[#This Row],[RANK Sorted]],ProjectTimelineData[],5,0),\"\")","v":""}]
[{"$nulls":4},{"$f":"IFERROR(RANK(F105,ProjectTimelineData[RANK])+SUMPRODUCT(--(F105=ProjectTimelineData[RANK]),--(J105<ProjectTimelineData[NUM])),\"\")","v":""},{"$f":"IFERROR(RANK(ProjectTimelineData[[#This Row],[DATE]],ProjectTimelineData[DATE],1),\"\")","v":""},{"$f":"IFERROR(IF(ISBLANK(INDEX(ProjectDetails[#Data],Project_last_entry-Project_start_row-ProjectTimelineData[[#This Row],[NUM]]+1,1)),\"\",INDEX(ProjectDetails[#Data],Project_last_entry-Project_start_row-ProjectTimelineData[[#This Row],[NUM]]+1,1)),\"\")","v":""},{"$f":"IFERROR(IF(ISBLANK(INDEX(ProjectDetails[#Data],Project_last_entry-Project_start_row-ProjectTimelineData[[#This Row],[NUM]]+1,2)),\"\",INDEX(ProjectDetails[#Data],Project_last_entry-Project_start_row-ProjectTimelineData[[#This Row],[NUM]]+1,2)),\"\")","v":""},{"$f":"IFERROR(IF(ISBLANK(INDEX(ProjectDetails[#Data],Project_last_entry-Project_start_row-ProjectTimelineData[[#This Row],[NUM]]+1,3)),\"\",INDEX(ProjectDetails[#Data],Project_last_entry-Project_start_row-ProjectTimelineData[[#This Row],[NUM]]+1,3)),\"\")","v":""},{"$f":"IFERROR(IF(ISBLANK(INDEX(ProjectDetails[#Data],ROW(A100)+1,1)),\"\",IF($J104-1<=-1,\"\",$J104-1)),\"\")","v":""},null,null,{"$f":"IFERROR(ProjectTimelineData[[#This Row],[NUM]]+1,\"\")","v":""},{"$f":"IFERROR(VLOOKUP(SortedTimeline[[#This Row],[RANK Sorted]],ProjectTimelineData[],3,0),\"\")","v":""},{"$f":"IFERROR(VLOOKUP(SortedTimeline[[#This Row],[RANK Sorted]],ProjectTimelineData[],4,0),\"\")","v":""},{"$f":"IFERROR(VLOOKUP(SortedTimeline[[#This Row],[RANK Sorted]],ProjectTimelineData[],5,0),\"\")","v":""}]
[{"$nulls":4},{"$f":"IFERROR(RANK(F106,ProjectTimelineData[RANK])+SUMPRODUCT(--(F106=ProjectTimelineData[RANK]),--(J106<ProjectTimelineData[NUM])),\"\")","v":""},{"$f":"IFERROR(RANK(ProjectTimelineData[[#This Row],[DATE]],ProjectTimelineData[DATE],1),\"\")","v":""},{"$f":"IFERROR(IF(ISBLANK(INDEX(ProjectDetails[#Data],Project_last_entry-Project_start_row-ProjectTimelineData[[#This Row],[NUM]]+1,1)),\"\",INDEX(ProjectDetails[#Data],Project_last_entry-Project_start_row-ProjectTimelineData[[#This Row],[NUM]]+1,1)),\"\")","v":""},{"$f":"IFERROR(IF(ISBLANK(INDEX(ProjectDetails[#Data],Project_last_entry-Project_start_row-ProjectTimelineData[[#This Row],[NUM]]+1,2)),\"\",INDEX(ProjectDetails[#Data],Project_last_entry-Project_start_row-ProjectTimelineData[[#This Row],[NUM]]+1,2)),\"\")","v":""},{"$f":"IFERROR(IF(ISBLANK(INDEX(ProjectDetails[#Data],Project_last_entry-Project_start_row-ProjectTimelineData[[#This Row],[NUM]]+1,3)),\"\",INDEX(ProjectDetails[#Data],Project_last_entry-Project_start_row-ProjectTimelineData[[#This Row],[NUM]]+1,3)),\"\")","v":""},{"$f":"IFERROR(IF(ISBLANK(INDEX(ProjectDetails[#Data],ROW(A101)+1,1)),\"\",IF($J105-1<=-1,\"\",$J105-1)),\"\")","v":""},null,null,{"$f":"IFERROR(ProjectTimelineData[[#This Row],[NUM]]+1,\"\")","v":""},{"$f":"IFERROR(VLOOKUP(SortedTimeline[[#This Row],[RANK Sorted]],ProjectTimelineData[],3,0),\"\")","v":""},{"$f":"IFERROR(VLOOKUP(SortedTimeline[[#This Row],[RANK Sorted]],ProjectTimelineData[],4,0),\"\")","v":""},{"$f":"IFERROR(VLOOKUP(SortedTimeline[[#This Row],[RANK Sorted]],ProjectTimelineData[],5,0),\"\")","v":""}]
[{"$nulls":4},{"$f":"IFERROR(RANK(F107,ProjectTimelineData[RANK])+SUMPRODUCT(--(F107=ProjectTimelineData[RANK]),--(J107<ProjectTimelineData[NUM])),\"\")","v":""},{"$f":"IFERROR(RANK(ProjectTimelineData[[#This Row],[DATE]],ProjectTimelineData[DATE],1),\"\")","v":""},{"$f":"IFERROR(IF(ISBLANK(INDEX(ProjectDetails[#Data],Project_last_entry-Project_start_row-ProjectTimelineData[[#This Row],[NUM]]+1,1)),\"\",INDEX(ProjectDetails[#Data],Project_last_entry-Project_start_row-ProjectTimelineData[[#This Row],[NUM]]+1,1)),\"\")","v":""},{"$f":"IFERROR(IF(ISBLANK(INDEX(ProjectDetails[#Data],Project_last_entry-Project_start_row-ProjectTimelineData[[#This Row],[NUM]]+1,2)),\"\",INDEX(ProjectDetails[#Data],Project_last_entry-Project_start_row-ProjectTimelineData[[#This Row],[NUM]]+1,2)),\"\")","v":""},{"$f":"IFERROR(IF(ISBLANK(INDEX(ProjectDetails[#Data],Project_last_entry-Project_start_row-ProjectTimelineData[[#This Row],[NUM]]+1,3)),\"\",INDEX(ProjectDetails[#Data],Project_last_entry-Project_start_row-ProjectTimelineData[[#This Row],[NUM]]+1,3)),\"\")","v":""},{"$f":"IFERROR(IF(ISBLANK(INDEX(ProjectDetails[#Data],ROW(A102)+1,1)),\"\",IF($J106-1<=-1,\"\",$J106-1)),\"\")","v":""},null,null,{"$f":"IFERROR(ProjectTimelineData[[#This Row],[NUM]]+1,\"\")","v":""},{"$f":"IFERROR(VLOOKUP(SortedTimeline[[#This Row],[RANK Sorted]],ProjectTimelineData[],3,0),\"\")","v":""},{"$f":"IFERROR(VLOOKUP(SortedTimeline[[#This Row],[RANK Sorted]],ProjectTimelineData[],4,0),\"\")","v":""},{"$f":"IFERROR(VLOOKUP(SortedTimeline[[#This Row],[RANK Sorted]],ProjectTimelineData[],5,0),\"\")","v":""}]
[{"$nulls":4},{"$f":"IFERROR(RANK(F108,ProjectTimelineData[RANK])+SUMPRODUCT(--(F108=ProjectTimelineData[RANK]),--(J108<ProjectTimelineData[NUM])),\"\")","v":""},{"$f":"IFERROR(RANK(ProjectTimelineData[[#This Row],[DATE]],ProjectTimelineData[DATE],1),\"\")","v":""},{"$f":"IFERROR(IF(ISBLANK(INDEX(ProjectDetails[#Data],Project_last_entry-Project_start_row-ProjectTimelineData[[#This Row],[NUM]]+1,1)),\"\",INDEX(ProjectDetails[#Data],Project_last_entry-Project_start_row-ProjectTimelineData[[#This Row],[NUM]]+1,1)),\"\")","v":""},{"$f":"IFERROR(IF(ISBLANK(INDEX(ProjectDetails[#Data],Project_last_entry-Project_start_row-ProjectTimelineData[[#This Row],[NUM]]+1,2)),\"\",INDEX(ProjectDetails[#Data],Project_last_entry-Project_start_row-ProjectTimelineData[[#This Row],[NUM]]+1,2)),\"\")","v":""},{"$f":"IFERROR(IF(ISBLANK(INDEX(ProjectDetails[#Data],Project_last_entry-Project_start_row-ProjectTimelineData[[#This Row],[NUM]]+1,3)),\"\",INDEX(ProjectDetails[#Data],Project_last_entry-Project_start_row-ProjectTimelineData[[#This Row],[NUM]]+1,3)),\"\")","v":""},{"$f":"IFERROR(IF(ISBLANK(INDEX(ProjectDetails[#Data],ROW(A103)+1,1)),\"\",IF($J107-1<=-1,\"\",$J107-1)),\"\")","v":""},null,null,{"$f":"IFERROR(ProjectTimelineData[[#This Row],[NUM]]+1,\"\")","v":""},{"$f":"IFERROR(VLOOKUP(SortedTimeline[[#This Row],[RANK Sorted]],ProjectTimelineData[],3,0),\"\")","v":""},{"$f":"IFERROR(VLOOKUP(SortedTimeline[[#This Row],[RANK Sorted]],ProjectTimelineData[],4,0),\"\")","v":""},{"$f":"IFERROR(VLOOKUP(SortedTimeline[[#This Row],[RANK Sorted]],ProjectTimelineData[],5,0),\"\")","v":""}]
[{"$nulls":4},{"$f":"IFERROR(RANK(F109,ProjectTimelineData[RANK])+SUMPRODUCT(--(F109=ProjectTimelineData[RANK]),--(J109<ProjectTimelineData[NUM])),\"\")","v":""},{"$f":"IFERROR(RANK(ProjectTimelineData[[#This Row],[DATE]],ProjectTimelineData[DATE],1),\"\")","v":""},{"$f":"IFERROR(IF(ISBLANK(INDEX(ProjectDetails[#Data],Project_last_entry-Project_start_row-ProjectTimelineData[[#This Row],[NUM]]+1,1)),\"\",INDEX(ProjectDetails[#Data],Project_last_entry-Project_start_row-ProjectTimelineData[[#This Row],[NUM]]+1,1)),\"\")","v":""},{"$f":"IFERROR(IF(ISBLANK(INDEX(ProjectDetails[#Data],Project_last_entry-Project_start_row-ProjectTimelineData[[#This Row],[NUM]]+1,2)),\"\",INDEX(ProjectDetails[#Data],Project_last_entry-Project_start_row-ProjectTimelineData[[#This Row],[NUM]]+1,2)),\"\")","v":""},{"$f":"IFERROR(IF(ISBLANK(INDEX(ProjectDetails[#Data],Project_last_entry-Project_start_row-ProjectTimelineData[[#This Row],[NUM]]+1,3)),\"\",INDEX(ProjectDetails[#Data],Project_last_entry-Project_start_row-ProjectTimelineData[[#This Row],[NUM]]+1,3)),\"\")","v":""},{"$f":"IFERROR(IF(ISBLANK(INDEX(ProjectDetails[#Data],ROW(A104)+1,1)),\"\",IF($J108-1<=-1,\"\",$J108-1)),\"\")","v":""},null,null,{"$f":"IFERROR(ProjectTimelineData[[#This Row],[NUM]]+1,\"\")","v":""},{"$f":"IFERROR(VLOOKUP(SortedTimeline[[#This Row],[RANK Sorted]],ProjectTimelineData[],3,0),\"\")","v":""},{"$f":"IFERROR(VLOOKUP(SortedTimeline[[#This Row],[RANK Sorted]],ProjectTimelineData[],4,0),\"\")","v":""},{"$f":"IFERROR(VLOOKUP(SortedTimeline[[#This Row],[RANK Sorted]],ProjectTimelineData[],5,0),\"\")","v":""}]
[{"$nulls":4},{"$f":"IFERROR(RANK(F110,ProjectTimelineData[RANK])+SUMPRODUCT(--(F110=ProjectTimelineData[RANK]),--(J110<ProjectTimelineData[NUM])),\"\")","v":""},{"$f":"IFERROR(RANK(ProjectTimelineData[[#This Row],[DATE]],ProjectTimelineData[DATE],1),\"\")","v":""},{"$f":"IFERROR(IF(ISBLANK(INDEX(ProjectDetails[#Data],Project_last_entry-Project_start_row-ProjectTimelineData[[#This Row],[NUM]]+1,1)),\"\",INDEX(ProjectDetails[#Data],Project_last_entry-Project_start_row-ProjectTimelineData[[#This Row],[NUM]]+1,1)),\"\")","v":""},{"$f":"IFERROR(IF(ISBLANK(INDEX(ProjectDetails[#Data],Project_last_entry-Project_start_row-ProjectTimelineData[[#This Row],[NUM]]+1,2)),\"\",INDEX(ProjectDetails[#Data],Project_last_entry-Project_start_row-ProjectTimelineData[[#This Row],[NUM]]+1,2)),\"\")","v":""},{"$f":"IFERROR(IF(ISBLANK(INDEX(ProjectDetails[#Data],Project_last_entry-Project_start_row-ProjectTimelineData[[#This Row],[NUM]]+1,3)),\"\",INDEX(ProjectDetails[#Data],Project_last_entry-Project_start_row-ProjectTimelineData[[#This Row],[NUM]]+1,3)),\"\")","v":""},{"$f":"IFERROR(IF(ISBLANK(INDEX(ProjectDetails[#Data],ROW(A105)+1,1)),\"\",IF($J109-1<=-1,\"\",$J109-1)),\"\")","v":""},null,null,{"$f":"IFERROR(ProjectTimelineData[[#This Row],[NUM]]+1,\"\")","v":""},{"$f":"IFERROR(VLOOKUP(SortedTimeline[[#This Row],[RANK Sorted]],ProjectTimelineData[],3,0),\"\")","v":""},{"$f":"IFERROR(VLOOKUP(SortedTimeline[[#This Row],[RANK Sorted]],ProjectTimelineData[],4,0),\"\")","v":""},{"$f":"IFERROR(VLOOKUP(SortedTimeline[[#This Row],[RANK Sorted]],ProjectTimelineData[],5,0),\"\")","v":""}]
[{"$nulls":4},{"$f":"IFERROR(RANK(F111,ProjectTimelineData[RANK])+SUMPRODUCT(--(F111=ProjectTimelineData[RANK]),--(J111<ProjectTimelineData[NUM])),\"\")","v":""},{"$f":"IFERROR(RANK(ProjectTimelineData[[#This Row],[DATE]],ProjectTimelineData[DATE],1),\"\")","v":""},{"$f":"IFERROR(IF(ISBLANK(INDEX(ProjectDetails[#Data],Project_last_entry-Project_start_row-ProjectTimelineData[[#This Row],[NUM]]+1,1)),\"\",INDEX(ProjectDetails[#Data],Project_last_entry-Project_start_row-ProjectTimelineData[[#This Row],[NUM]]+1,1)),\"\")","v":""},{"$f":"IFERROR(IF(ISBLANK(INDEX(ProjectDetails[#Data],Project_last_entry-Project_start_row-ProjectTimelineData[[#This Row],[NUM]]+1,2)),\"\",INDEX(ProjectDetails[#Data],Project_last_entry-Project_start_row-ProjectTimelineData[[#This Row],[NUM]]+1,2)),\"\")","v":""},{"$f":"IFERROR(IF(ISBLANK(INDEX(ProjectDetails[#Data],Project_last_entry-Project_start_row-ProjectTimelineData[[#This Row],[NUM]]+1,3)),\"\",INDEX(ProjectDetails[#Data],Project_last_entry-Project_start_row-ProjectTimelineData[[#This Row],[NUM]]+1,3)),\"\")","v":""},{"$f":"IFERROR(IF(ISBLANK(INDEX(ProjectDetails[#Data],ROW(A106)+1,1)),\"\",IF($J110-1<=-1,\"\",$J110-1)),\"\")","v":""},null,null,{"$f":"IFERROR(ProjectTimelineData[[#This Row],[NUM]]+1,\"\")","v":""},{"$f":"IFERROR(VLOOKUP(SortedTimeline[[#This Row],[RANK Sorted]],ProjectTimelineData[],3,0),\"\")","v":""},{"$f":"IFERROR(VLOOKUP(SortedTimeline[[#This Row],[RANK Sorted]],ProjectTimelineData[],4,0),\"\")","v":""},{"$f":"IFERROR(VLOOKUP(SortedTimeline[[#This Row],[RANK Sorted]],ProjectTimelineData[],5,0),\"\")","v":""}]
[{"$nulls":4},{"$f":"IFERROR(RANK(F112,ProjectTimelineData[RANK])+SUMPRODUCT(--(F112=ProjectTimelineData[RANK]),--(J112<ProjectTimelineData[NUM])),\"\")","v":""},{"$f":"IFERROR(RANK(ProjectTimelineData[[#This Row],[DATE]],ProjectTimelineData[DATE],1),\"\")","v":""},{"$f":"IFERROR(IF(ISBLANK(INDEX(ProjectDetails[#Data],Project_last_entry-Project_start_row-ProjectTimelineData[[#This Row],[NUM]]+1,1)),\"\",INDEX(ProjectDetails[#Data],Project_last_entry-Project_start_row-ProjectTimelineData[[#This Row],[NUM]]+1,1)),\"\")","v":""},{"$f":"IFERROR(IF(ISBLANK(INDEX(ProjectDetails[#Data],Project_last_entry-Project_start_row-ProjectTimelineData[[#This Row],[NUM]]+1,2)),\"\",INDEX(ProjectDetails[#Data],Project_last_entry-Project_start_row-ProjectTimelineData[[#This Row],[NUM]]+1,2)),\"\")","v":""},{"$f":"IFERROR(IF(ISBLANK(INDEX(ProjectDetails[#Data],Project_last_entry-Project_start_row-ProjectTimelineData[[#This Row],[NUM]]+1,3)),\"\",INDEX(ProjectDetails[#Data],Project_last_entry-Project_start_row-ProjectTimelineData[[#This Row],[NUM]]+1,3)),\"\")","v":""},{"$f":"IFERROR(IF(ISBLANK(INDEX(ProjectDetails[#Data],ROW(A107)+1,1)),\"\",IF($J111-1<=-1,\"\",$J111-1)),\"\")","v":""},null,null,{"$f":"IFERROR(ProjectTimelineData[[#This Row],[NUM]]+1,\"\")","v":""},{"$f":"IFERROR(VLOOKUP(SortedTimeline[[#This Row],[RANK Sorted]],ProjectTimelineData[],3,0),\"\")","v":""},{"$f":"IFERROR(VLOOKUP(SortedTimeline[[#This Row],[RANK Sorted]],ProjectTimelineData[],4,0),\"\")","v":""},{"$f":"IFERROR(VLOOKUP(SortedTimeline[[#This Row],[RANK Sorted]],ProjectTimelineData[],5,0),\"\")","v":""}]
[{"$nulls":4},{"$f":"IFERROR(RANK(F113,ProjectTimelineData[RANK])+SUMPRODUCT(--(F113=ProjectTimelineData[RANK]),--(J113<ProjectTimelineData[NUM])),\"\")","v":""},{"$f":"IFERROR(RANK(ProjectTimelineData[[#This Row],[DATE]],ProjectTimelineData[DATE],1),\"\")","v":""},{"$f":"IFERROR(IF(ISBLANK(INDEX(ProjectDetails[#Data],Project_last_entry-Project_start_row-ProjectTimelineData[[#This Row],[NUM]]+1,1)),\"\",INDEX(ProjectDetails[#Data],Project_last_entry-Project_start_row-ProjectTimelineData[[#This Row],[NUM]]+1,1)),\"\")","v":""},{"$f":"IFERROR(IF(ISBLANK(INDEX(ProjectDetails[#Data],Project_last_entry-Project_start_row-ProjectTimelineData[[#This Row],[NUM]]+1,2)),\"\",INDEX(ProjectDetails[#Data],Project_last_entry-Project_start_row-ProjectTimelineData[[#This Row],[NUM]]+1,2)),\"\")","v":""},{"$f":"IFERROR(IF(ISBLANK(INDEX(ProjectDetails[#Data],Project_last_entry-Project_start_row-ProjectTimelineData[[#This Row],[NUM]]+1,3)),\"\",INDEX(ProjectDetails[#Data],Project_last_entry-Project_start_row-ProjectTimelineData[[#This Row],[NUM]]+1,3)),\"\")","v":""},{"$f":"IFERROR(IF(ISBLANK(INDEX(ProjectDetails[#Data],ROW(A108)+1,1)),\"\",IF($J112-1<=-1,\"\",$J112-1)),\"\")","v":""},null,null,{"$f":"IFERROR(ProjectTimelineData[[#This Row],[NUM]]+1,\"\")","v":""},{"$f":"IFERROR(VLOOKUP(SortedTimeline[[#This Row],[RANK Sorted]],ProjectTimelineData[],3,0),\"\")","v":""},{"$f":"IFERROR(VLOOKUP(SortedTimeline[[#This Row],[RANK Sorted]],ProjectTimelineData[],4,0),\"\")","v":""},{"$f":"IFERROR(VLOOKUP(SortedTimeline[[#This Row],[RANK Sorted]],ProjectTimelineData[],5,0),\"\")","v":""}]
[{"$nulls":4},{"$f":"IFERROR(RANK(F114,ProjectTimelineData[RANK])+SUMPRODUCT(--(F114=ProjectTimelineData[RANK]),--(J114<ProjectTimelineData[NUM])),\"\")","v":""},{"$f":"IFERROR(RANK(ProjectTimelineData[[#This Row],[DATE]],ProjectTimelineData[DATE],1),\"\")","v":""},{"$f":"IFERROR(IF(ISBLANK(INDEX(ProjectDetails[#Data],Project_last_entry-Project_start_row-ProjectTimelineData[[#This Row],[NUM]]+1,1)),\"\",INDEX(ProjectDetails[#Data],Project_last_entry-Project_start_row-ProjectTimelineData[[#This Row],[NUM]]+1,1)),\"\")","v":""},{"$f":"IFERROR(IF(ISBLANK(INDEX(ProjectDetails[#Data],Project_last_entry-Project_start_row-ProjectTimelineData[[#This Row],[NUM]]+1,2)),\"\",INDEX(ProjectDetails[#Data],Project_last_entry-Project_start_row-ProjectTimelineData[[#This Row],[NUM]]+1,2)),\"\")","v":""},{"$f":"IFERROR(IF(ISBLANK(INDEX(ProjectDetails[#Data],Project_last_entry-Project_start_row-ProjectTimelineData[[#This Row],[NUM]]+1,3)),\"\",INDEX(ProjectDetails[#Data],Project_last_entry-Project_start_row-ProjectTimelineData[[#This Row],[NUM]]+1,3)),\"\")","v":""},{"$f":"IFERROR(IF(ISBLANK(INDEX(ProjectDetails[#Data],ROW(A109)+1,1)),\"\",IF($J113-1<=-1,\"\",$J113-1)),\"\")","v":""},null,null,{"$f":"IFERROR(ProjectTimelineData[[#This Row],[NUM]]+1,\"\")","v":""},{"$f":"IFERROR(VLOOKUP(SortedTimeline[[#This Row],[RANK Sorted]],ProjectTimelineData[],3,0),\"\")","v":""},{"$f":"IFERROR(VLOOKUP(SortedTimeline[[#This Row],[RANK Sorted]],ProjectTimelineData[],4,0),\"\")","v":""},{"$f":"IFERROR(VLOOKUP(SortedTimeline[[#This Row],[RANK Sorted]],ProjectTimelineData[],5,0),\"\")","v":""}]
[{"$nulls":4},{"$f":"IFERROR(RANK(F115,ProjectTimelineData[RANK])+SUMPRODUCT(--(F115=ProjectTimelineData[RANK]),--(J115<ProjectTimelineData[NUM])),\"\")","v":""},{"$f":"IFERROR(RANK(ProjectTimelineData[[#This Row],[DATE]],ProjectTimelineData[DATE],1),\"\")","v":""},{"$f":"IFERROR(IF(ISBLANK(INDEX(ProjectDetails[#Data],Project_last_entry-Project_start_row-ProjectTimelineData[[#This Row],[NUM]]+1,1)),\"\",INDEX(ProjectDetails[#Data],Project_last_entry-Project_start_row-ProjectTimelineData[[#This Row],[NUM]]+1,1)),\"\")","v":""},{"$f":"IFERROR(IF(ISBLANK(INDEX(ProjectDetails[#Data],Project_last_entry-Project_start_row-ProjectTimelineData[[#This Row],[NUM]]+1,2)),\"\",INDEX(ProjectDetails[#Data],Project_last_entry-Project_start_row-ProjectTimelineData[[#This Row],[NUM]]+1,2)),\"\")","v":""},{"$f":"IFERROR(IF(ISBLANK(INDEX(ProjectDetails[#Data],Project_last_entry-Project_start_row-ProjectTimelineData[[#This Row],[NUM]]+1,3)),\"\",INDEX(ProjectDetails[#Data],Project_last_entry-Project_start_row-ProjectTimelineData[[#This Row],[NUM]]+1,3)),\"\")","v":""},{"$f":"IFERROR(IF(ISBLANK(INDEX(ProjectDetails[#Data],ROW(A110)+1,1)),\"\",IF($J114-1<=-1,\"\",$J114-1)),\"\")","v":""},null,null,{"$f":"IFERROR(ProjectTimelineData[[#This Row],[NUM]]+1,\"\")","v":""},{"$f":"IFERROR(VLOOKUP(SortedTimeline[[#This Row],[RANK Sorted]],ProjectTimelineData[],3,0),\"\")","v":""},{"$f":"IFERROR(VLOOKUP(SortedTimeline[[#This Row],[RANK Sorted]],ProjectTimelineData[],4,0),\"\")","v":""},{"$f":"IFERROR(VLOOKUP(SortedTimeline[[#This Row],[RANK Sorted]],ProjectTimelineData[],5,0),\"\")","v":""}]
[{"$nulls":4},{"$f":"IFERROR(RANK(F116,ProjectTimelineData[RANK])+SUMPRODUCT(--(F116=ProjectTimelineData[RANK]),--(J116<ProjectTimelineData[NUM])),\"\")","v":""},{"$f":"IFERROR(RANK(ProjectTimelineData[[#This Row],[DATE]],ProjectTimelineData[DATE],1),\"\")","v":""},{"$f":"IFERROR(IF(ISBLANK(INDEX(ProjectDetails[#Data],Project_last_entry-Project_start_row-ProjectTimelineData[[#This Row],[NUM]]+1,1)),\"\",INDEX(ProjectDetails[#Data],Project_last_entry-Project_start_row-ProjectTimelineData[[#This Row],[NUM]]+1,1)),\"\")","v":""},{"$f":"IFERROR(IF(ISBLANK(INDEX(ProjectDetails[#Data],Project_last_entry-Project_start_row-ProjectTimelineData[[#This Row],[NUM]]+1,2)),\"\",INDEX(ProjectDetails[#Data],Project_last_entry-Project_start_row-ProjectTimelineData[[#This Row],[NUM]]+1,2)),\"\")","v":""},{"$f":"IFERROR(IF(ISBLANK(INDEX(ProjectDetails[#Data],Project_last_entry-Project_start_row-ProjectTimelineData[[#This Row],[NUM]]+1,3)),\"\",INDEX(ProjectDetails[#Data],Project_last_entry-Project_start_row-ProjectTimelineData[[#This Row],[NUM]]+1,3)),\"\")","v":""},{"$f":"IFERROR(IF(ISBLANK(INDEX(ProjectDetails[#Data],ROW(A111)+1,1)),\"\",IF($J115-1<=-1,\"\",$J115-1)),\"\")","v":""},null,null,{"$f":"IFERROR(ProjectTimelineData[[#This Row],[NUM]]+1,\"\")","v":""},{"$f":"IFERROR(VLOOKUP(SortedTimeline[[#This Row],[RANK Sorted]],ProjectTimelineData[],3,0),\"\")","v":""},{"$f":"IFERROR(VLOOKUP(SortedTimeline[[#This Row],[RANK Sorted]],ProjectTimelineData[],4,0),\"\")","v":""},{"$f":"IFERROR(VLOOKUP(SortedTimeline[[#This Row],[RANK Sorted]],ProjectTimelineData[],5,0),\"\")","v":""}]
[{"$nulls":4},{"$f":"IFERROR(RANK(F117,ProjectTimelineData[RANK])+SUMPRODUCT(--(F117=ProjectTimelineData[RANK]),--(J117<ProjectTimelineData[NUM])),\"\")","v":""},{"$f":"IFERROR(RANK(ProjectTimelineData[[#This Row],[DATE]],ProjectTimelineData[DATE],1),\"\")","v":""},{"$f":"IFERROR(IF(ISBLANK(INDEX(ProjectDetails[#Data],Project_last_entry-Project_start_row-ProjectTimelineData[[#This Row],[NUM]]+1,1)),\"\",INDEX(ProjectDetails[#Data],Project_last_entry-Project_start_row-ProjectTimelineData[[#This Row],[NUM]]+1,1)),\"\")","v":""},{"$f":"IFERROR(IF(ISBLANK(INDEX(ProjectDetails[#Data],Project_last_entry-Project_start_row-ProjectTimelineData[[#This Row],[NUM]]+1,2)),\"\",INDEX(ProjectDetails[#Data],Project_last_entry-Project_start_row-ProjectTimelineData[[#This Row],[NUM]]+1,2)),\"\")","v":""},{"$f":"IFERROR(IF(ISBLANK(INDEX(ProjectDetails[#Data],Project_last_entry-Project_start_row-ProjectTimelineData[[#This Row],[NUM]]+1,3)),\"\",INDEX(ProjectDetails[#Data],Project_last_entry-Project_start_row-ProjectTimelineData[[#This Row],[NUM]]+1,3)),\"\")","v":""},{"$f":"IFERROR(IF(ISBLANK(INDEX(ProjectDetails[#Data],ROW(A112)+1,1)),\"\",IF($J116-1<=-1,\"\",$J116-1)),\"\")","v":""},null,null,{"$f":"IFERROR(ProjectTimelineData[[#This Row],[NUM]]+1,\"\")","v":""},{"$f":"IFERROR(VLOOKUP(SortedTimeline[[#This Row],[RANK Sorted]],ProjectTimelineData[],3,0),\"\")","v":""},{"$f":"IFERROR(VLOOKUP(SortedTimeline[[#This Row],[RANK Sorted]],ProjectTimelineData[],4,0),\"\")","v":""},{"$f":"IFERROR(VLOOKUP(SortedTimeline[[#This Row],[RANK Sorted]],ProjectTimelineData[],5,0),\"\")","v":""}]
[{"$nulls":4},{"$f":"IFERROR(RANK(F118,ProjectTimelineData[RANK])+SUMPRODUCT(--(F118=ProjectTimelineData[RANK]),--(J118<ProjectTimelineData[NUM])),\"\")","v":""},{"$f":"IFERROR(RANK(ProjectTimelineData[[#This Row],[DATE]],ProjectTimelineData[DATE],1),\"\")","v":""},{"$f":"IFERROR(IF(ISBLANK(INDEX(ProjectDetails[#Data],Project_last_entry-Project_start_row-ProjectTimelineData[[#This Row],[NUM]]+1,1)),\"\",INDEX(ProjectDetails[#Data],Project_last_entry-Project_start_row-ProjectTimelineData[[#This Row],[NUM]]+1,1)),\"\")","v":""},{"$f":"IFERROR(IF(ISBLANK(INDEX(ProjectDetails[#Data],Project_last_entry-Project_start_row-ProjectTimelineData[[#This Row],[NUM]]+1,2)),\"\",INDEX(ProjectDetails[#Data],Project_last_entry-Project_start_row-ProjectTimelineData[[#This Row],[NUM]]+1,2)),\"\")","v":""},{"$f":"IFERROR(IF(ISBLANK(INDEX(ProjectDetails[#Data],Project_last_entry-Project_start_row-ProjectTimelineData[[#This Row],[NUM]]+1,3)),\"\",INDEX(ProjectDetails[#Data],Project_last_entry-Project_start_row-ProjectTimelineData[[#This Row],[NUM]]+1,3)),\"\")","v":""},{"$f":"IFERROR(IF(ISBLANK(INDEX(ProjectDetails[#Data],ROW(A113)+1,1)),\"\",IF($J117-1<=-1,\"\",$J117-1)),\"\")","v":""},null,null,{"$f":"IFERROR(ProjectTimelineData[[#This Row],[NUM]]+1,\"\")","v":""},{"$f":"IFERROR(VLOOKUP(SortedTimeline[[#This Row],[RANK Sorted]],ProjectTimelineData[],3,0),\"\")","v":""},{"$f":"IFERROR(VLOOKUP(SortedTimeline[[#This Row],[RANK Sorted]],ProjectTimelineData[],4,0),\"\")","v":""},{"$f":"IFERROR(VLOOKUP(SortedTimeline[[#This Row],[RANK Sorted]],ProjectTimelineData[],5,0),\"\")","v":""}]
[{"$nulls":4},{"$f":"IFERROR(RANK(F119,ProjectTimelineData[RANK])+SUMPRODUCT(--(F119=ProjectTimelineData[RANK]),--(J119<ProjectTimelineData[NUM])),\"\")","v":""},{"$f":"IFERROR(RANK(ProjectTimelineData[[#This Row],[DATE]],ProjectTimelineData[DATE],1),\"\")","v":""},{"$f":"IFERROR(IF(ISBLANK(INDEX(ProjectDetails[#Data],Project_last_entry-Project_start_row-ProjectTimelineData[[#This Row],[NUM]]+1,1)),\"\",INDEX(ProjectDetails[#Data],Project_last_entry-Project_start_row-ProjectTimelineData[[#This Row],[NUM]]+1,1)),\"\")","v":""},{"$f":"IFERROR(IF(ISBLANK(INDEX(ProjectDetails[#Data],Project_last_entry-Project_start_row-ProjectTimelineData[[#This Row],[NUM]]+1,2)),\"\",INDEX(ProjectDetails[#Data],Project_last_entry-Project_start_row-ProjectTimelineData[[#This Row],[NUM]]+1,2)),\"\")","v":""},{"$f":"IFERROR(IF(ISBLANK(INDEX(ProjectDetails[#Data],Project_last_entry-Project_start_row-ProjectTimelineData[[#This Row],[NUM]]+1,3)),\"\",INDEX(ProjectDetails[#Data],Project_last_entry-Project_start_row-ProjectTimelineData[[#This Row],[NUM]]+1,3)),\"\")","v":""},{"$f":"IFERROR(IF(ISBLANK(INDEX(ProjectDetails[#Data],ROW(A114)+1,1)),\"\",IF($J118-1<=-1,\"\",$J118-1)),\"\")","v":""},null,null,{"$f":"IFERROR(ProjectTimelineData[[#This Row],[NUM]]+1,\"\")","v":""},{"$f":"IFERROR(VLOOKUP(SortedTimeline[[#This Row],[RANK Sorted]],ProjectTimelineData[],3,0),\"\")","v":""},{"$f":"IFERROR(VLOOKUP(SortedTimeline[[#This Row],[RANK Sorted]],ProjectTimelineData[],4,0),\"\")","v":""},{"$f":"IFERROR(VLOOKUP(SortedTimeline[[#This Row],[RANK Sorted]],ProjectTimelineData[],5,0),\"\")","v":""}]
[{"$nulls":4},{"$f":"IFERROR(RANK(F120,ProjectTimelineData[RANK])+SUMPRODUCT(--(F120=ProjectTimelineData[RANK]),--(J120<ProjectTimelineData[NUM])),\"\")","v":""},{"$f":"IFERROR(RANK(ProjectTimelineData[[#This Row],[DATE]],ProjectTimelineData[DATE],1),\"\")","v":""},{"$f":"IFERROR(IF(ISBLANK(INDEX(ProjectDetails[#Data],Project_last_entry-Project_start_row-ProjectTimelineData[[#This Row],[NUM]]+1,1)),\"\",INDEX(ProjectDetails[#Data],Project_last_entry-Project_start_row-ProjectTimelineData[[#This Row],[NUM]]+1,1)),\"\")","v":""},{"$f":"IFERROR(IF(ISBLANK(INDEX(ProjectDetails[#Data],Project_last_entry-Project_start_row-ProjectTimelineData[[#This Row],[NUM]]+1,2)),\"\",INDEX(ProjectDetails[#Data],Project_last_entry-Project_start_row-ProjectTimelineData[[#This Row],[NUM]]+1,2)),\"\")","v":""},{"$f":"IFERROR(IF(ISBLANK(INDEX(ProjectDetails[#Data],Project_last_entry-Project_start_row-ProjectTimelineData[[#This Row],[NUM]]+1,3)),\"\",INDEX(ProjectDetails[#Data],Project_last_entry-Project_start_row-ProjectTimelineData[[#This Row],[NUM]]+1,3)),\"\")","v":""},{"$f":"IFERROR(IF(ISBLANK(INDEX(ProjectDetails[#Data],ROW(A115)+1,1)),\"\",IF($J119-1<=-1,\"\",$J119-1)),\"\")","v":""},null,null,{"$f":"IFERROR(ProjectTimelineData[[#This Row],[NUM]]+1,\"\")","v":""},{"$f":"IFERROR(VLOOKUP(SortedTimeline[[#This Row],[RANK Sorted]],ProjectTimelineData[],3,0),\"\")","v":""},{"$f":"IFERROR(VLOOKUP(SortedTimeline[[#This Row],[RANK Sorted]],ProjectTimelineData[],4,0),\"\")","v":""},{"$f":"IFERROR(VLOOKUP(SortedTimeline[[#This Row],[RANK Sorted]],ProjectTimelineData[],5,0),\"\")","v":""}]
[{"$nulls":4},{"$f":"IFERROR(RANK(F121,ProjectTimelineData[RANK])+SUMPRODUCT(--(F121=ProjectTimelineData[RANK]),--(J121<ProjectTimelineData[NUM])),\"\")","v":""},{"$f":"IFERROR(RANK(ProjectTimelineData[[#This Row],[DATE]],ProjectTimelineData[DATE],1),\"\")","v":""},{"$f":"IFERROR(IF(ISBLANK(INDEX(ProjectDetails[#Data],Project_last_entry-Project_start_row-ProjectTimelineData[[#This Row],[NUM]]+1,1)),\"\",INDEX(ProjectDetails[#Data],Project_last_entry-Project_start_row-ProjectTimelineData[[#This Row],[NUM]]+1,1)),\"\")","v":""},{"$f":"IFERROR(IF(ISBLANK(INDEX(ProjectDetails[#Data],Project_last_entry-Project_start_row-ProjectTimelineData[[#This Row],[NUM]]+1,2)),\"\",INDEX(ProjectDetails[#Data],Project_last_entry-Project_start_row-ProjectTimelineData[[#This Row],[NUM]]+1,2)),\"\")","v":""},{"$f":"IFERROR(IF(ISBLANK(INDEX(ProjectDetails[#Data],Project_last_entry-Project_start_row-ProjectTimelineData[[#This Row],[NUM]]+1,3)),\"\",INDEX(ProjectDetails[#Data],Project_last_entry-Project_start_row-ProjectTimelineData[[#This Row],[NUM]]+1,3)),\"\")","v":""},{"$f":"IFERROR(IF(ISBLANK(INDEX(ProjectDetails[#Data],ROW(A116)+1,1)),\"\",IF($J120-1<=-1,\"\",$J120-1)),\"\")","v":""},null,null,{"$f":"IFERROR(ProjectTimelineData[[#This Row],[NUM]]+1,\"\")","v":""},{"$f":"IFERROR(VLOOKUP(SortedTimeline[[#This Row],[RANK Sorted]],ProjectTimelineData[],3,0),\"\")","v":""},{"$f":"IFERROR(VLOOKUP(SortedTimeline[[#This Row],[RANK Sorted]],ProjectTimelineData[],4,0),\"\")","v":""},{"$f":"IFERROR(VLOOKUP(SortedTimeline[[#This Row],[RANK Sorted]],ProjectTimelineData[],5,0),\"\")","v":""}]
[{"$nulls":4},{"$f":"IFERROR(RANK(F122,ProjectTimelineData[RANK])+SUMPRODUCT(--(F122=ProjectTimelineData[RANK]),--(J122<ProjectTimelineData[NUM])),\"\")","v":""},{"$f":"IFERROR(RANK(ProjectTimelineData[[#This Row],[DATE]],ProjectTimelineData[DATE],1),\"\")","v":""},{"$f":"IFERROR(IF(ISBLANK(INDEX(ProjectDetails[#Data],Project_last_entry-Project_start_row-ProjectTimelineData[[#This Row],[NUM]]+1,1)),\"\",INDEX(ProjectDetails[#Data],Project_last_entry-Project_start_row-ProjectTimelineData[[#This Row],[NUM]]+1,1)),\"\")","v":""},{"$f":"IFERROR(IF(ISBLANK(INDEX(ProjectDetails[#Data],Project_last_entry-Project_start_row-ProjectTimelineData[[#This Row],[NUM]]+1,2)),\"\",INDEX(ProjectDetails[#Data],Project_last_entry-Project_start_row-ProjectTimelineData[[#This Row],[NUM]]+1,2)),\"\")","v":""},{"$f":"IFERROR(IF(ISBLANK(INDEX(ProjectDetails[#Data],Project_last_entry-Project_start_row-ProjectTimelineData[[#This Row],[NUM]]+1,3)),\"\",INDEX(ProjectDetails[#Data],Project_last_entry-Project_start_row-ProjectTimelineData[[#This Row],[NUM]]+1,3)),\"\")","v":""},{"$f":"IFERROR(IF(ISBLANK(INDEX(ProjectDetails[#Data],ROW(A117)+1,1)),\"\",IF($J121-1<=-1,\"\",$J121-1)),\"\")","v":""},null,null,{"$f":"IFERROR(ProjectTimelineData[[#This Row],[NUM]]+1,\"\")","v":""},{"$f":"IFERROR(VLOOKUP(SortedTimeline[[#This Row],[RANK Sorted]],ProjectTimelineData[],3,0),\"\")","v":""},{"$f":"IFERROR(VLOOKUP(SortedTimeline[[#This Row],[RANK Sorted]],ProjectTimelineData[],4,0),\"\")","v":""},{"$f":"IFERROR(VLOOKUP(SortedTimeline[[#This Row],[RANK Sorted]],ProjectTimelineData[],5,0),\"\")","v":""}]
[{"$nulls":4},{"$f":"IFERROR(RANK(F123,ProjectTimelineData[RANK])+SUMPRODUCT(--(F123=ProjectTimelineData[RANK]),--(J123<ProjectTimelineData[NUM])),\"\")","v":""},{"$f":"IFERROR(RANK(ProjectTimelineData[[#This Row],[DATE]],ProjectTimelineData[DATE],1),\"\")","v":""},{"$f":"IFERROR(IF(ISBLANK(INDEX(ProjectDetails[#Data],Project_last_entry-Project_start_row-ProjectTimelineData[[#This Row],[NUM]]+1,1)),\"\",INDEX(ProjectDetails[#Data],Project_last_entry-Project_start_row-ProjectTimelineData[[#This Row],[NUM]]+1,1)),\"\")","v":""},{"$f":"IFERROR(IF(ISBLANK(INDEX(ProjectDetails[#Data],Project_last_entry-Project_start_row-ProjectTimelineData[[#This Row],[NUM]]+1,2)),\"\",INDEX(ProjectDetails[#Data],Project_last_entry-Project_start_row-ProjectTimelineData[[#This Row],[NUM]]+1,2)),\"\")","v":""},{"$f":"IFERROR(IF(ISBLANK(INDEX(ProjectDetails[#Data],Project_last_entry-Project_start_row-ProjectTimelineData[[#This Row],[NUM]]+1,3)),\"\",INDEX(ProjectDetails[#Data],Project_last_entry-Project_start_row-ProjectTimelineData[[#This Row],[NUM]]+1,3)),\"\")","v":""},{"$f":"IFERROR(IF(ISBLANK(INDEX(ProjectDetails[#Data],ROW(A118)+1,1)),\"\",IF($J122-1<=-1,\"\",$J122-1)),\"\")","v":""},null,null,{"$f":"IFERROR(ProjectTimelineData[[#This Row],[NUM]]+1,\"\")","v":""},{"$f":"IFERROR(VLOOKUP(SortedTimeline[[#This Row],[RANK Sorted]],ProjectTimelineData[],3,0),\"\")","v":""},{"$f":"IFERROR(VLOOKUP(SortedTimeline[[#This Row],[RANK Sorted]],ProjectTimelineData[],4,0),\"\")","v":""},{"$f":"IFERROR(VLOOKUP(SortedTimeline[[#This Row],[RANK Sorted]],ProjectTimelineData[],5,0),\"\")","v":""}]
[{"$nulls":4},{"$f":"IFERROR(RANK(F124,ProjectTimelineData[RANK])+SUMPRODUCT(--(F124=ProjectTimelineData[RANK]),--(J124<ProjectTimelineData[NUM])),\"\")","v":""},{"$f":"IFERROR(RANK(ProjectTimelineData[[#This Row],[DATE]],ProjectTimelineData[DATE],1),\"\")","v":""},{"$f":"IFERROR(IF(ISBLANK(INDEX(ProjectDetails[#Data],Project_last_entry-Project_start_row-ProjectTimelineData[[#This Row],[NUM]]+1,1)),\"\",INDEX(ProjectDetails[#Data],Project_last_entry-Project_start_row-ProjectTimelineData[[#This Row],[NUM]]+1,1)),\"\")","v":""},{"$f":"IFERROR(IF(ISBLANK(INDEX(ProjectDetails[#Data],Project_last_entry-Project_start_row-ProjectTimelineData[[#This Row],[NUM]]+1,2)),\"\",INDEX(ProjectDetails[#Data],Project_last_entry-Project_start_row-ProjectTimelineData[[#This Row],[NUM]]+1,2)),\"\")","v":""},{"$f":"IFERROR(IF(ISBLANK(INDEX(ProjectDetails[#Data],Project_last_entry-Project_start_row-ProjectTimelineData[[#This Row],[NUM]]+1,3)),\"\",INDEX(ProjectDetails[#Data],Project_last_entry-Project_start_row-ProjectTimelineData[[#This Row],[NUM]]+1,3)),\"\")","v":""},{"$f":"IFERROR(IF(ISBLANK(INDEX(ProjectDetails[#Data],ROW(A119)+1,1)),\"\",IF($J123-1<=-1,\"\",$J123-1)),\"\")","v":""},null,null,{"$f":"IFERROR(ProjectTimelineData[[#This Row],[NUM]]+1,\"\")","v":""},{"$f":"IFERROR(VLOOKUP(SortedTimeline[[#This Row],[RANK Sorted]],ProjectTimelineData[],3,0),\"\")","v":""},{"$f":"IFERROR(VLOOKUP(SortedTimeline[[#This Row],[RANK Sorted]],ProjectTimelineData[],4,0),\"\")","v":""},{"$f":"IFERROR(VLOOKUP(SortedTimeline[[#This Row],[RANK Sorted]],ProjectTimelineData[],5,0),\"\")","v":""}]
[{"$nulls":4},{"$f":"IFERROR(RANK(F125,ProjectTimelineData[RANK])+SUMPRODUCT(--(F125=ProjectTimelineData[RANK]),--(J125<ProjectTimelineData[NUM])),\"\")","v":""},{"$f":"IFERROR(RANK(ProjectTimelineData[[#This Row],[DATE]],ProjectTimelineData[DATE],1),\"\")","v":""},{"$f":"IFERROR(IF(ISBLANK(INDEX(ProjectDetails[#Data],Project_last_entry-Project_start_row-ProjectTimelineData[[#This Row],[NUM]]+1,1)),\"\",INDEX(ProjectDetails[#Data],Project_last_entry-Project_start_row-ProjectTimelineData[[#This Row],[NUM]]+1,1)),\"\")","v":""},{"$f":"IFERROR(IF(ISBLANK(INDEX(ProjectDetails[#Data],Project_last_entry-Project_start_row-ProjectTimelineData[[#This Row],[NUM]]+1,2)),\"\",INDEX(ProjectDetails[#Data],Project_last_entry-Project_start_row-ProjectTimelineData[[#This Row],[NUM]]+1,2)),\"\")","v":""},{"$f":"IFERROR(IF(ISBLANK(INDEX(ProjectDetails[#Data],Project_last_entry-Project_start_row-ProjectTimelineData[[#This Row],[NUM]]+1,3)),\"\",INDEX(ProjectDetails[#Data],Project_last_entry-Project_start_row-ProjectTimelineData[[#This Row],[NUM]]+1,3)),\"\")","v":""},{"$f":"IFERROR(IF(ISBLANK(INDEX(ProjectDetails[#Data],ROW(A120)+1,1)),\"\",IF($J124-1<=-1,\"\",$J124-1)),\"\")","v":""},null,null,{"$f":"IFERROR(ProjectTimelineData[[#This Row],[NUM]]+1,\"\")","v":""},{"$f":"IFERROR(VLOOKUP(SortedTimeline[[#This Row],[RANK Sorted]],ProjectTimelineData[],3,0),\"\")","v":""},{"$f":"IFERROR(VLOOKUP(SortedTimeline[[#This Row],[RANK Sorted]],ProjectTimelineData[],4,0),\"\")","v":""},{"$f":"IFERROR(VLOOKUP(SortedTimeline[[#This Row],[RANK Sorted]],ProjectTimelineData[],5,0),\"\")","v":""}]
[{"$nulls":4},{"$f":"IFERROR(RANK(F126,ProjectTimelineData[RANK])+SUMPRODUCT(--(F126=ProjectTimelineData[RANK]),--(J126<ProjectTimelineData[NUM])),\"\")","v":""},{"$f":"IFERROR(RANK(ProjectTimelineData[[#This Row],[DATE]],ProjectTimelineData[DATE],1),\"\")","v":""},{"$f":"IFERROR(IF(ISBLANK(INDEX(ProjectDetails[#Data],Project_last_entry-Project_start_row-ProjectTimelineData[[#This Row],[NUM]]+1,1)),\"\",INDEX(ProjectDetails[#Data],Project_last_entry-Project_start_row-ProjectTimelineData[[#This Row],[NUM]]+1,1)),\"\")","v":""},{"$f":"IFERROR(IF(ISBLANK(INDEX(ProjectDetails[#Data],Project_last_entry-Project_start_row-ProjectTimelineData[[#This Row],[NUM]]+1,2)),\"\",INDEX(ProjectDetails[#Data],Project_last_entry-Project_start_row-ProjectTimelineData[[#This Row],[NUM]]+1,2)),\"\")","v":""},{"$f":"IFERROR(IF(ISBLANK(INDEX(ProjectDetails[#Data],Project_last_entry-Project_start_row-ProjectTimelineData[[#This Row],[NUM]]+1,3)),\"\",INDEX(ProjectDetails[#Data],Project_last_entry-Project_start_row-ProjectTimelineData[[#This Row],[NUM]]+1,3)),\"\")","v":""},{"$f":"IFERROR(IF(ISBLANK(INDEX(ProjectDetails[#Data],ROW(A121)+1,1)),\"\",IF($J125-1<=-1,\"\",$J125-1)),\"\")","v":""},null,null,{"$f":"IFERROR(ProjectTimelineData[[#This Row],[NUM]]+1,\"\")","v":""},{"$f":"IFERROR(VLOOKUP(SortedTimeline[[#This Row],[RANK Sorted]],ProjectTimelineData[],3,0),\"\")","v":""},{"$f":"IFERROR(VLOOKUP(SortedTimeline[[#This Row],[RANK Sorted]],ProjectTimelineData[],4,0),\"\")","v":""},{"$f":"IFERROR(VLOOKUP(SortedTimeline[[#This Row],[RANK Sorted]],ProjectTimelineData[],5,0),\"\")","v":""}]
[{"$nulls":4},{"$f":"IFERROR(RANK(F127,ProjectTimelineData[RANK])+SUMPRODUCT(--(F127=ProjectTimelineData[RANK]),--(J127<ProjectTimelineData[NUM])),\"\")","v":""},{"$f":"IFERROR(RANK(ProjectTimelineData[[#This Row],[DATE]],ProjectTimelineData[DATE],1),\"\")","v":""},{"$f":"IFERROR(IF(ISBLANK(INDEX(ProjectDetails[#Data],Project_last_entry-Project_start_row-ProjectTimelineData[[#This Row],[NUM]]+1,1)),\"\",INDEX(ProjectDetails[#Data],Project_last_entry-Project_start_row-ProjectTimelineData[[#This Row],[NUM]]+1,1)),\"\")","v":""},{"$f":"IFERROR(IF(ISBLANK(INDEX(ProjectDetails[#Data],Project_last_entry-Project_start_row-ProjectTimelineData[[#This Row],[NUM]]+1,2)),\"\",INDEX(ProjectDetails[#Data],Project_last_entry-Project_start_row-ProjectTimelineData[[#This Row],[NUM]]+1,2)),\"\")","v":""},{"$f":"IFERROR(IF(ISBLANK(INDEX(ProjectDetails[#Data],Project_last_entry-Project_start_row-ProjectTimelineData[[#This Row],[NUM]]+1,3)),\"\",INDEX(ProjectDetails[#Data],Project_last_entry-Project_start_row-ProjectTimelineData[[#This Row],[NUM]]+1,3)),\"\")","v":""},{"$f":"IFERROR(IF(ISBLANK(INDEX(ProjectDetails[#Data],ROW(A122)+1,1)),\"\",IF($J126-1<=-1,\"\",$J126-1)),\"\")","v":""},null,null,{"$f":"IFERROR(ProjectTimelineData[[#This Row],[NUM]]+1,\"\")","v":""},{"$f":"IFERROR(VLOOKUP(SortedTimeline[[#This Row],[RANK Sorted]],ProjectTimelineData[],3,0),\"\")","v":""},{"$f":"IFERROR(VLOOKUP(SortedTimeline[[#This Row],[RANK Sorted]],ProjectTimelineData[],4,0),\"\")","v":""},{"$f":"IFERROR(VLOOKUP(SortedTimeline[[#This Row],[RANK Sorted]],ProjectTimelineData[],5,0),\"\")","v":""}]
[{"$nulls":4},{"$f":"IFERROR(RANK(F128,ProjectTimelineData[RANK])+SUMPRODUCT(--(F128=ProjectTimelineData[RANK]),--(J128<ProjectTimelineData[NUM])),\"\")","v":""},{"$f":"IFERROR(RANK(ProjectTimelineData[[#This Row],[DATE]],ProjectTimelineData[DATE],1),\"\")","v":""},{"$f":"IFERROR(IF(ISBLANK(INDEX(ProjectDetails[#Data],Project_last_entry-Project_start_row-ProjectTimelineData[[#This Row],[NUM]]+1,1)),\"\",INDEX(ProjectDetails[#Data],Project_last_entry-Project_start_row-ProjectTimelineData[[#This Row],[NUM]]+1,1)),\"\")","v":""},{"$f":"IFERROR(IF(ISBLANK(INDEX(ProjectDetails[#Data],Project_last_entry-Project_start_row-ProjectTimelineData[[#This Row],[NUM]]+1,2)),\"\",INDEX(ProjectDetails[#Data],Project_last_entry-Project_start_row-ProjectTimelineData[[#This Row],[NUM]]+1,2)),\"\")","v":""},{"$f":"IFERROR(IF(ISBLANK(INDEX(ProjectDetails[#Data],Project_last_entry-Project_start_row-ProjectTimelineData[[#This Row],[NUM]]+1,3)),\"\",INDEX(ProjectDetails[#Data],Project_last_entry-Project_start_row-ProjectTimelineData[[#This Row],[NUM]]+1,3)),\"\")","v":""},{"$f":"IFERROR(IF(ISBLANK(INDEX(ProjectDetails[#Data],ROW(A123)+1,1)),\"\",IF($J127-1<=-1,\"\",$J127-1)),\"\")","v":""},null,null,{"$f":"IFERROR(ProjectTimelineData[[#This Row],[NUM]]+1,\"\")","v":""},{"$f":"IFERROR(VLOOKUP(SortedTimeline[[#This Row],[RANK Sorted]],ProjectTimelineData[],3,0),\"\")","v":""},{"$f":"IFERROR(VLOOKUP(SortedTimeline[[#This Row],[RANK Sorted]],ProjectTimelineData[],4,0),\"\")","v":""},{"$f":"IFERROR(VLOOKUP(SortedTimeline[[#This Row],[RANK Sorted]],ProjectTimelineData[],5,0),\"\")","v":""}]
[{"$nulls":4},{"$f":"IFERROR(RANK(F129,ProjectTimelineData[RANK])+SUMPRODUCT(--(F129=ProjectTimelineData[RANK]),--(J129<ProjectTimelineData[NUM])),\"\")","v":""},{"$f":"IFERROR(RANK(ProjectTimelineData[[#This Row],[DATE]],ProjectTimelineData[DATE],1),\"\")","v":""},{"$f":"IFERROR(IF(ISBLANK(INDEX(ProjectDetails[#Data],Project_last_entry-Project_start_row-ProjectTimelineData[[#This Row],[NUM]]+1,1)),\"\",INDEX(ProjectDetails[#Data],Project_last_entry-Project_start_row-ProjectTimelineData[[#This Row],[NUM]]+1,1)),\"\")","v":""},{"$f":"IFERROR(IF(ISBLANK(INDEX(ProjectDetails[#Data],Project_last_entry-Project_start_row-ProjectTimelineData[[#This Row],[NUM]]+1,2)),\"\",INDEX(ProjectDetails[#Data],Project_last_entry-Project_start_row-ProjectTimelineData[[#This Row],[NUM]]+1,2)),\"\")","v":""},{"$f":"IFERROR(IF(ISBLANK(INDEX(ProjectDetails[#Data],Project_last_entry-Project_start_row-ProjectTimelineData[[#This Row],[NUM]]+1,3)),\"\",INDEX(ProjectDetails[#Data],Project_last_entry-Project_start_row-ProjectTimelineData[[#This Row],[NUM]]+1,3)),\"\")","v":""},{"$f":"IFERROR(IF(ISBLANK(INDEX(ProjectDetails[#Data],ROW(A124)+1,1)),\"\",IF($J128-1<=-1,\"\",$J128-1)),\"\")","v":""},null,null,{"$f":"IFERROR(ProjectTimelineData[[#This Row],[NUM]]+1,\"\")","v":""},{"$f":"IFERROR(VLOOKUP(SortedTimeline[[#This Row],[RANK Sorted]],ProjectTimelineData[],3,0),\"\")","v":""},{"$f":"IFERROR(VLOOKUP(SortedTimeline[[#This Row],[RANK Sorted]],ProjectTimelineData[],4,0),\"\")","v":""},{"$f":"IFERROR(VLOOKUP(SortedTimeline[[#This Row],[RANK Sorted]],ProjectTimelineData[],5,0),\"\")","v":""}]
[{"$nulls":4},{"$f":"IFERROR(RANK(F130,ProjectTimelineData[RANK])+SUMPRODUCT(--(F130=ProjectTimelineData[RANK]),--(J130<ProjectTimelineData[NUM])),\"\")","v":""},{"$f":"IFERROR(RANK(ProjectTimelineData[[#This Row],[DATE]],ProjectTimelineData[DATE],1),\"\")","v":""},{"$f":"IFERROR(IF(ISBLANK(INDEX(ProjectDetails[#Data],Project_last_entry-Project_start_row-ProjectTimelineData[[#This Row],[NUM]]+1,1)),\"\",INDEX(ProjectDetails[#Data],Project_last_entry-Project_start_row-ProjectTimelineData[[#This Row],[NUM]]+1,1)),\"\")","v":""},{"$f":"IFERROR(IF(ISBLANK(INDEX(ProjectDetails[#Data],Project_last_entry-Project_start_row-ProjectTimelineData[[#This Row],[NUM]]+1,2)),\"\",INDEX(ProjectDetails[#Data],Project_last_entry-Project_start_row-ProjectTimelineData[[#This Row],[NUM]]+1,2)),\"\")","v":""},{"$f":"IFERROR(IF(ISBLANK(INDEX(ProjectDetails[#Data],Project_last_entry-Project_start_row-ProjectTimelineData[[#This Row],[NUM]]+1,3)),\"\",INDEX(ProjectDetails[#Data],Project_last_entry-Project_start_row-ProjectTimelineData[[#This Row],[NUM]]+1,3)),\"\")","v":""},{"$f":"IFERROR(IF(ISBLANK(INDEX(ProjectDetails[#Data],ROW(A125)+1,1)),\"\",IF($J129-1<=-1,\"\",$J129-1)),\"\")","v":""},null,null,{"$f":"IFERROR(ProjectTimelineData[[#This Row],[NUM]]+1,\"\")","v":""},{"$f":"IFERROR(VLOOKUP(SortedTimeline[[#This Row],[RANK Sorted]],ProjectTimelineData[],3,0),\"\")","v":""},{"$f":"IFERROR(VLOOKUP(SortedTimeline[[#This Row],[RANK Sorted]],ProjectTimelineData[],4,0),\"\")","v":""},{"$f":"IFERROR(VLOOKUP(SortedTimeline[[#This Row],[RANK Sorted]],ProjectTimelineData[],5,0),\"\")","v":""}]
[{"$nulls":4},{"$f":"IFERROR(RANK(F131,ProjectTimelineData[RANK])+SUMPRODUCT(--(F131=ProjectTimelineData[RANK]),--(J131<ProjectTimelineData[NUM])),\"\")","v":""},{"$f":"IFERROR(RANK(ProjectTimelineData[[#This Row],[DATE]],ProjectTimelineData[DATE],1),\"\")","v":""},{"$f":"IFERROR(IF(ISBLANK(INDEX(ProjectDetails[#Data],Project_last_entry-Project_start_row-ProjectTimelineData[[#This Row],[NUM]]+1,1)),\"\",INDEX(ProjectDetails[#Data],Project_last_entry-Project_start_row-ProjectTimelineData[[#This Row],[NUM]]+1,1)),\"\")","v":""},{"$f":"IFERROR(IF(ISBLANK(INDEX(ProjectDetails[#Data],Project_last_entry-Project_start_row-ProjectTimelineData[[#This Row],[NUM]]+1,2)),\"\",INDEX(ProjectDetails[#Data],Project_last_entry-Project_start_row-ProjectTimelineData[[#This Row],[NUM]]+1,2)),\"\")","v":""},{"$f":"IFERROR(IF(ISBLANK(INDEX(ProjectDetails[#Data],Project_last_entry-Project_start_row-ProjectTimelineData[[#This Row],[NUM]]+1,3)),\"\",INDEX(ProjectDetails[#Data],Project_last_entry-Project_start_row-ProjectTimelineData[[#This Row],[NUM]]+1,3)),\"\")","v":""},{"$f":"IFERROR(IF(ISBLANK(INDEX(ProjectDetails[#Data],ROW(A126)+1,1)),\"\",IF($J130-1<=-1,\"\",$J130-1)),\"\")","v":""},null,null,{"$f":"IFERROR(ProjectTimelineData[[#This Row],[NUM]]+1,\"\")","v":""},{"$f":"IFERROR(VLOOKUP(SortedTimeline[[#This Row],[RANK Sorted]],ProjectTimelineData[],3,0),\"\")","v":""},{"$f":"IFERROR(VLOOKUP(SortedTimeline[[#This Row],[RANK Sorted]],ProjectTimelineData[],4,0),\"\")","v":""},{"$f":"IFERROR(VLOOKUP(SortedTimeline[[#This Row],[RANK Sorted]],ProjectTimelineData[],5,0),\"\")","v":""}]
[{"$nulls":4},{"$f":"IFERROR(RANK(F132,ProjectTimelineData[RANK])+SUMPRODUCT(--(F132=ProjectTimelineData[RANK]),--(J132<ProjectTimelineData[NUM])),\"\")","v":""},{"$f":"IFERROR(RANK(ProjectTimelineData[[#This Row],[DATE]],ProjectTimelineData[DATE],1),\"\")","v":""},{"$f":"IFERROR(IF(ISBLANK(INDEX(ProjectDetails[#Data],Project_last_entry-Project_start_row-ProjectTimelineData[[#This Row],[NUM]]+1,1)),\"\",INDEX(ProjectDetails[#Data],Project_last_entry-Project_start_row-ProjectTimelineData[[#This Row],[NUM]]+1,1)),\"\")","v":""},{"$f":"IFERROR(IF(ISBLANK(INDEX(ProjectDetails[#Data],Project_last_entry-Project_start_row-ProjectTimelineData[[#This Row],[NUM]]+1,2)),\"\",INDEX(ProjectDetails[#Data],Project_last_entry-Project_start_row-ProjectTimelineData[[#This Row],[NUM]]+1,2)),\"\")","v":""},{"$f":"IFERROR(IF(ISBLANK(INDEX(ProjectDetails[#Data],Project_last_entry-Project_start_row-ProjectTimelineData[[#This Row],[NUM]]+1,3)),\"\",INDEX(ProjectDetails[#Data],Project_last_entry-Project_start_row-ProjectTimelineData[[#This Row],[NUM]]+1,3)),\"\")","v":""},{"$f":"IFERROR(IF(ISBLANK(INDEX(ProjectDetails[#Data],ROW(A127)+1,1)),\"\",IF($J131-1<=-1,\"\",$J131-1)),\"\")","v":""},null,null,{"$f":"IFERROR(ProjectTimelineData[[#This Row],[NUM]]+1,\"\")","v":""},{"$f":"IFERROR(VLOOKUP(SortedTimeline[[#This Row],[RANK Sorted]],ProjectTimelineData[],3,0),\"\")","v":""},{"$f":"IFERROR(VLOOKUP(SortedTimeline[[#This Row],[RANK Sorted]],ProjectTimelineData[],4,0),\"\")","v":""},{"$f":"IFERROR(VLOOKUP(SortedTimeline[[#This Row],[RANK Sorted]],ProjectTimelineData[],5,0),\"\")","v":""}]
[{"$nulls":4},{"$f":"IFERROR(RANK(F133,ProjectTimelineData[RANK])+SUMPRODUCT(--(F133=ProjectTimelineData[RANK]),--(J133<ProjectTimelineData[NUM])),\"\")","v":""},{"$f":"IFERROR(RANK(ProjectTimelineData[[#This Row],[DATE]],ProjectTimelineData[DATE],1),\"\")","v":""},{"$f":"IFERROR(IF(ISBLANK(INDEX(ProjectDetails[#Data],Project_last_entry-Project_start_row-ProjectTimelineData[[#This Row],[NUM]]+1,1)),\"\",INDEX(ProjectDetails[#Data],Project_last_entry-Project_start_row-ProjectTimelineData[[#This Row],[NUM]]+1,1)),\"\")","v":""},{"$f":"IFERROR(IF(ISBLANK(INDEX(ProjectDetails[#Data],Project_last_entry-Project_start_row-ProjectTimelineData[[#This Row],[NUM]]+1,2)),\"\",INDEX(ProjectDetails[#Data],Project_last_entry-Project_start_row-ProjectTimelineData[[#This Row],[NUM]]+1,2)),\"\")","v":""},{"$f":"IFERROR(IF(ISBLANK(INDEX(ProjectDetails[#Data],Project_last_entry-Project_start_row-ProjectTimelineData[[#This Row],[NUM]]+1,3)),\"\",INDEX(ProjectDetails[#Data],Project_last_entry-Project_start_row-ProjectTimelineData[[#This Row],[NUM]]+1,3)),\"\")","v":""},{"$f":"IFERROR(IF(ISBLANK(INDEX(ProjectDetails[#Data],ROW(A128)+1,1)),\"\",IF($J132-1<=-1,\"\",$J132-1)),\"\")","v":""},null,null,{"$f":"IFERROR(ProjectTimelineData[[#This Row],[NUM]]+1,\"\")","v":""},{"$f":"IFERROR(VLOOKUP(SortedTimeline[[#This Row],[RANK Sorted]],ProjectTimelineData[],3,0),\"\")","v":""},{"$f":"IFERROR(VLOOKUP(SortedTimeline[[#This Row],[RANK Sorted]],ProjectTimelineData[],4,0),\"\")","v":""},{"$f":"IFERROR(VLOOKUP(SortedTimeline[[#This Row],[RANK Sorted]],ProjectTimelineData[],5,0),\"\")","v":""}]
[{"$nulls":4},{"$f":"IFERROR(RANK(F134,ProjectTimelineData[RANK])+SUMPRODUCT(--(F134=ProjectTimelineData[RANK]),--(J134<ProjectTimelineData[NUM])),\"\")","v":""},{"$f":"IFERROR(RANK(ProjectTimelineData[[#This Row],[DATE]],ProjectTimelineData[DATE],1),\"\")","v":""},{"$f":"IFERROR(IF(ISBLANK(INDEX(ProjectDetails[#Data],Project_last_entry-Project_start_row-ProjectTimelineData[[#This Row],[NUM]]+1,1)),\"\",INDEX(ProjectDetails[#Data],Project_last_entry-Project_start_row-ProjectTimelineData[[#This Row],[NUM]]+1,1)),\"\")","v":""},{"$f":"IFERROR(IF(ISBLANK(INDEX(ProjectDetails[#Data],Project_last_entry-Project_start_row-ProjectTimelineData[[#This Row],[NUM]]+1,2)),\"\",INDEX(ProjectDetails[#Data],Project_last_entry-Project_start_row-ProjectTimelineData[[#This Row],[NUM]]+1,2)),\"\")","v":""},{"$f":"IFERROR(IF(ISBLANK(INDEX(ProjectDetails[#Data],Project_last_entry-Project_start_row-ProjectTimelineData[[#This Row],[NUM]]+1,3)),\"\",INDEX(ProjectDetails[#Data],Project_last_entry-Project_start_row-ProjectTimelineData[[#This Row],[NUM]]+1,3)),\"\")","v":""},{"$f":"IFERROR(IF(ISBLANK(INDEX(ProjectDetails[#Data],ROW(A129)+1,1)),\"\",IF($J133-1<=-1,\"\",$J133-1)),\"\")","v":""},null,null,{"$f":"IFERROR(ProjectTimelineData[[#This Row],[NUM]]+1,\"\")","v":""},{"$f":"IFERROR(VLOOKUP(SortedTimeline[[#This Row],[RANK Sorted]],ProjectTimelineData[],3,0),\"\")","v":""},{"$f":"IFERROR(VLOOKUP(SortedTimeline[[#This Row],[RANK Sorted]],ProjectTimelineData[],4,0),\"\")","v":""},{"$f":"IFERROR(VLOOKUP(SortedTimeline[[#This Row],[RANK Sorted]],ProjectTimelineData[],5,0),\"\")","v":""}]
[{"$nulls":4},{"$f":"IFERROR(RANK(F135,ProjectTimelineData[RANK])+SUMPRODUCT(--(F135=ProjectTimelineData[RANK]),--(J135<ProjectTimelineData[NUM])),\"\")","v":""},{"$f":"IFERROR(RANK(ProjectTimelineData[[#This Row],[DATE]],ProjectTimelineData[DATE],1),\"\")","v":""},{"$f":"IFERROR(IF(ISBLANK(INDEX(ProjectDetails[#Data],Project_last_entry-Project_start_row-ProjectTimelineData[[#This Row],[NUM]]+1,1)),\"\",INDEX(ProjectDetails[#Data],Project_last_entry-Project_start_row-ProjectTimelineData[[#This Row],[NUM]]+1,1)),\"\")","v":""},{"$f":"IFERROR(IF(ISBLANK(INDEX(ProjectDetails[#Data],Project_last_entry-Project_start_row-ProjectTimelineData[[#This Row],[NUM]]+1,2)),\"\",INDEX(ProjectDetails[#Data],Project_last_entry-Project_start_row-ProjectTimelineData[[#This Row],[NUM]]+1,2)),\"\")","v":""},{"$f":"IFERROR(IF(ISBLANK(INDEX(ProjectDetails[#Data],Project_last_entry-Project_start_row-ProjectTimelineData[[#This Row],[NUM]]+1,3)),\"\",INDEX(ProjectDetails[#Data],Project_last_entry-Project_start_row-ProjectTimelineData[[#This Row],[NUM]]+1,3)),\"\")","v":""},{"$f":"IFERROR(IF(ISBLANK(INDEX(ProjectDetails[#Data],ROW(A130)+1,1)),\"\",IF($J134-1<=-1,\"\",$J134-1)),\"\")","v":""},null,null,{"$f":"IFERROR(ProjectTimelineData[[#This Row],[NUM]]+1,\"\")","v":""},{"$f":"IFERROR(VLOOKUP(SortedTimeline[[#This Row],[RANK Sorted]],ProjectTimelineData[],3,0),\"\")","v":""},{"$f":"IFERROR(VLOOKUP(SortedTimeline[[#This Row],[RANK Sorted]],ProjectTimelineData[],4,0),\"\")","v":""},{"$f":"IFERROR(VLOOKUP(SortedTimeline[[#This Row],[RANK Sorted]],ProjectTimelineData[],5,0),\"\")","v":""}]
[{"$nulls":4},{"$f":"IFERROR(RANK(F136,ProjectTimelineData[RANK])+SUMPRODUCT(--(F136=ProjectTimelineData[RANK]),--(J136<ProjectTimelineData[NUM])),\"\")","v":""},{"$f":"IFERROR(RANK(ProjectTimelineData[[#This Row],[DATE]],ProjectTimelineData[DATE],1),\"\")","v":""},{"$f":"IFERROR(IF(ISBLANK(INDEX(ProjectDetails[#Data],Project_last_entry-Project_start_row-ProjectTimelineData[[#This Row],[NUM]]+1,1)),\"\",INDEX(ProjectDetails[#Data],Project_last_entry-Project_start_row-ProjectTimelineData[[#This Row],[NUM]]+1,1)),\"\")","v":""},{"$f":"IFERROR(IF(ISBLANK(INDEX(ProjectDetails[#Data],Project_last_entry-Project_start_row-ProjectTimelineData[[#This Row],[NUM]]+1,2)),\"\",INDEX(ProjectDetails[#Data],Project_last_entry-Project_start_row-ProjectTimelineData[[#This Row],[NUM]]+1,2)),\"\")","v":""},{"$f":"IFERROR(IF(ISBLANK(INDEX(ProjectDetails[#Data],Project_last_entry-Project_start_row-ProjectTimelineData[[#This Row],[NUM]]+1,3)),\"\",INDEX(ProjectDetails[#Data],Project_last_entry-Project_start_row-ProjectTimelineData[[#This Row],[NUM]]+1,3)),\"\")","v":""},{"$f":"IFERROR(IF(ISBLANK(INDEX(ProjectDetails[#Data],ROW(A131)+1,1)),\"\",IF($J135-1<=-1,\"\",$J135-1)),\"\")","v":""},null,null,{"$f":"IFERROR(ProjectTimelineData[[#This Row],[NUM]]+1,\"\")","v":""},{"$f":"IFERROR(VLOOKUP(SortedTimeline[[#This Row],[RANK Sorted]],ProjectTimelineData[],3,0),\"\")","v":""},{"$f":"IFERROR(VLOOKUP(SortedTimeline[[#This Row],[RANK Sorted]],ProjectTimelineData[],4,0),\"\")","v":""},{"$f":"IFERROR(VLOOKUP(SortedTimeline[[#This Row],[RANK Sorted]],ProjectTimelineData[],5,0),\"\")","v":""}]
[{"$nulls":4},{"$f":"IFERROR(RANK(F137,ProjectTimelineData[RANK])+SUMPRODUCT(--(F137=ProjectTimelineData[RANK]),--(J137<ProjectTimelineData[NUM])),\"\")","v":""},{"$f":"IFERROR(RANK(ProjectTimelineData[[#This Row],[DATE]],ProjectTimelineData[DATE],1),\"\")","v":""},{"$f":"IFERROR(IF(ISBLANK(INDEX(ProjectDetails[#Data],Project_last_entry-Project_start_row-ProjectTimelineData[[#This Row],[NUM]]+1,1)),\"\",INDEX(ProjectDetails[#Data],Project_last_entry-Project_start_row-ProjectTimelineData[[#This Row],[NUM]]+1,1)),\"\")","v":""},{"$f":"IFERROR(IF(ISBLANK(INDEX(ProjectDetails[#Data],Project_last_entry-Project_start_row-ProjectTimelineData[[#This Row],[NUM]]+1,2)),\"\",INDEX(ProjectDetails[#Data],Project_last_entry-Project_start_row-ProjectTimelineData[[#This Row],[NUM]]+1,2)),\"\")","v":""},{"$f":"IFERROR(IF(ISBLANK(INDEX(ProjectDetails[#Data],Project_last_entry-Project_start_row-ProjectTimelineData[[#This Row],[NUM]]+1,3)),\"\",INDEX(ProjectDetails[#Data],Project_last_entry-Project_start_row-ProjectTimelineData[[#This Row],[NUM]]+1,3)),\"\")","v":""},{"$f":"IFERROR(IF(ISBLANK(INDEX(ProjectDetails[#Data],ROW(A132)+1,1)),\"\",IF($J136-1<=-1,\"\",$J136-1)),\"\")","v":""},null,null,{"$f":"IFERROR(ProjectTimelineData[[#This Row],[NUM]]+1,\"\")","v":""},{"$f":"IFERROR(VLOOKUP(SortedTimeline[[#This Row],[RANK Sorted]],ProjectTimelineData[],3,0),\"\")","v":""},{"$f":"IFERROR(VLOOKUP(SortedTimeline[[#This Row],[RANK Sorted]],ProjectTimelineData[],4,0),\"\")","v":""},{"$f":"IFERROR(VLOOKUP(SortedTimeline[[#This Row],[RANK Sorted]],ProjectTimelineData[],5,0),\"\")","v":""}]
[{"$nulls":4},{"$f":"IFERROR(RANK(F138,ProjectTimelineData[RANK])+SUMPRODUCT(--(F138=ProjectTimelineData[RANK]),--(J138<ProjectTimelineData[NUM])),\"\")","v":""},{"$f":"IFERROR(RANK(ProjectTimelineData[[#This Row],[DATE]],ProjectTimelineData[DATE],1),\"\")","v":""},{"$f":"IFERROR(IF(ISBLANK(INDEX(ProjectDetails[#Data],Project_last_entry-Project_start_row-ProjectTimelineData[[#This Row],[NUM]]+1,1)),\"\",INDEX(ProjectDetails[#Data],Project_last_entry-Project_start_row-ProjectTimelineData[[#This Row],[NUM]]+1,1)),\"\")","v":""},{"$f":"IFERROR(IF(ISBLANK(INDEX(ProjectDetails[#Data],Project_last_entry-Project_start_row-ProjectTimelineData[[#This Row],[NUM]]+1,2)),\"\",INDEX(ProjectDetails[#Data],Project_last_entry-Project_start_row-ProjectTimelineData[[#This Row],[NUM]]+1,2)),\"\")","v":""},{"$f":"IFERROR(IF(ISBLANK(INDEX(ProjectDetails[#Data],Project_last_entry-Project_start_row-ProjectTimelineData[[#This Row],[NUM]]+1,3)),\"\",INDEX(ProjectDetails[#Data],Project_last_entry-Project_start_row-ProjectTimelineData[[#This Row],[NUM]]+1,3)),\"\")","v":""},{"$f":"IFERROR(IF(ISBLANK(INDEX(ProjectDetails[#Data],ROW(A133)+1,1)),\"\",IF($J137-1<=-1,\"\",$J137-1)),\"\")","v":""},null,null,{"$f":"IFERROR(ProjectTimelineData[[#This Row],[NUM]]+1,\"\")","v":""},{"$f":"IFERROR(VLOOKUP(SortedTimeline[[#This Row],[RANK Sorted]],ProjectTimelineData[],3,0),\"\")","v":""},{"$f":"IFERROR(VLOOKUP(SortedTimeline[[#This Row],[RANK Sorted]],ProjectTimelineData[],4,0),\"\")","v":""},{"$f":"IFERROR(VLOOKUP(SortedTimeline[[#This Row],[RANK Sorted]],ProjectTimelineData[],5,0),\"\")","v":""}]
[{"$nulls":4},{"$f":"IFERROR(RANK(F139,ProjectTimelineData[RANK])+SUMPRODUCT(--(F139=ProjectTimelineData[RANK]),--(J139<ProjectTimelineData[NUM])),\"\")","v":""},{"$f":"IFERROR(RANK(ProjectTimelineData[[#This Row],[DATE]],ProjectTimelineData[DATE],1),\"\")","v":""},{"$f":"IFERROR(IF(ISBLANK(INDEX(ProjectDetails[#Data],Project_last_entry-Project_start_row-ProjectTimelineData[[#This Row],[NUM]]+1,1)),\"\",INDEX(ProjectDetails[#Data],Project_last_entry-Project_start_row-ProjectTimelineData[[#This Row],[NUM]]+1,1)),\"\")","v":""},{"$f":"IFERROR(IF(ISBLANK(INDEX(ProjectDetails[#Data],Project_last_entry-Project_start_row-ProjectTimelineData[[#This Row],[NUM]]+1,2)),\"\",INDEX(ProjectDetails[#Data],Project_last_entry-Project_start_row-ProjectTimelineData[[#This Row],[NUM]]+1,2)),\"\")","v":""},{"$f":"IFERROR(IF(ISBLANK(INDEX(ProjectDetails[#Data],Project_last_entry-Project_start_row-ProjectTimelineData[[#This Row],[NUM]]+1,3)),\"\",INDEX(ProjectDetails[#Data],Project_last_entry-Project_start_row-ProjectTimelineData[[#This Row],[NUM]]+1,3)),\"\")","v":""},{"$f":"IFERROR(IF(ISBLANK(INDEX(ProjectDetails[#Data],ROW(A134)+1,1)),\"\",IF($J138-1<=-1,\"\",$J138-1)),\"\")","v":""},null,null,{"$f":"IFERROR(ProjectTimelineData[[#This Row],[NUM]]+1,\"\")","v":""},{"$f":"IFERROR(VLOOKUP(SortedTimeline[[#This Row],[RANK Sorted]],ProjectTimelineData[],3,0),\"\")","v":""},{"$f":"IFERROR(VLOOKUP(SortedTimeline[[#This Row],[RANK Sorted]],ProjectTimelineData[],4,0),\"\")","v":""},{"$f":"IFERROR(VLOOKUP(SortedTimeline[[#This Row],[RANK Sorted]],ProjectTimelineData[],5,0),\"\")","v":""}]
[{"$nulls":4},{"$f":"IFERROR(RANK(F140,ProjectTimelineData[RANK])+SUMPRODUCT(--(F140=ProjectTimelineData[RANK]),--(J140<ProjectTimelineData[NUM])),\"\")","v":""},{"$f":"IFERROR(RANK(ProjectTimelineData[[#This Row],[DATE]],ProjectTimelineData[DATE],1),\"\")","v":""},{"$f":"IFERROR(IF(ISBLANK(INDEX(ProjectDetails[#Data],Project_last_entry-Project_start_row-ProjectTimelineData[[#This Row],[NUM]]+1,1)),\"\",INDEX(ProjectDetails[#Data],Project_last_entry-Project_start_row-ProjectTimelineData[[#This Row],[NUM]]+1,1)),\"\")","v":""},{"$f":"IFERROR(IF(ISBLANK(INDEX(ProjectDetails[#Data],Project_last_entry-Project_start_row-ProjectTimelineData[[#This Row],[NUM]]+1,2)),\"\",INDEX(ProjectDetails[#Data],Project_last_entry-Project_start_row-ProjectTimelineData[[#This Row],[NUM]]+1,2)),\"\")","v":""},{"$f":"IFERROR(IF(ISBLANK(INDEX(ProjectDetails[#Data],Project_last_entry-Project_start_row-ProjectTimelineData[[#This Row],[NUM]]+1,3)),\"\",INDEX(ProjectDetails[#Data],Project_last_entry-Project_start_row-ProjectTimelineData[[#This Row],[NUM]]+1,3)),\"\")","v":""},{"$f":"IFERROR(IF(ISBLANK(INDEX(ProjectDetails[#Data],ROW(A135)+1,1)),\"\",IF($J139-1<=-1,\"\",$J139-1)),\"\")","v":""},null,null,{"$f":"IFERROR(ProjectTimelineData[[#This Row],[NUM]]+1,\"\")","v":""},{"$f":"IFERROR(VLOOKUP(SortedTimeline[[#This Row],[RANK Sorted]],ProjectTimelineData[],3,0),\"\")","v":""},{"$f":"IFERROR(VLOOKUP(SortedTimeline[[#This Row],[RANK Sorted]],ProjectTimelineData[],4,0),\"\")","v":""},{"$f":"IFERROR(VLOOKUP(SortedTimeline[[#This Row],[RANK Sorted]],ProjectTimelineData[],5,0),\"\")","v":""}]
[{"$nulls":4},{"$f":"IFERROR(RANK(F141,ProjectTimelineData[RANK])+SUMPRODUCT(--(F141=ProjectTimelineData[RANK]),--(J141<ProjectTimelineData[NUM])),\"\")","v":""},{"$f":"IFERROR(RANK(ProjectTimelineData[[#This Row],[DATE]],ProjectTimelineData[DATE],1),\"\")","v":""},{"$f":"IFERROR(IF(ISBLANK(INDEX(ProjectDetails[#Data],Project_last_entry-Project_start_row-ProjectTimelineData[[#This Row],[NUM]]+1,1)),\"\",INDEX(ProjectDetails[#Data],Project_last_entry-Project_start_row-ProjectTimelineData[[#This Row],[NUM]]+1,1)),\"\")","v":""},{"$f":"IFERROR(IF(ISBLANK(INDEX(ProjectDetails[#Data],Project_last_entry-Project_start_row-ProjectTimelineData[[#This Row],[NUM]]+1,2)),\"\",INDEX(ProjectDetails[#Data],Project_last_entry-Project_start_row-ProjectTimelineData[[#This Row],[NUM]]+1,2)),\"\")","v":""},{"$f":"IFERROR(IF(ISBLANK(INDEX(ProjectDetails[#Data],Project_last_entry-Project_start_row-ProjectTimelineData[[#This Row],[NUM]]+1,3)),\"\",INDEX(ProjectDetails[#Data],Project_last_entry-Project_start_row-ProjectTimelineData[[#This Row],[NUM]]+1,3)),\"\")","v":""},{"$f":"IFERROR(IF(ISBLANK(INDEX(ProjectDetails[#Data],ROW(A136)+1,1)),\"\",IF($J140-1<=-1,\"\",$J140-1)),\"\")","v":""},null,null,{"$f":"IFERROR(ProjectTimelineData[[#This Row],[NUM]]+1,\"\")","v":""},{"$f":"IFERROR(VLOOKUP(SortedTimeline[[#This Row],[RANK Sorted]],ProjectTimelineData[],3,0),\"\")","v":""},{"$f":"IFERROR(VLOOKUP(SortedTimeline[[#This Row],[RANK Sorted]],ProjectTimelineData[],4,0),\"\")","v":""},{"$f":"IFERROR(VLOOKUP(SortedTimeline[[#This Row],[RANK Sorted]],ProjectTimelineData[],5,0),\"\")","v":""}]
[{"$nulls":4},{"$f":"IFERROR(RANK(F142,ProjectTimelineData[RANK])+SUMPRODUCT(--(F142=ProjectTimelineData[RANK]),--(J142<ProjectTimelineData[NUM])),\"\")","v":""},{"$f":"IFERROR(RANK(ProjectTimelineData[[#This Row],[DATE]],ProjectTimelineData[DATE],1),\"\")","v":""},{"$f":"IFERROR(IF(ISBLANK(INDEX(ProjectDetails[#Data],Project_last_entry-Project_start_row-ProjectTimelineData[[#This Row],[NUM]]+1,1)),\"\",INDEX(ProjectDetails[#Data],Project_last_entry-Project_start_row-ProjectTimelineData[[#This Row],[NUM]]+1,1)),\"\")","v":""},{"$f":"IFERROR(IF(ISBLANK(INDEX(ProjectDetails[#Data],Project_last_entry-Project_start_row-ProjectTimelineData[[#This Row],[NUM]]+1,2)),\"\",INDEX(ProjectDetails[#Data],Project_last_entry-Project_start_row-ProjectTimelineData[[#This Row],[NUM]]+1,2)),\"\")","v":""},{"$f":"IFERROR(IF(ISBLANK(INDEX(ProjectDetails[#Data],Project_last_entry-Project_start_row-ProjectTimelineData[[#This Row],[NUM]]+1,3)),\"\",INDEX(ProjectDetails[#Data],Project_last_entry-Project_start_row-ProjectTimelineData[[#This Row],[NUM]]+1,3)),\"\")","v":""},{"$f":"IFERROR(IF(ISBLANK(INDEX(ProjectDetails[#Data],ROW(A137)+1,1)),\"\",IF($J141-1<=-1,\"\",$J141-1)),\"\")","v":""},null,null,{"$f":"IFERROR(ProjectTimelineData[[#This Row],[NUM]]+1,\"\")","v":""},{"$f":"IFERROR(VLOOKUP(SortedTimeline[[#This Row],[RANK Sorted]],ProjectTimelineData[],3,0),\"\")","v":""},{"$f":"IFERROR(VLOOKUP(SortedTimeline[[#This Row],[RANK Sorted]],ProjectTimelineData[],4,0),\"\")","v":""},{"$f":"IFERROR(VLOOKUP(SortedTimeline[[#This Row],[RANK Sorted]],ProjectTimelineData[],5,0),\"\")","v":""}]
[{"$nulls":4},{"$f":"IFERROR(RANK(F143,ProjectTimelineData[RANK])+SUMPRODUCT(--(F143=ProjectTimelineData[RANK]),--(J143<ProjectTimelineData[NUM])),\"\")","v":""},{"$f":"IFERROR(RANK(ProjectTimelineData[[#This Row],[DATE]],ProjectTimelineData[DATE],1),\"\")","v":""},{"$f":"IFERROR(IF(ISBLANK(INDEX(ProjectDetails[#Data],Project_last_entry-Project_start_row-ProjectTimelineData[[#This Row],[NUM]]+1,1)),\"\",INDEX(ProjectDetails[#Data],Project_last_entry-Project_start_row-ProjectTimelineData[[#This Row],[NUM]]+1,1)),\"\")","v":""},{"$f":"IFERROR(IF(ISBLANK(INDEX(ProjectDetails[#Data],Project_last_entry-Project_start_row-ProjectTimelineData[[#This Row],[NUM]]+1,2)),\"\",INDEX(ProjectDetails[#Data],Project_last_entry-Project_start_row-ProjectTimelineData[[#This Row],[NUM]]+1,2)),\"\")","v":""},{"$f":"IFERROR(IF(ISBLANK(INDEX(ProjectDetails[#Data],Project_last_entry-Project_start_row-ProjectTimelineData[[#This Row],[NUM]]+1,3)),\"\",INDEX(ProjectDetails[#Data],Project_last_entry-Project_start_row-ProjectTimelineData[[#This Row],[NUM]]+1,3)),\"\")","v":""},{"$f":"IFERROR(IF(ISBLANK(INDEX(ProjectDetails[#Data],ROW(A138)+1,1)),\"\",IF($J142-1<=-1,\"\",$J142-1)),\"\")","v":""},null,null,{"$f":"IFERROR(ProjectTimelineData[[#This Row],[NUM]]+1,\"\")","v":""},{"$f":"IFERROR(VLOOKUP(SortedTimeline[[#This Row],[RANK Sorted]],ProjectTimelineData[],3,0),\"\")","v":""},{"$f":"IFERROR(VLOOKUP(SortedTimeline[[#This Row],[RANK Sorted]],ProjectTimelineData[],4,0),\"\")","v":""},{"$f":"IFERROR(VLOOKUP(SortedTimeline[[#This Row],[RANK Sorted]],ProjectTimelineData[],5,0),\"\")","v":""}]
[{"$nulls":4},{"$f":"IFERROR(RANK(F144,ProjectTimelineData[RANK])+SUMPRODUCT(--(F144=ProjectTimelineData[RANK]),--(J144<ProjectTimelineData[NUM])),\"\")","v":""},{"$f":"IFERROR(RANK(ProjectTimelineData[[#This Row],[DATE]],ProjectTimelineData[DATE],1),\"\")","v":""},{"$f":"IFERROR(IF(ISBLANK(INDEX(ProjectDetails[#Data],Project_last_entry-Project_start_row-ProjectTimelineData[[#This Row],[NUM]]+1,1)),\"\",INDEX(ProjectDetails[#Data],Project_last_entry-Project_start_row-ProjectTimelineData[[#This Row],[NUM]]+1,1)),\"\")","v":""},{"$f":"IFERROR(IF(ISBLANK(INDEX(ProjectDetails[#Data],Project_last_entry-Project_start_row-ProjectTimelineData[[#This Row],[NUM]]+1,2)),\"\",INDEX(ProjectDetails[#Data],Project_last_entry-Project_start_row-ProjectTimelineData[[#This Row],[NUM]]+1,2)),\"\")","v":""},{"$f":"IFERROR(IF(ISBLANK(INDEX(ProjectDetails[#Data],Project_last_entry-Project_start_row-ProjectTimelineData[[#This Row],[NUM]]+1,3)),\"\",INDEX(ProjectDetails[#Data],Project_last_entry-Project_start_row-ProjectTimelineData[[#This Row],[NUM]]+1,3)),\"\")","v":""},{"$f":"IFERROR(IF(ISBLANK(INDEX(ProjectDetails[#Data],ROW(A139)+1,1)),\"\",IF($J143-1<=-1,\"\",$J143-1)),\"\")","v":""},null,null,{"$f":"IFERROR(ProjectTimelineData[[#This Row],[NUM]]+1,\"\")","v":""},{"$f":"IFERROR(VLOOKUP(SortedTimeline[[#This Row],[RANK Sorted]],ProjectTimelineData[],3,0),\"\")","v":""},{"$f":"IFERROR(VLOOKUP(SortedTimeline[[#This Row],[RANK Sorted]],ProjectTimelineData[],4,0),\"\")","v":""},{"$f":"IFERROR(VLOOKUP(SortedTimeline[[#This Row],[RANK Sorted]],ProjectTimelineData[],5,0),\"\")","v":""}]
[{"$nulls":4},{"$f":"IFERROR(RANK(F145,ProjectTimelineData[RANK])+SUMPRODUCT(--(F145=ProjectTimelineData[RANK]),--(J145<ProjectTimelineData[NUM])),\"\")","v":""},{"$f":"IFERROR(RANK(ProjectTimelineData[[#This Row],[DATE]],ProjectTimelineData[DATE],1),\"\")","v":""},{"$f":"IFERROR(IF(ISBLANK(INDEX(ProjectDetails[#Data],Project_last_entry-Project_start_row-ProjectTimelineData[[#This Row],[NUM]]+1,1)),\"\",INDEX(ProjectDetails[#Data],Project_last_entry-Project_start_row-ProjectTimelineData[[#This Row],[NUM]]+1,1)),\"\")","v":""},{"$f":"IFERROR(IF(ISBLANK(INDEX(ProjectDetails[#Data],Project_last_entry-Project_start_row-ProjectTimelineData[[#This Row],[NUM]]+1,2)),\"\",INDEX(ProjectDetails[#Data],Project_last_entry-Project_start_row-ProjectTimelineData[[#This Row],[NUM]]+1,2)),\"\")","v":""},{"$f":"IFERROR(IF(ISBLANK(INDEX(ProjectDetails[#Data],Project_last_entry-Project_start_row-ProjectTimelineData[[#This Row],[NUM]]+1,3)),\"\",INDEX(ProjectDetails[#Data],Project_last_entry-Project_start_row-ProjectTimelineData[[#This Row],[NUM]]+1,3)),\"\")","v":""},{"$f":"IFERROR(IF(ISBLANK(INDEX(ProjectDetails[#Data],ROW(A140)+1,1)),\"\",IF($J144-1<=-1,\"\",$J144-1)),\"\")","v":""},null,null,{"$f":"IFERROR(ProjectTimelineData[[#This Row],[NUM]]+1,\"\")","v":""},{"$f":"IFERROR(VLOOKUP(SortedTimeline[[#This Row],[RANK Sorted]],ProjectTimelineData[],3,0),\"\")","v":""},{"$f":"IFERROR(VLOOKUP(SortedTimeline[[#This Row],[RANK Sorted]],ProjectTimelineData[],4,0),\"\")","v":""},{"$f":"IFERROR(VLOOKUP(SortedTimeline[[#This Row],[RANK Sorted]],ProjectTimelineData[],5,0),\"\")","v":""}]
[{"$nulls":4},{"$f":"IFERROR(RANK(F146,ProjectTimelineData[RANK])+SUMPRODUCT(--(F146=ProjectTimelineData[RANK]),--(J146<ProjectTimelineData[NUM])),\"\")","v":""},{"$f":"IFERROR(RANK(ProjectTimelineData[[#This Row],[DATE]],ProjectTimelineData[DATE],1),\"\")","v":""},{"$f":"IFERROR(IF(ISBLANK(INDEX(ProjectDetails[#Data],Project_last_entry-Project_start_row-ProjectTimelineData[[#This Row],[NUM]]+1,1)),\"\",INDEX(ProjectDetails[#Data],Project_last_entry-Project_start_row-ProjectTimelineData[[#This Row],[NUM]]+1,1)),\"\")","v":""},{"$f":"IFERROR(IF(ISBLANK(INDEX(ProjectDetails[#Data],Project_last_entry-Project_start_row-ProjectTimelineData[[#This Row],[NUM]]+1,2)),\"\",INDEX(ProjectDetails[#Data],Project_last_entry-Project_start_row-ProjectTimelineData[[#This Row],[NUM]]+1,2)),\"\")","v":""},{"$f":"IFERROR(IF(ISBLANK(INDEX(ProjectDetails[#Data],Project_last_entry-Project_start_row-ProjectTimelineData[[#This Row],[NUM]]+1,3)),\"\",INDEX(ProjectDetails[#Data],Project_last_entry-Project_start_row-ProjectTimelineData[[#This Row],[NUM]]+1,3)),\"\")","v":""},{"$f":"IFERROR(IF(ISBLANK(INDEX(ProjectDetails[#Data],ROW(A141)+1,1)),\"\",IF($J145-1<=-1,\"\",$J145-1)),\"\")","v":""},null,null,{"$f":"IFERROR(ProjectTimelineData[[#This Row],[NUM]]+1,\"\")","v":""},{"$f":"IFERROR(VLOOKUP(SortedTimeline[[#This Row],[RANK Sorted]],ProjectTimelineData[],3,0),\"\")","v":""},{"$f":"IFERROR(VLOOKUP(SortedTimeline[[#This Row],[RANK Sorted]],ProjectTimelineData[],4,0),\"\")","v":""},{"$f":"IFERROR(VLOOKUP(SortedTimeline[[#This Row],[RANK Sorted]],ProjectTimelineData[],5,0),\"\")","v":""}]
[{"$nulls":4},{"$f":"IFERROR(RANK(F147,ProjectTimelineData[RANK])+SUMPRODUCT(--(F147=ProjectTimelineData[RANK]),--(J147<ProjectTimelineData[NUM])),\"\")","v":""},{"$f":"IFERROR(RANK(ProjectTimelineData[[#This Row],[DATE]],ProjectTimelineData[DATE],1),\"\")","v":""},{"$f":"IFERROR(IF(ISBLANK(INDEX(ProjectDetails[#Data],Project_last_entry-Project_start_row-ProjectTimelineData[[#This Row],[NUM]]+1,1)),\"\",INDEX(ProjectDetails[#Data],Project_last_entry-Project_start_row-ProjectTimelineData[[#This Row],[NUM]]+1,1)),\"\")","v":""},{"$f":"IFERROR(IF(ISBLANK(INDEX(ProjectDetails[#Data],Project_last_entry-Project_start_row-ProjectTimelineData[[#This Row],[NUM]]+1,2)),\"\",INDEX(ProjectDetails[#Data],Project_last_entry-Project_start_row-ProjectTimelineData[[#This Row],[NUM]]+1,2)),\"\")","v":""},{"$f":"IFERROR(IF(ISBLANK(INDEX(ProjectDetails[#Data],Project_last_entry-Project_start_row-ProjectTimelineData[[#This Row],[NUM]]+1,3)),\"\",INDEX(ProjectDetails[#Data],Project_last_entry-Project_start_row-ProjectTimelineData[[#This Row],[NUM]]+1,3)),\"\")","v":""},{"$f":"IFERROR(IF(ISBLANK(INDEX(ProjectDetails[#Data],ROW(A142)+1,1)),\"\",IF($J146-1<=-1,\"\",$J146-1)),\"\")","v":""},null,null,{"$f":"IFERROR(ProjectTimelineData[[#This Row],[NUM]]+1,\"\")","v":""},{"$f":"IFERROR(VLOOKUP(SortedTimeline[[#This Row],[RANK Sorted]],ProjectTimelineData[],3,0),\"\")","v":""},{"$f":"IFERROR(VLOOKUP(SortedTimeline[[#This Row],[RANK Sorted]],ProjectTimelineData[],4,0),\"\")","v":""},{"$f":"IFERROR(VLOOKUP(SortedTimeline[[#This Row],[RANK Sorted]],ProjectTimelineData[],5,0),\"\")","v":""}]
[{"$nulls":4},{"$f":"IFERROR(RANK(F148,ProjectTimelineData[RANK])+SUMPRODUCT(--(F148=ProjectTimelineData[RANK]),--(J148<ProjectTimelineData[NUM])),\"\")","v":""},{"$f":"IFERROR(RANK(ProjectTimelineData[[#This Row],[DATE]],ProjectTimelineData[DATE],1),\"\")","v":""},{"$f":"IFERROR(IF(ISBLANK(INDEX(ProjectDetails[#Data],Project_last_entry-Project_start_row-ProjectTimelineData[[#This Row],[NUM]]+1,1)),\"\",INDEX(ProjectDetails[#Data],Project_last_entry-Project_start_row-ProjectTimelineData[[#This Row],[NUM]]+1,1)),\"\")","v":""},{"$f":"IFERROR(IF(ISBLANK(INDEX(ProjectDetails[#Data],Project_last_entry-Project_start_row-ProjectTimelineData[[#This Row],[NUM]]+1,2)),\"\",INDEX(ProjectDetails[#Data],Project_last_entry-Project_start_row-ProjectTimelineData[[#This Row],[NUM]]+1,2)),\"\")","v":""},{"$f":"IFERROR(IF(ISBLANK(INDEX(ProjectDetails[#Data],Project_last_entry-Project_start_row-ProjectTimelineData[[#This Row],[NUM]]+1,3)),\"\",INDEX(ProjectDetails[#Data],Project_last_entry-Project_start_row-ProjectTimelineData[[#This Row],[NUM]]+1,3)),\"\")","v":""},{"$f":"IFERROR(IF(ISBLANK(INDEX(ProjectDetails[#Data],ROW(A143)+1,1)),\"\",IF($J147-1<=-1,\"\",$J147-1)),\"\")","v":""},null,null,{"$f":"IFERROR(ProjectTimelineData[[#This Row],[NUM]]+1,\"\")","v":""},{"$f":"IFERROR(VLOOKUP(SortedTimeline[[#This Row],[RANK Sorted]],ProjectTimelineData[],3,0),\"\")","v":""},{"$f":"IFERROR(VLOOKUP(SortedTimeline[[#This Row],[RANK Sorted]],ProjectTimelineData[],4,0),\"\")","v":""},{"$f":"IFERROR(VLOOKUP(SortedTimeline[[#This Row],[RANK Sorted]],ProjectTimelineData[],5,0),\"\")","v":""}]
[{"$nulls":4},{"$f":"IFERROR(RANK(F149,ProjectTimelineData[RANK])+SUMPRODUCT(--(F149=ProjectTimelineData[RANK]),--(J149<ProjectTimelineData[NUM])),\"\")","v":""},{"$f":"IFERROR(RANK(ProjectTimelineData[[#This Row],[DATE]],ProjectTimelineData[DATE],1),\"\")","v":""},{"$f":"IFERROR(IF(ISBLANK(INDEX(ProjectDetails[#Data],Project_last_entry-Project_start_row-ProjectTimelineData[[#This Row],[NUM]]+1,1)),\"\",INDEX(ProjectDetails[#Data],Project_last_entry-Project_start_row-ProjectTimelineData[[#This Row],[NUM]]+1,1)),\"\")","v":""},{"$f":"IFERROR(IF(ISBLANK(INDEX(ProjectDetails[#Data],Project_last_entry-Project_start_row-ProjectTimelineData[[#This Row],[NUM]]+1,2)),\"\",INDEX(ProjectDetails[#Data],Project_last_entry-Project_start_row-ProjectTimelineData[[#This Row],[NUM]]+1,2)),\"\")","v":""},{"$f":"IFERROR(IF(ISBLANK(INDEX(ProjectDetails[#Data],Project_last_entry-Project_start_row-ProjectTimelineData[[#This Row],[NUM]]+1,3)),\"\",INDEX(ProjectDetails[#Data],Project_last_entry-Project_start_row-ProjectTimelineData[[#This Row],[NUM]]+1,3)),\"\")","v":""},{"$f":"IFERROR(IF(ISBLANK(INDEX(ProjectDetails[#Data],ROW(A144)+1,1)),\"\",IF($J148-1<=-1,\"\",$J148-1)),\"\")","v":""},null,null,{"$f":"IFERROR(ProjectTimelineData[[#This Row],[NUM]]+1,\"\")","v":""},{"$f":"IFERROR(VLOOKUP(SortedTimeline[[#This Row],[RANK Sorted]],ProjectTimelineData[],3,0),\"\")","v":""},{"$f":"IFERROR(VLOOKUP(SortedTimeline[[#This Row],[RANK Sorted]],ProjectTimelineData[],4,0),\"\")","v":""},{"$f":"IFERROR(VLOOKUP(SortedTimeline[[#This Row],[RANK Sorted]],ProjectTimelineData[],5,0),\"\")","v":""}]
[{"$nulls":4},{"$f":"IFERROR(RANK(F150,ProjectTimelineData[RANK])+SUMPRODUCT(--(F150=ProjectTimelineData[RANK]),--(J150<ProjectTimelineData[NUM])),\"\")","v":""},{"$f":"IFERROR(RANK(ProjectTimelineData[[#This Row],[DATE]],ProjectTimelineData[DATE],1),\"\")","v":""},{"$f":"IFERROR(IF(ISBLANK(INDEX(ProjectDetails[#Data],Project_last_entry-Project_start_row-ProjectTimelineData[[#This Row],[NUM]]+1,1)),\"\",INDEX(ProjectDetails[#Data],Project_last_entry-Project_start_row-ProjectTimelineData[[#This Row],[NUM]]+1,1)),\"\")","v":""},{"$f":"IFERROR(IF(ISBLANK(INDEX(ProjectDetails[#Data],Project_last_entry-Project_start_row-ProjectTimelineData[[#This Row],[NUM]]+1,2)),\"\",INDEX(ProjectDetails[#Data],Project_last_entry-Project_start_row-ProjectTimelineData[[#This Row],[NUM]]+1,2)),\"\")","v":""},{"$f":"IFERROR(IF(ISBLANK(INDEX(ProjectDetails[#Data],Project_last_entry-Project_start_row-ProjectTimelineData[[#This Row],[NUM]]+1,3)),\"\",INDEX(ProjectDetails[#Data],Project_last_entry-Project_start_row-ProjectTimelineData[[#This Row],[NUM]]+1,3)),\"\")","v":""},{"$f":"IFERROR(IF(ISBLANK(INDEX(ProjectDetails[#Data],ROW(A145)+1,1)),\"\",IF($J149-1<=-1,\"\",$J149-1)),\"\")","v":""},null,null,{"$f":"IFERROR(ProjectTimelineData[[#This Row],[NUM]]+1,\"\")","v":""},{"$f":"IFERROR(VLOOKUP(SortedTimeline[[#This Row],[RANK Sorted]],ProjectTimelineData[],3,0),\"\")","v":""},{"$f":"IFERROR(VLOOKUP(SortedTimeline[[#This Row],[RANK Sorted]],ProjectTimelineData[],4,0),\"\")","v":""},{"$f":"IFERROR(VLOOKUP(SortedTimeline[[#This Row],[RANK Sorted]],ProjectTimelineData[],5,0),\"\")","v":""}]
[{"$nulls":4},{"$f":"IFERROR(RANK(F151,ProjectTimelineData[RANK])+SUMPRODUCT(--(F151=ProjectTimelineData[RANK]),--(J151<ProjectTimelineData[NUM])),\"\")","v":""},{"$f":"IFERROR(RANK(ProjectTimelineData[[#This Row],[DATE]],ProjectTimelineData[DATE],1),\"\")","v":""},{"$f":"IFERROR(IF(ISBLANK(INDEX(ProjectDetails[#Data],Project_last_entry-Project_start_row-ProjectTimelineData[[#This Row],[NUM]]+1,1)),\"\",INDEX(ProjectDetails[#Data],Project_last_entry-Project_start_row-ProjectTimelineData[[#This Row],[NUM]]+1,1)),\"\")","v":""},{"$f":"IFERROR(IF(ISBLANK(INDEX(ProjectDetails[#Data],Project_last_entry-Project_start_row-ProjectTimelineData[[#This Row],[NUM]]+1,2)),\"\",INDEX(ProjectDetails[#Data],Project_last_entry-Project_start_row-ProjectTimelineData[[#This Row],[NUM]]+1,2)),\"\")","v":""},{"$f":"IFERROR(IF(ISBLANK(INDEX(ProjectDetails[#Data],Project_last_entry-Project_start_row-ProjectTimelineData[[#This Row],[NUM]]+1,3)),\"\",INDEX(ProjectDetails[#Data],Project_last_entry-Project_start_row-ProjectTimelineData[[#This Row],[NUM]]+1,3)),\"\")","v":""},{"$f":"IFERROR(IF(ISBLANK(INDEX(ProjectDetails[#Data],ROW(A146)+1,1)),\"\",IF($J150-1<=-1,\"\",$J150-1)),\"\")","v":""},null,null,{"$f":"IFERROR(ProjectTimelineData[[#This Row],[NUM]]+1,\"\")","v":""},{"$f":"IFERROR(VLOOKUP(SortedTimeline[[#This Row],[RANK Sorted]],ProjectTimelineData[],3,0),\"\")","v":""},{"$f":"IFERROR(VLOOKUP(SortedTimeline[[#This Row],[RANK Sorted]],ProjectTimelineData[],4,0),\"\")","v":""},{"$f":"IFERROR(VLOOKUP(SortedTimeline[[#This Row],[RANK Sorted]],ProjectTimelineData[],5,0),\"\")","v":""}]
[{"$nulls":4},{"$f":"IFERROR(RANK(F152,ProjectTimelineData[RANK])+SUMPRODUCT(--(F152=ProjectTimelineData[RANK]),--(J152<ProjectTimelineData[NUM])),\"\")","v":""},{"$f":"IFERROR(RANK(ProjectTimelineData[[#This Row],[DATE]],ProjectTimelineData[DATE],1),\"\")","v":""},{"$f":"IFERROR(IF(ISBLANK(INDEX(ProjectDetails[#Data],Project_last_entry-Project_start_row-ProjectTimelineData[[#This Row],[NUM]]+1,1)),\"\",INDEX(ProjectDetails[#Data],Project_last_entry-Project_start_row-ProjectTimelineData[[#This Row],[NUM]]+1,1)),\"\")","v":""},{"$f":"IFERROR(IF(ISBLANK(INDEX(ProjectDetails[#Data],Project_last_entry-Project_start_row-ProjectTimelineData[[#This Row],[NUM]]+1,2)),\"\",INDEX(ProjectDetails[#Data],Project_last_entry-Project_start_row-ProjectTimelineData[[#This Row],[NUM]]+1,2)),\"\")","v":""},{"$f":"IFERROR(IF(ISBLANK(INDEX(ProjectDetails[#Data],Project_last_entry-Project_start_row-ProjectTimelineData[[#This Row],[NUM]]+1,3)),\"\",INDEX(ProjectDetails[#Data],Project_last_entry-Project_start_row-ProjectTimelineData[[#This Row],[NUM]]+1,3)),\"\")","v":""},{"$f":"IFERROR(IF(ISBLANK(INDEX(ProjectDetails[#Data],ROW(A147)+1,1)),\"\",IF($J151-1<=-1,\"\",$J151-1)),\"\")","v":""},null,null,{"$f":"IFERROR(ProjectTimelineData[[#This Row],[NUM]]+1,\"\")","v":""},{"$f":"IFERROR(VLOOKUP(SortedTimeline[[#This Row],[RANK Sorted]],ProjectTimelineData[],3,0),\"\")","v":""},{"$f":"IFERROR(VLOOKUP(SortedTimeline[[#This Row],[RANK Sorted]],ProjectTimelineData[],4,0),\"\")","v":""},{"$f":"IFERROR(VLOOKUP(SortedTimeline[[#This Row],[RANK Sorted]],ProjectTimelineData[],5,0),\"\")","v":""}]
[{"$nulls":4},{"$f":"IFERROR(RANK(F153,ProjectTimelineData[RANK])+SUMPRODUCT(--(F153=ProjectTimelineData[RANK]),--(J153<ProjectTimelineData[NUM])),\"\")","v":""},{"$f":"IFERROR(RANK(ProjectTimelineData[[#This Row],[DATE]],ProjectTimelineData[DATE],1),\"\")","v":""},{"$f":"IFERROR(IF(ISBLANK(INDEX(ProjectDetails[#Data],Project_last_entry-Project_start_row-ProjectTimelineData[[#This Row],[NUM]]+1,1)),\"\",INDEX(ProjectDetails[#Data],Project_last_entry-Project_start_row-ProjectTimelineData[[#This Row],[NUM]]+1,1)),\"\")","v":""},{"$f":"IFERROR(IF(ISBLANK(INDEX(ProjectDetails[#Data],Project_last_entry-Project_start_row-ProjectTimelineData[[#This Row],[NUM]]+1,2)),\"\",INDEX(ProjectDetails[#Data],Project_last_entry-Project_start_row-ProjectTimelineData[[#This Row],[NUM]]+1,2)),\"\")","v":""},{"$f":"IFERROR(IF(ISBLANK(INDEX(ProjectDetails[#Data],Project_last_entry-Project_start_row-ProjectTimelineData[[#This Row],[NUM]]+1,3)),\"\",INDEX(ProjectDetails[#Data],Project_last_entry-Project_start_row-ProjectTimelineData[[#This Row],[NUM]]+1,3)),\"\")","v":""},{"$f":"IFERROR(IF(ISBLANK(INDEX(ProjectDetails[#Data],ROW(A148)+1,1)),\"\",IF($J152-1<=-1,\"\",$J152-1)),\"\")","v":""},null,null,{"$f":"IFERROR(ProjectTimelineData[[#This Row],[NUM]]+1,\"\")","v":""},{"$f":"IFERROR(VLOOKUP(SortedTimeline[[#This Row],[RANK Sorted]],ProjectTimelineData[],3,0),\"\")","v":""},{"$f":"IFERROR(VLOOKUP(SortedTimeline[[#This Row],[RANK Sorted]],ProjectTimelineData[],4,0),\"\")","v":""},{"$f":"IFERROR(VLOOKUP(SortedTimeline[[#This Row],[RANK Sorted]],ProjectTimelineData[],5,0),\"\")","v":""}]
[{"$nulls":4},{"$f":"IFERROR(RANK(F154,ProjectTimelineData[RANK])+SUMPRODUCT(--(F154=ProjectTimelineData[RANK]),--(J154<ProjectTimelineData[NUM])),\"\")","v":""},{"$f":"IFERROR(RANK(ProjectTimelineData[[#This Row],[DATE]],ProjectTimelineData[DATE],1),\"\")","v":""},{"$f":"IFERROR(IF(ISBLANK(INDEX(ProjectDetails[#Data],Project_last_entry-Project_start_row-ProjectTimelineData[[#This Row],[NUM]]+1,1)),\"\",INDEX(ProjectDetails[#Data],Project_last_entry-Project_start_row-ProjectTimelineData[[#This Row],[NUM]]+1,1)),\"\")","v":""},{"$f":"IFERROR(IF(ISBLANK(INDEX(ProjectDetails[#Data],Project_last_entry-Project_start_row-ProjectTimelineData[[#This Row],[NUM]]+1,2)),\"\",INDEX(ProjectDetails[#Data],Project_last_entry-Project_start_row-ProjectTimelineData[[#This Row],[NUM]]+1,2)),\"\")","v":""},{"$f":"IFERROR(IF(ISBLANK(INDEX(ProjectDetails[#Data],Project_last_entry-Project_start_row-ProjectTimelineData[[#This Row],[NUM]]+1,3)),\"\",INDEX(ProjectDetails[#Data],Project_last_entry-Project_start_row-ProjectTimelineData[[#This Row],[NUM]]+1,3)),\"\")","v":""},{"$f":"IFERROR(IF(ISBLANK(INDEX(ProjectDetails[#Data],ROW(A149)+1,1)),\"\",IF($J153-1<=-1,\"\",$J153-1)),\"\")","v":""},null,null,{"$f":"IFERROR(ProjectTimelineData[[#This Row],[NUM]]+1,\"\")","v":""},{"$f":"IFERROR(VLOOKUP(SortedTimeline[[#This Row],[RANK Sorted]],ProjectTimelineData[],3,0),\"\")","v":""},{"$f":"IFERROR(VLOOKUP(SortedTimeline[[#This Row],[RANK Sorted]],ProjectTimelineData[],4,0),\"\")","v":""},{"$f":"IFERROR(VLOOKUP(SortedTimeline[[#This Row],[RANK Sorted]],ProjectTimelineData[],5,0),\"\")","v":""}]
[{"$nulls":4},{"$f":"IFERROR(RANK(F155,ProjectTimelineData[RANK])+SUMPRODUCT(--(F155=ProjectTimelineData[RANK]),--(J155<ProjectTimelineData[NUM])),\"\")","v":""},{"$f":"IFERROR(RANK(ProjectTimelineData[[#This Row],[DATE]],ProjectTimelineData[DATE],1),\"\")","v":""},{"$f":"IFERROR(IF(ISBLANK(INDEX(ProjectDetails[#Data],Project_last_entry-Project_start_row-ProjectTimelineData[[#This Row],[NUM]]+1,1)),\"\",INDEX(ProjectDetails[#Data],Project_last_entry-Project_start_row-ProjectTimelineData[[#This Row],[NUM]]+1,1)),\"\")","v":""},{"$f":"IFERROR(IF(ISBLANK(INDEX(ProjectDetails[#Data],Project_last_entry-Project_start_row-ProjectTimelineData[[#This Row],[NUM]]+1,2)),\"\",INDEX(ProjectDetails[#Data],Project_last_entry-Project_start_row-ProjectTimelineData[[#This Row],[NUM]]+1,2)),\"\")","v":""},{"$f":"IFERROR(IF(ISBLANK(INDEX(ProjectDetails[#Data],Project_last_entry-Project_start_row-ProjectTimelineData[[#This Row],[NUM]]+1,3)),\"\",INDEX(ProjectDetails[#Data],Project_last_entry-Project_start_row-ProjectTimelineData[[#This Row],[NUM]]+1,3)),\"\")","v":""},{"$f":"IFERROR(IF(ISBLANK(INDEX(ProjectDetails[#Data],ROW(A150)+1,1)),\"\",IF($J154-1<=-1,\"\",$J154-1)),\"\")","v":""},null,null,{"$f":"IFERROR(ProjectTimelineData[[#This Row],[NUM]]+1,\"\")","v":""},{"$f":"IFERROR(VLOOKUP(SortedTimeline[[#This Row],[RANK Sorted]],ProjectTimelineData[],3,0),\"\")","v":""},{"$f":"IFERROR(VLOOKUP(SortedTimeline[[#This Row],[RANK Sorted]],ProjectTimelineData[],4,0),\"\")","v":""},{"$f":"IFERROR(VLOOKUP(SortedTimeline[[#This Row],[RANK Sorted]],ProjectTimelineData[],5,0),\"\")","v":""}]
[{"$nulls":4},{"$f":"IFERROR(RANK(F156,ProjectTimelineData[RANK])+SUMPRODUCT(--(F156=ProjectTimelineData[RANK]),--(J156<ProjectTimelineData[NUM])),\"\")","v":""},{"$f":"IFERROR(RANK(ProjectTimelineData[[#This Row],[DATE]],ProjectTimelineData[DATE],1),\"\")","v":""},{"$f":"IFERROR(IF(ISBLANK(INDEX(ProjectDetails[#Data],Project_last_entry-Project_start_row-ProjectTimelineData[[#This Row],[NUM]]+1,1)),\"\",INDEX(ProjectDetails[#Data],Project_last_entry-Project_start_row-ProjectTimelineData[[#This Row],[NUM]]+1,1)),\"\")","v":""},{"$f":"IFERROR(IF(ISBLANK(INDEX(ProjectDetails[#Data],Project_last_entry-Project_start_row-ProjectTimelineData[[#This Row],[NUM]]+1,2)),\"\",INDEX(ProjectDetails[#Data],Project_last_entry-Project_start_row-ProjectTimelineData[[#This Row],[NUM]]+1,2)),\"\")","v":""},{"$f":"IFERROR(IF(ISBLANK(INDEX(ProjectDetails[#Data],Project_last_entry-Project_start_row-ProjectTimelineData[[#This Row],[NUM]]+1,3)),\"\",INDEX(ProjectDetails[#Data],Project_last_entry-Project_start_row-ProjectTimelineData[[#This Row],[NUM]]+1,3)),\"\")","v":""},{"$f":"IFERROR(IF(ISBLANK(INDEX(ProjectDetails[#Data],ROW(A151)+1,1)),\"\",IF($J155-1<=-1,\"\",$J155-1)),\"\")","v":""},null,null,{"$f":"IFERROR(ProjectTimelineData[[#This Row],[NUM]]+1,\"\")","v":""},{"$f":"IFERROR(VLOOKUP(SortedTimeline[[#This Row],[RANK Sorted]],ProjectTimelineData[],3,0),\"\")","v":""},{"$f":"IFERROR(VLOOKUP(SortedTimeline[[#This Row],[RANK Sorted]],ProjectTimelineData[],4,0),\"\")","v":""},{"$f":"IFERROR(VLOOKUP(SortedTimeline[[#This Row],[RANK Sorted]],ProjectTimelineData[],5,0),\"\")","v":""}]
[{"$nulls":4},{"$f":"IFERROR(RANK(F157,ProjectTimelineData[RANK])+SUMPRODUCT(--(F157=ProjectTimelineData[RANK]),--(J157<ProjectTimelineData[NUM])),\"\")","v":""},{"$f":"IFERROR(RANK(ProjectTimelineData[[#This Row],[DATE]],ProjectTimelineData[DATE],1),\"\")","v":""},{"$f":"IFERROR(IF(ISBLANK(INDEX(ProjectDetails[#Data],Project_last_entry-Project_start_row-ProjectTimelineData[[#This Row],[NUM]]+1,1)),\"\",INDEX(ProjectDetails[#Data],Project_last_entry-Project_start_row-ProjectTimelineData[[#This Row],[NUM]]+1,1)),\"\")","v":""},{"$f":"IFERROR(IF(ISBLANK(INDEX(ProjectDetails[#Data],Project_last_entry-Project_start_row-ProjectTimelineData[[#This Row],[NUM]]+1,2)),\"\",INDEX(ProjectDetails[#Data],Project_last_entry-Project_start_row-ProjectTimelineData[[#This Row],[NUM]]+1,2)),\"\")","v":""},{"$f":"IFERROR(IF(ISBLANK(INDEX(ProjectDetails[#Data],Project_last_entry-Project_start_row-ProjectTimelineData[[#This Row],[NUM]]+1,3)),\"\",INDEX(ProjectDetails[#Data],Project_last_entry-Project_start_row-ProjectTimelineData[[#This Row],[NUM]]+1,3)),\"\")","v":""},{"$f":"IFERROR(IF(ISBLANK(INDEX(ProjectDetails[#Data],ROW(A152)+1,1)),\"\",IF($J156-1<=-1,\"\",$J156-1)),\"\")","v":""},null,null,{"$f":"IFERROR(ProjectTimelineData[[#This Row],[NUM]]+1,\"\")","v":""},{"$f":"IFERROR(VLOOKUP(SortedTimeline[[#This Row],[RANK Sorted]],ProjectTimelineData[],3,0),\"\")","v":""},{"$f":"IFERROR(VLOOKUP(SortedTimeline[[#This Row],[RANK Sorted]],ProjectTimelineData[],4,0),\"\")","v":""},{"$f":"IFERROR(VLOOKUP(SortedTimeline[[#This Row],[RANK Sorted]],ProjectTimelineData[],5,0),\"\")","v":""}]
[{"$nulls":4},{"$f":"IFERROR(RANK(F158,ProjectTimelineData[RANK])+SUMPRODUCT(--(F158=ProjectTimelineData[RANK]),--(J158<ProjectTimelineData[NUM])),\"\")","v":""},{"$f":"IFERROR(RANK(ProjectTimelineData[[#This Row],[DATE]],ProjectTimelineData[DATE],1),\"\")","v":""},{"$f":"IFERROR(IF(ISBLANK(INDEX(ProjectDetails[#Data],Project_last_entry-Project_start_row-ProjectTimelineData[[#This Row],[NUM]]+1,1)),\"\",INDEX(ProjectDetails[#Data],Project_last_entry-Project_start_row-ProjectTimelineData[[#This Row],[NUM]]+1,1)),\"\")","v":""},{"$f":"IFERROR(IF(ISBLANK(INDEX(ProjectDetails[#Data],Project_last_entry-Project_start_row-ProjectTimelineData[[#This Row],[NUM]]+1,2)),\"\",INDEX(ProjectDetails[#Data],Project_last_entry-Project_start_row-ProjectTimelineData[[#This Row],[NUM]]+1,2)),\"\")","v":""},{"$f":"IFERROR(IF(ISBLANK(INDEX(ProjectDetails[#Data],Project_last_entry-Project_start_row-ProjectTimelineData[[#This Row],[NUM]]+1,3)),\"\",INDEX(ProjectDetails[#Data],Project_last_entry-Project_start_row-ProjectTimelineData[[#This Row],[NUM]]+1,3)),\"\")","v":""},{"$f":"IFERROR(IF(ISBLANK(INDEX(ProjectDetails[#Data],ROW(A153)+1,1)),\"\",IF($J157-1<=-1,\"\",$J157-1)),\"\")","v":""},null,null,{"$f":"IFERROR(ProjectTimelineData[[#This Row],[NUM]]+1,\"\")","v":""},{"$f":"IFERROR(VLOOKUP(SortedTimeline[[#This Row],[RANK Sorted]],ProjectTimelineData[],3,0),\"\")","v":""},{"$f":"IFERROR(VLOOKUP(SortedTimeline[[#This Row],[RANK Sorted]],ProjectTimelineData[],4,0),\"\")","v":""},{"$f":"IFERROR(VLOOKUP(SortedTimeline[[#This Row],[RANK Sorted]],ProjectTimelineData[],5,0),\"\")","v":""}]
[{"$nulls":4},{"$f":"IFERROR(RANK(F159,ProjectTimelineData[RANK])+SUMPRODUCT(--(F159=ProjectTimelineData[RANK]),--(J159<ProjectTimelineData[NUM])),\"\")","v":""},{"$f":"IFERROR(RANK(ProjectTimelineData[[#This Row],[DATE]],ProjectTimelineData[DATE],1),\"\")","v":""},{"$f":"IFERROR(IF(ISBLANK(INDEX(ProjectDetails[#Data],Project_last_entry-Project_start_row-ProjectTimelineData[[#This Row],[NUM]]+1,1)),\"\",INDEX(ProjectDetails[#Data],Project_last_entry-Project_start_row-ProjectTimelineData[[#This Row],[NUM]]+1,1)),\"\")","v":""},{"$f":"IFERROR(IF(ISBLANK(INDEX(ProjectDetails[#Data],Project_last_entry-Project_start_row-ProjectTimelineData[[#This Row],[NUM]]+1,2)),\"\",INDEX(ProjectDetails[#Data],Project_last_entry-Project_start_row-ProjectTimelineData[[#This Row],[NUM]]+1,2)),\"\")","v":""},{"$f":"IFERROR(IF(ISBLANK(INDEX(ProjectDetails[#Data],Project_last_entry-Project_start_row-ProjectTimelineData[[#This Row],[NUM]]+1,3)),\"\",INDEX(ProjectDetails[#Data],Project_last_entry-Project_start_row-ProjectTimelineData[[#This Row],[NUM]]+1,3)),\"\")","v":""},{"$f":"IFERROR(IF(ISBLANK(INDEX(ProjectDetails[#Data],ROW(A154)+1,1)),\"\",IF($J158-1<=-1,\"\",$J158-1)),\"\")","v":""},null,null,{"$f":"IFERROR(ProjectTimelineData[[#This Row],[NUM]]+1,\"\")","v":""},{"$f":"IFERROR(VLOOKUP(SortedTimeline[[#This Row],[RANK Sorted]],ProjectTimelineData[],3,0),\"\")","v":""},{"$f":"IFERROR(VLOOKUP(SortedTimeline[[#This Row],[RANK Sorted]],ProjectTimelineData[],4,0),\"\")","v":""},{"$f":"IFERROR(VLOOKUP(SortedTimeline[[#This Row],[RANK Sorted]],ProjectTimelineData[],5,0),\"\")","v":""}]
[{"$nulls":4},{"$f":"IFERROR(RANK(F160,ProjectTimelineData[RANK])+SUMPRODUCT(--(F160=ProjectTimelineData[RANK]),--(J160<ProjectTimelineData[NUM])),\"\")","v":""},{"$f":"IFERROR(RANK(ProjectTimelineData[[#This Row],[DATE]],ProjectTimelineData[DATE],1),\"\")","v":""},{"$f":"IFERROR(IF(ISBLANK(INDEX(ProjectDetails[#Data],Project_last_entry-Project_start_row-ProjectTimelineData[[#This Row],[NUM]]+1,1)),\"\",INDEX(ProjectDetails[#Data],Project_last_entry-Project_start_row-ProjectTimelineData[[#This Row],[NUM]]+1,1)),\"\")","v":""},{"$f":"IFERROR(IF(ISBLANK(INDEX(ProjectDetails[#Data],Project_last_entry-Project_start_row-ProjectTimelineData[[#This Row],[NUM]]+1,2)),\"\",INDEX(ProjectDetails[#Data],Project_last_entry-Project_start_row-ProjectTimelineData[[#This Row],[NUM]]+1,2)),\"\")","v":""},{"$f":"IFERROR(IF(ISBLANK(INDEX(ProjectDetails[#Data],Project_last_entry-Project_start_row-ProjectTimelineData[[#This Row],[NUM]]+1,3)),\"\",INDEX(ProjectDetails[#Data],Project_last_entry-Project_start_row-ProjectTimelineData[[#This Row],[NUM]]+1,3)),\"\")","v":""},{"$f":"IFERROR(IF(ISBLANK(INDEX(ProjectDetails[#Data],ROW(A155)+1,1)),\"\",IF($J159-1<=-1,\"\",$J159-1)),\"\")","v":""},null,null,{"$f":"IFERROR(ProjectTimelineData[[#This Row],[NUM]]+1,\"\")","v":""},{"$f":"IFERROR(VLOOKUP(SortedTimeline[[#This Row],[RANK Sorted]],ProjectTimelineData[],3,0),\"\")","v":""},{"$f":"IFERROR(VLOOKUP(SortedTimeline[[#This Row],[RANK Sorted]],ProjectTimelineData[],4,0),\"\")","v":""},{"$f":"IFERROR(VLOOKUP(SortedTimeline[[#This Row],[RANK Sorted]],ProjectTimelineData[],5,0),\"\")","v":""}]
[{"$nulls":4},{"$f":"IFERROR(RANK(F161,ProjectTimelineData[RANK])+SUMPRODUCT(--(F161=ProjectTimelineData[RANK]),--(J161<ProjectTimelineData[NUM])),\"\")","v":""},{"$f":"IFERROR(RANK(ProjectTimelineData[[#This Row],[DATE]],ProjectTimelineData[DATE],1),\"\")","v":""},{"$f":"IFERROR(IF(ISBLANK(INDEX(ProjectDetails[#Data],Project_last_entry-Project_start_row-ProjectTimelineData[[#This Row],[NUM]]+1,1)),\"\",INDEX(ProjectDetails[#Data],Project_last_entry-Project_start_row-ProjectTimelineData[[#This Row],[NUM]]+1,1)),\"\")","v":""},{"$f":"IFERROR(IF(ISBLANK(INDEX(ProjectDetails[#Data],Project_last_entry-Project_start_row-ProjectTimelineData[[#This Row],[NUM]]+1,2)),\"\",INDEX(ProjectDetails[#Data],Project_last_entry-Project_start_row-ProjectTimelineData[[#This Row],[NUM]]+1,2)),\"\")","v":""},{"$f":"IFERROR(IF(ISBLANK(INDEX(ProjectDetails[#Data],Project_last_entry-Project_start_row-ProjectTimelineData[[#This Row],[NUM]]+1,3)),\"\",INDEX(ProjectDetails[#Data],Project_last_entry-Project_start_row-ProjectTimelineData[[#This Row],[NUM]]+1,3)),\"\")","v":""},{"$f":"IFERROR(IF(ISBLANK(INDEX(ProjectDetails[#Data],ROW(A156)+1,1)),\"\",IF($J160-1<=-1,\"\",$J160-1)),\"\")","v":""},null,null,{"$f":"IFERROR(ProjectTimelineData[[#This Row],[NUM]]+1,\"\")","v":""},{"$f":"IFERROR(VLOOKUP(SortedTimeline[[#This Row],[RANK Sorted]],ProjectTimelineData[],3,0),\"\")","v":""},{"$f":"IFERROR(VLOOKUP(SortedTimeline[[#This Row],[RANK Sorted]],ProjectTimelineData[],4,0),\"\")","v":""},{"$f":"IFERROR(VLOOKUP(SortedTimeline[[#This Row],[RANK Sorted]],ProjectTimelineData[],5,0),\"\")","v":""}]
[{"$nulls":4},{"$f":"IFERROR(RANK(F162,ProjectTimelineData[RANK])+SUMPRODUCT(--(F162=ProjectTimelineData[RANK]),--(J162<ProjectTimelineData[NUM])),\"\")","v":""},{"$f":"IFERROR(RANK(ProjectTimelineData[[#This Row],[DATE]],ProjectTimelineData[DATE],1),\"\")","v":""},{"$f":"IFERROR(IF(ISBLANK(INDEX(ProjectDetails[#Data],Project_last_entry-Project_start_row-ProjectTimelineData[[#This Row],[NUM]]+1,1)),\"\",INDEX(ProjectDetails[#Data],Project_last_entry-Project_start_row-ProjectTimelineData[[#This Row],[NUM]]+1,1)),\"\")","v":""},{"$f":"IFERROR(IF(ISBLANK(INDEX(ProjectDetails[#Data],Project_last_entry-Project_start_row-ProjectTimelineData[[#This Row],[NUM]]+1,2)),\"\",INDEX(ProjectDetails[#Data],Project_last_entry-Project_start_row-ProjectTimelineData[[#This Row],[NUM]]+1,2)),\"\")","v":""},{"$f":"IFERROR(IF(ISBLANK(INDEX(ProjectDetails[#Data],Project_last_entry-Project_start_row-ProjectTimelineData[[#This Row],[NUM]]+1,3)),\"\",INDEX(ProjectDetails[#Data],Project_last_entry-Project_start_row-ProjectTimelineData[[#This Row],[NUM]]+1,3)),\"\")","v":""},{"$f":"IFERROR(IF(ISBLANK(INDEX(ProjectDetails[#Data],ROW(A157)+1,1)),\"\",IF($J161-1<=-1,\"\",$J161-1)),\"\")","v":""},null,null,{"$f":"IFERROR(ProjectTimelineData[[#This Row],[NUM]]+1,\"\")","v":""},{"$f":"IFERROR(VLOOKUP(SortedTimeline[[#This Row],[RANK Sorted]],ProjectTimelineData[],3,0),\"\")","v":""},{"$f":"IFERROR(VLOOKUP(SortedTimeline[[#This Row],[RANK Sorted]],ProjectTimelineData[],4,0),\"\")","v":""},{"$f":"IFERROR(VLOOKUP(SortedTimeline[[#This Row],[RANK Sorted]],ProjectTimelineData[],5,0),\"\")","v":""}]
[{"$nulls":4},{"$f":"IFERROR(RANK(F163,ProjectTimelineData[RANK])+SUMPRODUCT(--(F163=ProjectTimelineData[RANK]),--(J163<ProjectTimelineData[NUM])),\"\")","v":""},{"$f":"IFERROR(RANK(ProjectTimelineData[[#This Row],[DATE]],ProjectTimelineData[DATE],1),\"\")","v":""},{"$f":"IFERROR(IF(ISBLANK(INDEX(ProjectDetails[#Data],Project_last_entry-Project_start_row-ProjectTimelineData[[#This Row],[NUM]]+1,1)),\"\",INDEX(ProjectDetails[#Data],Project_last_entry-Project_start_row-ProjectTimelineData[[#This Row],[NUM]]+1,1)),\"\")","v":""},{"$f":"IFERROR(IF(ISBLANK(INDEX(ProjectDetails[#Data],Project_last_entry-Project_start_row-ProjectTimelineData[[#This Row],[NUM]]+1,2)),\"\",INDEX(ProjectDetails[#Data],Project_last_entry-Project_start_row-ProjectTimelineData[[#This Row],[NUM]]+1,2)),\"\")","v":""},{"$f":"IFERROR(IF(ISBLANK(INDEX(ProjectDetails[#Data],Project_last_entry-Project_start_row-ProjectTimelineData[[#This Row],[NUM]]+1,3)),\"\",INDEX(ProjectDetails[#Data],Project_last_entry-Project_start_row-ProjectTimelineData[[#This Row],[NUM]]+1,3)),\"\")","v":""},{"$f":"IFERROR(IF(ISBLANK(INDEX(ProjectDetails[#Data],ROW(A158)+1,1)),\"\",IF($J162-1<=-1,\"\",$J162-1)),\"\")","v":""},null,null,{"$f":"IFERROR(ProjectTimelineData[[#This Row],[NUM]]+1,\"\")","v":""},{"$f":"IFERROR(VLOOKUP(SortedTimeline[[#This Row],[RANK Sorted]],ProjectTimelineData[],3,0),\"\")","v":""},{"$f":"IFERROR(VLOOKUP(SortedTimeline[[#This Row],[RANK Sorted]],ProjectTimelineData[],4,0),\"\")","v":""},{"$f":"IFERROR(VLOOKUP(SortedTimeline[[#This Row],[RANK Sorted]],ProjectTimelineData[],5,0),\"\")","v":""}]
[{"$nulls":4},{"$f":"IFERROR(RANK(F164,ProjectTimelineData[RANK])+SUMPRODUCT(--(F164=ProjectTimelineData[RANK]),--(J164<ProjectTimelineData[NUM])),\"\")","v":""},{"$f":"IFERROR(RANK(ProjectTimelineData[[#This Row],[DATE]],ProjectTimelineData[DATE],1),\"\")","v":""},{"$f":"IFERROR(IF(ISBLANK(INDEX(ProjectDetails[#Data],Project_last_entry-Project_start_row-ProjectTimelineData[[#This Row],[NUM]]+1,1)),\"\",INDEX(ProjectDetails[#Data],Project_last_entry-Project_start_row-ProjectTimelineData[[#This Row],[NUM]]+1,1)),\"\")","v":""},{"$f":"IFERROR(IF(ISBLANK(INDEX(ProjectDetails[#Data],Project_last_entry-Project_start_row-ProjectTimelineData[[#This Row],[NUM]]+1,2)),\"\",INDEX(ProjectDetails[#Data],Project_last_entry-Project_start_row-ProjectTimelineData[[#This Row],[NUM]]+1,2)),\"\")","v":""},{"$f":"IFERROR(IF(ISBLANK(INDEX(ProjectDetails[#Data],Project_last_entry-Project_start_row-ProjectTimelineData[[#This Row],[NUM]]+1,3)),\"\",INDEX(ProjectDetails[#Data],Project_last_entry-Project_start_row-ProjectTimelineData[[#This Row],[NUM]]+1,3)),\"\")","v":""},{"$f":"IFERROR(IF(ISBLANK(INDEX(ProjectDetails[#Data],ROW(A159)+1,1)),\"\",IF($J163-1<=-1,\"\",$J163-1)),\"\")","v":""},null,null,{"$f":"IFERROR(ProjectTimelineData[[#This Row],[NUM]]+1,\"\")","v":""},{"$f":"IFERROR(VLOOKUP(SortedTimeline[[#This Row],[RANK Sorted]],ProjectTimelineData[],3,0),\"\")","v":""},{"$f":"IFERROR(VLOOKUP(SortedTimeline[[#This Row],[RANK Sorted]],ProjectTimelineData[],4,0),\"\")","v":""},{"$f":"IFERROR(VLOOKUP(SortedTimeline[[#This Row],[RANK Sorted]],ProjectTimelineData[],5,0),\"\")","v":""}]
[{"$nulls":4},{"$f":"IFERROR(RANK(F165,ProjectTimelineData[RANK])+SUMPRODUCT(--(F165=ProjectTimelineData[RANK]),--(J165<ProjectTimelineData[NUM])),\"\")","v":""},{"$f":"IFERROR(RANK(ProjectTimelineData[[#This Row],[DATE]],ProjectTimelineData[DATE],1),\"\")","v":""},{"$f":"IFERROR(IF(ISBLANK(INDEX(ProjectDetails[#Data],Project_last_entry-Project_start_row-ProjectTimelineData[[#This Row],[NUM]]+1,1)),\"\",INDEX(ProjectDetails[#Data],Project_last_entry-Project_start_row-ProjectTimelineData[[#This Row],[NUM]]+1,1)),\"\")","v":""},{"$f":"IFERROR(IF(ISBLANK(INDEX(ProjectDetails[#Data],Project_last_entry-Project_start_row-ProjectTimelineData[[#This Row],[NUM]]+1,2)),\"\",INDEX(ProjectDetails[#Data],Project_last_entry-Project_start_row-ProjectTimelineData[[#This Row],[NUM]]+1,2)),\"\")","v":""},{"$f":"IFERROR(IF(ISBLANK(INDEX(ProjectDetails[#Data],Project_last_entry-Project_start_row-ProjectTimelineData[[#This Row],[NUM]]+1,3)),\"\",INDEX(ProjectDetails[#Data],Project_last_entry-Project_start_row-ProjectTimelineData[[#This Row],[NUM]]+1,3)),\"\")","v":""},{"$f":"IFERROR(IF(ISBLANK(INDEX(ProjectDetails[#Data],ROW(A160)+1,1)),\"\",IF($J164-1<=-1,\"\",$J164-1)),\"\")","v":""},null,null,{"$f":"IFERROR(ProjectTimelineData[[#This Row],[NUM]]+1,\"\")","v":""},{"$f":"IFERROR(VLOOKUP(SortedTimeline[[#This Row],[RANK Sorted]],ProjectTimelineData[],3,0),\"\")","v":""},{"$f":"IFERROR(VLOOKUP(SortedTimeline[[#This Row],[RANK Sorted]],ProjectTimelineData[],4,0),\"\")","v":""},{"$f":"IFERROR(VLOOKUP(SortedTimeline[[#This Row],[RANK Sorted]],ProjectTimelineData[],5,0),\"\")","v":""}]
[{"$nulls":4},{"$f":"IFERROR(RANK(F166,ProjectTimelineData[RANK])+SUMPRODUCT(--(F166=ProjectTimelineData[RANK]),--(J166<ProjectTimelineData[NUM])),\"\")","v":""},{"$f":"IFERROR(RANK(ProjectTimelineData[[#This Row],[DATE]],ProjectTimelineData[DATE],1),\"\")","v":""},{"$f":"IFERROR(IF(ISBLANK(INDEX(ProjectDetails[#Data],Project_last_entry-Project_start_row-ProjectTimelineData[[#This Row],[NUM]]+1,1)),\"\",INDEX(ProjectDetails[#Data],Project_last_entry-Project_start_row-ProjectTimelineData[[#This Row],[NUM]]+1,1)),\"\")","v":""},{"$f":"IFERROR(IF(ISBLANK(INDEX(ProjectDetails[#Data],Project_last_entry-Project_start_row-ProjectTimelineData[[#This Row],[NUM]]+1,2)),\"\",INDEX(ProjectDetails[#Data],Project_last_entry-Project_start_row-ProjectTimelineData[[#This Row],[NUM]]+1,2)),\"\")","v":""},{"$f":"IFERROR(IF(ISBLANK(INDEX(ProjectDetails[#Data],Project_last_entry-Project_start_row-ProjectTimelineData[[#This Row],[NUM]]+1,3)),\"\",INDEX(ProjectDetails[#Data],Project_last_entry-Project_start_row-ProjectTimelineData[[#This Row],[NUM]]+1,3)),\"\")","v":""},{"$f":"IFERROR(IF(ISBLANK(INDEX(ProjectDetails[#Data],ROW(A161)+1,1)),\"\",IF($J165-1<=-1,\"\",$J165-1)),\"\")","v":""},null,null,{"$f":"IFERROR(ProjectTimelineData[[#This Row],[NUM]]+1,\"\")","v":""},{"$f":"IFERROR(VLOOKUP(SortedTimeline[[#This Row],[RANK Sorted]],ProjectTimelineData[],3,0),\"\")","v":""},{"$f":"IFERROR(VLOOKUP(SortedTimeline[[#This Row],[RANK Sorted]],ProjectTimelineData[],4,0),\"\")","v":""},{"$f":"IFERROR(VLOOKUP(SortedTimeline[[#This Row],[RANK Sorted]],ProjectTimelineData[],5,0),\"\")","v":""}]
[{"$nulls":4},{"$f":"IFERROR(RANK(F167,ProjectTimelineData[RANK])+SUMPRODUCT(--(F167=ProjectTimelineData[RANK]),--(J167<ProjectTimelineData[NUM])),\"\")","v":""},{"$f":"IFERROR(RANK(ProjectTimelineData[[#This Row],[DATE]],ProjectTimelineData[DATE],1),\"\")","v":""},{"$f":"IFERROR(IF(ISBLANK(INDEX(ProjectDetails[#Data],Project_last_entry-Project_start_row-ProjectTimelineData[[#This Row],[NUM]]+1,1)),\"\",INDEX(ProjectDetails[#Data],Project_last_entry-Project_start_row-ProjectTimelineData[[#This Row],[NUM]]+1,1)),\"\")","v":""},{"$f":"IFERROR(IF(ISBLANK(INDEX(ProjectDetails[#Data],Project_last_entry-Project_start_row-ProjectTimelineData[[#This Row],[NUM]]+1,2)),\"\",INDEX(ProjectDetails[#Data],Project_last_entry-Project_start_row-ProjectTimelineData[[#This Row],[NUM]]+1,2)),\"\")","v":""},{"$f":"IFERROR(IF(ISBLANK(INDEX(ProjectDetails[#Data],Project_last_entry-Project_start_row-ProjectTimelineData[[#This Row],[NUM]]+1,3)),\"\",INDEX(ProjectDetails[#Data],Project_last_entry-Project_start_row-ProjectTimelineData[[#This Row],[NUM]]+1,3)),\"\")","v":""},{"$f":"IFERROR(IF(ISBLANK(INDEX(ProjectDetails[#Data],ROW(A162)+1,1)),\"\",IF($J166-1<=-1,\"\",$J166-1)),\"\")","v":""},null,null,{"$f":"IFERROR(ProjectTimelineData[[#This Row],[NUM]]+1,\"\")","v":""},{"$f":"IFERROR(VLOOKUP(SortedTimeline[[#This Row],[RANK Sorted]],ProjectTimelineData[],3,0),\"\")","v":""},{"$f":"IFERROR(VLOOKUP(SortedTimeline[[#This Row],[RANK Sorted]],ProjectTimelineData[],4,0),\"\")","v":""},{"$f":"IFERROR(VLOOKUP(SortedTimeline[[#This Row],[RANK Sorted]],ProjectTimelineData[],5,0),\"\")","v":""}]
[{"$nulls":4},{"$f":"IFERROR(RANK(F168,ProjectTimelineData[RANK])+SUMPRODUCT(--(F168=ProjectTimelineData[RANK]),--(J168<ProjectTimelineData[NUM])),\"\")","v":""},{"$f":"IFERROR(RANK(ProjectTimelineData[[#This Row],[DATE]],ProjectTimelineData[DATE],1),\"\")","v":""},{"$f":"IFERROR(IF(ISBLANK(INDEX(ProjectDetails[#Data],Project_last_entry-Project_start_row-ProjectTimelineData[[#This Row],[NUM]]+1,1)),\"\",INDEX(ProjectDetails[#Data],Project_last_entry-Project_start_row-ProjectTimelineData[[#This Row],[NUM]]+1,1)),\"\")","v":""},{"$f":"IFERROR(IF(ISBLANK(INDEX(ProjectDetails[#Data],Project_last_entry-Project_start_row-ProjectTimelineData[[#This Row],[NUM]]+1,2)),\"\",INDEX(ProjectDetails[#Data],Project_last_entry-Project_start_row-ProjectTimelineData[[#This Row],[NUM]]+1,2)),\"\")","v":""},{"$f":"IFERROR(IF(ISBLANK(INDEX(ProjectDetails[#Data],Project_last_entry-Project_start_row-ProjectTimelineData[[#This Row],[NUM]]+1,3)),\"\",INDEX(ProjectDetails[#Data],Project_last_entry-Project_start_row-ProjectTimelineData[[#This Row],[NUM]]+1,3)),\"\")","v":""},{"$f":"IFERROR(IF(ISBLANK(INDEX(ProjectDetails[#Data],ROW(A163)+1,1)),\"\",IF($J167-1<=-1,\"\",$J167-1)),\"\")","v":""},null,null,{"$f":"IFERROR(ProjectTimelineData[[#This Row],[NUM]]+1,\"\")","v":""},{"$f":"IFERROR(VLOOKUP(SortedTimeline[[#This Row],[RANK Sorted]],ProjectTimelineData[],3,0),\"\")","v":""},{"$f":"IFERROR(VLOOKUP(SortedTimeline[[#This Row],[RANK Sorted]],ProjectTimelineData[],4,0),\"\")","v":""},{"$f":"IFERROR(VLOOKUP(SortedTimeline[[#This Row],[RANK Sorted]],ProjectTimelineData[],5,0),\"\")","v":""}]
[{"$nulls":4},{"$f":"IFERROR(RANK(F169,ProjectTimelineData[RANK])+SUMPRODUCT(--(F169=ProjectTimelineData[RANK]),--(J169<ProjectTimelineData[NUM])),\"\")","v":""},{"$f":"IFERROR(RANK(ProjectTimelineData[[#This Row],[DATE]],ProjectTimelineData[DATE],1),\"\")","v":""},{"$f":"IFERROR(IF(ISBLANK(INDEX(ProjectDetails[#Data],Project_last_entry-Project_start_row-ProjectTimelineData[[#This Row],[NUM]]+1,1)),\"\",INDEX(ProjectDetails[#Data],Project_last_entry-Project_start_row-ProjectTimelineData[[#This Row],[NUM]]+1,1)),\"\")","v":""},{"$f":"IFERROR(IF(ISBLANK(INDEX(ProjectDetails[#Data],Project_last_entry-Project_start_row-ProjectTimelineData[[#This Row],[NUM]]+1,2)),\"\",INDEX(ProjectDetails[#Data],Project_last_entry-Project_start_row-ProjectTimelineData[[#This Row],[NUM]]+1,2)),\"\")","v":""},{"$f":"IFERROR(IF(ISBLANK(INDEX(ProjectDetails[#Data],Project_last_entry-Project_start_row-ProjectTimelineData[[#This Row],[NUM]]+1,3)),\"\",INDEX(ProjectDetails[#Data],Project_last_entry-Project_start_row-ProjectTimelineData[[#This Row],[NUM]]+1,3)),\"\")","v":""},{"$f":"IFERROR(IF(ISBLANK(INDEX(ProjectDetails[#Data],ROW(A164)+1,1)),\"\",IF($J168-1<=-1,\"\",$J168-1)),\"\")","v":""},null,null,{"$f":"IFERROR(ProjectTimelineData[[#This Row],[NUM]]+1,\"\")","v":""},{"$f":"IFERROR(VLOOKUP(SortedTimeline[[#This Row],[RANK Sorted]],ProjectTimelineData[],3,0),\"\")","v":""},{"$f":"IFERROR(VLOOKUP(SortedTimeline[[#This Row],[RANK Sorted]],ProjectTimelineData[],4,0),\"\")","v":""},{"$f":"IFERROR(VLOOKUP(SortedTimeline[[#This Row],[RANK Sorted]],ProjectTimelineData[],5,0),\"\")","v":""}]
[{"$nulls":4},{"$f":"IFERROR(RANK(F170,ProjectTimelineData[RANK])+SUMPRODUCT(--(F170=ProjectTimelineData[RANK]),--(J170<ProjectTimelineData[NUM])),\"\")","v":""},{"$f":"IFERROR(RANK(ProjectTimelineData[[#This Row],[DATE]],ProjectTimelineData[DATE],1),\"\")","v":""},{"$f":"IFERROR(IF(ISBLANK(INDEX(ProjectDetails[#Data],Project_last_entry-Project_start_row-ProjectTimelineData[[#This Row],[NUM]]+1,1)),\"\",INDEX(ProjectDetails[#Data],Project_last_entry-Project_start_row-ProjectTimelineData[[#This Row],[NUM]]+1,1)),\"\")","v":""},{"$f":"IFERROR(IF(ISBLANK(INDEX(ProjectDetails[#Data],Project_last_entry-Project_start_row-ProjectTimelineData[[#This Row],[NUM]]+1,2)),\"\",INDEX(ProjectDetails[#Data],Project_last_entry-Project_start_row-ProjectTimelineData[[#This Row],[NUM]]+1,2)),\"\")","v":""},{"$f":"IFERROR(IF(ISBLANK(INDEX(ProjectDetails[#Data],Project_last_entry-Project_start_row-ProjectTimelineData[[#This Row],[NUM]]+1,3)),\"\",INDEX(ProjectDetails[#Data],Project_last_entry-Project_start_row-ProjectTimelineData[[#This Row],[NUM]]+1,3)),\"\")","v":""},{"$f":"IFERROR(IF(ISBLANK(INDEX(ProjectDetails[#Data],ROW(A165)+1,1)),\"\",IF($J169-1<=-1,\"\",$J169-1)),\"\")","v":""},null,null,{"$f":"IFERROR(ProjectTimelineData[[#This Row],[NUM]]+1,\"\")","v":""},{"$f":"IFERROR(VLOOKUP(SortedTimeline[[#This Row],[RANK Sorted]],ProjectTimelineData[],3,0),\"\")","v":""},{"$f":"IFERROR(VLOOKUP(SortedTimeline[[#This Row],[RANK Sorted]],ProjectTimelineData[],4,0),\"\")","v":""},{"$f":"IFERROR(VLOOKUP(SortedTimeline[[#This Row],[RANK Sorted]],ProjectTimelineData[],5,0),\"\")","v":""}]
[{"$nulls":4},{"$f":"IFERROR(RANK(F171,ProjectTimelineData[RANK])+SUMPRODUCT(--(F171=ProjectTimelineData[RANK]),--(J171<ProjectTimelineData[NUM])),\"\")","v":""},{"$f":"IFERROR(RANK(ProjectTimelineData[[#This Row],[DATE]],ProjectTimelineData[DATE],1),\"\")","v":""},{"$f":"IFERROR(IF(ISBLANK(INDEX(ProjectDetails[#Data],Project_last_entry-Project_start_row-ProjectTimelineData[[#This Row],[NUM]]+1,1)),\"\",INDEX(ProjectDetails[#Data],Project_last_entry-Project_start_row-ProjectTimelineData[[#This Row],[NUM]]+1,1)),\"\")","v":""},{"$f":"IFERROR(IF(ISBLANK(INDEX(ProjectDetails[#Data],Project_last_entry-Project_start_row-ProjectTimelineData[[#This Row],[NUM]]+1,2)),\"\",INDEX(ProjectDetails[#Data],Project_last_entry-Project_start_row-ProjectTimelineData[[#This Row],[NUM]]+1,2)),\"\")","v":""},{"$f":"IFERROR(IF(ISBLANK(INDEX(ProjectDetails[#Data],Project_last_entry-Project_start_row-ProjectTimelineData[[#This Row],[NUM]]+1,3)),\"\",INDEX(ProjectDetails[#Data],Project_last_entry-Project_start_row-ProjectTimelineData[[#This Row],[NUM]]+1,3)),\"\")","v":""},{"$f":"IFERROR(IF(ISBLANK(INDEX(ProjectDetails[#Data],ROW(A166)+1,1)),\"\",IF($J170-1<=-1,\"\",$J170-1)),\"\")","v":""},null,null,{"$f":"IFERROR(ProjectTimelineData[[#This Row],[NUM]]+1,\"\")","v":""},{"$f":"IFERROR(VLOOKUP(SortedTimeline[[#This Row],[RANK Sorted]],ProjectTimelineData[],3,0),\"\")","v":""},{"$f":"IFERROR(VLOOKUP(SortedTimeline[[#This Row],[RANK Sorted]],ProjectTimelineData[],4,0),\"\")","v":""},{"$f":"IFERROR(VLOOKUP(SortedTimeline[[#This Row],[RANK Sorted]],ProjectTimelineData[],5,0),\"\")","v":""}]
[{"$nulls":4},{"$f":"IFERROR(RANK(F172,ProjectTimelineData[RANK])+SUMPRODUCT(--(F172=ProjectTimelineData[RANK]),--(J172<ProjectTimelineData[NUM])),\"\")","v":""},{"$f":"IFERROR(RANK(ProjectTimelineData[[#This Row],[DATE]],ProjectTimelineData[DATE],1),\"\")","v":""},{"$f":"IFERROR(IF(ISBLANK(INDEX(ProjectDetails[#Data],Project_last_entry-Project_start_row-ProjectTimelineData[[#This Row],[NUM]]+1,1)),\"\",INDEX(ProjectDetails[#Data],Project_last_entry-Project_start_row-ProjectTimelineData[[#This Row],[NUM]]+1,1)),\"\")","v":""},{"$f":"IFERROR(IF(ISBLANK(INDEX(ProjectDetails[#Data],Project_last_entry-Project_start_row-ProjectTimelineData[[#This Row],[NUM]]+1,2)),\"\",INDEX(ProjectDetails[#Data],Project_last_entry-Project_start_row-ProjectTimelineData[[#This Row],[NUM]]+1,2)),\"\")","v":""},{"$f":"IFERROR(IF(ISBLANK(INDEX(ProjectDetails[#Data],Project_last_entry-Project_start_row-ProjectTimelineData[[#This Row],[NUM]]+1,3)),\"\",INDEX(ProjectDetails[#Data],Project_last_entry-Project_start_row-ProjectTimelineData[[#This Row],[NUM]]+1,3)),\"\")","v":""},{"$f":"IFERROR(IF(ISBLANK(INDEX(ProjectDetails[#Data],ROW(A167)+1,1)),\"\",IF($J171-1<=-1,\"\",$J171-1)),\"\")","v":""},null,null,{"$f":"IFERROR(ProjectTimelineData[[#This Row],[NUM]]+1,\"\")","v":""},{"$f":"IFERROR(VLOOKUP(SortedTimeline[[#This Row],[RANK Sorted]],ProjectTimelineData[],3,0),\"\")","v":""},{"$f":"IFERROR(VLOOKUP(SortedTimeline[[#This Row],[RANK Sorted]],ProjectTimelineData[],4,0),\"\")","v":""},{"$f":"IFERROR(VLOOKUP(SortedTimeline[[#This Row],[RANK Sorted]],ProjectTimelineData[],5,0),\"\")","v":""}]
[{"$nulls":4},{"$f":"IFERROR(RANK(F173,ProjectTimelineData[RANK])+SUMPRODUCT(--(F173=ProjectTimelineData[RANK]),--(J173<ProjectTimelineData[NUM])),\"\")","v":""},{"$f":"IFERROR(RANK(ProjectTimelineData[[#This Row],[DATE]],ProjectTimelineData[DATE],1),\"\")","v":""},{"$f":"IFERROR(IF(ISBLANK(INDEX(ProjectDetails[#Data],Project_last_entry-Project_start_row-ProjectTimelineData[[#This Row],[NUM]]+1,1)),\"\",INDEX(ProjectDetails[#Data],Project_last_entry-Project_start_row-ProjectTimelineData[[#This Row],[NUM]]+1,1)),\"\")","v":""},{"$f":"IFERROR(IF(ISBLANK(INDEX(ProjectDetails[#Data],Project_last_entry-Project_start_row-ProjectTimelineData[[#This Row],[NUM]]+1,2)),\"\",INDEX(ProjectDetails[#Data],Project_last_entry-Project_start_row-ProjectTimelineData[[#This Row],[NUM]]+1,2)),\"\")","v":""},{"$f":"IFERROR(IF(ISBLANK(INDEX(ProjectDetails[#Data],Project_last_entry-Project_start_row-ProjectTimelineData[[#This Row],[NUM]]+1,3)),\"\",INDEX(ProjectDetails[#Data],Project_last_entry-Project_start_row-ProjectTimelineData[[#This Row],[NUM]]+1,3)),\"\")","v":""},{"$f":"IFERROR(IF(ISBLANK(INDEX(ProjectDetails[#Data],ROW(A168)+1,1)),\"\",IF($J172-1<=-1,\"\",$J172-1)),\"\")","v":""},null,null,{"$f":"IFERROR(ProjectTimelineData[[#This Row],[NUM]]+1,\"\")","v":""},{"$f":"IFERROR(VLOOKUP(SortedTimeline[[#This Row],[RANK Sorted]],ProjectTimelineData[],3,0),\"\")","v":""},{"$f":"IFERROR(VLOOKUP(SortedTimeline[[#This Row],[RANK Sorted]],ProjectTimelineData[],4,0),\"\")","v":""},{"$f":"IFERROR(VLOOKUP(SortedTimeline[[#This Row],[RANK Sorted]],ProjectTimelineData[],5,0),\"\")","v":""}]
[{"$nulls":4},{"$f":"IFERROR(RANK(F174,ProjectTimelineData[RANK])+SUMPRODUCT(--(F174=ProjectTimelineData[RANK]),--(J174<ProjectTimelineData[NUM])),\"\")","v":""},{"$f":"IFERROR(RANK(ProjectTimelineData[[#This Row],[DATE]],ProjectTimelineData[DATE],1),\"\")","v":""},{"$f":"IFERROR(IF(ISBLANK(INDEX(ProjectDetails[#Data],Project_last_entry-Project_start_row-ProjectTimelineData[[#This Row],[NUM]]+1,1)),\"\",INDEX(ProjectDetails[#Data],Project_last_entry-Project_start_row-ProjectTimelineData[[#This Row],[NUM]]+1,1)),\"\")","v":""},{"$f":"IFERROR(IF(ISBLANK(INDEX(ProjectDetails[#Data],Project_last_entry-Project_start_row-ProjectTimelineData[[#This Row],[NUM]]+1,2)),\"\",INDEX(ProjectDetails[#Data],Project_last_entry-Project_start_row-ProjectTimelineData[[#This Row],[NUM]]+1,2)),\"\")","v":""},{"$f":"IFERROR(IF(ISBLANK(INDEX(ProjectDetails[#Data],Project_last_entry-Project_start_row-ProjectTimelineData[[#This Row],[NUM]]+1,3)),\"\",INDEX(ProjectDetails[#Data],Project_last_entry-Project_start_row-ProjectTimelineData[[#This Row],[NUM]]+1,3)),\"\")","v":""},{"$f":"IFERROR(IF(ISBLANK(INDEX(ProjectDetails[#Data],ROW(A169)+1,1)),\"\",IF($J173-1<=-1,\"\",$J173-1)),\"\")","v":""},null,null,{"$f":"IFERROR(ProjectTimelineData[[#This Row],[NUM]]+1,\"\")","v":""},{"$f":"IFERROR(VLOOKUP(SortedTimeline[[#This Row],[RANK Sorted]],ProjectTimelineData[],3,0),\"\")","v":""},{"$f":"IFERROR(VLOOKUP(SortedTimeline[[#This Row],[RANK Sorted]],ProjectTimelineData[],4,0),\"\")","v":""},{"$f":"IFERROR(VLOOKUP(SortedTimeline[[#This Row],[RANK Sorted]],ProjectTimelineData[],5,0),\"\")","v":""}]
[{"$nulls":4},{"$f":"IFERROR(RANK(F175,ProjectTimelineData[RANK])+SUMPRODUCT(--(F175=ProjectTimelineData[RANK]),--(J175<ProjectTimelineData[NUM])),\"\")","v":""},{"$f":"IFERROR(RANK(ProjectTimelineData[[#This Row],[DATE]],ProjectTimelineData[DATE],1),\"\")","v":""},{"$f":"IFERROR(IF(ISBLANK(INDEX(ProjectDetails[#Data],Project_last_entry-Project_start_row-ProjectTimelineData[[#This Row],[NUM]]+1,1)),\"\",INDEX(ProjectDetails[#Data],Project_last_entry-Project_start_row-ProjectTimelineData[[#This Row],[NUM]]+1,1)),\"\")","v":""},{"$f":"IFERROR(IF(ISBLANK(INDEX(ProjectDetails[#Data],Project_last_entry-Project_start_row-ProjectTimelineData[[#This Row],[NUM]]+1,2)),\"\",INDEX(ProjectDetails[#Data],Project_last_entry-Project_start_row-ProjectTimelineData[[#This Row],[NUM]]+1,2)),\"\")","v":""},{"$f":"IFERROR(IF(ISBLANK(INDEX(ProjectDetails[#Data],Project_last_entry-Project_start_row-ProjectTimelineData[[#This Row],[NUM]]+1,3)),\"\",INDEX(ProjectDetails[#Data],Project_last_entry-Project_start_row-ProjectTimelineData[[#This Row],[NUM]]+1,3)),\"\")","v":""},{"$f":"IFERROR(IF(ISBLANK(INDEX(ProjectDetails[#Data],ROW(A170)+1,1)),\"\",IF($J174-1<=-1,\"\",$J174-1)),\"\")","v":""},null,null,{"$f":"IFERROR(ProjectTimelineData[[#This Row],[NUM]]+1,\"\")","v":""},{"$f":"IFERROR(VLOOKUP(SortedTimeline[[#This Row],[RANK Sorted]],ProjectTimelineData[],3,0),\"\")","v":""},{"$f":"IFERROR(VLOOKUP(SortedTimeline[[#This Row],[RANK Sorted]],ProjectTimelineData[],4,0),\"\")","v":""},{"$f":"IFERROR(VLOOKUP(SortedTimeline[[#This Row],[RANK Sorted]],ProjectTimelineData[],5,0),\"\")","v":""}]
[{"$nulls":4},{"$f":"IFERROR(RANK(F176,ProjectTimelineData[RANK])+SUMPRODUCT(--(F176=ProjectTimelineData[RANK]),--(J176<ProjectTimelineData[NUM])),\"\")","v":""},{"$f":"IFERROR(RANK(ProjectTimelineData[[#This Row],[DATE]],ProjectTimelineData[DATE],1),\"\")","v":""},{"$f":"IFERROR(IF(ISBLANK(INDEX(ProjectDetails[#Data],Project_last_entry-Project_start_row-ProjectTimelineData[[#This Row],[NUM]]+1,1)),\"\",INDEX(ProjectDetails[#Data],Project_last_entry-Project_start_row-ProjectTimelineData[[#This Row],[NUM]]+1,1)),\"\")","v":""},{"$f":"IFERROR(IF(ISBLANK(INDEX(ProjectDetails[#Data],Project_last_entry-Project_start_row-ProjectTimelineData[[#This Row],[NUM]]+1,2)),\"\",INDEX(ProjectDetails[#Data],Project_last_entry-Project_start_row-ProjectTimelineData[[#This Row],[NUM]]+1,2)),\"\")","v":""},{"$f":"IFERROR(IF(ISBLANK(INDEX(ProjectDetails[#Data],Project_last_entry-Project_start_row-ProjectTimelineData[[#This Row],[NUM]]+1,3)),\"\",INDEX(ProjectDetails[#Data],Project_last_entry-Project_start_row-ProjectTimelineData[[#This Row],[NUM]]+1,3)),\"\")","v":""},{"$f":"IFERROR(IF(ISBLANK(INDEX(ProjectDetails[#Data],ROW(A171)+1,1)),\"\",IF($J175-1<=-1,\"\",$J175-1)),\"\")","v":""},null,null,{"$f":"IFERROR(ProjectTimelineData[[#This Row],[NUM]]+1,\"\")","v":""},{"$f":"IFERROR(VLOOKUP(SortedTimeline[[#This Row],[RANK Sorted]],ProjectTimelineData[],3,0),\"\")","v":""},{"$f":"IFERROR(VLOOKUP(SortedTimeline[[#This Row],[RANK Sorted]],ProjectTimelineData[],4,0),\"\")","v":""},{"$f":"IFERROR(VLOOKUP(SortedTimeline[[#This Row],[RANK Sorted]],ProjectTimelineData[],5,0),\"\")","v":""}]
[{"$nulls":4},{"$f":"IFERROR(RANK(F177,ProjectTimelineData[RANK])+SUMPRODUCT(--(F177=ProjectTimelineData[RANK]),--(J177<ProjectTimelineData[NUM])),\"\")","v":""},{"$f":"IFERROR(RANK(ProjectTimelineData[[#This Row],[DATE]],ProjectTimelineData[DATE],1),\"\")","v":""},{"$f":"IFERROR(IF(ISBLANK(INDEX(ProjectDetails[#Data],Project_last_entry-Project_start_row-ProjectTimelineData[[#This Row],[NUM]]+1,1)),\"\",INDEX(ProjectDetails[#Data],Project_last_entry-Project_start_row-ProjectTimelineData[[#This Row],[NUM]]+1,1)),\"\")","v":""},{"$f":"IFERROR(IF(ISBLANK(INDEX(ProjectDetails[#Data],Project_last_entry-Project_start_row-ProjectTimelineData[[#This Row],[NUM]]+1,2)),\"\",INDEX(ProjectDetails[#Data],Project_last_entry-Project_start_row-ProjectTimelineData[[#This Row],[NUM]]+1,2)),\"\")","v":""},{"$f":"IFERROR(IF(ISBLANK(INDEX(ProjectDetails[#Data],Project_last_entry-Project_start_row-ProjectTimelineData[[#This Row],[NUM]]+1,3)),\"\",INDEX(ProjectDetails[#Data],Project_last_entry-Project_start_row-ProjectTimelineData[[#This Row],[NUM]]+1,3)),\"\")","v":""},{"$f":"IFERROR(IF(ISBLANK(INDEX(ProjectDetails[#Data],ROW(A172)+1,1)),\"\",IF($J176-1<=-1,\"\",$J176-1)),\"\")","v":""},null,null,{"$f":"IFERROR(ProjectTimelineData[[#This Row],[NUM]]+1,\"\")","v":""},{"$f":"IFERROR(VLOOKUP(SortedTimeline[[#This Row],[RANK Sorted]],ProjectTimelineData[],3,0),\"\")","v":""},{"$f":"IFERROR(VLOOKUP(SortedTimeline[[#This Row],[RANK Sorted]],ProjectTimelineData[],4,0),\"\")","v":""},{"$f":"IFERROR(VLOOKUP(SortedTimeline[[#This Row],[RANK Sorted]],ProjectTimelineData[],5,0),\"\")","v":""}]
[{"$nulls":4},{"$f":"IFERROR(RANK(F178,ProjectTimelineData[RANK])+SUMPRODUCT(--(F178=ProjectTimelineData[RANK]),--(J178<ProjectTimelineData[NUM])),\"\")","v":""},{"$f":"IFERROR(RANK(ProjectTimelineData[[#This Row],[DATE]],ProjectTimelineData[DATE],1),\"\")","v":""},{"$f":"IFERROR(IF(ISBLANK(INDEX(ProjectDetails[#Data],Project_last_entry-Project_start_row-ProjectTimelineData[[#This Row],[NUM]]+1,1)),\"\",INDEX(ProjectDetails[#Data],Project_last_entry-Project_start_row-ProjectTimelineData[[#This Row],[NUM]]+1,1)),\"\")","v":""},{"$f":"IFERROR(IF(ISBLANK(INDEX(ProjectDetails[#Data],Project_last_entry-Project_start_row-ProjectTimelineData[[#This Row],[NUM]]+1,2)),\"\",INDEX(ProjectDetails[#Data],Project_last_entry-Project_start_row-ProjectTimelineData[[#This Row],[NUM]]+1,2)),\"\")","v":""},{"$f":"IFERROR(IF(ISBLANK(INDEX(ProjectDetails[#Data],Project_last_entry-Project_start_row-ProjectTimelineData[[#This Row],[NUM]]+1,3)),\"\",INDEX(ProjectDetails[#Data],Project_last_entry-Project_start_row-ProjectTimelineData[[#This Row],[NUM]]+1,3)),\"\")","v":""},{"$f":"IFERROR(IF(ISBLANK(INDEX(ProjectDetails[#Data],ROW(A173)+1,1)),\"\",IF($J177-1<=-1,\"\",$J177-1)),\"\")","v":""},null,null,{"$f":"IFERROR(ProjectTimelineData[[#This Row],[NUM]]+1,\"\")","v":""},{"$f":"IFERROR(VLOOKUP(SortedTimeline[[#This Row],[RANK Sorted]],ProjectTimelineData[],3,0),\"\")","v":""},{"$f":"IFERROR(VLOOKUP(SortedTimeline[[#This Row],[RANK Sorted]],ProjectTimelineData[],4,0),\"\")","v":""},{"$f":"IFERROR(VLOOKUP(SortedTimeline[[#This Row],[RANK Sorted]],ProjectTimelineData[],5,0),\"\")","v":""}]
[{"$nulls":4},{"$f":"IFERROR(RANK(F179,ProjectTimelineData[RANK])+SUMPRODUCT(--(F179=ProjectTimelineData[RANK]),--(J179<ProjectTimelineData[NUM])),\"\")","v":""},{"$f":"IFERROR(RANK(ProjectTimelineData[[#This Row],[DATE]],ProjectTimelineData[DATE],1),\"\")","v":""},{"$f":"IFERROR(IF(ISBLANK(INDEX(ProjectDetails[#Data],Project_last_entry-Project_start_row-ProjectTimelineData[[#This Row],[NUM]]+1,1)),\"\",INDEX(ProjectDetails[#Data],Project_last_entry-Project_start_row-ProjectTimelineData[[#This Row],[NUM]]+1,1)),\"\")","v":""},{"$f":"IFERROR(IF(ISBLANK(INDEX(ProjectDetails[#Data],Project_last_entry-Project_start_row-ProjectTimelineData[[#This Row],[NUM]]+1,2)),\"\",INDEX(ProjectDetails[#Data],Project_last_entry-Project_start_row-ProjectTimelineData[[#This Row],[NUM]]+1,2)),\"\")","v":""},{"$f":"IFERROR(IF(ISBLANK(INDEX(ProjectDetails[#Data],Project_last_entry-Project_start_row-ProjectTimelineData[[#This Row],[NUM]]+1,3)),\"\",INDEX(ProjectDetails[#Data],Project_last_entry-Project_start_row-ProjectTimelineData[[#This Row],[NUM]]+1,3)),\"\")","v":""},{"$f":"IFERROR(IF(ISBLANK(INDEX(ProjectDetails[#Data],ROW(A174)+1,1)),\"\",IF($J178-1<=-1,\"\",$J178-1)),\"\")","v":""},null,null,{"$f":"IFERROR(ProjectTimelineData[[#This Row],[NUM]]+1,\"\")","v":""},{"$f":"IFERROR(VLOOKUP(SortedTimeline[[#This Row],[RANK Sorted]],ProjectTimelineData[],3,0),\"\")","v":""},{"$f":"IFERROR(VLOOKUP(SortedTimeline[[#This Row],[RANK Sorted]],ProjectTimelineData[],4,0),\"\")","v":""},{"$f":"IFERROR(VLOOKUP(SortedTimeline[[#This Row],[RANK Sorted]],ProjectTimelineData[],5,0),\"\")","v":""}]
[{"$nulls":4},{"$f":"IFERROR(RANK(F180,ProjectTimelineData[RANK])+SUMPRODUCT(--(F180=ProjectTimelineData[RANK]),--(J180<ProjectTimelineData[NUM])),\"\")","v":""},{"$f":"IFERROR(RANK(ProjectTimelineData[[#This Row],[DATE]],ProjectTimelineData[DATE],1),\"\")","v":""},{"$f":"IFERROR(IF(ISBLANK(INDEX(ProjectDetails[#Data],Project_last_entry-Project_start_row-ProjectTimelineData[[#This Row],[NUM]]+1,1)),\"\",INDEX(ProjectDetails[#Data],Project_last_entry-Project_start_row-ProjectTimelineData[[#This Row],[NUM]]+1,1)),\"\")","v":""},{"$f":"IFERROR(IF(ISBLANK(INDEX(ProjectDetails[#Data],Project_last_entry-Project_start_row-ProjectTimelineData[[#This Row],[NUM]]+1,2)),\"\",INDEX(ProjectDetails[#Data],Project_last_entry-Project_start_row-ProjectTimelineData[[#This Row],[NUM]]+1,2)),\"\")","v":""},{"$f":"IFERROR(IF(ISBLANK(INDEX(ProjectDetails[#Data],Project_last_entry-Project_start_row-ProjectTimelineData[[#This Row],[NUM]]+1,3)),\"\",INDEX(ProjectDetails[#Data],Project_last_entry-Project_start_row-ProjectTimelineData[[#This Row],[NUM]]+1,3)),\"\")","v":""},{"$f":"IFERROR(IF(ISBLANK(INDEX(ProjectDetails[#Data],ROW(A175)+1,1)),\"\",IF($J179-1<=-1,\"\",$J179-1)),\"\")","v":""},null,null,{"$f":"IFERROR(ProjectTimelineData[[#This Row],[NUM]]+1,\"\")","v":""},{"$f":"IFERROR(VLOOKUP(SortedTimeline[[#This Row],[RANK Sorted]],ProjectTimelineData[],3,0),\"\")","v":""},{"$f":"IFERROR(VLOOKUP(SortedTimeline[[#This Row],[RANK Sorted]],ProjectTimelineData[],4,0),\"\")","v":""},{"$f":"IFERROR(VLOOKUP(SortedTimeline[[#This Row],[RANK Sorted]],ProjectTimelineData[],5,0),\"\")","v":""}]
[{"$nulls":4},{"$f":"IFERROR(RANK(F181,ProjectTimelineData[RANK])+SUMPRODUCT(--(F181=ProjectTimelineData[RANK]),--(J181<ProjectTimelineData[NUM])),\"\")","v":""},{"$f":"IFERROR(RANK(ProjectTimelineData[[#This Row],[DATE]],ProjectTimelineData[DATE],1),\"\")","v":""},{"$f":"IFERROR(IF(ISBLANK(INDEX(ProjectDetails[#Data],Project_last_entry-Project_start_row-ProjectTimelineData[[#This Row],[NUM]]+1,1)),\"\",INDEX(ProjectDetails[#Data],Project_last_entry-Project_start_row-ProjectTimelineData[[#This Row],[NUM]]+1,1)),\"\")","v":""},{"$f":"IFERROR(IF(ISBLANK(INDEX(ProjectDetails[#Data],Project_last_entry-Project_start_row-ProjectTimelineData[[#This Row],[NUM]]+1,2)),\"\",INDEX(ProjectDetails[#Data],Project_last_entry-Project_start_row-ProjectTimelineData[[#This Row],[NUM]]+1,2)),\"\")","v":""},{"$f":"IFERROR(IF(ISBLANK(INDEX(ProjectDetails[#Data],Project_last_entry-Project_start_row-ProjectTimelineData[[#This Row],[NUM]]+1,3)),\"\",INDEX(ProjectDetails[#Data],Project_last_entry-Project_start_row-ProjectTimelineData[[#This Row],[NUM]]+1,3)),\"\")","v":""},{"$f":"IFERROR(IF(ISBLANK(INDEX(ProjectDetails[#Data],ROW(A176)+1,1)),\"\",IF($J180-1<=-1,\"\",$J180-1)),\"\")","v":""},null,null,{"$f":"IFERROR(ProjectTimelineData[[#This Row],[NUM]]+1,\"\")","v":""},{"$f":"IFERROR(VLOOKUP(SortedTimeline[[#This Row],[RANK Sorted]],ProjectTimelineData[],3,0),\"\")","v":""},{"$f":"IFERROR(VLOOKUP(SortedTimeline[[#This Row],[RANK Sorted]],ProjectTimelineData[],4,0),\"\")","v":""},{"$f":"IFERROR(VLOOKUP(SortedTimeline[[#This Row],[RANK Sorted]],ProjectTimelineData[],5,0),\"\")","v":""}]
[{"$nulls":4},{"$f":"IFERROR(RANK(F182,ProjectTimelineData[RANK])+SUMPRODUCT(--(F182=ProjectTimelineData[RANK]),--(J182<ProjectTimelineData[NUM])),\"\")","v":""},{"$f":"IFERROR(RANK(ProjectTimelineData[[#This Row],[DATE]],ProjectTimelineData[DATE],1),\"\")","v":""},{"$f":"IFERROR(IF(ISBLANK(INDEX(ProjectDetails[#Data],Project_last_entry-Project_start_row-ProjectTimelineData[[#This Row],[NUM]]+1,1)),\"\",INDEX(ProjectDetails[#Data],Project_last_entry-Project_start_row-ProjectTimelineData[[#This Row],[NUM]]+1,1)),\"\")","v":""},{"$f":"IFERROR(IF(ISBLANK(INDEX(ProjectDetails[#Data],Project_last_entry-Project_start_row-ProjectTimelineData[[#This Row],[NUM]]+1,2)),\"\",INDEX(ProjectDetails[#Data],Project_last_entry-Project_start_row-ProjectTimelineData[[#This Row],[NUM]]+1,2)),\"\")","v":""},{"$f":"IFERROR(IF(ISBLANK(INDEX(ProjectDetails[#Data],Project_last_entry-Project_start_row-ProjectTimelineData[[#This Row],[NUM]]+1,3)),\"\",INDEX(ProjectDetails[#Data],Project_last_entry-Project_start_row-ProjectTimelineData[[#This Row],[NUM]]+1,3)),\"\")","v":""},{"$f":"IFERROR(IF(ISBLANK(INDEX(ProjectDetails[#Data],ROW(A177)+1,1)),\"\",IF($J181-1<=-1,\"\",$J181-1)),\"\")","v":""},null,null,{"$f":"IFERROR(ProjectTimelineData[[#This Row],[NUM]]+1,\"\")","v":""},{"$f":"IFERROR(VLOOKUP(SortedTimeline[[#This Row],[RANK Sorted]],ProjectTimelineData[],3,0),\"\")","v":""},{"$f":"IFERROR(VLOOKUP(SortedTimeline[[#This Row],[RANK Sorted]],ProjectTimelineData[],4,0),\"\")","v":""},{"$f":"IFERROR(VLOOKUP(SortedTimeline[[#This Row],[RANK Sorted]],ProjectTimelineData[],5,0),\"\")","v":""}]
[{"$nulls":4},{"$f":"IFERROR(RANK(F183,ProjectTimelineData[RANK])+SUMPRODUCT(--(F183=ProjectTimelineData[RANK]),--(J183<ProjectTimelineData[NUM])),\"\")","v":""},{"$f":"IFERROR(RANK(ProjectTimelineData[[#This Row],[DATE]],ProjectTimelineData[DATE],1),\"\")","v":""},{"$f":"IFERROR(IF(ISBLANK(INDEX(ProjectDetails[#Data],Project_last_entry-Project_start_row-ProjectTimelineData[[#This Row],[NUM]]+1,1)),\"\",INDEX(ProjectDetails[#Data],Project_last_entry-Project_start_row-ProjectTimelineData[[#This Row],[NUM]]+1,1)),\"\")","v":""},{"$f":"IFERROR(IF(ISBLANK(INDEX(ProjectDetails[#Data],Project_last_entry-Project_start_row-ProjectTimelineData[[#This Row],[NUM]]+1,2)),\"\",INDEX(ProjectDetails[#Data],Project_last_entry-Project_start_row-ProjectTimelineData[[#This Row],[NUM]]+1,2)),\"\")","v":""},{"$f":"IFERROR(IF(ISBLANK(INDEX(ProjectDetails[#Data],Project_last_entry-Project_start_row-ProjectTimelineData[[#This Row],[NUM]]+1,3)),\"\",INDEX(ProjectDetails[#Data],Project_last_entry-Project_start_row-ProjectTimelineData[[#This Row],[NUM]]+1,3)),\"\")","v":""},{"$f":"IFERROR(IF(ISBLANK(INDEX(ProjectDetails[#Data],ROW(A178)+1,1)),\"\",IF($J182-1<=-1,\"\",$J182-1)),\"\")","v":""},null,null,{"$f":"IFERROR(ProjectTimelineData[[#This Row],[NUM]]+1,\"\")","v":""},{"$f":"IFERROR(VLOOKUP(SortedTimeline[[#This Row],[RANK Sorted]],ProjectTimelineData[],3,0),\"\")","v":""},{"$f":"IFERROR(VLOOKUP(SortedTimeline[[#This Row],[RANK Sorted]],ProjectTimelineData[],4,0),\"\")","v":""},{"$f":"IFERROR(VLOOKUP(SortedTimeline[[#This Row],[RANK Sorted]],ProjectTimelineData[],5,0),\"\")","v":""}]
[{"$nulls":4},{"$f":"IFERROR(RANK(F184,ProjectTimelineData[RANK])+SUMPRODUCT(--(F184=ProjectTimelineData[RANK]),--(J184<ProjectTimelineData[NUM])),\"\")","v":""},{"$f":"IFERROR(RANK(ProjectTimelineData[[#This Row],[DATE]],ProjectTimelineData[DATE],1),\"\")","v":""},{"$f":"IFERROR(IF(ISBLANK(INDEX(ProjectDetails[#Data],Project_last_entry-Project_start_row-ProjectTimelineData[[#This Row],[NUM]]+1,1)),\"\",INDEX(ProjectDetails[#Data],Project_last_entry-Project_start_row-ProjectTimelineData[[#This Row],[NUM]]+1,1)),\"\")","v":""},{"$f":"IFERROR(IF(ISBLANK(INDEX(ProjectDetails[#Data],Project_last_entry-Project_start_row-ProjectTimelineData[[#This Row],[NUM]]+1,2)),\"\",INDEX(ProjectDetails[#Data],Project_last_entry-Project_start_row-ProjectTimelineData[[#This Row],[NUM]]+1,2)),\"\")","v":""},{"$f":"IFERROR(IF(ISBLANK(INDEX(ProjectDetails[#Data],Project_last_entry-Project_start_row-ProjectTimelineData[[#This Row],[NUM]]+1,3)),\"\",INDEX(ProjectDetails[#Data],Project_last_entry-Project_start_row-ProjectTimelineData[[#This Row],[NUM]]+1,3)),\"\")","v":""},{"$f":"IFERROR(IF(ISBLANK(INDEX(ProjectDetails[#Data],ROW(A179)+1,1)),\"\",IF($J183-1<=-1,\"\",$J183-1)),\"\")","v":""},null,null,{"$f":"IFERROR(ProjectTimelineData[[#This Row],[NUM]]+1,\"\")","v":""},{"$f":"IFERROR(VLOOKUP(SortedTimeline[[#This Row],[RANK Sorted]],ProjectTimelineData[],3,0),\"\")","v":""},{"$f":"IFERROR(VLOOKUP(SortedTimeline[[#This Row],[RANK Sorted]],ProjectTimelineData[],4,0),\"\")","v":""},{"$f":"IFERROR(VLOOKUP(SortedTimeline[[#This Row],[RANK Sorted]],ProjectTimelineData[],5,0),\"\")","v":""}]
[{"$nulls":4},{"$f":"IFERROR(RANK(F185,ProjectTimelineData[RANK])+SUMPRODUCT(--(F185=ProjectTimelineData[RANK]),--(J185<ProjectTimelineData[NUM])),\"\")","v":""},{"$f":"IFERROR(RANK(ProjectTimelineData[[#This Row],[DATE]],ProjectTimelineData[DATE],1),\"\")","v":""},{"$f":"IFERROR(IF(ISBLANK(INDEX(ProjectDetails[#Data],Project_last_entry-Project_start_row-ProjectTimelineData[[#This Row],[NUM]]+1,1)),\"\",INDEX(ProjectDetails[#Data],Project_last_entry-Project_start_row-ProjectTimelineData[[#This Row],[NUM]]+1,1)),\"\")","v":""},{"$f":"IFERROR(IF(ISBLANK(INDEX(ProjectDetails[#Data],Project_last_entry-Project_start_row-ProjectTimelineData[[#This Row],[NUM]]+1,2)),\"\",INDEX(ProjectDetails[#Data],Project_last_entry-Project_start_row-ProjectTimelineData[[#This Row],[NUM]]+1,2)),\"\")","v":""},{"$f":"IFERROR(IF(ISBLANK(INDEX(ProjectDetails[#Data],Project_last_entry-Project_start_row-ProjectTimelineData[[#This Row],[NUM]]+1,3)),\"\",INDEX(ProjectDetails[#Data],Project_last_entry-Project_start_row-ProjectTimelineData[[#This Row],[NUM]]+1,3)),\"\")","v":""},{"$f":"IFERROR(IF(ISBLANK(INDEX(ProjectDetails[#Data],ROW(A180)+1,1)),\"\",IF($J184-1<=-1,\"\",$J184-1)),\"\")","v":""},null,null,{"$f":"IFERROR(ProjectTimelineData[[#This Row],[NUM]]+1,\"\")","v":""},{"$f":"IFERROR(VLOOKUP(SortedTimeline[[#This Row],[RANK Sorted]],ProjectTimelineData[],3,0),\"\")","v":""},{"$f":"IFERROR(VLOOKUP(SortedTimeline[[#This Row],[RANK Sorted]],ProjectTimelineData[],4,0),\"\")","v":""},{"$f":"IFERROR(VLOOKUP(SortedTimeline[[#This Row],[RANK Sorted]],ProjectTimelineData[],5,0),\"\")","v":""}]
[{"$nulls":4},{"$f":"IFERROR(RANK(F186,ProjectTimelineData[RANK])+SUMPRODUCT(--(F186=ProjectTimelineData[RANK]),--(J186<ProjectTimelineData[NUM])),\"\")","v":""},{"$f":"IFERROR(RANK(ProjectTimelineData[[#This Row],[DATE]],ProjectTimelineData[DATE],1),\"\")","v":""},{"$f":"IFERROR(IF(ISBLANK(INDEX(ProjectDetails[#Data],Project_last_entry-Project_start_row-ProjectTimelineData[[#This Row],[NUM]]+1,1)),\"\",INDEX(ProjectDetails[#Data],Project_last_entry-Project_start_row-ProjectTimelineData[[#This Row],[NUM]]+1,1)),\"\")","v":""},{"$f":"IFERROR(IF(ISBLANK(INDEX(ProjectDetails[#Data],Project_last_entry-Project_start_row-ProjectTimelineData[[#This Row],[NUM]]+1,2)),\"\",INDEX(ProjectDetails[#Data],Project_last_entry-Project_start_row-ProjectTimelineData[[#This Row],[NUM]]+1,2)),\"\")","v":""},{"$f":"IFERROR(IF(ISBLANK(INDEX(ProjectDetails[#Data],Project_last_entry-Project_start_row-ProjectTimelineData[[#This Row],[NUM]]+1,3)),\"\",INDEX(ProjectDetails[#Data],Project_last_entry-Project_start_row-ProjectTimelineData[[#This Row],[NUM]]+1,3)),\"\")","v":""},{"$f":"IFERROR(IF(ISBLANK(INDEX(ProjectDetails[#Data],ROW(A181)+1,1)),\"\",IF($J185-1<=-1,\"\",$J185-1)),\"\")","v":""},null,null,{"$f":"IFERROR(ProjectTimelineData[[#This Row],[NUM]]+1,\"\")","v":""},{"$f":"IFERROR(VLOOKUP(SortedTimeline[[#This Row],[RANK Sorted]],ProjectTimelineData[],3,0),\"\")","v":""},{"$f":"IFERROR(VLOOKUP(SortedTimeline[[#This Row],[RANK Sorted]],ProjectTimelineData[],4,0),\"\")","v":""},{"$f":"IFERROR(VLOOKUP(SortedTimeline[[#This Row],[RANK Sorted]],ProjectTimelineData[],5,0),\"\")","v":""}]
[{"$nulls":4},{"$f":"IFERROR(RANK(F187,ProjectTimelineData[RANK])+SUMPRODUCT(--(F187=ProjectTimelineData[RANK]),--(J187<ProjectTimelineData[NUM])),\"\")","v":""},{"$f":"IFERROR(RANK(ProjectTimelineData[[#This Row],[DATE]],ProjectTimelineData[DATE],1),\"\")","v":""},{"$f":"IFERROR(IF(ISBLANK(INDEX(ProjectDetails[#Data],Project_last_entry-Project_start_row-ProjectTimelineData[[#This Row],[NUM]]+1,1)),\"\",INDEX(ProjectDetails[#Data],Project_last_entry-Project_start_row-ProjectTimelineData[[#This Row],[NUM]]+1,1)),\"\")","v":""},{"$f":"IFERROR(IF(ISBLANK(INDEX(ProjectDetails[#Data],Project_last_entry-Project_start_row-ProjectTimelineData[[#This Row],[NUM]]+1,2)),\"\",INDEX(ProjectDetails[#Data],Project_last_entry-Project_start_row-ProjectTimelineData[[#This Row],[NUM]]+1,2)),\"\")","v":""},{"$f":"IFERROR(IF(ISBLANK(INDEX(ProjectDetails[#Data],Project_last_entry-Project_start_row-ProjectTimelineData[[#This Row],[NUM]]+1,3)),\"\",INDEX(ProjectDetails[#Data],Project_last_entry-Project_start_row-ProjectTimelineData[[#This Row],[NUM]]+1,3)),\"\")","v":""},{"$f":"IFERROR(IF(ISBLANK(INDEX(ProjectDetails[#Data],ROW(A182)+1,1)),\"\",IF($J186-1<=-1,\"\",$J186-1)),\"\")","v":""},null,null,{"$f":"IFERROR(ProjectTimelineData[[#This Row],[NUM]]+1,\"\")","v":""},{"$f":"IFERROR(VLOOKUP(SortedTimeline[[#This Row],[RANK Sorted]],ProjectTimelineData[],3,0),\"\")","v":""},{"$f":"IFERROR(VLOOKUP(SortedTimeline[[#This Row],[RANK Sorted]],ProjectTimelineData[],4,0),\"\")","v":""},{"$f":"IFERROR(VLOOKUP(SortedTimeline[[#This Row],[RANK Sorted]],ProjectTimelineData[],5,0),\"\")","v":""}]
[{"$nulls":4},{"$f":"IFERROR(RANK(F188,ProjectTimelineData[RANK])+SUMPRODUCT(--(F188=ProjectTimelineData[RANK]),--(J188<ProjectTimelineData[NUM])),\"\")","v":""},{"$f":"IFERROR(RANK(ProjectTimelineData[[#This Row],[DATE]],ProjectTimelineData[DATE],1),\"\")","v":""},{"$f":"IFERROR(IF(ISBLANK(INDEX(ProjectDetails[#Data],Project_last_entry-Project_start_row-ProjectTimelineData[[#This Row],[NUM]]+1,1)),\"\",INDEX(ProjectDetails[#Data],Project_last_entry-Project_start_row-ProjectTimelineData[[#This Row],[NUM]]+1,1)),\"\")","v":""},{"$f":"IFERROR(IF(ISBLANK(INDEX(ProjectDetails[#Data],Project_last_entry-Project_start_row-ProjectTimelineData[[#This Row],[NUM]]+1,2)),\"\",INDEX(ProjectDetails[#Data],Project_last_entry-Project_start_row-ProjectTimelineData[[#This Row],[NUM]]+1,2)),\"\")","v":""},{"$f":"IFERROR(IF(ISBLANK(INDEX(ProjectDetails[#Data],Project_last_entry-Project_start_row-ProjectTimelineData[[#This Row],[NUM]]+1,3)),\"\",INDEX(ProjectDetails[#Data],Project_last_entry-Project_start_row-ProjectTimelineData[[#This Row],[NUM]]+1,3)),\"\")","v":""},{"$f":"IFERROR(IF(ISBLANK(INDEX(ProjectDetails[#Data],ROW(A183)+1,1)),\"\",IF($J187-1<=-1,\"\",$J187-1)),\"\")","v":""},null,null,{"$f":"IFERROR(ProjectTimelineData[[#This Row],[NUM]]+1,\"\")","v":""},{"$f":"IFERROR(VLOOKUP(SortedTimeline[[#This Row],[RANK Sorted]],ProjectTimelineData[],3,0),\"\")","v":""},{"$f":"IFERROR(VLOOKUP(SortedTimeline[[#This Row],[RANK Sorted]],ProjectTimelineData[],4,0),\"\")","v":""},{"$f":"IFERROR(VLOOKUP(SortedTimeline[[#This Row],[RANK Sorted]],ProjectTimelineData[],5,0),\"\")","v":""}]
[{"$nulls":4},{"$f":"IFERROR(RANK(F189,ProjectTimelineData[RANK])+SUMPRODUCT(--(F189=ProjectTimelineData[RANK]),--(J189<ProjectTimelineData[NUM])),\"\")","v":""},{"$f":"IFERROR(RANK(ProjectTimelineData[[#This Row],[DATE]],ProjectTimelineData[DATE],1),\"\")","v":""},{"$f":"IFERROR(IF(ISBLANK(INDEX(ProjectDetails[#Data],Project_last_entry-Project_start_row-ProjectTimelineData[[#This Row],[NUM]]+1,1)),\"\",INDEX(ProjectDetails[#Data],Project_last_entry-Project_start_row-ProjectTimelineData[[#This Row],[NUM]]+1,1)),\"\")","v":""},{"$f":"IFERROR(IF(ISBLANK(INDEX(ProjectDetails[#Data],Project_last_entry-Project_start_row-ProjectTimelineData[[#This Row],[NUM]]+1,2)),\"\",INDEX(ProjectDetails[#Data],Project_last_entry-Project_start_row-ProjectTimelineData[[#This Row],[NUM]]+1,2)),\"\")","v":""},{"$f":"IFERROR(IF(ISBLANK(INDEX(ProjectDetails[#Data],Project_last_entry-Project_start_row-ProjectTimelineData[[#This Row],[NUM]]+1,3)),\"\",INDEX(ProjectDetails[#Data],Project_last_entry-Project_start_row-ProjectTimelineData[[#This Row],[NUM]]+1,3)),\"\")","v":""},{"$f":"IFERROR(IF(ISBLANK(INDEX(ProjectDetails[#Data],ROW(A184)+1,1)),\"\",IF($J188-1<=-1,\"\",$J188-1)),\"\")","v":""},null,null,{"$f":"IFERROR(ProjectTimelineData[[#This Row],[NUM]]+1,\"\")","v":""},{"$f":"IFERROR(VLOOKUP(SortedTimeline[[#This Row],[RANK Sorted]],ProjectTimelineData[],3,0),\"\")","v":""},{"$f":"IFERROR(VLOOKUP(SortedTimeline[[#This Row],[RANK Sorted]],ProjectTimelineData[],4,0),\"\")","v":""},{"$f":"IFERROR(VLOOKUP(SortedTimeline[[#This Row],[RANK Sorted]],ProjectTimelineData[],5,0),\"\")","v":""}]
[{"$nulls":4},{"$f":"IFERROR(RANK(F190,ProjectTimelineData[RANK])+SUMPRODUCT(--(F190=ProjectTimelineData[RANK]),--(J190<ProjectTimelineData[NUM])),\"\")","v":""},{"$f":"IFERROR(RANK(ProjectTimelineData[[#This Row],[DATE]],ProjectTimelineData[DATE],1),\"\")","v":""},{"$f":"IFERROR(IF(ISBLANK(INDEX(ProjectDetails[#Data],Project_last_entry-Project_start_row-ProjectTimelineData[[#This Row],[NUM]]+1,1)),\"\",INDEX(ProjectDetails[#Data],Project_last_entry-Project_start_row-ProjectTimelineData[[#This Row],[NUM]]+1,1)),\"\")","v":""},{"$f":"IFERROR(IF(ISBLANK(INDEX(ProjectDetails[#Data],Project_last_entry-Project_start_row-ProjectTimelineData[[#This Row],[NUM]]+1,2)),\"\",INDEX(ProjectDetails[#Data],Project_last_entry-Project_start_row-ProjectTimelineData[[#This Row],[NUM]]+1,2)),\"\")","v":""},{"$f":"IFERROR(IF(ISBLANK(INDEX(ProjectDetails[#Data],Project_last_entry-Project_start_row-ProjectTimelineData[[#This Row],[NUM]]+1,3)),\"\",INDEX(ProjectDetails[#Data],Project_last_entry-Project_start_row-ProjectTimelineData[[#This Row],[NUM]]+1,3)),\"\")","v":""},{"$f":"IFERROR(IF(ISBLANK(INDEX(ProjectDetails[#Data],ROW(A185)+1,1)),\"\",IF($J189-1<=-1,\"\",$J189-1)),\"\")","v":""},null,null,{"$f":"IFERROR(ProjectTimelineData[[#This Row],[NUM]]+1,\"\")","v":""},{"$f":"IFERROR(VLOOKUP(SortedTimeline[[#This Row],[RANK Sorted]],ProjectTimelineData[],3,0),\"\")","v":""},{"$f":"IFERROR(VLOOKUP(SortedTimeline[[#This Row],[RANK Sorted]],ProjectTimelineData[],4,0),\"\")","v":""},{"$f":"IFERROR(VLOOKUP(SortedTimeline[[#This Row],[RANK Sorted]],ProjectTimelineData[],5,0),\"\")","v":""}]
[{"$nulls":4},{"$f":"IFERROR(RANK(F191,ProjectTimelineData[RANK])+SUMPRODUCT(--(F191=ProjectTimelineData[RANK]),--(J191<ProjectTimelineData[NUM])),\"\")","v":""},{"$f":"IFERROR(RANK(ProjectTimelineData[[#This Row],[DATE]],ProjectTimelineData[DATE],1),\"\")","v":""},{"$f":"IFERROR(IF(ISBLANK(INDEX(ProjectDetails[#Data],Project_last_entry-Project_start_row-ProjectTimelineData[[#This Row],[NUM]]+1,1)),\"\",INDEX(ProjectDetails[#Data],Project_last_entry-Project_start_row-ProjectTimelineData[[#This Row],[NUM]]+1,1)),\"\")","v":""},{"$f":"IFERROR(IF(ISBLANK(INDEX(ProjectDetails[#Data],Project_last_entry-Project_start_row-ProjectTimelineData[[#This Row],[NUM]]+1,2)),\"\",INDEX(ProjectDetails[#Data],Project_last_entry-Project_start_row-ProjectTimelineData[[#This Row],[NUM]]+1,2)),\"\")","v":""},{"$f":"IFERROR(IF(ISBLANK(INDEX(ProjectDetails[#Data],Project_last_entry-Project_start_row-ProjectTimelineData[[#This Row],[NUM]]+1,3)),\"\",INDEX(ProjectDetails[#Data],Project_last_entry-Project_start_row-ProjectTimelineData[[#This Row],[NUM]]+1,3)),\"\")","v":""},{"$f":"IFERROR(IF(ISBLANK(INDEX(ProjectDetails[#Data],ROW(A186)+1,1)),\"\",IF($J190-1<=-1,\"\",$J190-1)),\"\")","v":""},null,null,{"$f":"IFERROR(ProjectTimelineData[[#This Row],[NUM]]+1,\"\")","v":""},{"$f":"IFERROR(VLOOKUP(SortedTimeline[[#This Row],[RANK Sorted]],ProjectTimelineData[],3,0),\"\")","v":""},{"$f":"IFERROR(VLOOKUP(SortedTimeline[[#This Row],[RANK Sorted]],ProjectTimelineData[],4,0),\"\")","v":""},{"$f":"IFERROR(VLOOKUP(SortedTimeline[[#This Row],[RANK Sorted]],ProjectTimelineData[],5,0),\"\")","v":""}]
[{"$nulls":4},{"$f":"IFERROR(RANK(F192,ProjectTimelineData[RANK])+SUMPRODUCT(--(F192=ProjectTimelineData[RANK]),--(J192<ProjectTimelineData[NUM])),\"\")","v":""},{"$f":"IFERROR(RANK(ProjectTimelineData[[#This Row],[DATE]],ProjectTimelineData[DATE],1),\"\")","v":""},{"$f":"IFERROR(IF(ISBLANK(INDEX(ProjectDetails[#Data],Project_last_entry-Project_start_row-ProjectTimelineData[[#This Row],[NUM]]+1,1)),\"\",INDEX(ProjectDetails[#Data],Project_last_entry-Project_start_row-ProjectTimelineData[[#This Row],[NUM]]+1,1)),\"\")","v":""},{"$f":"IFERROR(IF(ISBLANK(INDEX(ProjectDetails[#Data],Project_last_entry-Project_start_row-ProjectTimelineData[[#This Row],[NUM]]+1,2)),\"\",INDEX(ProjectDetails[#Data],Project_last_entry-Project_start_row-ProjectTimelineData[[#This Row],[NUM]]+1,2)),\"\")","v":""},{"$f":"IFERROR(IF(ISBLANK(INDEX(ProjectDetails[#Data],Project_last_entry-Project_start_row-ProjectTimelineData[[#This Row],[NUM]]+1,3)),\"\",INDEX(ProjectDetails[#Data],Project_last_entry-Project_start_row-ProjectTimelineData[[#This Row],[NUM]]+1,3)),\"\")","v":""},{"$f":"IFERROR(IF(ISBLANK(INDEX(ProjectDetails[#Data],ROW(A187)+1,1)),\"\",IF($J191-1<=-1,\"\",$J191-1)),\"\")","v":""},null,null,{"$f":"IFERROR(ProjectTimelineData[[#This Row],[NUM]]+1,\"\")","v":""},{"$f":"IFERROR(VLOOKUP(SortedTimeline[[#This Row],[RANK Sorted]],ProjectTimelineData[],3,0),\"\")","v":""},{"$f":"IFERROR(VLOOKUP(SortedTimeline[[#This Row],[RANK Sorted]],ProjectTimelineData[],4,0),\"\")","v":""},{"$f":"IFERROR(VLOOKUP(SortedTimeline[[#This Row],[RANK Sorted]],ProjectTimelineData[],5,0),\"\")","v":""}]
[{"$nulls":4},{"$f":"IFERROR(RANK(F193,ProjectTimelineData[RANK])+SUMPRODUCT(--(F193=ProjectTimelineData[RANK]),--(J193<ProjectTimelineData[NUM])),\"\")","v":""},{"$f":"IFERROR(RANK(ProjectTimelineData[[#This Row],[DATE]],ProjectTimelineData[DATE],1),\"\")","v":""},{"$f":"IFERROR(IF(ISBLANK(INDEX(ProjectDetails[#Data],Project_last_entry-Project_start_row-ProjectTimelineData[[#This Row],[NUM]]+1,1)),\"\",INDEX(ProjectDetails[#Data],Project_last_entry-Project_start_row-ProjectTimelineData[[#This Row],[NUM]]+1,1)),\"\")","v":""},{"$f":"IFERROR(IF(ISBLANK(INDEX(ProjectDetails[#Data],Project_last_entry-Project_start_row-ProjectTimelineData[[#This Row],[NUM]]+1,2)),\"\",INDEX(ProjectDetails[#Data],Project_last_entry-Project_start_row-ProjectTimelineData[[#This Row],[NUM]]+1,2)),\"\")","v":""},{"$f":"IFERROR(IF(ISBLANK(INDEX(ProjectDetails[#Data],Project_last_entry-Project_start_row-ProjectTimelineData[[#This Row],[NUM]]+1,3)),\"\",INDEX(ProjectDetails[#Data],Project_last_entry-Project_start_row-ProjectTimelineData[[#This Row],[NUM]]+1,3)),\"\")","v":""},{"$f":"IFERROR(IF(ISBLANK(INDEX(ProjectDetails[#Data],ROW(A188)+1,1)),\"\",IF($J192-1<=-1,\"\",$J192-1)),\"\")","v":""},null,null,{"$f":"IFERROR(ProjectTimelineData[[#This Row],[NUM]]+1,\"\")","v":""},{"$f":"IFERROR(VLOOKUP(SortedTimeline[[#This Row],[RANK Sorted]],ProjectTimelineData[],3,0),\"\")","v":""},{"$f":"IFERROR(VLOOKUP(SortedTimeline[[#This Row],[RANK Sorted]],ProjectTimelineData[],4,0),\"\")","v":""},{"$f":"IFERROR(VLOOKUP(SortedTimeline[[#This Row],[RANK Sorted]],ProjectTimelineData[],5,0),\"\")","v":""}]
[{"$nulls":4},{"$f":"IFERROR(RANK(F194,ProjectTimelineData[RANK])+SUMPRODUCT(--(F194=ProjectTimelineData[RANK]),--(J194<ProjectTimelineData[NUM])),\"\")","v":""},{"$f":"IFERROR(RANK(ProjectTimelineData[[#This Row],[DATE]],ProjectTimelineData[DATE],1),\"\")","v":""},{"$f":"IFERROR(IF(ISBLANK(INDEX(ProjectDetails[#Data],Project_last_entry-Project_start_row-ProjectTimelineData[[#This Row],[NUM]]+1,1)),\"\",INDEX(ProjectDetails[#Data],Project_last_entry-Project_start_row-ProjectTimelineData[[#This Row],[NUM]]+1,1)),\"\")","v":""},{"$f":"IFERROR(IF(ISBLANK(INDEX(ProjectDetails[#Data],Project_last_entry-Project_start_row-ProjectTimelineData[[#This Row],[NUM]]+1,2)),\"\",INDEX(ProjectDetails[#Data],Project_last_entry-Project_start_row-ProjectTimelineData[[#This Row],[NUM]]+1,2)),\"\")","v":""},{"$f":"IFERROR(IF(ISBLANK(INDEX(ProjectDetails[#Data],Project_last_entry-Project_start_row-ProjectTimelineData[[#This Row],[NUM]]+1,3)),\"\",INDEX(ProjectDetails[#Data],Project_last_entry-Project_start_row-ProjectTimelineData[[#This Row],[NUM]]+1,3)),\"\")","v":""},{"$f":"IFERROR(IF(ISBLANK(INDEX(ProjectDetails[#Data],ROW(A189)+1,1)),\"\",IF($J193-1<=-1,\"\",$J193-1)),\"\")","v":""},null,null,{"$f":"IFERROR(ProjectTimelineData[[#This Row],[NUM]]+1,\"\")","v":""},{"$f":"IFERROR(VLOOKUP(SortedTimeline[[#This Row],[RANK Sorted]],ProjectTimelineData[],3,0),\"\")","v":""},{"$f":"IFERROR(VLOOKUP(SortedTimeline[[#This Row],[RANK Sorted]],ProjectTimelineData[],4,0),\"\")","v":""},{"$f":"IFERROR(VLOOKUP(SortedTimeline[[#This Row],[RANK Sorted]],ProjectTimelineData[],5,0),\"\")","v":""}]
[{"$nulls":4},{"$f":"IFERROR(RANK(F195,ProjectTimelineData[RANK])+SUMPRODUCT(--(F195=ProjectTimelineData[RANK]),--(J195<ProjectTimelineData[NUM])),\"\")","v":""},{"$f":"IFERROR(RANK(ProjectTimelineData[[#This Row],[DATE]],ProjectTimelineData[DATE],1),\"\")","v":""},{"$f":"IFERROR(IF(ISBLANK(INDEX(ProjectDetails[#Data],Project_last_entry-Project_start_row-ProjectTimelineData[[#This Row],[NUM]]+1,1)),\"\",INDEX(ProjectDetails[#Data],Project_last_entry-Project_start_row-ProjectTimelineData[[#This Row],[NUM]]+1,1)),\"\")","v":""},{"$f":"IFERROR(IF(ISBLANK(INDEX(ProjectDetails[#Data],Project_last_entry-Project_start_row-ProjectTimelineData[[#This Row],[NUM]]+1,2)),\"\",INDEX(ProjectDetails[#Data],Project_last_entry-Project_start_row-ProjectTimelineData[[#This Row],[NUM]]+1,2)),\"\")","v":""},{"$f":"IFERROR(IF(ISBLANK(INDEX(ProjectDetails[#Data],Project_last_entry-Project_start_row-ProjectTimelineData[[#This Row],[NUM]]+1,3)),\"\",INDEX(ProjectDetails[#Data],Project_last_entry-Project_start_row-ProjectTimelineData[[#This Row],[NUM]]+1,3)),\"\")","v":""},{"$f":"IFERROR(IF(ISBLANK(INDEX(ProjectDetails[#Data],ROW(A190)+1,1)),\"\",IF($J194-1<=-1,\"\",$J194-1)),\"\")","v":""},null,null,{"$f":"IFERROR(ProjectTimelineData[[#This Row],[NUM]]+1,\"\")","v":""},{"$f":"IFERROR(VLOOKUP(SortedTimeline[[#This Row],[RANK Sorted]],ProjectTimelineData[],3,0),\"\")","v":""},{"$f":"IFERROR(VLOOKUP(SortedTimeline[[#This Row],[RANK Sorted]],ProjectTimelineData[],4,0),\"\")","v":""},{"$f":"IFERROR(VLOOKUP(SortedTimeline[[#This Row],[RANK Sorted]],ProjectTimelineData[],5,0),\"\")","v":""}]
[{"$nulls":4},{"$f":"IFERROR(RANK(F196,ProjectTimelineData[RANK])+SUMPRODUCT(--(F196=ProjectTimelineData[RANK]),--(J196<ProjectTimelineData[NUM])),\"\")","v":""},{"$f":"IFERROR(RANK(ProjectTimelineData[[#This Row],[DATE]],ProjectTimelineData[DATE],1),\"\")","v":""},{"$f":"IFERROR(IF(ISBLANK(INDEX(ProjectDetails[#Data],Project_last_entry-Project_start_row-ProjectTimelineData[[#This Row],[NUM]]+1,1)),\"\",INDEX(ProjectDetails[#Data],Project_last_entry-Project_start_row-ProjectTimelineData[[#This Row],[NUM]]+1,1)),\"\")","v":""},{"$f":"IFERROR(IF(ISBLANK(INDEX(ProjectDetails[#Data],Project_last_entry-Project_start_row-ProjectTimelineData[[#This Row],[NUM]]+1,2)),\"\",INDEX(ProjectDetails[#Data],Project_last_entry-Project_start_row-ProjectTimelineData[[#This Row],[NUM]]+1,2)),\"\")","v":""},{"$f":"IFERROR(IF(ISBLANK(INDEX(ProjectDetails[#Data],Project_last_entry-Project_start_row-ProjectTimelineData[[#This Row],[NUM]]+1,3)),\"\",INDEX(ProjectDetails[#Data],Project_last_entry-Project_start_row-ProjectTimelineData[[#This Row],[NUM]]+1,3)),\"\")","v":""},{"$f":"IFERROR(IF(ISBLANK(INDEX(ProjectDetails[#Data],ROW(A191)+1,1)),\"\",IF($J195-1<=-1,\"\",$J195-1)),\"\")","v":""},null,null,{"$f":"IFERROR(ProjectTimelineData[[#This Row],[NUM]]+1,\"\")","v":""},{"$f":"IFERROR(VLOOKUP(SortedTimeline[[#This Row],[RANK Sorted]],ProjectTimelineData[],3,0),\"\")","v":""},{"$f":"IFERROR(VLOOKUP(SortedTimeline[[#This Row],[RANK Sorted]],ProjectTimelineData[],4,0),\"\")","v":""},{"$f":"IFERROR(VLOOKUP(SortedTimeline[[#This Row],[RANK Sorted]],ProjectTimelineData[],5,0),\"\")","v":""}]
[{"$nulls":4},{"$f":"IFERROR(RANK(F197,ProjectTimelineData[RANK])+SUMPRODUCT(--(F197=ProjectTimelineData[RANK]),--(J197<ProjectTimelineData[NUM])),\"\")","v":""},{"$f":"IFERROR(RANK(ProjectTimelineData[[#This Row],[DATE]],ProjectTimelineData[DATE],1),\"\")","v":""},{"$f":"IFERROR(IF(ISBLANK(INDEX(ProjectDetails[#Data],Project_last_entry-Project_start_row-ProjectTimelineData[[#This Row],[NUM]]+1,1)),\"\",INDEX(ProjectDetails[#Data],Project_last_entry-Project_start_row-ProjectTimelineData[[#This Row],[NUM]]+1,1)),\"\")","v":""},{"$f":"IFERROR(IF(ISBLANK(INDEX(ProjectDetails[#Data],Project_last_entry-Project_start_row-ProjectTimelineData[[#This Row],[NUM]]+1,2)),\"\",INDEX(ProjectDetails[#Data],Project_last_entry-Project_start_row-ProjectTimelineData[[#This Row],[NUM]]+1,2)),\"\")","v":""},{"$f":"IFERROR(IF(ISBLANK(INDEX(ProjectDetails[#Data],Project_last_entry-Project_start_row-ProjectTimelineData[[#This Row],[NUM]]+1,3)),\"\",INDEX(ProjectDetails[#Data],Project_last_entry-Project_start_row-ProjectTimelineData[[#This Row],[NUM]]+1,3)),\"\")","v":""},{"$f":"IFERROR(IF(ISBLANK(INDEX(ProjectDetails[#Data],ROW(A192)+1,1)),\"\",IF($J196-1<=-1,\"\",$J196-1)),\"\")","v":""},null,null,{"$f":"IFERROR(ProjectTimelineData[[#This Row],[NUM]]+1,\"\")","v":""},{"$f":"IFERROR(VLOOKUP(SortedTimeline[[#This Row],[RANK Sorted]],ProjectTimelineData[],3,0),\"\")","v":""},{"$f":"IFERROR(VLOOKUP(SortedTimeline[[#This Row],[RANK Sorted]],ProjectTimelineData[],4,0),\"\")","v":""},{"$f":"IFERROR(VLOOKUP(SortedTimeline[[#This Row],[RANK Sorted]],ProjectTimelineData[],5,0),\"\")","v":""}]
[{"$nulls":4},{"$f":"IFERROR(RANK(F198,ProjectTimelineData[RANK])+SUMPRODUCT(--(F198=ProjectTimelineData[RANK]),--(J198<ProjectTimelineData[NUM])),\"\")","v":""},{"$f":"IFERROR(RANK(ProjectTimelineData[[#This Row],[DATE]],ProjectTimelineData[DATE],1),\"\")","v":""},{"$f":"IFERROR(IF(ISBLANK(INDEX(ProjectDetails[#Data],Project_last_entry-Project_start_row-ProjectTimelineData[[#This Row],[NUM]]+1,1)),\"\",INDEX(ProjectDetails[#Data],Project_last_entry-Project_start_row-ProjectTimelineData[[#This Row],[NUM]]+1,1)),\"\")","v":""},{"$f":"IFERROR(IF(ISBLANK(INDEX(ProjectDetails[#Data],Project_last_entry-Project_start_row-ProjectTimelineData[[#This Row],[NUM]]+1,2)),\"\",INDEX(ProjectDetails[#Data],Project_last_entry-Project_start_row-ProjectTimelineData[[#This Row],[NUM]]+1,2)),\"\")","v":""},{"$f":"IFERROR(IF(ISBLANK(INDEX(ProjectDetails[#Data],Project_last_entry-Project_start_row-ProjectTimelineData[[#This Row],[NUM]]+1,3)),\"\",INDEX(ProjectDetails[#Data],Project_last_entry-Project_start_row-ProjectTimelineData[[#This Row],[NUM]]+1,3)),\"\")","v":""},{"$f":"IFERROR(IF(ISBLANK(INDEX(ProjectDetails[#Data],ROW(A193)+1,1)),\"\",IF($J197-1<=-1,\"\",$J197-1)),\"\")","v":""},null,null,{"$f":"IFERROR(ProjectTimelineData[[#This Row],[NUM]]+1,\"\")","v":""},{"$f":"IFERROR(VLOOKUP(SortedTimeline[[#This Row],[RANK Sorted]],ProjectTimelineData[],3,0),\"\")","v":""},{"$f":"IFERROR(VLOOKUP(SortedTimeline[[#This Row],[RANK Sorted]],ProjectTimelineData[],4,0),\"\")","v":""},{"$f":"IFERROR(VLOOKUP(SortedTimeline[[#This Row],[RANK Sorted]],ProjectTimelineData[],5,0),\"\")","v":""}]
[{"$nulls":4},{"$f":"IFERROR(RANK(F199,ProjectTimelineData[RANK])+SUMPRODUCT(--(F199=ProjectTimelineData[RANK]),--(J199<ProjectTimelineData[NUM])),\"\")","v":""},{"$f":"IFERROR(RANK(ProjectTimelineData[[#This Row],[DATE]],ProjectTimelineData[DATE],1),\"\")","v":""},{"$f":"IFERROR(IF(ISBLANK(INDEX(ProjectDetails[#Data],Project_last_entry-Project_start_row-ProjectTimelineData[[#This Row],[NUM]]+1,1)),\"\",INDEX(ProjectDetails[#Data],Project_last_entry-Project_start_row-ProjectTimelineData[[#This Row],[NUM]]+1,1)),\"\")","v":""},{"$f":"IFERROR(IF(ISBLANK(INDEX(ProjectDetails[#Data],Project_last_entry-Project_start_row-ProjectTimelineData[[#This Row],[NUM]]+1,2)),\"\",INDEX(ProjectDetails[#Data],Project_last_entry-Project_start_row-ProjectTimelineData[[#This Row],[NUM]]+1,2)),\"\")","v":""},{"$f":"IFERROR(IF(ISBLANK(INDEX(ProjectDetails[#Data],Project_last_entry-Project_start_row-ProjectTimelineData[[#This Row],[NUM]]+1,3)),\"\",INDEX(ProjectDetails[#Data],Project_last_entry-Project_start_row-ProjectTimelineData[[#This Row],[NUM]]+1,3)),\"\")","v":""},{"$f":"IFERROR(IF(ISBLANK(INDEX(ProjectDetails[#Data],ROW(A194)+1,1)),\"\",IF($J198-1<=-1,\"\",$J198-1)),\"\")","v":""},null,null,{"$f":"IFERROR(ProjectTimelineData[[#This Row],[NUM]]+1,\"\")","v":""},{"$f":"IFERROR(VLOOKUP(SortedTimeline[[#This Row],[RANK Sorted]],ProjectTimelineData[],3,0),\"\")","v":""},{"$f":"IFERROR(VLOOKUP(SortedTimeline[[#This Row],[RANK Sorted]],ProjectTimelineData[],4,0),\"\")","v":""},{"$f":"IFERROR(VLOOKUP(SortedTimeline[[#This Row],[RANK Sorted]],ProjectTimelineData[],5,0),\"\")","v":""}]
[{"$nulls":4},{"$f":"IFERROR(RANK(F200,ProjectTimelineData[RANK])+SUMPRODUCT(--(F200=ProjectTimelineData[RANK]),--(J200<ProjectTimelineData[NUM])),\"\")","v":""},{"$f":"IFERROR(RANK(ProjectTimelineData[[#This Row],[DATE]],ProjectTimelineData[DATE],1),\"\")","v":""},{"$f":"IFERROR(IF(ISBLANK(INDEX(ProjectDetails[#Data],Project_last_entry-Project_start_row-ProjectTimelineData[[#This Row],[NUM]]+1,1)),\"\",INDEX(ProjectDetails[#Data],Project_last_entry-Project_start_row-ProjectTimelineData[[#This Row],[NUM]]+1,1)),\"\")","v":""},{"$f":"IFERROR(IF(ISBLANK(INDEX(ProjectDetails[#Data],Project_last_entry-Project_start_row-ProjectTimelineData[[#This Row],[NUM]]+1,2)),\"\",INDEX(ProjectDetails[#Data],Project_last_entry-Project_start_row-ProjectTimelineData[[#This Row],[NUM]]+1,2)),\"\")","v":""},{"$f":"IFERROR(IF(ISBLANK(INDEX(ProjectDetails[#Data],Project_last_entry-Project_start_row-ProjectTimelineData[[#This Row],[NUM]]+1,3)),\"\",INDEX(ProjectDetails[#Data],Project_last_entry-Project_start_row-ProjectTimelineData[[#This Row],[NUM]]+1,3)),\"\")","v":""},{"$f":"IFERROR(IF(ISBLANK(INDEX(ProjectDetails[#Data],ROW(A195)+1,1)),\"\",IF($J199-1<=-1,\"\",$J199-1)),\"\")","v":""},null,null,{"$f":"IFERROR(ProjectTimelineData[[#This Row],[NUM]]+1,\"\")","v":""},{"$f":"IFERROR(VLOOKUP(SortedTimeline[[#This Row],[RANK Sorted]],ProjectTimelineData[],3,0),\"\")","v":""},{"$f":"IFERROR(VLOOKUP(SortedTimeline[[#This Row],[RANK Sorted]],ProjectTimelineData[],4,0),\"\")","v":""},{"$f":"IFERROR(VLOOKUP(SortedTimeline[[#This Row],[RANK Sorted]],ProjectTimelineData[],5,0),\"\")","v":""}]
[{"$nulls":4},{"$f":"IFERROR(RANK(F201,ProjectTimelineData[RANK])+SUMPRODUCT(--(F201=ProjectTimelineData[RANK]),--(J201<ProjectTimelineData[NUM])),\"\")","v":""},{"$f":"IFERROR(RANK(ProjectTimelineData[[#This Row],[DATE]],ProjectTimelineData[DATE],1),\"\")","v":""},{"$f":"IFERROR(IF(ISBLANK(INDEX(ProjectDetails[#Data],Project_last_entry-Project_start_row-ProjectTimelineData[[#This Row],[NUM]]+1,1)),\"\",INDEX(ProjectDetails[#Data],Project_last_entry-Project_start_row-ProjectTimelineData[[#This Row],[NUM]]+1,1)),\"\")","v":""},{"$f":"IFERROR(IF(ISBLANK(INDEX(ProjectDetails[#Data],Project_last_entry-Project_start_row-ProjectTimelineData[[#This Row],[NUM]]+1,2)),\"\",INDEX(ProjectDetails[#Data],Project_last_entry-Project_start_row-ProjectTimelineData[[#This Row],[NUM]]+1,2)),\"\")","v":""},{"$f":"IFERROR(IF(ISBLANK(INDEX(ProjectDetails[#Data],Project_last_entry-Project_start_row-ProjectTimelineData[[#This Row],[NUM]]+1,3)),\"\",INDEX(ProjectDetails[#Data],Project_last_entry-Project_start_row-ProjectTimelineData[[#This Row],[NUM]]+1,3)),\"\")","v":""},{"$f":"IFERROR(IF(ISBLANK(INDEX(ProjectDetails[#Data],ROW(A196)+1,1)),\"\",IF($J200-1<=-1,\"\",$J200-1)),\"\")","v":""},null,null,{"$f":"IFERROR(ProjectTimelineData[[#This Row],[NUM]]+1,\"\")","v":""},{"$f":"IFERROR(VLOOKUP(SortedTimeline[[#This Row],[RANK Sorted]],ProjectTimelineData[],3,0),\"\")","v":""},{"$f":"IFERROR(VLOOKUP(SortedTimeline[[#This Row],[RANK Sorted]],ProjectTimelineData[],4,0),\"\")","v":""},{"$f":"IFERROR(VLOOKUP(SortedTimeline[[#This Row],[RANK Sorted]],ProjectTimelineData[],5,0),\"\")","v":""}]
[{"$nulls":4},{"$f":"IFERROR(RANK(F202,ProjectTimelineData[RANK])+SUMPRODUCT(--(F202=ProjectTimelineData[RANK]),--(J202<ProjectTimelineData[NUM])),\"\")","v":""},{"$f":"IFERROR(RANK(ProjectTimelineData[[#This Row],[DATE]],ProjectTimelineData[DATE],1),\"\")","v":""},{"$f":"IFERROR(IF(ISBLANK(INDEX(ProjectDetails[#Data],Project_last_entry-Project_start_row-ProjectTimelineData[[#This Row],[NUM]]+1,1)),\"\",INDEX(ProjectDetails[#Data],Project_last_entry-Project_start_row-ProjectTimelineData[[#This Row],[NUM]]+1,1)),\"\")","v":""},{"$f":"IFERROR(IF(ISBLANK(INDEX(ProjectDetails[#Data],Project_last_entry-Project_start_row-ProjectTimelineData[[#This Row],[NUM]]+1,2)),\"\",INDEX(ProjectDetails[#Data],Project_last_entry-Project_start_row-ProjectTimelineData[[#This Row],[NUM]]+1,2)),\"\")","v":""},{"$f":"IFERROR(IF(ISBLANK(INDEX(ProjectDetails[#Data],Project_last_entry-Project_start_row-ProjectTimelineData[[#This Row],[NUM]]+1,3)),\"\",INDEX(ProjectDetails[#Data],Project_last_entry-Project_start_row-ProjectTimelineData[[#This Row],[NUM]]+1,3)),\"\")","v":""},{"$f":"IFERROR(IF(ISBLANK(INDEX(ProjectDetails[#Data],ROW(A197)+1,1)),\"\",IF($J201-1<=-1,\"\",$J201-1)),\"\")","v":""},null,null,{"$f":"IFERROR(ProjectTimelineData[[#This Row],[NUM]]+1,\"\")","v":""},{"$f":"IFERROR(VLOOKUP(SortedTimeline[[#This Row],[RANK Sorted]],ProjectTimelineData[],3,0),\"\")","v":""},{"$f":"IFERROR(VLOOKUP(SortedTimeline[[#This Row],[RANK Sorted]],ProjectTimelineData[],4,0),\"\")","v":""},{"$f":"IFERROR(VLOOKUP(SortedTimeline[[#This Row],[RANK Sorted]],ProjectTimelineData[],5,0),\"\")","v":""}]
[{"$nulls":4},{"$f":"IFERROR(RANK(F203,ProjectTimelineData[RANK])+SUMPRODUCT(--(F203=ProjectTimelineData[RANK]),--(J203<ProjectTimelineData[NUM])),\"\")","v":""},{"$f":"IFERROR(RANK(ProjectTimelineData[[#This Row],[DATE]],ProjectTimelineData[DATE],1),\"\")","v":""},{"$f":"IFERROR(IF(ISBLANK(INDEX(ProjectDetails[#Data],Project_last_entry-Project_start_row-ProjectTimelineData[[#This Row],[NUM]]+1,1)),\"\",INDEX(ProjectDetails[#Data],Project_last_entry-Project_start_row-ProjectTimelineData[[#This Row],[NUM]]+1,1)),\"\")","v":""},{"$f":"IFERROR(IF(ISBLANK(INDEX(ProjectDetails[#Data],Project_last_entry-Project_start_row-ProjectTimelineData[[#This Row],[NUM]]+1,2)),\"\",INDEX(ProjectDetails[#Data],Project_last_entry-Project_start_row-ProjectTimelineData[[#This Row],[NUM]]+1,2)),\"\")","v":""},{"$f":"IFERROR(IF(ISBLANK(INDEX(ProjectDetails[#Data],Project_last_entry-Project_start_row-ProjectTimelineData[[#This Row],[NUM]]+1,3)),\"\",INDEX(ProjectDetails[#Data],Project_last_entry-Project_start_row-ProjectTimelineData[[#This Row],[NUM]]+1,3)),\"\")","v":""},{"$f":"IFERROR(IF(ISBLANK(INDEX(ProjectDetails[#Data],ROW(A198)+1,1)),\"\",IF($J202-1<=-1,\"\",$J202-1)),\"\")","v":""},null,null,{"$f":"IFERROR(ProjectTimelineData[[#This Row],[NUM]]+1,\"\")","v":""},{"$f":"IFERROR(VLOOKUP(SortedTimeline[[#This Row],[RANK Sorted]],ProjectTimelineData[],3,0),\"\")","v":""},{"$f":"IFERROR(VLOOKUP(SortedTimeline[[#This Row],[RANK Sorted]],ProjectTimelineData[],4,0),\"\")","v":""},{"$f":"IFERROR(VLOOKUP(SortedTimeline[[#This Row],[RANK Sorted]],ProjectTimelineData[],5,0),\"\")","v":""}]
[{"$nulls":4},{"$f":"IFERROR(RANK(F204,ProjectTimelineData[RANK])+SUMPRODUCT(--(F204=ProjectTimelineData[RANK]),--(J204<ProjectTimelineData[NUM])),\"\")","v":""},{"$f":"IFERROR(RANK(ProjectTimelineData[[#This Row],[DATE]],ProjectTimelineData[DATE],1),\"\")","v":""},{"$f":"IFERROR(IF(ISBLANK(INDEX(ProjectDetails[#Data],Project_last_entry-Project_start_row-ProjectTimelineData[[#This Row],[NUM]]+1,1)),\"\",INDEX(ProjectDetails[#Data],Project_last_entry-Project_start_row-ProjectTimelineData[[#This Row],[NUM]]+1,1)),\"\")","v":""},{"$f":"IFERROR(IF(ISBLANK(INDEX(ProjectDetails[#Data],Project_last_entry-Project_start_row-ProjectTimelineData[[#This Row],[NUM]]+1,2)),\"\",INDEX(ProjectDetails[#Data],Project_last_entry-Project_start_row-ProjectTimelineData[[#This Row],[NUM]]+1,2)),\"\")","v":""},{"$f":"IFERROR(IF(ISBLANK(INDEX(ProjectDetails[#Data],Project_last_entry-Project_start_row-ProjectTimelineData[[#This Row],[NUM]]+1,3)),\"\",INDEX(ProjectDetails[#Data],Project_last_entry-Project_start_row-ProjectTimelineData[[#This Row],[NUM]]+1,3)),\"\")","v":""},{"$f":"IFERROR(IF(ISBLANK(INDEX(ProjectDetails[#Data],ROW(A199)+1,1)),\"\",IF($J203-1<=-1,\"\",$J203-1)),\"\")","v":""},null,null,{"$f":"IFERROR(ProjectTimelineData[[#This Row],[NUM]]+1,\"\")","v":""},{"$f":"IFERROR(VLOOKUP(SortedTimeline[[#This Row],[RANK Sorted]],ProjectTimelineData[],3,0),\"\")","v":""},{"$f":"IFERROR(VLOOKUP(SortedTimeline[[#This Row],[RANK Sorted]],ProjectTimelineData[],4,0),\"\")","v":""},{"$f":"IFERROR(VLOOKUP(SortedTimeline[[#This Row],[RANK Sorted]],ProjectTimelineData[],5,0),\"\")","v":""}]
[{"$nulls":4},{"$f":"IFERROR(RANK(F205,ProjectTimelineData[RANK])+SUMPRODUCT(--(F205=ProjectTimelineData[RANK]),--(J205<ProjectTimelineData[NUM])),\"\")","v":""},{"$f":"IFERROR(RANK(ProjectTimelineData[[#This Row],[DATE]],ProjectTimelineData[DATE],1),\"\")","v":""},{"$f":"IFERROR(IF(ISBLANK(INDEX(ProjectDetails[#Data],Project_last_entry-Project_start_row-ProjectTimelineData[[#This Row],[NUM]]+1,1)),\"\",INDEX(ProjectDetails[#Data],Project_last_entry-Project_start_row-ProjectTimelineData[[#This Row],[NUM]]+1,1)),\"\")","v":""},{"$f":"IFERROR(IF(ISBLANK(INDEX(ProjectDetails[#Data],Project_last_entry-Project_start_row-ProjectTimelineData[[#This Row],[NUM]]+1,2)),\"\",INDEX(ProjectDetails[#Data],Project_last_entry-Project_start_row-ProjectTimelineData[[#This Row],[NUM]]+1,2)),\"\")","v":""},{"$f":"IFERROR(IF(ISBLANK(INDEX(ProjectDetails[#Data],Project_last_entry-Project_start_row-ProjectTimelineData[[#This Row],[NUM]]+1,3)),\"\",INDEX(ProjectDetails[#Data],Project_last_entry-Project_start_row-ProjectTimelineData[[#This Row],[NUM]]+1,3)),\"\")","v":""},{"$f":"IFERROR(IF(ISBLANK(INDEX(ProjectDetails[#Data],ROW(A200)+1,1)),\"\",IF($J204-1<=-1,\"\",$J204-1)),\"\")","v":""},null,null,{"$f":"IFERROR(ProjectTimelineData[[#This Row],[NUM]]+1,\"\")","v":""},{"$f":"IFERROR(VLOOKUP(SortedTimeline[[#This Row],[RANK Sorted]],ProjectTimelineData[],3,0),\"\")","v":""},{"$f":"IFERROR(VLOOKUP(SortedTimeline[[#This Row],[RANK Sorted]],ProjectTimelineData[],4,0),\"\")","v":""},{"$f":"IFERROR(VLOOKUP(SortedTimeline[[#This Row],[RANK Sorted]],ProjectTimelineData[],5,0),\"\")","v":""}]
[{"$nulls":4},{"$f":"IFERROR(RANK(F206,ProjectTimelineData[RANK])+SUMPRODUCT(--(F206=ProjectTimelineData[RANK]),--(J206<ProjectTimelineData[NUM])),\"\")","v":""},{"$f":"IFERROR(RANK(ProjectTimelineData[[#This Row],[DATE]],ProjectTimelineData[DATE],1),\"\")","v":""},{"$f":"IFERROR(IF(ISBLANK(INDEX(ProjectDetails[#Data],Project_last_entry-Project_start_row-ProjectTimelineData[[#This Row],[NUM]]+1,1)),\"\",INDEX(ProjectDetails[#Data],Project_last_entry-Project_start_row-ProjectTimelineData[[#This Row],[NUM]]+1,1)),\"\")","v":""},{"$f":"IFERROR(IF(ISBLANK(INDEX(ProjectDetails[#Data],Project_last_entry-Project_start_row-ProjectTimelineData[[#This Row],[NUM]]+1,2)),\"\",INDEX(ProjectDetails[#Data],Project_last_entry-Project_start_row-ProjectTimelineData[[#This Row],[NUM]]+1,2)),\"\")","v":""},{"$f":"IFERROR(IF(ISBLANK(INDEX(ProjectDetails[#Data],Project_last_entry-Project_start_row-ProjectTimelineData[[#This Row],[NUM]]+1,3)),\"\",INDEX(ProjectDetails[#Data],Project_last_entry-Project_start_row-ProjectTimelineData[[#This Row],[NUM]]+1,3)),\"\")","v":""},{"$f":"IFERROR(IF(ISBLANK(INDEX(ProjectDetails[#Data],ROW(A201)+1,1)),\"\",IF($J205-1<=-1,\"\",$J205-1)),\"\")","v":""},null,null,{"$f":"IFERROR(ProjectTimelineData[[#This Row],[NUM]]+1,\"\")","v":""},{"$f":"IFERROR(VLOOKUP(SortedTimeline[[#This Row],[RANK Sorted]],ProjectTimelineData[],3,0),\"\")","v":""},{"$f":"IFERROR(VLOOKUP(SortedTimeline[[#This Row],[RANK Sorted]],ProjectTimelineData[],4,0),\"\")","v":""},{"$f":"IFERROR(VLOOKUP(SortedTimeline[[#This Row],[RANK Sorted]],ProjectTimelineData[],5,0),\"\")","v":""}]
[{"$nulls":4},{"$f":"IFERROR(RANK(F207,ProjectTimelineData[RANK])+SUMPRODUCT(--(F207=ProjectTimelineData[RANK]),--(J207<ProjectTimelineData[NUM])),\"\")","v":""},{"$f":"IFERROR(RANK(ProjectTimelineData[[#This Row],[DATE]],ProjectTimelineData[DATE],1),\"\")","v":""},{"$f":"IFERROR(IF(ISBLANK(INDEX(ProjectDetails[#Data],Project_last_entry-Project_start_row-ProjectTimelineData[[#This Row],[NUM]]+1,1)),\"\",INDEX(ProjectDetails[#Data],Project_last_entry-Project_start_row-ProjectTimelineData[[#This Row],[NUM]]+1,1)),\"\")","v":""},{"$f":"IFERROR(IF(ISBLANK(INDEX(ProjectDetails[#Data],Project_last_entry-Project_start_row-ProjectTimelineData[[#This Row],[NUM]]+1,2)),\"\",INDEX(ProjectDetails[#Data],Project_last_entry-Project_start_row-ProjectTimelineData[[#This Row],[NUM]]+1,2)),\"\")","v":""},{"$f":"IFERROR(IF(ISBLANK(INDEX(ProjectDetails[#Data],Project_last_entry-Project_start_row-ProjectTimelineData[[#This Row],[NUM]]+1,3)),\"\",INDEX(ProjectDetails[#Data],Project_last_entry-Project_start_row-ProjectTimelineData[[#This Row],[NUM]]+1,3)),\"\")","v":""},{"$f":"IFERROR(IF(ISBLANK(INDEX(ProjectDetails[#Data],ROW(A202)+1,1)),\"\",IF($J206-1<=-1,\"\",$J206-1)),\"\")","v":""},null,null,{"$f":"IFERROR(ProjectTimelineData[[#This Row],[NUM]]+1,\"\")","v":""},{"$f":"IFERROR(VLOOKUP(SortedTimeline[[#This Row],[RANK Sorted]],ProjectTimelineData[],3,0),\"\")","v":""},{"$f":"IFERROR(VLOOKUP(SortedTimeline[[#This Row],[RANK Sorted]],ProjectTimelineData[],4,0),\"\")","v":""},{"$f":"IFERROR(VLOOKUP(SortedTimeline[[#This Row],[RANK Sorted]],ProjectTimelineData[],5,0),\"\")","v":""}]
[{"$nulls":4},{"$f":"IFERROR(RANK(F208,ProjectTimelineData[RANK])+SUMPRODUCT(--(F208=ProjectTimelineData[RANK]),--(J208<ProjectTimelineData[NUM])),\"\")","v":""},{"$f":"IFERROR(RANK(ProjectTimelineData[[#This Row],[DATE]],ProjectTimelineData[DATE],1),\"\")","v":""},{"$f":"IFERROR(IF(ISBLANK(INDEX(ProjectDetails[#Data],Project_last_entry-Project_start_row-ProjectTimelineData[[#This Row],[NUM]]+1,1)),\"\",INDEX(ProjectDetails[#Data],Project_last_entry-Project_start_row-ProjectTimelineData[[#This Row],[NUM]]+1,1)),\"\")","v":""},{"$f":"IFERROR(IF(ISBLANK(INDEX(ProjectDetails[#Data],Project_last_entry-Project_start_row-ProjectTimelineData[[#This Row],[NUM]]+1,2)),\"\",INDEX(ProjectDetails[#Data],Project_last_entry-Project_start_row-ProjectTimelineData[[#This Row],[NUM]]+1,2)),\"\")","v":""},{"$f":"IFERROR(IF(ISBLANK(INDEX(ProjectDetails[#Data],Project_last_entry-Project_start_row-ProjectTimelineData[[#This Row],[NUM]]+1,3)),\"\",INDEX(ProjectDetails[#Data],Project_last_entry-Project_start_row-ProjectTimelineData[[#This Row],[NUM]]+1,3)),\"\")","v":""},{"$f":"IFERROR(IF(ISBLANK(INDEX(ProjectDetails[#Data],ROW(A203)+1,1)),\"\",IF($J207-1<=-1,\"\",$J207-1)),\"\")","v":""},null,null,{"$f":"IFERROR(ProjectTimelineData[[#This Row],[NUM]]+1,\"\")","v":""},{"$f":"IFERROR(VLOOKUP(SortedTimeline[[#This Row],[RANK Sorted]],ProjectTimelineData[],3,0),\"\")","v":""},{"$f":"IFERROR(VLOOKUP(SortedTimeline[[#This Row],[RANK Sorted]],ProjectTimelineData[],4,0),\"\")","v":""},{"$f":"IFERROR(VLOOKUP(SortedTimeline[[#This Row],[RANK Sorted]],ProjectTimelineData[],5,0),\"\")","v":""}]
[{"$nulls":4},{"$f":"IFERROR(RANK(F209,ProjectTimelineData[RANK])+SUMPRODUCT(--(F209=ProjectTimelineData[RANK]),--(J209<ProjectTimelineData[NUM])),\"\")","v":""},{"$f":"IFERROR(RANK(ProjectTimelineData[[#This Row],[DATE]],ProjectTimelineData[DATE],1),\"\")","v":""},{"$f":"IFERROR(IF(ISBLANK(INDEX(ProjectDetails[#Data],Project_last_entry-Project_start_row-ProjectTimelineData[[#This Row],[NUM]]+1,1)),\"\",INDEX(ProjectDetails[#Data],Project_last_entry-Project_start_row-ProjectTimelineData[[#This Row],[NUM]]+1,1)),\"\")","v":""},{"$f":"IFERROR(IF(ISBLANK(INDEX(ProjectDetails[#Data],Project_last_entry-Project_start_row-ProjectTimelineData[[#This Row],[NUM]]+1,2)),\"\",INDEX(ProjectDetails[#Data],Project_last_entry-Project_start_row-ProjectTimelineData[[#This Row],[NUM]]+1,2)),\"\")","v":""},{"$f":"IFERROR(IF(ISBLANK(INDEX(ProjectDetails[#Data],Project_last_entry-Project_start_row-ProjectTimelineData[[#This Row],[NUM]]+1,3)),\"\",INDEX(ProjectDetails[#Data],Project_last_entry-Project_start_row-ProjectTimelineData[[#This Row],[NUM]]+1,3)),\"\")","v":""},{"$f":"IFERROR(IF(ISBLANK(INDEX(ProjectDetails[#Data],ROW(A204)+1,1)),\"\",IF($J208-1<=-1,\"\",$J208-1)),\"\")","v":""},null,null,{"$f":"IFERROR(ProjectTimelineData[[#This Row],[NUM]]+1,\"\")","v":""},{"$f":"IFERROR(VLOOKUP(SortedTimeline[[#This Row],[RANK Sorted]],ProjectTimelineData[],3,0),\"\")","v":""},{"$f":"IFERROR(VLOOKUP(SortedTimeline[[#This Row],[RANK Sorted]],ProjectTimelineData[],4,0),\"\")","v":""},{"$f":"IFERROR(VLOOKUP(SortedTimeline[[#This Row],[RANK Sorted]],ProjectTimelineData[],5,0),\"\")","v":""}]
[{"$nulls":4},{"$f":"IFERROR(RANK(F210,ProjectTimelineData[RANK])+SUMPRODUCT(--(F210=ProjectTimelineData[RANK]),--(J210<ProjectTimelineData[NUM])),\"\")","v":""},{"$f":"IFERROR(RANK(ProjectTimelineData[[#This Row],[DATE]],ProjectTimelineData[DATE],1),\"\")","v":""},{"$f":"IFERROR(IF(ISBLANK(INDEX(ProjectDetails[#Data],Project_last_entry-Project_start_row-ProjectTimelineData[[#This Row],[NUM]]+1,1)),\"\",INDEX(ProjectDetails[#Data],Project_last_entry-Project_start_row-ProjectTimelineData[[#This Row],[NUM]]+1,1)),\"\")","v":""},{"$f":"IFERROR(IF(ISBLANK(INDEX(ProjectDetails[#Data],Project_last_entry-Project_start_row-ProjectTimelineData[[#This Row],[NUM]]+1,2)),\"\",INDEX(ProjectDetails[#Data],Project_last_entry-Project_start_row-ProjectTimelineData[[#This Row],[NUM]]+1,2)),\"\")","v":""},{"$f":"IFERROR(IF(ISBLANK(INDEX(ProjectDetails[#Data],Project_last_entry-Project_start_row-ProjectTimelineData[[#This Row],[NUM]]+1,3)),\"\",INDEX(ProjectDetails[#Data],Project_last_entry-Project_start_row-ProjectTimelineData[[#This Row],[NUM]]+1,3)),\"\")","v":""},{"$f":"IFERROR(IF(ISBLANK(INDEX(ProjectDetails[#Data],ROW(A205)+1,1)),\"\",IF($J209-1<=-1,\"\",$J209-1)),\"\")","v":""},null,null,{"$f":"IFERROR(ProjectTimelineData[[#This Row],[NUM]]+1,\"\")","v":""},{"$f":"IFERROR(VLOOKUP(SortedTimeline[[#This Row],[RANK Sorted]],ProjectTimelineData[],3,0),\"\")","v":""},{"$f":"IFERROR(VLOOKUP(SortedTimeline[[#This Row],[RANK Sorted]],ProjectTimelineData[],4,0),\"\")","v":""},{"$f":"IFERROR(VLOOKUP(SortedTimeline[[#This Row],[RANK Sorted]],ProjectTimelineData[],5,0),\"\")","v":""}]
[{"$nulls":4},{"$f":"IFERROR(RANK(F211,ProjectTimelineData[RANK])+SUMPRODUCT(--(F211=ProjectTimelineData[RANK]),--(J211<ProjectTimelineData[NUM])),\"\")","v":""},{"$f":"IFERROR(RANK(ProjectTimelineData[[#This Row],[DATE]],ProjectTimelineData[DATE],1),\"\")","v":""},{"$f":"IFERROR(IF(ISBLANK(INDEX(ProjectDetails[#Data],Project_last_entry-Project_start_row-ProjectTimelineData[[#This Row],[NUM]]+1,1)),\"\",INDEX(ProjectDetails[#Data],Project_last_entry-Project_start_row-ProjectTimelineData[[#This Row],[NUM]]+1,1)),\"\")","v":""},{"$f":"IFERROR(IF(ISBLANK(INDEX(ProjectDetails[#Data],Project_last_entry-Project_start_row-ProjectTimelineData[[#This Row],[NUM]]+1,2)),\"\",INDEX(ProjectDetails[#Data],Project_last_entry-Project_start_row-ProjectTimelineData[[#This Row],[NUM]]+1,2)),\"\")","v":""},{"$f":"IFERROR(IF(ISBLANK(INDEX(ProjectDetails[#Data],Project_last_entry-Project_start_row-ProjectTimelineData[[#This Row],[NUM]]+1,3)),\"\",INDEX(ProjectDetails[#Data],Project_last_entry-Project_start_row-ProjectTimelineData[[#This Row],[NUM]]+1,3)),\"\")","v":""},{"$f":"IFERROR(IF(ISBLANK(INDEX(ProjectDetails[#Data],ROW(A206)+1,1)),\"\",IF($J210-1<=-1,\"\",$J210-1)),\"\")","v":""},null,null,{"$f":"IFERROR(ProjectTimelineData[[#This Row],[NUM]]+1,\"\")","v":""},{"$f":"IFERROR(VLOOKUP(SortedTimeline[[#This Row],[RANK Sorted]],ProjectTimelineData[],3,0),\"\")","v":""},{"$f":"IFERROR(VLOOKUP(SortedTimeline[[#This Row],[RANK Sorted]],ProjectTimelineData[],4,0),\"\")","v":""},{"$f":"IFERROR(VLOOKUP(SortedTimeline[[#This Row],[RANK Sorted]],ProjectTimelineData[],5,0),\"\")","v":""}]
[{"$nulls":4},{"$f":"IFERROR(RANK(F212,ProjectTimelineData[RANK])+SUMPRODUCT(--(F212=ProjectTimelineData[RANK]),--(J212<ProjectTimelineData[NUM])),\"\")","v":""},{"$f":"IFERROR(RANK(ProjectTimelineData[[#This Row],[DATE]],ProjectTimelineData[DATE],1),\"\")","v":""},{"$f":"IFERROR(IF(ISBLANK(INDEX(ProjectDetails[#Data],Project_last_entry-Project_start_row-ProjectTimelineData[[#This Row],[NUM]]+1,1)),\"\",INDEX(ProjectDetails[#Data],Project_last_entry-Project_start_row-ProjectTimelineData[[#This Row],[NUM]]+1,1)),\"\")","v":""},{"$f":"IFERROR(IF(ISBLANK(INDEX(ProjectDetails[#Data],Project_last_entry-Project_start_row-ProjectTimelineData[[#This Row],[NUM]]+1,2)),\"\",INDEX(ProjectDetails[#Data],Project_last_entry-Project_start_row-ProjectTimelineData[[#This Row],[NUM]]+1,2)),\"\")","v":""},{"$f":"IFERROR(IF(ISBLANK(INDEX(ProjectDetails[#Data],Project_last_entry-Project_start_row-ProjectTimelineData[[#This Row],[NUM]]+1,3)),\"\",INDEX(ProjectDetails[#Data],Project_last_entry-Project_start_row-ProjectTimelineData[[#This Row],[NUM]]+1,3)),\"\")","v":""},{"$f":"IFERROR(IF(ISBLANK(INDEX(ProjectDetails[#Data],ROW(A207)+1,1)),\"\",IF($J211-1<=-1,\"\",$J211-1)),\"\")","v":""},null,null,{"$f":"IFERROR(ProjectTimelineData[[#This Row],[NUM]]+1,\"\")","v":""},{"$f":"IFERROR(VLOOKUP(SortedTimeline[[#This Row],[RANK Sorted]],ProjectTimelineData[],3,0),\"\")","v":""},{"$f":"IFERROR(VLOOKUP(SortedTimeline[[#This Row],[RANK Sorted]],ProjectTimelineData[],4,0),\"\")","v":""},{"$f":"IFERROR(VLOOKUP(SortedTimeline[[#This Row],[RANK Sorted]],ProjectTimelineData[],5,0),\"\")","v":""}]
[{"$nulls":4},{"$f":"IFERROR(RANK(F213,ProjectTimelineData[RANK])+SUMPRODUCT(--(F213=ProjectTimelineData[RANK]),--(J213<ProjectTimelineData[NUM])),\"\")","v":""},{"$f":"IFERROR(RANK(ProjectTimelineData[[#This Row],[DATE]],ProjectTimelineData[DATE],1),\"\")","v":""},{"$f":"IFERROR(IF(ISBLANK(INDEX(ProjectDetails[#Data],Project_last_entry-Project_start_row-ProjectTimelineData[[#This Row],[NUM]]+1,1)),\"\",INDEX(ProjectDetails[#Data],Project_last_entry-Project_start_row-ProjectTimelineData[[#This Row],[NUM]]+1,1)),\"\")","v":""},{"$f":"IFERROR(IF(ISBLANK(INDEX(ProjectDetails[#Data],Project_last_entry-Project_start_row-ProjectTimelineData[[#This Row],[NUM]]+1,2)),\"\",INDEX(ProjectDetails[#Data],Project_last_entry-Project_start_row-ProjectTimelineData[[#This Row],[NUM]]+1,2)),\"\")","v":""},{"$f":"IFERROR(IF(ISBLANK(INDEX(ProjectDetails[#Data],Project_last_entry-Project_start_row-ProjectTimelineData[[#This Row],[NUM]]+1,3)),\"\",INDEX(ProjectDetails[#Data],Project_last_entry-Project_start_row-ProjectTimelineData[[#This Row],[NUM]]+1,3)),\"\")","v":""},{"$f":"IFERROR(IF(ISBLANK(INDEX(ProjectDetails[#Data],ROW(A208)+1,1)),\"\",IF($J212-1<=-1,\"\",$J212-1)),\"\")","v":""},null,null,{"$f":"IFERROR(ProjectTimelineData[[#This Row],[NUM]]+1,\"\")","v":""},{"$f":"IFERROR(VLOOKUP(SortedTimeline[[#This Row],[RANK Sorted]],ProjectTimelineData[],3,0),\"\")","v":""},{"$f":"IFERROR(VLOOKUP(SortedTimeline[[#This Row],[RANK Sorted]],ProjectTimelineData[],4,0),\"\")","v":""},{"$f":"IFERROR(VLOOKUP(SortedTimeline[[#This Row],[RANK Sorted]],ProjectTimelineData[],5,0),\"\")","v":""}]
[{"$nulls":4},{"$f":"IFERROR(RANK(F214,ProjectTimelineData[RANK])+SUMPRODUCT(--(F214=ProjectTimelineData[RANK]),--(J214<ProjectTimelineData[NUM])),\"\")","v":""},{"$f":"IFERROR(RANK(ProjectTimelineData[[#This Row],[DATE]],ProjectTimelineData[DATE],1),\"\")","v":""},{"$f":"IFERROR(IF(ISBLANK(INDEX(ProjectDetails[#Data],Project_last_entry-Project_start_row-ProjectTimelineData[[#This Row],[NUM]]+1,1)),\"\",INDEX(ProjectDetails[#Data],Project_last_entry-Project_start_row-ProjectTimelineData[[#This Row],[NUM]]+1,1)),\"\")","v":""},{"$f":"IFERROR(IF(ISBLANK(INDEX(ProjectDetails[#Data],Project_last_entry-Project_start_row-ProjectTimelineData[[#This Row],[NUM]]+1,2)),\"\",INDEX(ProjectDetails[#Data],Project_last_entry-Project_start_row-ProjectTimelineData[[#This Row],[NUM]]+1,2)),\"\")","v":""},{"$f":"IFERROR(IF(ISBLANK(INDEX(ProjectDetails[#Data],Project_last_entry-Project_start_row-ProjectTimelineData[[#This Row],[NUM]]+1,3)),\"\",INDEX(ProjectDetails[#Data],Project_last_entry-Project_start_row-ProjectTimelineData[[#This Row],[NUM]]+1,3)),\"\")","v":""},{"$f":"IFERROR(IF(ISBLANK(INDEX(ProjectDetails[#Data],ROW(A209)+1,1)),\"\",IF($J213-1<=-1,\"\",$J213-1)),\"\")","v":""},null,null,{"$f":"IFERROR(ProjectTimelineData[[#This Row],[NUM]]+1,\"\")","v":""},{"$f":"IFERROR(VLOOKUP(SortedTimeline[[#This Row],[RANK Sorted]],ProjectTimelineData[],3,0),\"\")","v":""},{"$f":"IFERROR(VLOOKUP(SortedTimeline[[#This Row],[RANK Sorted]],ProjectTimelineData[],4,0),\"\")","v":""},{"$f":"IFERROR(VLOOKUP(SortedTimeline[[#This Row],[RANK Sorted]],ProjectTimelineData[],5,0),\"\")","v":""}]
[{"$nulls":4},{"$f":"IFERROR(RANK(F215,ProjectTimelineData[RANK])+SUMPRODUCT(--(F215=ProjectTimelineData[RANK]),--(J215<ProjectTimelineData[NUM])),\"\")","v":""},{"$f":"IFERROR(RANK(ProjectTimelineData[[#This Row],[DATE]],ProjectTimelineData[DATE],1),\"\")","v":""},{"$f":"IFERROR(IF(ISBLANK(INDEX(ProjectDetails[#Data],Project_last_entry-Project_start_row-ProjectTimelineData[[#This Row],[NUM]]+1,1)),\"\",INDEX(ProjectDetails[#Data],Project_last_entry-Project_start_row-ProjectTimelineData[[#This Row],[NUM]]+1,1)),\"\")","v":""},{"$f":"IFERROR(IF(ISBLANK(INDEX(ProjectDetails[#Data],Project_last_entry-Project_start_row-ProjectTimelineData[[#This Row],[NUM]]+1,2)),\"\",INDEX(ProjectDetails[#Data],Project_last_entry-Project_start_row-ProjectTimelineData[[#This Row],[NUM]]+1,2)),\"\")","v":""},{"$f":"IFERROR(IF(ISBLANK(INDEX(ProjectDetails[#Data],Project_last_entry-Project_start_row-ProjectTimelineData[[#This Row],[NUM]]+1,3)),\"\",INDEX(ProjectDetails[#Data],Project_last_entry-Project_start_row-ProjectTimelineData[[#This Row],[NUM]]+1,3)),\"\")","v":""},{"$f":"IFERROR(IF(ISBLANK(INDEX(ProjectDetails[#Data],ROW(A210)+1,1)),\"\",IF($J214-1<=-1,\"\",$J214-1)),\"\")","v":""},null,null,{"$f":"IFERROR(ProjectTimelineData[[#This Row],[NUM]]+1,\"\")","v":""},{"$f":"IFERROR(VLOOKUP(SortedTimeline[[#This Row],[RANK Sorted]],ProjectTimelineData[],3,0),\"\")","v":""},{"$f":"IFERROR(VLOOKUP(SortedTimeline[[#This Row],[RANK Sorted]],ProjectTimelineData[],4,0),\"\")","v":""},{"$f":"IFERROR(VLOOKUP(SortedTimeline[[#This Row],[RANK Sorted]],ProjectTimelineData[],5,0),\"\")","v":""}]
[{"$nulls":4},{"$f":"IFERROR(RANK(F216,ProjectTimelineData[RANK])+SUMPRODUCT(--(F216=ProjectTimelineData[RANK]),--(J216<ProjectTimelineData[NUM])),\"\")","v":""},{"$f":"IFERROR(RANK(ProjectTimelineData[[#This Row],[DATE]],ProjectTimelineData[DATE],1),\"\")","v":""},{"$f":"IFERROR(IF(ISBLANK(INDEX(ProjectDetails[#Data],Project_last_entry-Project_start_row-ProjectTimelineData[[#This Row],[NUM]]+1,1)),\"\",INDEX(ProjectDetails[#Data],Project_last_entry-Project_start_row-ProjectTimelineData[[#This Row],[NUM]]+1,1)),\"\")","v":""},{"$f":"IFERROR(IF(ISBLANK(INDEX(ProjectDetails[#Data],Project_last_entry-Project_start_row-ProjectTimelineData[[#This Row],[NUM]]+1,2)),\"\",INDEX(ProjectDetails[#Data],Project_last_entry-Project_start_row-ProjectTimelineData[[#This Row],[NUM]]+1,2)),\"\")","v":""},{"$f":"IFERROR(IF(ISBLANK(INDEX(ProjectDetails[#Data],Project_last_entry-Project_start_row-ProjectTimelineData[[#This Row],[NUM]]+1,3)),\"\",INDEX(ProjectDetails[#Data],Project_last_entry-Project_start_row-ProjectTimelineData[[#This Row],[NUM]]+1,3)),\"\")","v":""},{"$f":"IFERROR(IF(ISBLANK(INDEX(ProjectDetails[#Data],ROW(A211)+1,1)),\"\",IF($J215-1<=-1,\"\",$J215-1)),\"\")","v":""},null,null,{"$f":"IFERROR(ProjectTimelineData[[#This Row],[NUM]]+1,\"\")","v":""},{"$f":"IFERROR(VLOOKUP(SortedTimeline[[#This Row],[RANK Sorted]],ProjectTimelineData[],3,0),\"\")","v":""},{"$f":"IFERROR(VLOOKUP(SortedTimeline[[#This Row],[RANK Sorted]],ProjectTimelineData[],4,0),\"\")","v":""},{"$f":"IFERROR(VLOOKUP(SortedTimeline[[#This Row],[RANK Sorted]],ProjectTimelineData[],5,0),\"\")","v":""}]
[{"$nulls":4},{"$f":"IFERROR(RANK(F217,ProjectTimelineData[RANK])+SUMPRODUCT(--(F217=ProjectTimelineData[RANK]),--(J217<ProjectTimelineData[NUM])),\"\")","v":""},{"$f":"IFERROR(RANK(ProjectTimelineData[[#This Row],[DATE]],ProjectTimelineData[DATE],1),\"\")","v":""},{"$f":"IFERROR(IF(ISBLANK(INDEX(ProjectDetails[#Data],Project_last_entry-Project_start_row-ProjectTimelineData[[#This Row],[NUM]]+1,1)),\"\",INDEX(ProjectDetails[#Data],Project_last_entry-Project_start_row-ProjectTimelineData[[#This Row],[NUM]]+1,1)),\"\")","v":""},{"$f":"IFERROR(IF(ISBLANK(INDEX(ProjectDetails[#Data],Project_last_entry-Project_start_row-ProjectTimelineData[[#This Row],[NUM]]+1,2)),\"\",INDEX(ProjectDetails[#Data],Project_last_entry-Project_start_row-ProjectTimelineData[[#This Row],[NUM]]+1,2)),\"\")","v":""},{"$f":"IFERROR(IF(ISBLANK(INDEX(ProjectDetails[#Data],Project_last_entry-Project_start_row-ProjectTimelineData[[#This Row],[NUM]]+1,3)),\"\",INDEX(ProjectDetails[#Data],Project_last_entry-Project_start_row-ProjectTimelineData[[#This Row],[NUM]]+1,3)),\"\")","v":""},{"$f":"IFERROR(IF(ISBLANK(INDEX(ProjectDetails[#Data],ROW(A212)+1,1)),\"\",IF($J216-1<=-1,\"\",$J216-1)),\"\")","v":""},null,null,{"$f":"IFERROR(ProjectTimelineData[[#This Row],[NUM]]+1,\"\")","v":""},{"$f":"IFERROR(VLOOKUP(SortedTimeline[[#This Row],[RANK Sorted]],ProjectTimelineData[],3,0),\"\")","v":""},{"$f":"IFERROR(VLOOKUP(SortedTimeline[[#This Row],[RANK Sorted]],ProjectTimelineData[],4,0),\"\")","v":""},{"$f":"IFERROR(VLOOKUP(SortedTimeline[[#This Row],[RANK Sorted]],ProjectTimelineData[],5,0),\"\")","v":""}]
[{"$nulls":4},{"$f":"IFERROR(RANK(F218,ProjectTimelineData[RANK])+SUMPRODUCT(--(F218=ProjectTimelineData[RANK]),--(J218<ProjectTimelineData[NUM])),\"\")","v":""},{"$f":"IFERROR(RANK(ProjectTimelineData[[#This Row],[DATE]],ProjectTimelineData[DATE],1),\"\")","v":""},{"$f":"IFERROR(IF(ISBLANK(INDEX(ProjectDetails[#Data],Project_last_entry-Project_start_row-ProjectTimelineData[[#This Row],[NUM]]+1,1)),\"\",INDEX(ProjectDetails[#Data],Project_last_entry-Project_start_row-ProjectTimelineData[[#This Row],[NUM]]+1,1)),\"\")","v":""},{"$f":"IFERROR(IF(ISBLANK(INDEX(ProjectDetails[#Data],Project_last_entry-Project_start_row-ProjectTimelineData[[#This Row],[NUM]]+1,2)),\"\",INDEX(ProjectDetails[#Data],Project_last_entry-Project_start_row-ProjectTimelineData[[#This Row],[NUM]]+1,2)),\"\")","v":""},{"$f":"IFERROR(IF(ISBLANK(INDEX(ProjectDetails[#Data],Project_last_entry-Project_start_row-ProjectTimelineData[[#This Row],[NUM]]+1,3)),\"\",INDEX(ProjectDetails[#Data],Project_last_entry-Project_start_row-ProjectTimelineData[[#This Row],[NUM]]+1,3)),\"\")","v":""},{"$f":"IFERROR(IF(ISBLANK(INDEX(ProjectDetails[#Data],ROW(A213)+1,1)),\"\",IF($J217-1<=-1,\"\",$J217-1)),\"\")","v":""},null,null,{"$f":"IFERROR(ProjectTimelineData[[#This Row],[NUM]]+1,\"\")","v":""},{"$f":"IFERROR(VLOOKUP(SortedTimeline[[#This Row],[RANK Sorted]],ProjectTimelineData[],3,0),\"\")","v":""},{"$f":"IFERROR(VLOOKUP(SortedTimeline[[#This Row],[RANK Sorted]],ProjectTimelineData[],4,0),\"\")","v":""},{"$f":"IFERROR(VLOOKUP(SortedTimeline[[#This Row],[RANK Sorted]],ProjectTimelineData[],5,0),\"\")","v":""}]
[{"$nulls":4},{"$f":"IFERROR(RANK(F219,ProjectTimelineData[RANK])+SUMPRODUCT(--(F219=ProjectTimelineData[RANK]),--(J219<ProjectTimelineData[NUM])),\"\")","v":""},{"$f":"IFERROR(RANK(ProjectTimelineData[[#This Row],[DATE]],ProjectTimelineData[DATE],1),\"\")","v":""},{"$f":"IFERROR(IF(ISBLANK(INDEX(ProjectDetails[#Data],Project_last_entry-Project_start_row-ProjectTimelineData[[#This Row],[NUM]]+1,1)),\"\",INDEX(ProjectDetails[#Data],Project_last_entry-Project_start_row-ProjectTimelineData[[#This Row],[NUM]]+1,1)),\"\")","v":""},{"$f":"IFERROR(IF(ISBLANK(INDEX(ProjectDetails[#Data],Project_last_entry-Project_start_row-ProjectTimelineData[[#This Row],[NUM]]+1,2)),\"\",INDEX(ProjectDetails[#Data],Project_last_entry-Project_start_row-ProjectTimelineData[[#This Row],[NUM]]+1,2)),\"\")","v":""},{"$f":"IFERROR(IF(ISBLANK(INDEX(ProjectDetails[#Data],Project_last_entry-Project_start_row-ProjectTimelineData[[#This Row],[NUM]]+1,3)),\"\",INDEX(ProjectDetails[#Data],Project_last_entry-Project_start_row-ProjectTimelineData[[#This Row],[NUM]]+1,3)),\"\")","v":""},{"$f":"IFERROR(IF(ISBLANK(INDEX(ProjectDetails[#Data],ROW(A214)+1,1)),\"\",IF($J218-1<=-1,\"\",$J218-1)),\"\")","v":""},null,null,{"$f":"IFERROR(ProjectTimelineData[[#This Row],[NUM]]+1,\"\")","v":""},{"$f":"IFERROR(VLOOKUP(SortedTimeline[[#This Row],[RANK Sorted]],ProjectTimelineData[],3,0),\"\")","v":""},{"$f":"IFERROR(VLOOKUP(SortedTimeline[[#This Row],[RANK Sorted]],ProjectTimelineData[],4,0),\"\")","v":""},{"$f":"IFERROR(VLOOKUP(SortedTimeline[[#This Row],[RANK Sorted]],ProjectTimelineData[],5,0),\"\")","v":""}]
[{"$nulls":4},{"$f":"IFERROR(RANK(F220,ProjectTimelineData[RANK])+SUMPRODUCT(--(F220=ProjectTimelineData[RANK]),--(J220<ProjectTimelineData[NUM])),\"\")","v":""},{"$f":"IFERROR(RANK(ProjectTimelineData[[#This Row],[DATE]],ProjectTimelineData[DATE],1),\"\")","v":""},{"$f":"IFERROR(IF(ISBLANK(INDEX(ProjectDetails[#Data],Project_last_entry-Project_start_row-ProjectTimelineData[[#This Row],[NUM]]+1,1)),\"\",INDEX(ProjectDetails[#Data],Project_last_entry-Project_start_row-ProjectTimelineData[[#This Row],[NUM]]+1,1)),\"\")","v":""},{"$f":"IFERROR(IF(ISBLANK(INDEX(ProjectDetails[#Data],Project_last_entry-Project_start_row-ProjectTimelineData[[#This Row],[NUM]]+1,2)),\"\",INDEX(ProjectDetails[#Data],Project_last_entry-Project_start_row-ProjectTimelineData[[#This Row],[NUM]]+1,2)),\"\")","v":""},{"$f":"IFERROR(IF(ISBLANK(INDEX(ProjectDetails[#Data],Project_last_entry-Project_start_row-ProjectTimelineData[[#This Row],[NUM]]+1,3)),\"\",INDEX(ProjectDetails[#Data],Project_last_entry-Project_start_row-ProjectTimelineData[[#This Row],[NUM]]+1,3)),\"\")","v":""},{"$f":"IFERROR(IF(ISBLANK(INDEX(ProjectDetails[#Data],ROW(A215)+1,1)),\"\",IF($J219-1<=-1,\"\",$J219-1)),\"\")","v":""},null,null,{"$f":"IFERROR(ProjectTimelineData[[#This Row],[NUM]]+1,\"\")","v":""},{"$f":"IFERROR(VLOOKUP(SortedTimeline[[#This Row],[RANK Sorted]],ProjectTimelineData[],3,0),\"\")","v":""},{"$f":"IFERROR(VLOOKUP(SortedTimeline[[#This Row],[RANK Sorted]],ProjectTimelineData[],4,0),\"\")","v":""},{"$f":"IFERROR(VLOOKUP(SortedTimeline[[#This Row],[RANK Sorted]],ProjectTimelineData[],5,0),\"\")","v":""}]
[{"$nulls":4},{"$f":"IFERROR(RANK(F221,ProjectTimelineData[RANK])+SUMPRODUCT(--(F221=ProjectTimelineData[RANK]),--(J221<ProjectTimelineData[NUM])),\"\")","v":""},{"$f":"IFERROR(RANK(ProjectTimelineData[[#This Row],[DATE]],ProjectTimelineData[DATE],1),\"\")","v":""},{"$f":"IFERROR(IF(ISBLANK(INDEX(ProjectDetails[#Data],Project_last_entry-Project_start_row-ProjectTimelineData[[#This Row],[NUM]]+1,1)),\"\",INDEX(ProjectDetails[#Data],Project_last_entry-Project_start_row-ProjectTimelineData[[#This Row],[NUM]]+1,1)),\"\")","v":""},{"$f":"IFERROR(IF(ISBLANK(INDEX(ProjectDetails[#Data],Project_last_entry-Project_start_row-ProjectTimelineData[[#This Row],[NUM]]+1,2)),\"\",INDEX(ProjectDetails[#Data],Project_last_entry-Project_start_row-ProjectTimelineData[[#This Row],[NUM]]+1,2)),\"\")","v":""},{"$f":"IFERROR(IF(ISBLANK(INDEX(ProjectDetails[#Data],Project_last_entry-Project_start_row-ProjectTimelineData[[#This Row],[NUM]]+1,3)),\"\",INDEX(ProjectDetails[#Data],Project_last_entry-Project_start_row-ProjectTimelineData[[#This Row],[NUM]]+1,3)),\"\")","v":""},{"$f":"IFERROR(IF(ISBLANK(INDEX(ProjectDetails[#Data],ROW(A216)+1,1)),\"\",IF($J220-1<=-1,\"\",$J220-1)),\"\")","v":""},null,null,{"$f":"IFERROR(ProjectTimelineData[[#This Row],[NUM]]+1,\"\")","v":""},{"$f":"IFERROR(VLOOKUP(SortedTimeline[[#This Row],[RANK Sorted]],ProjectTimelineData[],3,0),\"\")","v":""},{"$f":"IFERROR(VLOOKUP(SortedTimeline[[#This Row],[RANK Sorted]],ProjectTimelineData[],4,0),\"\")","v":""},{"$f":"IFERROR(VLOOKUP(SortedTimeline[[#This Row],[RANK Sorted]],ProjectTimelineData[],5,0),\"\")","v":""}]
[{"$nulls":4},{"$f":"IFERROR(RANK(F222,ProjectTimelineData[RANK])+SUMPRODUCT(--(F222=ProjectTimelineData[RANK]),--(J222<ProjectTimelineData[NUM])),\"\")","v":""},{"$f":"IFERROR(RANK(ProjectTimelineData[[#This Row],[DATE]],ProjectTimelineData[DATE],1),\"\")","v":""},{"$f":"IFERROR(IF(ISBLANK(INDEX(ProjectDetails[#Data],Project_last_entry-Project_start_row-ProjectTimelineData[[#This Row],[NUM]]+1,1)),\"\",INDEX(ProjectDetails[#Data],Project_last_entry-Project_start_row-ProjectTimelineData[[#This Row],[NUM]]+1,1)),\"\")","v":""},{"$f":"IFERROR(IF(ISBLANK(INDEX(ProjectDetails[#Data],Project_last_entry-Project_start_row-ProjectTimelineData[[#This Row],[NUM]]+1,2)),\"\",INDEX(ProjectDetails[#Data],Project_last_entry-Project_start_row-ProjectTimelineData[[#This Row],[NUM]]+1,2)),\"\")","v":""},{"$f":"IFERROR(IF(ISBLANK(INDEX(ProjectDetails[#Data],Project_last_entry-Project_start_row-ProjectTimelineData[[#This Row],[NUM]]+1,3)),\"\",INDEX(ProjectDetails[#Data],Project_last_entry-Project_start_row-ProjectTimelineData[[#This Row],[NUM]]+1,3)),\"\")","v":""},{"$f":"IFERROR(IF(ISBLANK(INDEX(ProjectDetails[#Data],ROW(A217)+1,1)),\"\",IF($J221-1<=-1,\"\",$J221-1)),\"\")","v":""},null,null,{"$f":"IFERROR(ProjectTimelineData[[#This Row],[NUM]]+1,\"\")","v":""},{"$f":"IFERROR(VLOOKUP(SortedTimeline[[#This Row],[RANK Sorted]],ProjectTimelineData[],3,0),\"\")","v":""},{"$f":"IFERROR(VLOOKUP(SortedTimeline[[#This Row],[RANK Sorted]],ProjectTimelineData[],4,0),\"\")","v":""},{"$f":"IFERROR(VLOOKUP(SortedTimeline[[#This Row],[RANK Sorted]],ProjectTimelineData[],5,0),\"\")","v":""}]
[{"$nulls":4},{"$f":"IFERROR(RANK(F223,ProjectTimelineData[RANK])+SUMPRODUCT(--(F223=ProjectTimelineData[RANK]),--(J223<ProjectTimelineData[NUM])),\"\")","v":""},{"$f":"IFERROR(RANK(ProjectTimelineData[[#This Row],[DATE]],ProjectTimelineData[DATE],1),\"\")","v":""},{"$f":"IFERROR(IF(ISBLANK(INDEX(ProjectDetails[#Data],Project_last_entry-Project_start_row-ProjectTimelineData[[#This Row],[NUM]]+1,1)),\"\",INDEX(ProjectDetails[#Data],Project_last_entry-Project_start_row-ProjectTimelineData[[#This Row],[NUM]]+1,1)),\"\")","v":""},{"$f":"IFERROR(IF(ISBLANK(INDEX(ProjectDetails[#Data],Project_last_entry-Project_start_row-ProjectTimelineData[[#This Row],[NUM]]+1,2)),\"\",INDEX(ProjectDetails[#Data],Project_last_entry-Project_start_row-ProjectTimelineData[[#This Row],[NUM]]+1,2)),\"\")","v":""},{"$f":"IFERROR(IF(ISBLANK(INDEX(ProjectDetails[#Data],Project_last_entry-Project_start_row-ProjectTimelineData[[#This Row],[NUM]]+1,3)),\"\",INDEX(ProjectDetails[#Data],Project_last_entry-Project_start_row-ProjectTimelineData[[#This Row],[NUM]]+1,3)),\"\")","v":""},{"$f":"IFERROR(IF(ISBLANK(INDEX(ProjectDetails[#Data],ROW(A218)+1,1)),\"\",IF($J222-1<=-1,\"\",$J222-1)),\"\")","v":""},null,null,{"$f":"IFERROR(ProjectTimelineData[[#This Row],[NUM]]+1,\"\")","v":""},{"$f":"IFERROR(VLOOKUP(SortedTimeline[[#This Row],[RANK Sorted]],ProjectTimelineData[],3,0),\"\")","v":""},{"$f":"IFERROR(VLOOKUP(SortedTimeline[[#This Row],[RANK Sorted]],ProjectTimelineData[],4,0),\"\")","v":""},{"$f":"IFERROR(VLOOKUP(SortedTimeline[[#This Row],[RANK Sorted]],ProjectTimelineData[],5,0),\"\")","v":""}]
[{"$nulls":4},{"$f":"IFERROR(RANK(F224,ProjectTimelineData[RANK])+SUMPRODUCT(--(F224=ProjectTimelineData[RANK]),--(J224<ProjectTimelineData[NUM])),\"\")","v":""},{"$f":"IFERROR(RANK(ProjectTimelineData[[#This Row],[DATE]],ProjectTimelineData[DATE],1),\"\")","v":""},{"$f":"IFERROR(IF(ISBLANK(INDEX(ProjectDetails[#Data],Project_last_entry-Project_start_row-ProjectTimelineData[[#This Row],[NUM]]+1,1)),\"\",INDEX(ProjectDetails[#Data],Project_last_entry-Project_start_row-ProjectTimelineData[[#This Row],[NUM]]+1,1)),\"\")","v":""},{"$f":"IFERROR(IF(ISBLANK(INDEX(ProjectDetails[#Data],Project_last_entry-Project_start_row-ProjectTimelineData[[#This Row],[NUM]]+1,2)),\"\",INDEX(ProjectDetails[#Data],Project_last_entry-Project_start_row-ProjectTimelineData[[#This Row],[NUM]]+1,2)),\"\")","v":""},{"$f":"IFERROR(IF(ISBLANK(INDEX(ProjectDetails[#Data],Project_last_entry-Project_start_row-ProjectTimelineData[[#This Row],[NUM]]+1,3)),\"\",INDEX(ProjectDetails[#Data],Project_last_entry-Project_start_row-ProjectTimelineData[[#This Row],[NUM]]+1,3)),\"\")","v":""},{"$f":"IFERROR(IF(ISBLANK(INDEX(ProjectDetails[#Data],ROW(A219)+1,1)),\"\",IF($J223-1<=-1,\"\",$J223-1)),\"\")","v":""},null,null,{"$f":"IFERROR(ProjectTimelineData[[#This Row],[NUM]]+1,\"\")","v":""},{"$f":"IFERROR(VLOOKUP(SortedTimeline[[#This Row],[RANK Sorted]],ProjectTimelineData[],3,0),\"\")","v":""},{"$f":"IFERROR(VLOOKUP(SortedTimeline[[#This Row],[RANK Sorted]],ProjectTimelineData[],4,0),\"\")","v":""},{"$f":"IFERROR(VLOOKUP(SortedTimeline[[#This Row],[RANK Sorted]],ProjectTimelineData[],5,0),\"\")","v":""}]
[{"$nulls":4},{"$f":"IFERROR(RANK(F225,ProjectTimelineData[RANK])+SUMPRODUCT(--(F225=ProjectTimelineData[RANK]),--(J225<ProjectTimelineData[NUM])),\"\")","v":""},{"$f":"IFERROR(RANK(ProjectTimelineData[[#This Row],[DATE]],ProjectTimelineData[DATE],1),\"\")","v":""},{"$f":"IFERROR(IF(ISBLANK(INDEX(ProjectDetails[#Data],Project_last_entry-Project_start_row-ProjectTimelineData[[#This Row],[NUM]]+1,1)),\"\",INDEX(ProjectDetails[#Data],Project_last_entry-Project_start_row-ProjectTimelineData[[#This Row],[NUM]]+1,1)),\"\")","v":""},{"$f":"IFERROR(IF(ISBLANK(INDEX(ProjectDetails[#Data],Project_last_entry-Project_start_row-ProjectTimelineData[[#This Row],[NUM]]+1,2)),\"\",INDEX(ProjectDetails[#Data],Project_last_entry-Project_start_row-ProjectTimelineData[[#This Row],[NUM]]+1,2)),\"\")","v":""},{"$f":"IFERROR(IF(ISBLANK(INDEX(ProjectDetails[#Data],Project_last_entry-Project_start_row-ProjectTimelineData[[#This Row],[NUM]]+1,3)),\"\",INDEX(ProjectDetails[#Data],Project_last_entry-Project_start_row-ProjectTimelineData[[#This Row],[NUM]]+1,3)),\"\")","v":""},{"$f":"IFERROR(IF(ISBLANK(INDEX(ProjectDetails[#Data],ROW(A220)+1,1)),\"\",IF($J224-1<=-1,\"\",$J224-1)),\"\")","v":""},null,null,{"$f":"IFERROR(ProjectTimelineData[[#This Row],[NUM]]+1,\"\")","v":""},{"$f":"IFERROR(VLOOKUP(SortedTimeline[[#This Row],[RANK Sorted]],ProjectTimelineData[],3,0),\"\")","v":""},{"$f":"IFERROR(VLOOKUP(SortedTimeline[[#This Row],[RANK Sorted]],ProjectTimelineData[],4,0),\"\")","v":""},{"$f":"IFERROR(VLOOKUP(SortedTimeline[[#This Row],[RANK Sorted]],ProjectTimelineData[],5,0),\"\")","v":""}]
[{"$nulls":4},{"$f":"IFERROR(RANK(F226,ProjectTimelineData[RANK])+SUMPRODUCT(--(F226=ProjectTimelineData[RANK]),--(J226<ProjectTimelineData[NUM])),\"\")","v":""},{"$f":"IFERROR(RANK(ProjectTimelineData[[#This Row],[DATE]],ProjectTimelineData[DATE],1),\"\")","v":""},{"$f":"IFERROR(IF(ISBLANK(INDEX(ProjectDetails[#Data],Project_last_entry-Project_start_row-ProjectTimelineData[[#This Row],[NUM]]+1,1)),\"\",INDEX(ProjectDetails[#Data],Project_last_entry-Project_start_row-ProjectTimelineData[[#This Row],[NUM]]+1,1)),\"\")","v":""},{"$f":"IFERROR(IF(ISBLANK(INDEX(ProjectDetails[#Data],Project_last_entry-Project_start_row-ProjectTimelineData[[#This Row],[NUM]]+1,2)),\"\",INDEX(ProjectDetails[#Data],Project_last_entry-Project_start_row-ProjectTimelineData[[#This Row],[NUM]]+1,2)),\"\")","v":""},{"$f":"IFERROR(IF(ISBLANK(INDEX(ProjectDetails[#Data],Project_last_entry-Project_start_row-ProjectTimelineData[[#This Row],[NUM]]+1,3)),\"\",INDEX(ProjectDetails[#Data],Project_last_entry-Project_start_row-ProjectTimelineData[[#This Row],[NUM]]+1,3)),\"\")","v":""},{"$f":"IFERROR(IF(ISBLANK(INDEX(ProjectDetails[#Data],ROW(A221)+1,1)),\"\",IF($J225-1<=-1,\"\",$J225-1)),\"\")","v":""},null,null,{"$f":"IFERROR(ProjectTimelineData[[#This Row],[NUM]]+1,\"\")","v":""},{"$f":"IFERROR(VLOOKUP(SortedTimeline[[#This Row],[RANK Sorted]],ProjectTimelineData[],3,0),\"\")","v":""},{"$f":"IFERROR(VLOOKUP(SortedTimeline[[#This Row],[RANK Sorted]],ProjectTimelineData[],4,0),\"\")","v":""},{"$f":"IFERROR(VLOOKUP(SortedTimeline[[#This Row],[RANK Sorted]],ProjectTimelineData[],5,0),\"\")","v":""}]
[{"$nulls":4},{"$f":"IFERROR(RANK(F227,ProjectTimelineData[RANK])+SUMPRODUCT(--(F227=ProjectTimelineData[RANK]),--(J227<ProjectTimelineData[NUM])),\"\")","v":""},{"$f":"IFERROR(RANK(ProjectTimelineData[[#This Row],[DATE]],ProjectTimelineData[DATE],1),\"\")","v":""},{"$f":"IFERROR(IF(ISBLANK(INDEX(ProjectDetails[#Data],Project_last_entry-Project_start_row-ProjectTimelineData[[#This Row],[NUM]]+1,1)),\"\",INDEX(ProjectDetails[#Data],Project_last_entry-Project_start_row-ProjectTimelineData[[#This Row],[NUM]]+1,1)),\"\")","v":""},{"$f":"IFERROR(IF(ISBLANK(INDEX(ProjectDetails[#Data],Project_last_entry-Project_start_row-ProjectTimelineData[[#This Row],[NUM]]+1,2)),\"\",INDEX(ProjectDetails[#Data],Project_last_entry-Project_start_row-ProjectTimelineData[[#This Row],[NUM]]+1,2)),\"\")","v":""},{"$f":"IFERROR(IF(ISBLANK(INDEX(ProjectDetails[#Data],Project_last_entry-Project_start_row-ProjectTimelineData[[#This Row],[NUM]]+1,3)),\"\",INDEX(ProjectDetails[#Data],Project_last_entry-Project_start_row-ProjectTimelineData[[#This Row],[NUM]]+1,3)),\"\")","v":""},{"$f":"IFERROR(IF(ISBLANK(INDEX(ProjectDetails[#Data],ROW(A222)+1,1)),\"\",IF($J226-1<=-1,\"\",$J226-1)),\"\")","v":""},null,null,{"$f":"IFERROR(ProjectTimelineData[[#This Row],[NUM]]+1,\"\")","v":""},{"$f":"IFERROR(VLOOKUP(SortedTimeline[[#This Row],[RANK Sorted]],ProjectTimelineData[],3,0),\"\")","v":""},{"$f":"IFERROR(VLOOKUP(SortedTimeline[[#This Row],[RANK Sorted]],ProjectTimelineData[],4,0),\"\")","v":""},{"$f":"IFERROR(VLOOKUP(SortedTimeline[[#This Row],[RANK Sorted]],ProjectTimelineData[],5,0),\"\")","v":""}]
[{"$nulls":4},{"$f":"IFERROR(RANK(F228,ProjectTimelineData[RANK])+SUMPRODUCT(--(F228=ProjectTimelineData[RANK]),--(J228<ProjectTimelineData[NUM])),\"\")","v":""},{"$f":"IFERROR(RANK(ProjectTimelineData[[#This Row],[DATE]],ProjectTimelineData[DATE],1),\"\")","v":""},{"$f":"IFERROR(IF(ISBLANK(INDEX(ProjectDetails[#Data],Project_last_entry-Project_start_row-ProjectTimelineData[[#This Row],[NUM]]+1,1)),\"\",INDEX(ProjectDetails[#Data],Project_last_entry-Project_start_row-ProjectTimelineData[[#This Row],[NUM]]+1,1)),\"\")","v":""},{"$f":"IFERROR(IF(ISBLANK(INDEX(ProjectDetails[#Data],Project_last_entry-Project_start_row-ProjectTimelineData[[#This Row],[NUM]]+1,2)),\"\",INDEX(ProjectDetails[#Data],Project_last_entry-Project_start_row-ProjectTimelineData[[#This Row],[NUM]]+1,2)),\"\")","v":""},{"$f":"IFERROR(IF(ISBLANK(INDEX(ProjectDetails[#Data],Project_last_entry-Project_start_row-ProjectTimelineData[[#This Row],[NUM]]+1,3)),\"\",INDEX(ProjectDetails[#Data],Project_last_entry-Project_start_row-ProjectTimelineData[[#This Row],[NUM]]+1,3)),\"\")","v":""},{"$f":"IFERROR(IF(ISBLANK(INDEX(ProjectDetails[#Data],ROW(A223)+1,1)),\"\",IF($J227-1<=-1,\"\",$J227-1)),\"\")","v":""},null,null,{"$f":"IFERROR(ProjectTimelineData[[#This Row],[NUM]]+1,\"\")","v":""},{"$f":"IFERROR(VLOOKUP(SortedTimeline[[#This Row],[RANK Sorted]],ProjectTimelineData[],3,0),\"\")","v":""},{"$f":"IFERROR(VLOOKUP(SortedTimeline[[#This Row],[RANK Sorted]],ProjectTimelineData[],4,0),\"\")","v":""},{"$f":"IFERROR(VLOOKUP(SortedTimeline[[#This Row],[RANK Sorted]],ProjectTimelineData[],5,0),\"\")","v":""}]
[{"$nulls":4},{"$f":"IFERROR(RANK(F229,ProjectTimelineData[RANK])+SUMPRODUCT(--(F229=ProjectTimelineData[RANK]),--(J229<ProjectTimelineData[NUM])),\"\")","v":""},{"$f":"IFERROR(RANK(ProjectTimelineData[[#This Row],[DATE]],ProjectTimelineData[DATE],1),\"\")","v":""},{"$f":"IFERROR(IF(ISBLANK(INDEX(ProjectDetails[#Data],Project_last_entry-Project_start_row-ProjectTimelineData[[#This Row],[NUM]]+1,1)),\"\",INDEX(ProjectDetails[#Data],Project_last_entry-Project_start_row-ProjectTimelineData[[#This Row],[NUM]]+1,1)),\"\")","v":""},{"$f":"IFERROR(IF(ISBLANK(INDEX(ProjectDetails[#Data],Project_last_entry-Project_start_row-ProjectTimelineData[[#This Row],[NUM]]+1,2)),\"\",INDEX(ProjectDetails[#Data],Project_last_entry-Project_start_row-ProjectTimelineData[[#This Row],[NUM]]+1,2)),\"\")","v":""},{"$f":"IFERROR(IF(ISBLANK(INDEX(ProjectDetails[#Data],Project_last_entry-Project_start_row-ProjectTimelineData[[#This Row],[NUM]]+1,3)),\"\",INDEX(ProjectDetails[#Data],Project_last_entry-Project_start_row-ProjectTimelineData[[#This Row],[NUM]]+1,3)),\"\")","v":""},{"$f":"IFERROR(IF(ISBLANK(INDEX(ProjectDetails[#Data],ROW(A224)+1,1)),\"\",IF($J228-1<=-1,\"\",$J228-1)),\"\")","v":""},null,null,{"$f":"IFERROR(ProjectTimelineData[[#This Row],[NUM]]+1,\"\")","v":""},{"$f":"IFERROR(VLOOKUP(SortedTimeline[[#This Row],[RANK Sorted]],ProjectTimelineData[],3,0),\"\")","v":""},{"$f":"IFERROR(VLOOKUP(SortedTimeline[[#This Row],[RANK Sorted]],ProjectTimelineData[],4,0),\"\")","v":""},{"$f":"IFERROR(VLOOKUP(SortedTimeline[[#This Row],[RANK Sorted]],ProjectTimelineData[],5,0),\"\")","v":""}]
[{"$nulls":4},{"$f":"IFERROR(RANK(F230,ProjectTimelineData[RANK])+SUMPRODUCT(--(F230=ProjectTimelineData[RANK]),--(J230<ProjectTimelineData[NUM])),\"\")","v":""},{"$f":"IFERROR(RANK(ProjectTimelineData[[#This Row],[DATE]],ProjectTimelineData[DATE],1),\"\")","v":""},{"$f":"IFERROR(IF(ISBLANK(INDEX(ProjectDetails[#Data],Project_last_entry-Project_start_row-ProjectTimelineData[[#This Row],[NUM]]+1,1)),\"\",INDEX(ProjectDetails[#Data],Project_last_entry-Project_start_row-ProjectTimelineData[[#This Row],[NUM]]+1,1)),\"\")","v":""},{"$f":"IFERROR(IF(ISBLANK(INDEX(ProjectDetails[#Data],Project_last_entry-Project_start_row-ProjectTimelineData[[#This Row],[NUM]]+1,2)),\"\",INDEX(ProjectDetails[#Data],Project_last_entry-Project_start_row-ProjectTimelineData[[#This Row],[NUM]]+1,2)),\"\")","v":""},{"$f":"IFERROR(IF(ISBLANK(INDEX(ProjectDetails[#Data],Project_last_entry-Project_start_row-ProjectTimelineData[[#This Row],[NUM]]+1,3)),\"\",INDEX(ProjectDetails[#Data],Project_last_entry-Project_start_row-ProjectTimelineData[[#This Row],[NUM]]+1,3)),\"\")","v":""},{"$f":"IFERROR(IF(ISBLANK(INDEX(ProjectDetails[#Data],ROW(A225)+1,1)),\"\",IF($J229-1<=-1,\"\",$J229-1)),\"\")","v":""},null,null,{"$f":"IFERROR(ProjectTimelineData[[#This Row],[NUM]]+1,\"\")","v":""},{"$f":"IFERROR(VLOOKUP(SortedTimeline[[#This Row],[RANK Sorted]],ProjectTimelineData[],3,0),\"\")","v":""},{"$f":"IFERROR(VLOOKUP(SortedTimeline[[#This Row],[RANK Sorted]],ProjectTimelineData[],4,0),\"\")","v":""},{"$f":"IFERROR(VLOOKUP(SortedTimeline[[#This Row],[RANK Sorted]],ProjectTimelineData[],5,0),\"\")","v":""}]
[{"$nulls":4},{"$f":"IFERROR(RANK(F231,ProjectTimelineData[RANK])+SUMPRODUCT(--(F231=ProjectTimelineData[RANK]),--(J231<ProjectTimelineData[NUM])),\"\")","v":""},{"$f":"IFERROR(RANK(ProjectTimelineData[[#This Row],[DATE]],ProjectTimelineData[DATE],1),\"\")","v":""},{"$f":"IFERROR(IF(ISBLANK(INDEX(ProjectDetails[#Data],Project_last_entry-Project_start_row-ProjectTimelineData[[#This Row],[NUM]]+1,1)),\"\",INDEX(ProjectDetails[#Data],Project_last_entry-Project_start_row-ProjectTimelineData[[#This Row],[NUM]]+1,1)),\"\")","v":""},{"$f":"IFERROR(IF(ISBLANK(INDEX(ProjectDetails[#Data],Project_last_entry-Project_start_row-ProjectTimelineData[[#This Row],[NUM]]+1,2)),\"\",INDEX(ProjectDetails[#Data],Project_last_entry-Project_start_row-ProjectTimelineData[[#This Row],[NUM]]+1,2)),\"\")","v":""},{"$f":"IFERROR(IF(ISBLANK(INDEX(ProjectDetails[#Data],Project_last_entry-Project_start_row-ProjectTimelineData[[#This Row],[NUM]]+1,3)),\"\",INDEX(ProjectDetails[#Data],Project_last_entry-Project_start_row-ProjectTimelineData[[#This Row],[NUM]]+1,3)),\"\")","v":""},{"$f":"IFERROR(IF(ISBLANK(INDEX(ProjectDetails[#Data],ROW(A226)+1,1)),\"\",IF($J230-1<=-1,\"\",$J230-1)),\"\")","v":""},null,null,{"$f":"IFERROR(ProjectTimelineData[[#This Row],[NUM]]+1,\"\")","v":""},{"$f":"IFERROR(VLOOKUP(SortedTimeline[[#This Row],[RANK Sorted]],ProjectTimelineData[],3,0),\"\")","v":""},{"$f":"IFERROR(VLOOKUP(SortedTimeline[[#This Row],[RANK Sorted]],ProjectTimelineData[],4,0),\"\")","v":""},{"$f":"IFERROR(VLOOKUP(SortedTimeline[[#This Row],[RANK Sorted]],ProjectTimelineData[],5,0),\"\")","v":""}]
[{"$nulls":4},{"$f":"IFERROR(RANK(F232,ProjectTimelineData[RANK])+SUMPRODUCT(--(F232=ProjectTimelineData[RANK]),--(J232<ProjectTimelineData[NUM])),\"\")","v":""},{"$f":"IFERROR(RANK(ProjectTimelineData[[#This Row],[DATE]],ProjectTimelineData[DATE],1),\"\")","v":""},{"$f":"IFERROR(IF(ISBLANK(INDEX(ProjectDetails[#Data],Project_last_entry-Project_start_row-ProjectTimelineData[[#This Row],[NUM]]+1,1)),\"\",INDEX(ProjectDetails[#Data],Project_last_entry-Project_start_row-ProjectTimelineData[[#This Row],[NUM]]+1,1)),\"\")","v":""},{"$f":"IFERROR(IF(ISBLANK(INDEX(ProjectDetails[#Data],Project_last_entry-Project_start_row-ProjectTimelineData[[#This Row],[NUM]]+1,2)),\"\",INDEX(ProjectDetails[#Data],Project_last_entry-Project_start_row-ProjectTimelineData[[#This Row],[NUM]]+1,2)),\"\")","v":""},{"$f":"IFERROR(IF(ISBLANK(INDEX(ProjectDetails[#Data],Project_last_entry-Project_start_row-ProjectTimelineData[[#This Row],[NUM]]+1,3)),\"\",INDEX(ProjectDetails[#Data],Project_last_entry-Project_start_row-ProjectTimelineData[[#This Row],[NUM]]+1,3)),\"\")","v":""},{"$f":"IFERROR(IF(ISBLANK(INDEX(ProjectDetails[#Data],ROW(A227)+1,1)),\"\",IF($J231-1<=-1,\"\",$J231-1)),\"\")","v":""},null,null,{"$f":"IFERROR(ProjectTimelineData[[#This Row],[NUM]]+1,\"\")","v":""},{"$f":"IFERROR(VLOOKUP(SortedTimeline[[#This Row],[RANK Sorted]],ProjectTimelineData[],3,0),\"\")","v":""},{"$f":"IFERROR(VLOOKUP(SortedTimeline[[#This Row],[RANK Sorted]],ProjectTimelineData[],4,0),\"\")","v":""},{"$f":"IFERROR(VLOOKUP(SortedTimeline[[#This Row],[RANK Sorted]],ProjectTimelineData[],5,0),\"\")","v":""}]
[{"$nulls":4},{"$f":"IFERROR(RANK(F233,ProjectTimelineData[RANK])+SUMPRODUCT(--(F233=ProjectTimelineData[RANK]),--(J233<ProjectTimelineData[NUM])),\"\")","v":""},{"$f":"IFERROR(RANK(ProjectTimelineData[[#This Row],[DATE]],ProjectTimelineData[DATE],1),\"\")","v":""},{"$f":"IFERROR(IF(ISBLANK(INDEX(ProjectDetails[#Data],Project_last_entry-Project_start_row-ProjectTimelineData[[#This Row],[NUM]]+1,1)),\"\",INDEX(ProjectDetails[#Data],Project_last_entry-Project_start_row-ProjectTimelineData[[#This Row],[NUM]]+1,1)),\"\")","v":""},{"$f":"IFERROR(IF(ISBLANK(INDEX(ProjectDetails[#Data],Project_last_entry-Project_start_row-ProjectTimelineData[[#This Row],[NUM]]+1,2)),\"\",INDEX(ProjectDetails[#Data],Project_last_entry-Project_start_row-ProjectTimelineData[[#This Row],[NUM]]+1,2)),\"\")","v":""},{"$f":"IFERROR(IF(ISBLANK(INDEX(ProjectDetails[#Data],Project_last_entry-Project_start_row-ProjectTimelineData[[#This Row],[NUM]]+1,3)),\"\",INDEX(ProjectDetails[#Data],Project_last_entry-Project_start_row-ProjectTimelineData[[#This Row],[NUM]]+1,3)),\"\")","v":""},{"$f":"IFERROR(IF(ISBLANK(INDEX(ProjectDetails[#Data],ROW(A228)+1,1)),\"\",IF($J232-1<=-1,\"\",$J232-1)),\"\")","v":""},null,null,{"$f":"IFERROR(ProjectTimelineData[[#This Row],[NUM]]+1,\"\")","v":""},{"$f":"IFERROR(VLOOKUP(SortedTimeline[[#This Row],[RANK Sorted]],ProjectTimelineData[],3,0),\"\")","v":""},{"$f":"IFERROR(VLOOKUP(SortedTimeline[[#This Row],[RANK Sorted]],ProjectTimelineData[],4,0),\"\")","v":""},{"$f":"IFERROR(VLOOKUP(SortedTimeline[[#This Row],[RANK Sorted]],ProjectTimelineData[],5,0),\"\")","v":""}]
[{"$nulls":4},{"$f":"IFERROR(RANK(F234,ProjectTimelineData[RANK])+SUMPRODUCT(--(F234=ProjectTimelineData[RANK]),--(J234<ProjectTimelineData[NUM])),\"\")","v":""},{"$f":"IFERROR(RANK(ProjectTimelineData[[#This Row],[DATE]],ProjectTimelineData[DATE],1),\"\")","v":""},{"$f":"IFERROR(IF(ISBLANK(INDEX(ProjectDetails[#Data],Project_last_entry-Project_start_row-ProjectTimelineData[[#This Row],[NUM]]+1,1)),\"\",INDEX(ProjectDetails[#Data],Project_last_entry-Project_start_row-ProjectTimelineData[[#This Row],[NUM]]+1,1)),\"\")","v":""},{"$f":"IFERROR(IF(ISBLANK(INDEX(ProjectDetails[#Data],Project_last_entry-Project_start_row-ProjectTimelineData[[#This Row],[NUM]]+1,2)),\"\",INDEX(ProjectDetails[#Data],Project_last_entry-Project_start_row-ProjectTimelineData[[#This Row],[NUM]]+1,2)),\"\")","v":""},{"$f":"IFERROR(IF(ISBLANK(INDEX(ProjectDetails[#Data],Project_last_entry-Project_start_row-ProjectTimelineData[[#This Row],[NUM]]+1,3)),\"\",INDEX(ProjectDetails[#Data],Project_last_entry-Project_start_row-ProjectTimelineData[[#This Row],[NUM]]+1,3)),\"\")","v":""},{"$f":"IFERROR(IF(ISBLANK(INDEX(ProjectDetails[#Data],ROW(A229)+1,1)),\"\",IF($J233-1<=-1,\"\",$J233-1)),\"\")","v":""},null,null,{"$f":"IFERROR(ProjectTimelineData[[#This Row],[NUM]]+1,\"\")","v":""},{"$f":"IFERROR(VLOOKUP(SortedTimeline[[#This Row],[RANK Sorted]],ProjectTimelineData[],3,0),\"\")","v":""},{"$f":"IFERROR(VLOOKUP(SortedTimeline[[#This Row],[RANK Sorted]],ProjectTimelineData[],4,0),\"\")","v":""},{"$f":"IFERROR(VLOOKUP(SortedTimeline[[#This Row],[RANK Sorted]],ProjectTimelineData[],5,0),\"\")","v":""}]
[{"$nulls":4},{"$f":"IFERROR(RANK(F235,ProjectTimelineData[RANK])+SUMPRODUCT(--(F235=ProjectTimelineData[RANK]),--(J235<ProjectTimelineData[NUM])),\"\")","v":""},{"$f":"IFERROR(RANK(ProjectTimelineData[[#This Row],[DATE]],ProjectTimelineData[DATE],1),\"\")","v":""},{"$f":"IFERROR(IF(ISBLANK(INDEX(ProjectDetails[#Data],Project_last_entry-Project_start_row-ProjectTimelineData[[#This Row],[NUM]]+1,1)),\"\",INDEX(ProjectDetails[#Data],Project_last_entry-Project_start_row-ProjectTimelineData[[#This Row],[NUM]]+1,1)),\"\")","v":""},{"$f":"IFERROR(IF(ISBLANK(INDEX(ProjectDetails[#Data],Project_last_entry-Project_start_row-ProjectTimelineData[[#This Row],[NUM]]+1,2)),\"\",INDEX(ProjectDetails[#Data],Project_last_entry-Project_start_row-ProjectTimelineData[[#This Row],[NUM]]+1,2)),\"\")","v":""},{"$f":"IFERROR(IF(ISBLANK(INDEX(ProjectDetails[#Data],Project_last_entry-Project_start_row-ProjectTimelineData[[#This Row],[NUM]]+1,3)),\"\",INDEX(ProjectDetails[#Data],Project_last_entry-Project_start_row-ProjectTimelineData[[#This Row],[NUM]]+1,3)),\"\")","v":""},{"$f":"IFERROR(IF(ISBLANK(INDEX(ProjectDetails[#Data],ROW(A230)+1,1)),\"\",IF($J234-1<=-1,\"\",$J234-1)),\"\")","v":""},null,null,{"$f":"IFERROR(ProjectTimelineData[[#This Row],[NUM]]+1,\"\")","v":""},{"$f":"IFERROR(VLOOKUP(SortedTimeline[[#This Row],[RANK Sorted]],ProjectTimelineData[],3,0),\"\")","v":""},{"$f":"IFERROR(VLOOKUP(SortedTimeline[[#This Row],[RANK Sorted]],ProjectTimelineData[],4,0),\"\")","v":""},{"$f":"IFERROR(VLOOKUP(SortedTimeline[[#This Row],[RANK Sorted]],ProjectTimelineData[],5,0),\"\")","v":""}]
[{"$nulls":4},{"$f":"IFERROR(RANK(F236,ProjectTimelineData[RANK])+SUMPRODUCT(--(F236=ProjectTimelineData[RANK]),--(J236<ProjectTimelineData[NUM])),\"\")","v":""},{"$f":"IFERROR(RANK(ProjectTimelineData[[#This Row],[DATE]],ProjectTimelineData[DATE],1),\"\")","v":""},{"$f":"IFERROR(IF(ISBLANK(INDEX(ProjectDetails[#Data],Project_last_entry-Project_start_row-ProjectTimelineData[[#This Row],[NUM]]+1,1)),\"\",INDEX(ProjectDetails[#Data],Project_last_entry-Project_start_row-ProjectTimelineData[[#This Row],[NUM]]+1,1)),\"\")","v":""},{"$f":"IFERROR(IF(ISBLANK(INDEX(ProjectDetails[#Data],Project_last_entry-Project_start_row-ProjectTimelineData[[#This Row],[NUM]]+1,2)),\"\",INDEX(ProjectDetails[#Data],Project_last_entry-Project_start_row-ProjectTimelineData[[#This Row],[NUM]]+1,2)),\"\")","v":""},{"$f":"IFERROR(IF(ISBLANK(INDEX(ProjectDetails[#Data],Project_last_entry-Project_start_row-ProjectTimelineData[[#This Row],[NUM]]+1,3)),\"\",INDEX(ProjectDetails[#Data],Project_last_entry-Project_start_row-ProjectTimelineData[[#This Row],[NUM]]+1,3)),\"\")","v":""},{"$f":"IFERROR(IF(ISBLANK(INDEX(ProjectDetails[#Data],ROW(A231)+1,1)),\"\",IF($J235-1<=-1,\"\",$J235-1)),\"\")","v":""},null,null,{"$f":"IFERROR(ProjectTimelineData[[#This Row],[NUM]]+1,\"\")","v":""},{"$f":"IFERROR(VLOOKUP(SortedTimeline[[#This Row],[RANK Sorted]],ProjectTimelineData[],3,0),\"\")","v":""},{"$f":"IFERROR(VLOOKUP(SortedTimeline[[#This Row],[RANK Sorted]],ProjectTimelineData[],4,0),\"\")","v":""},{"$f":"IFERROR(VLOOKUP(SortedTimeline[[#This Row],[RANK Sorted]],ProjectTimelineData[],5,0),\"\")","v":""}]
[{"$nulls":4},{"$f":"IFERROR(RANK(F237,ProjectTimelineData[RANK])+SUMPRODUCT(--(F237=ProjectTimelineData[RANK]),--(J237<ProjectTimelineData[NUM])),\"\")","v":""},{"$f":"IFERROR(RANK(ProjectTimelineData[[#This Row],[DATE]],ProjectTimelineData[DATE],1),\"\")","v":""},{"$f":"IFERROR(IF(ISBLANK(INDEX(ProjectDetails[#Data],Project_last_entry-Project_start_row-ProjectTimelineData[[#This Row],[NUM]]+1,1)),\"\",INDEX(ProjectDetails[#Data],Project_last_entry-Project_start_row-ProjectTimelineData[[#This Row],[NUM]]+1,1)),\"\")","v":""},{"$f":"IFERROR(IF(ISBLANK(INDEX(ProjectDetails[#Data],Project_last_entry-Project_start_row-ProjectTimelineData[[#This Row],[NUM]]+1,2)),\"\",INDEX(ProjectDetails[#Data],Project_last_entry-Project_start_row-ProjectTimelineData[[#This Row],[NUM]]+1,2)),\"\")","v":""},{"$f":"IFERROR(IF(ISBLANK(INDEX(ProjectDetails[#Data],Project_last_entry-Project_start_row-ProjectTimelineData[[#This Row],[NUM]]+1,3)),\"\",INDEX(ProjectDetails[#Data],Project_last_entry-Project_start_row-ProjectTimelineData[[#This Row],[NUM]]+1,3)),\"\")","v":""},{"$f":"IFERROR(IF(ISBLANK(INDEX(ProjectDetails[#Data],ROW(A232)+1,1)),\"\",IF($J236-1<=-1,\"\",$J236-1)),\"\")","v":""},null,null,{"$f":"IFERROR(ProjectTimelineData[[#This Row],[NUM]]+1,\"\")","v":""},{"$f":"IFERROR(VLOOKUP(SortedTimeline[[#This Row],[RANK Sorted]],ProjectTimelineData[],3,0),\"\")","v":""},{"$f":"IFERROR(VLOOKUP(SortedTimeline[[#This Row],[RANK Sorted]],ProjectTimelineData[],4,0),\"\")","v":""},{"$f":"IFERROR(VLOOKUP(SortedTimeline[[#This Row],[RANK Sorted]],ProjectTimelineData[],5,0),\"\")","v":""}]
[{"$nulls":4},{"$f":"IFERROR(RANK(F238,ProjectTimelineData[RANK])+SUMPRODUCT(--(F238=ProjectTimelineData[RANK]),--(J238<ProjectTimelineData[NUM])),\"\")","v":""},{"$f":"IFERROR(RANK(ProjectTimelineData[[#This Row],[DATE]],ProjectTimelineData[DATE],1),\"\")","v":""},{"$f":"IFERROR(IF(ISBLANK(INDEX(ProjectDetails[#Data],Project_last_entry-Project_start_row-ProjectTimelineData[[#This Row],[NUM]]+1,1)),\"\",INDEX(ProjectDetails[#Data],Project_last_entry-Project_start_row-ProjectTimelineData[[#This Row],[NUM]]+1,1)),\"\")","v":""},{"$f":"IFERROR(IF(ISBLANK(INDEX(ProjectDetails[#Data],Project_last_entry-Project_start_row-ProjectTimelineData[[#This Row],[NUM]]+1,2)),\"\",INDEX(ProjectDetails[#Data],Project_last_entry-Project_start_row-ProjectTimelineData[[#This Row],[NUM]]+1,2)),\"\")","v":""},{"$f":"IFERROR(IF(ISBLANK(INDEX(ProjectDetails[#Data],Project_last_entry-Project_start_row-ProjectTimelineData[[#This Row],[NUM]]+1,3)),\"\",INDEX(ProjectDetails[#Data],Project_last_entry-Project_start_row-ProjectTimelineData[[#This Row],[NUM]]+1,3)),\"\")","v":""},{"$f":"IFERROR(IF(ISBLANK(INDEX(ProjectDetails[#Data],ROW(A233)+1,1)),\"\",IF($J237-1<=-1,\"\",$J237-1)),\"\")","v":""},null,null,{"$f":"IFERROR(ProjectTimelineData[[#This Row],[NUM]]+1,\"\")","v":""},{"$f":"IFERROR(VLOOKUP(SortedTimeline[[#This Row],[RANK Sorted]],ProjectTimelineData[],3,0),\"\")","v":""},{"$f":"IFERROR(VLOOKUP(SortedTimeline[[#This Row],[RANK Sorted]],ProjectTimelineData[],4,0),\"\")","v":""},{"$f":"IFERROR(VLOOKUP(SortedTimeline[[#This Row],[RANK Sorted]],ProjectTimelineData[],5,0),\"\")","v":""}]
[{"$nulls":4},{"$f":"IFERROR(RANK(F239,ProjectTimelineData[RANK])+SUMPRODUCT(--(F239=ProjectTimelineData[RANK]),--(J239<ProjectTimelineData[NUM])),\"\")","v":""},{"$f":"IFERROR(RANK(ProjectTimelineData[[#This Row],[DATE]],ProjectTimelineData[DATE],1),\"\")","v":""},{"$f":"IFERROR(IF(ISBLANK(INDEX(ProjectDetails[#Data],Project_last_entry-Project_start_row-ProjectTimelineData[[#This Row],[NUM]]+1,1)),\"\",INDEX(ProjectDetails[#Data],Project_last_entry-Project_start_row-ProjectTimelineData[[#This Row],[NUM]]+1,1)),\"\")","v":""},{"$f":"IFERROR(IF(ISBLANK(INDEX(ProjectDetails[#Data],Project_last_entry-Project_start_row-ProjectTimelineData[[#This Row],[NUM]]+1,2)),\"\",INDEX(ProjectDetails[#Data],Project_last_entry-Project_start_row-ProjectTimelineData[[#This Row],[NUM]]+1,2)),\"\")","v":""},{"$f":"IFERROR(IF(ISBLANK(INDEX(ProjectDetails[#Data],Project_last_entry-Project_start_row-ProjectTimelineData[[#This Row],[NUM]]+1,3)),\"\",INDEX(ProjectDetails[#Data],Project_last_entry-Project_start_row-ProjectTimelineData[[#This Row],[NUM]]+1,3)),\"\")","v":""},{"$f":"IFERROR(IF(ISBLANK(INDEX(ProjectDetails[#Data],ROW(A234)+1,1)),\"\",IF($J238-1<=-1,\"\",$J238-1)),\"\")","v":""},null,null,{"$f":"IFERROR(ProjectTimelineData[[#This Row],[NUM]]+1,\"\")","v":""},{"$f":"IFERROR(VLOOKUP(SortedTimeline[[#This Row],[RANK Sorted]],ProjectTimelineData[],3,0),\"\")","v":""},{"$f":"IFERROR(VLOOKUP(SortedTimeline[[#This Row],[RANK Sorted]],ProjectTimelineData[],4,0),\"\")","v":""},{"$f":"IFERROR(VLOOKUP(SortedTimeline[[#This Row],[RANK Sorted]],ProjectTimelineData[],5,0),\"\")","v":""}]
[{"$nulls":4},{"$f":"IFERROR(RANK(F240,ProjectTimelineData[RANK])+SUMPRODUCT(--(F240=ProjectTimelineData[RANK]),--(J240<ProjectTimelineData[NUM])),\"\")","v":""},{"$f":"IFERROR(RANK(ProjectTimelineData[[#This Row],[DATE]],ProjectTimelineData[DATE],1),\"\")","v":""},{"$f":"IFERROR(IF(ISBLANK(INDEX(ProjectDetails[#Data],Project_last_entry-Project_start_row-ProjectTimelineData[[#This Row],[NUM]]+1,1)),\"\",INDEX(ProjectDetails[#Data],Project_last_entry-Project_start_row-ProjectTimelineData[[#This Row],[NUM]]+1,1)),\"\")","v":""},{"$f":"IFERROR(IF(ISBLANK(INDEX(ProjectDetails[#Data],Project_last_entry-Project_start_row-ProjectTimelineData[[#This Row],[NUM]]+1,2)),\"\",INDEX(ProjectDetails[#Data],Project_last_entry-Project_start_row-ProjectTimelineData[[#This Row],[NUM]]+1,2)),\"\")","v":""},{"$f":"IFERROR(IF(ISBLANK(INDEX(ProjectDetails[#Data],Project_last_entry-Project_start_row-ProjectTimelineData[[#This Row],[NUM]]+1,3)),\"\",INDEX(ProjectDetails[#Data],Project_last_entry-Project_start_row-ProjectTimelineData[[#This Row],[NUM]]+1,3)),\"\")","v":""},{"$f":"IFERROR(IF(ISBLANK(INDEX(ProjectDetails[#Data],ROW(A235)+1,1)),\"\",IF($J239-1<=-1,\"\",$J239-1)),\"\")","v":""},null,null,{"$f":"IFERROR(ProjectTimelineData[[#This Row],[NUM]]+1,\"\")","v":""},{"$f":"IFERROR(VLOOKUP(SortedTimeline[[#This Row],[RANK Sorted]],ProjectTimelineData[],3,0),\"\")","v":""},{"$f":"IFERROR(VLOOKUP(SortedTimeline[[#This Row],[RANK Sorted]],ProjectTimelineData[],4,0),\"\")","v":""},{"$f":"IFERROR(VLOOKUP(SortedTimeline[[#This Row],[RANK Sorted]],ProjectTimelineData[],5,0),\"\")","v":""}]
[{"$nulls":4},{"$f":"IFERROR(RANK(F241,ProjectTimelineData[RANK])+SUMPRODUCT(--(F241=ProjectTimelineData[RANK]),--(J241<ProjectTimelineData[NUM])),\"\")","v":""},{"$f":"IFERROR(RANK(ProjectTimelineData[[#This Row],[DATE]],ProjectTimelineData[DATE],1),\"\")","v":""},{"$f":"IFERROR(IF(ISBLANK(INDEX(ProjectDetails[#Data],Project_last_entry-Project_start_row-ProjectTimelineData[[#This Row],[NUM]]+1,1)),\"\",INDEX(ProjectDetails[#Data],Project_last_entry-Project_start_row-ProjectTimelineData[[#This Row],[NUM]]+1,1)),\"\")","v":""},{"$f":"IFERROR(IF(ISBLANK(INDEX(ProjectDetails[#Data],Project_last_entry-Project_start_row-ProjectTimelineData[[#This Row],[NUM]]+1,2)),\"\",INDEX(ProjectDetails[#Data],Project_last_entry-Project_start_row-ProjectTimelineData[[#This Row],[NUM]]+1,2)),\"\")","v":""},{"$f":"IFERROR(IF(ISBLANK(INDEX(ProjectDetails[#Data],Project_last_entry-Project_start_row-ProjectTimelineData[[#This Row],[NUM]]+1,3)),\"\",INDEX(ProjectDetails[#Data],Project_last_entry-Project_start_row-ProjectTimelineData[[#This Row],[NUM]]+1,3)),\"\")","v":""},{"$f":"IFERROR(IF(ISBLANK(INDEX(ProjectDetails[#Data],ROW(A236)+1,1)),\"\",IF($J240-1<=-1,\"\",$J240-1)),\"\")","v":""},null,null,{"$f":"IFERROR(ProjectTimelineData[[#This Row],[NUM]]+1,\"\")","v":""},{"$f":"IFERROR(VLOOKUP(SortedTimeline[[#This Row],[RANK Sorted]],ProjectTimelineData[],3,0),\"\")","v":""},{"$f":"IFERROR(VLOOKUP(SortedTimeline[[#This Row],[RANK Sorted]],ProjectTimelineData[],4,0),\"\")","v":""},{"$f":"IFERROR(VLOOKUP(SortedTimeline[[#This Row],[RANK Sorted]],ProjectTimelineData[],5,0),\"\")","v":""}]
[{"$nulls":4},{"$f":"IFERROR(RANK(F242,ProjectTimelineData[RANK])+SUMPRODUCT(--(F242=ProjectTimelineData[RANK]),--(J242<ProjectTimelineData[NUM])),\"\")","v":""},{"$f":"IFERROR(RANK(ProjectTimelineData[[#This Row],[DATE]],ProjectTimelineData[DATE],1),\"\")","v":""},{"$f":"IFERROR(IF(ISBLANK(INDEX(ProjectDetails[#Data],Project_last_entry-Project_start_row-ProjectTimelineData[[#This Row],[NUM]]+1,1)),\"\",INDEX(ProjectDetails[#Data],Project_last_entry-Project_start_row-ProjectTimelineData[[#This Row],[NUM]]+1,1)),\"\")","v":""},{"$f":"IFERROR(IF(ISBLANK(INDEX(ProjectDetails[#Data],Project_last_entry-Project_start_row-ProjectTimelineData[[#This Row],[NUM]]+1,2)),\"\",INDEX(ProjectDetails[#Data],Project_last_entry-Project_start_row-ProjectTimelineData[[#This Row],[NUM]]+1,2)),\"\")","v":""},{"$f":"IFERROR(IF(ISBLANK(INDEX(ProjectDetails[#Data],Project_last_entry-Project_start_row-ProjectTimelineData[[#This Row],[NUM]]+1,3)),\"\",INDEX(ProjectDetails[#Data],Project_last_entry-Project_start_row-ProjectTimelineData[[#This Row],[NUM]]+1,3)),\"\")","v":""},{"$f":"IFERROR(IF(ISBLANK(INDEX(ProjectDetails[#Data],ROW(A237)+1,1)),\"\",IF($J241-1<=-1,\"\",$J241-1)),\"\")","v":""},null,null,{"$f":"IFERROR(ProjectTimelineData[[#This Row],[NUM]]+1,\"\")","v":""},{"$f":"IFERROR(VLOOKUP(SortedTimeline[[#This Row],[RANK Sorted]],ProjectTimelineData[],3,0),\"\")","v":""},{"$f":"IFERROR(VLOOKUP(SortedTimeline[[#This Row],[RANK Sorted]],ProjectTimelineData[],4,0),\"\")","v":""},{"$f":"IFERROR(VLOOKUP(SortedTimeline[[#This Row],[RANK Sorted]],ProjectTimelineData[],5,0),\"\")","v":""}]
[{"$nulls":4},{"$f":"IFERROR(RANK(F243,ProjectTimelineData[RANK])+SUMPRODUCT(--(F243=ProjectTimelineData[RANK]),--(J243<ProjectTimelineData[NUM])),\"\")","v":""},{"$f":"IFERROR(RANK(ProjectTimelineData[[#This Row],[DATE]],ProjectTimelineData[DATE],1),\"\")","v":""},{"$f":"IFERROR(IF(ISBLANK(INDEX(ProjectDetails[#Data],Project_last_entry-Project_start_row-ProjectTimelineData[[#This Row],[NUM]]+1,1)),\"\",INDEX(ProjectDetails[#Data],Project_last_entry-Project_start_row-ProjectTimelineData[[#This Row],[NUM]]+1,1)),\"\")","v":""},{"$f":"IFERROR(IF(ISBLANK(INDEX(ProjectDetails[#Data],Project_last_entry-Project_start_row-ProjectTimelineData[[#This Row],[NUM]]+1,2)),\"\",INDEX(ProjectDetails[#Data],Project_last_entry-Project_start_row-ProjectTimelineData[[#This Row],[NUM]]+1,2)),\"\")","v":""},{"$f":"IFERROR(IF(ISBLANK(INDEX(ProjectDetails[#Data],Project_last_entry-Project_start_row-ProjectTimelineData[[#This Row],[NUM]]+1,3)),\"\",INDEX(ProjectDetails[#Data],Project_last_entry-Project_start_row-ProjectTimelineData[[#This Row],[NUM]]+1,3)),\"\")","v":""},{"$f":"IFERROR(IF(ISBLANK(INDEX(ProjectDetails[#Data],ROW(A238)+1,1)),\"\",IF($J242-1<=-1,\"\",$J242-1)),\"\")","v":""},null,null,{"$f":"IFERROR(ProjectTimelineData[[#This Row],[NUM]]+1,\"\")","v":""},{"$f":"IFERROR(VLOOKUP(SortedTimeline[[#This Row],[RANK Sorted]],ProjectTimelineData[],3,0),\"\")","v":""},{"$f":"IFERROR(VLOOKUP(SortedTimeline[[#This Row],[RANK Sorted]],ProjectTimelineData[],4,0),\"\")","v":""},{"$f":"IFERROR(VLOOKUP(SortedTimeline[[#This Row],[RANK Sorted]],ProjectTimelineData[],5,0),\"\")","v":""}]
[{"$nulls":4},{"$f":"IFERROR(RANK(F244,ProjectTimelineData[RANK])+SUMPRODUCT(--(F244=ProjectTimelineData[RANK]),--(J244<ProjectTimelineData[NUM])),\"\")","v":""},{"$f":"IFERROR(RANK(ProjectTimelineData[[#This Row],[DATE]],ProjectTimelineData[DATE],1),\"\")","v":""},{"$f":"IFERROR(IF(ISBLANK(INDEX(ProjectDetails[#Data],Project_last_entry-Project_start_row-ProjectTimelineData[[#This Row],[NUM]]+1,1)),\"\",INDEX(ProjectDetails[#Data],Project_last_entry-Project_start_row-ProjectTimelineData[[#This Row],[NUM]]+1,1)),\"\")","v":""},{"$f":"IFERROR(IF(ISBLANK(INDEX(ProjectDetails[#Data],Project_last_entry-Project_start_row-ProjectTimelineData[[#This Row],[NUM]]+1,2)),\"\",INDEX(ProjectDetails[#Data],Project_last_entry-Project_start_row-ProjectTimelineData[[#This Row],[NUM]]+1,2)),\"\")","v":""},{"$f":"IFERROR(IF(ISBLANK(INDEX(ProjectDetails[#Data],Project_last_entry-Project_start_row-ProjectTimelineData[[#This Row],[NUM]]+1,3)),\"\",INDEX(ProjectDetails[#Data],Project_last_entry-Project_start_row-ProjectTimelineData[[#This Row],[NUM]]+1,3)),\"\")","v":""},{"$f":"IFERROR(IF(ISBLANK(INDEX(ProjectDetails[#Data],ROW(A239)+1,1)),\"\",IF($J243-1<=-1,\"\",$J243-1)),\"\")","v":""},null,null,{"$f":"IFERROR(ProjectTimelineData[[#This Row],[NUM]]+1,\"\")","v":""},{"$f":"IFERROR(VLOOKUP(SortedTimeline[[#This Row],[RANK Sorted]],ProjectTimelineData[],3,0),\"\")","v":""},{"$f":"IFERROR(VLOOKUP(SortedTimeline[[#This Row],[RANK Sorted]],ProjectTimelineData[],4,0),\"\")","v":""},{"$f":"IFERROR(VLOOKUP(SortedTimeline[[#This Row],[RANK Sorted]],ProjectTimelineData[],5,0),\"\")","v":""}]
[{"$nulls":4},{"$f":"IFERROR(RANK(F245,ProjectTimelineData[RANK])+SUMPRODUCT(--(F245=ProjectTimelineData[RANK]),--(J245<ProjectTimelineData[NUM])),\"\")","v":""},{"$f":"IFERROR(RANK(ProjectTimelineData[[#This Row],[DATE]],ProjectTimelineData[DATE],1),\"\")","v":""},{"$f":"IFERROR(IF(ISBLANK(INDEX(ProjectDetails[#Data],Project_last_entry-Project_start_row-ProjectTimelineData[[#This Row],[NUM]]+1,1)),\"\",INDEX(ProjectDetails[#Data],Project_last_entry-Project_start_row-ProjectTimelineData[[#This Row],[NUM]]+1,1)),\"\")","v":""},{"$f":"IFERROR(IF(ISBLANK(INDEX(ProjectDetails[#Data],Project_last_entry-Project_start_row-ProjectTimelineData[[#This Row],[NUM]]+1,2)),\"\",INDEX(ProjectDetails[#Data],Project_last_entry-Project_start_row-ProjectTimelineData[[#This Row],[NUM]]+1,2)),\"\")","v":""},{"$f":"IFERROR(IF(ISBLANK(INDEX(ProjectDetails[#Data],Project_last_entry-Project_start_row-ProjectTimelineData[[#This Row],[NUM]]+1,3)),\"\",INDEX(ProjectDetails[#Data],Project_last_entry-Project_start_row-ProjectTimelineData[[#This Row],[NUM]]+1,3)),\"\")","v":""},{"$f":"IFERROR(IF(ISBLANK(INDEX(ProjectDetails[#Data],ROW(A240)+1,1)),\"\",IF($J244-1<=-1,\"\",$J244-1)),\"\")","v":""},null,null,{"$f":"IFERROR(ProjectTimelineData[[#This Row],[NUM]]+1,\"\")","v":""},{"$f":"IFERROR(VLOOKUP(SortedTimeline[[#This Row],[RANK Sorted]],ProjectTimelineData[],3,0),\"\")","v":""},{"$f":"IFERROR(VLOOKUP(SortedTimeline[[#This Row],[RANK Sorted]],ProjectTimelineData[],4,0),\"\")","v":""},{"$f":"IFERROR(VLOOKUP(SortedTimeline[[#This Row],[RANK Sorted]],ProjectTimelineData[],5,0),\"\")","v":""}]
[{"$nulls":4},{"$f":"IFERROR(RANK(F246,ProjectTimelineData[RANK])+SUMPRODUCT(--(F246=ProjectTimelineData[RANK]),--(J246<ProjectTimelineData[NUM])),\"\")","v":""},{"$f":"IFERROR(RANK(ProjectTimelineData[[#This Row],[DATE]],ProjectTimelineData[DATE],1),\"\")","v":""},{"$f":"IFERROR(IF(ISBLANK(INDEX(ProjectDetails[#Data],Project_last_entry-Project_start_row-ProjectTimelineData[[#This Row],[NUM]]+1,1)),\"\",INDEX(ProjectDetails[#Data],Project_last_entry-Project_start_row-ProjectTimelineData[[#This Row],[NUM]]+1,1)),\"\")","v":""},{"$f":"IFERROR(IF(ISBLANK(INDEX(ProjectDetails[#Data],Project_last_entry-Project_start_row-ProjectTimelineData[[#This Row],[NUM]]+1,2)),\"\",INDEX(ProjectDetails[#Data],Project_last_entry-Project_start_row-ProjectTimelineData[[#This Row],[NUM]]+1,2)),\"\")","v":""},{"$f":"IFERROR(IF(ISBLANK(INDEX(ProjectDetails[#Data],Project_last_entry-Project_start_row-ProjectTimelineData[[#This Row],[NUM]]+1,3)),\"\",INDEX(ProjectDetails[#Data],Project_last_entry-Project_start_row-ProjectTimelineData[[#This Row],[NUM]]+1,3)),\"\")","v":""},{"$f":"IFERROR(IF(ISBLANK(INDEX(ProjectDetails[#Data],ROW(A241)+1,1)),\"\",IF($J245-1<=-1,\"\",$J245-1)),\"\")","v":""},null,null,{"$f":"IFERROR(ProjectTimelineData[[#This Row],[NUM]]+1,\"\")","v":""},{"$f":"IFERROR(VLOOKUP(SortedTimeline[[#This Row],[RANK Sorted]],ProjectTimelineData[],3,0),\"\")","v":""},{"$f":"IFERROR(VLOOKUP(SortedTimeline[[#This Row],[RANK Sorted]],ProjectTimelineData[],4,0),\"\")","v":""},{"$f":"IFERROR(VLOOKUP(SortedTimeline[[#This Row],[RANK Sorted]],ProjectTimelineData[],5,0),\"\")","v":""}]
[{"$nulls":4},{"$f":"IFERROR(RANK(F247,ProjectTimelineData[RANK])+SUMPRODUCT(--(F247=ProjectTimelineData[RANK]),--(J247<ProjectTimelineData[NUM])),\"\")","v":""},{"$f":"IFERROR(RANK(ProjectTimelineData[[#This Row],[DATE]],ProjectTimelineData[DATE],1),\"\")","v":""},{"$f":"IFERROR(IF(ISBLANK(INDEX(ProjectDetails[#Data],Project_last_entry-Project_start_row-ProjectTimelineData[[#This Row],[NUM]]+1,1)),\"\",INDEX(ProjectDetails[#Data],Project_last_entry-Project_start_row-ProjectTimelineData[[#This Row],[NUM]]+1,1)),\"\")","v":""},{"$f":"IFERROR(IF(ISBLANK(INDEX(ProjectDetails[#Data],Project_last_entry-Project_start_row-ProjectTimelineData[[#This Row],[NUM]]+1,2)),\"\",INDEX(ProjectDetails[#Data],Project_last_entry-Project_start_row-ProjectTimelineData[[#This Row],[NUM]]+1,2)),\"\")","v":""},{"$f":"IFERROR(IF(ISBLANK(INDEX(ProjectDetails[#Data],Project_last_entry-Project_start_row-ProjectTimelineData[[#This Row],[NUM]]+1,3)),\"\",INDEX(ProjectDetails[#Data],Project_last_entry-Project_start_row-ProjectTimelineData[[#This Row],[NUM]]+1,3)),\"\")","v":""},{"$f":"IFERROR(IF(ISBLANK(INDEX(ProjectDetails[#Data],ROW(A242)+1,1)),\"\",IF($J246-1<=-1,\"\",$J246-1)),\"\")","v":""},null,null,{"$f":"IFERROR(ProjectTimelineData[[#This Row],[NUM]]+1,\"\")","v":""},{"$f":"IFERROR(VLOOKUP(SortedTimeline[[#This Row],[RANK Sorted]],ProjectTimelineData[],3,0),\"\")","v":""},{"$f":"IFERROR(VLOOKUP(SortedTimeline[[#This Row],[RANK Sorted]],ProjectTimelineData[],4,0),\"\")","v":""},{"$f":"IFERROR(VLOOKUP(SortedTimeline[[#This Row],[RANK Sorted]],ProjectTimelineData[],5,0),\"\")","v":""}]
[{"$nulls":4},{"$f":"IFERROR(RANK(F248,ProjectTimelineData[RANK])+SUMPRODUCT(--(F248=ProjectTimelineData[RANK]),--(J248<ProjectTimelineData[NUM])),\"\")","v":""},{"$f":"IFERROR(RANK(ProjectTimelineData[[#This Row],[DATE]],ProjectTimelineData[DATE],1),\"\")","v":""},{"$f":"IFERROR(IF(ISBLANK(INDEX(ProjectDetails[#Data],Project_last_entry-Project_start_row-ProjectTimelineData[[#This Row],[NUM]]+1,1)),\"\",INDEX(ProjectDetails[#Data],Project_last_entry-Project_start_row-ProjectTimelineData[[#This Row],[NUM]]+1,1)),\"\")","v":""},{"$f":"IFERROR(IF(ISBLANK(INDEX(ProjectDetails[#Data],Project_last_entry-Project_start_row-ProjectTimelineData[[#This Row],[NUM]]+1,2)),\"\",INDEX(ProjectDetails[#Data],Project_last_entry-Project_start_row-ProjectTimelineData[[#This Row],[NUM]]+1,2)),\"\")","v":""},{"$f":"IFERROR(IF(ISBLANK(INDEX(ProjectDetails[#Data],Project_last_entry-Project_start_row-ProjectTimelineData[[#This Row],[NUM]]+1,3)),\"\",INDEX(ProjectDetails[#Data],Project_last_entry-Project_start_row-ProjectTimelineData[[#This Row],[NUM]]+1,3)),\"\")","v":""},{"$f":"IFERROR(IF(ISBLANK(INDEX(ProjectDetails[#Data],ROW(A243)+1,1)),\"\",IF($J247-1<=-1,\"\",$J247-1)),\"\")","v":""},null,null,{"$f":"IFERROR(ProjectTimelineData[[#This Row],[NUM]]+1,\"\")","v":""},{"$f":"IFERROR(VLOOKUP(SortedTimeline[[#This Row],[RANK Sorted]],ProjectTimelineData[],3,0),\"\")","v":""},{"$f":"IFERROR(VLOOKUP(SortedTimeline[[#This Row],[RANK Sorted]],ProjectTimelineData[],4,0),\"\")","v":""},{"$f":"IFERROR(VLOOKUP(SortedTimeline[[#This Row],[RANK Sorted]],ProjectTimelineData[],5,0),\"\")","v":""}]
[{"$nulls":4},{"$f":"IFERROR(RANK(F249,ProjectTimelineData[RANK])+SUMPRODUCT(--(F249=ProjectTimelineData[RANK]),--(J249<ProjectTimelineData[NUM])),\"\")","v":""},{"$f":"IFERROR(RANK(ProjectTimelineData[[#This Row],[DATE]],ProjectTimelineData[DATE],1),\"\")","v":""},{"$f":"IFERROR(IF(ISBLANK(INDEX(ProjectDetails[#Data],Project_last_entry-Project_start_row-ProjectTimelineData[[#This Row],[NUM]]+1,1)),\"\",INDEX(ProjectDetails[#Data],Project_last_entry-Project_start_row-ProjectTimelineData[[#This Row],[NUM]]+1,1)),\"\")","v":""},{"$f":"IFERROR(IF(ISBLANK(INDEX(ProjectDetails[#Data],Project_last_entry-Project_start_row-ProjectTimelineData[[#This Row],[NUM]]+1,2)),\"\",INDEX(ProjectDetails[#Data],Project_last_entry-Project_start_row-ProjectTimelineData[[#This Row],[NUM]]+1,2)),\"\")","v":""},{"$f":"IFERROR(IF(ISBLANK(INDEX(ProjectDetails[#Data],Project_last_entry-Project_start_row-ProjectTimelineData[[#This Row],[NUM]]+1,3)),\"\",INDEX(ProjectDetails[#Data],Project_last_entry-Project_start_row-ProjectTimelineData[[#This Row],[NUM]]+1,3)),\"\")","v":""},{"$f":"IFERROR(IF(ISBLANK(INDEX(ProjectDetails[#Data],ROW(A244)+1,1)),\"\",IF($J248-1<=-1,\"\",$J248-1)),\"\")","v":""},null,null,{"$f":"IFERROR(ProjectTimelineData[[#This Row],[NUM]]+1,\"\")","v":""},{"$f":"IFERROR(VLOOKUP(SortedTimeline[[#This Row],[RANK Sorted]],ProjectTimelineData[],3,0),\"\")","v":""},{"$f":"IFERROR(VLOOKUP(SortedTimeline[[#This Row],[RANK Sorted]],ProjectTimelineData[],4,0),\"\")","v":""},{"$f":"IFERROR(VLOOKUP(SortedTimeline[[#This Row],[RANK Sorted]],ProjectTimelineData[],5,0),\"\")","v":""}]
[{"$nulls":4},{"$f":"IFERROR(RANK(F250,ProjectTimelineData[RANK])+SUMPRODUCT(--(F250=ProjectTimelineData[RANK]),--(J250<ProjectTimelineData[NUM])),\"\")","v":""},{"$f":"IFERROR(RANK(ProjectTimelineData[[#This Row],[DATE]],ProjectTimelineData[DATE],1),\"\")","v":""},{"$f":"IFERROR(IF(ISBLANK(INDEX(ProjectDetails[#Data],Project_last_entry-Project_start_row-ProjectTimelineData[[#This Row],[NUM]]+1,1)),\"\",INDEX(ProjectDetails[#Data],Project_last_entry-Project_start_row-ProjectTimelineData[[#This Row],[NUM]]+1,1)),\"\")","v":""},{"$f":"IFERROR(IF(ISBLANK(INDEX(ProjectDetails[#Data],Project_last_entry-Project_start_row-ProjectTimelineData[[#This Row],[NUM]]+1,2)),\"\",INDEX(ProjectDetails[#Data],Project_last_entry-Project_start_row-ProjectTimelineData[[#This Row],[NUM]]+1,2)),\"\")","v":""},{"$f":"IFERROR(IF(ISBLANK(INDEX(ProjectDetails[#Data],Project_last_entry-Project_start_row-ProjectTimelineData[[#This Row],[NUM]]+1,3)),\"\",INDEX(ProjectDetails[#Data],Project_last_entry-Project_start_row-ProjectTimelineData[[#This Row],[NUM]]+1,3)),\"\")","v":""},{"$f":"IFERROR(IF(ISBLANK(INDEX(ProjectDetails[#Data],ROW(A245)+1,1)),\"\",IF($J249-1<=-1,\"\",$J249-1)),\"\")","v":""},null,null,{"$f":"IFERROR(ProjectTimelineData[[#This Row],[NUM]]+1,\"\")","v":""},{"$f":"IFERROR(VLOOKUP(SortedTimeline[[#This Row],[RANK Sorted]],ProjectTimelineData[],3,0),\"\")","v":""},{"$f":"IFERROR(VLOOKUP(SortedTimeline[[#This Row],[RANK Sorted]],ProjectTimelineData[],4,0),\"\")","v":""},{"$f":"IFERROR(VLOOKUP(SortedTimeline[[#This Row],[RANK Sorted]],ProjectTimelineData[],5,0),\"\")","v":""}]
[{"$nulls":4},{"$f":"IFERROR(RANK(F251,ProjectTimelineData[RANK])+SUMPRODUCT(--(F251=ProjectTimelineData[RANK]),--(J251<ProjectTimelineData[NUM])),\"\")","v":""},{"$f":"IFERROR(RANK(ProjectTimelineData[[#This Row],[DATE]],ProjectTimelineData[DATE],1),\"\")","v":""},{"$f":"IFERROR(IF(ISBLANK(INDEX(ProjectDetails[#Data],Project_last_entry-Project_start_row-ProjectTimelineData[[#This Row],[NUM]]+1,1)),\"\",INDEX(ProjectDetails[#Data],Project_last_entry-Project_start_row-ProjectTimelineData[[#This Row],[NUM]]+1,1)),\"\")","v":""},{"$f":"IFERROR(IF(ISBLANK(INDEX(ProjectDetails[#Data],Project_last_entry-Project_start_row-ProjectTimelineData[[#This Row],[NUM]]+1,2)),\"\",INDEX(ProjectDetails[#Data],Project_last_entry-Project_start_row-ProjectTimelineData[[#This Row],[NUM]]+1,2)),\"\")","v":""},{"$f":"IFERROR(IF(ISBLANK(INDEX(ProjectDetails[#Data],Project_last_entry-Project_start_row-ProjectTimelineData[[#This Row],[NUM]]+1,3)),\"\",INDEX(ProjectDetails[#Data],Project_last_entry-Project_start_row-ProjectTimelineData[[#This Row],[NUM]]+1,3)),\"\")","v":""},{"$f":"IFERROR(IF(ISBLANK(INDEX(ProjectDetails[#Data],ROW(A246)+1,1)),\"\",IF($J250-1<=-1,\"\",$J250-1)),\"\")","v":""},null,null,{"$f":"IFERROR(ProjectTimelineData[[#This Row],[NUM]]+1,\"\")","v":""},{"$f":"IFERROR(VLOOKUP(SortedTimeline[[#This Row],[RANK Sorted]],ProjectTimelineData[],3,0),\"\")","v":""},{"$f":"IFERROR(VLOOKUP(SortedTimeline[[#This Row],[RANK Sorted]],ProjectTimelineData[],4,0),\"\")","v":""},{"$f":"IFERROR(VLOOKUP(SortedTimeline[[#This Row],[RANK Sorted]],ProjectTimelineData[],5,0),\"\")","v":""}]
[{"$nulls":4},{"$f":"IFERROR(RANK(F252,ProjectTimelineData[RANK])+SUMPRODUCT(--(F252=ProjectTimelineData[RANK]),--(J252<ProjectTimelineData[NUM])),\"\")","v":""},{"$f":"IFERROR(RANK(ProjectTimelineData[[#This Row],[DATE]],ProjectTimelineData[DATE],1),\"\")","v":""},{"$f":"IFERROR(IF(ISBLANK(INDEX(ProjectDetails[#Data],Project_last_entry-Project_start_row-ProjectTimelineData[[#This Row],[NUM]]+1,1)),\"\",INDEX(ProjectDetails[#Data],Project_last_entry-Project_start_row-ProjectTimelineData[[#This Row],[NUM]]+1,1)),\"\")","v":""},{"$f":"IFERROR(IF(ISBLANK(INDEX(ProjectDetails[#Data],Project_last_entry-Project_start_row-ProjectTimelineData[[#This Row],[NUM]]+1,2)),\"\",INDEX(ProjectDetails[#Data],Project_last_entry-Project_start_row-ProjectTimelineData[[#This Row],[NUM]]+1,2)),\"\")","v":""},{"$f":"IFERROR(IF(ISBLANK(INDEX(ProjectDetails[#Data],Project_last_entry-Project_start_row-ProjectTimelineData[[#This Row],[NUM]]+1,3)),\"\",INDEX(ProjectDetails[#Data],Project_last_entry-Project_start_row-ProjectTimelineData[[#This Row],[NUM]]+1,3)),\"\")","v":""},{"$f":"IFERROR(IF(ISBLANK(INDEX(ProjectDetails[#Data],ROW(A247)+1,1)),\"\",IF($J251-1<=-1,\"\",$J251-1)),\"\")","v":""},null,null,{"$f":"IFERROR(ProjectTimelineData[[#This Row],[NUM]]+1,\"\")","v":""},{"$f":"IFERROR(VLOOKUP(SortedTimeline[[#This Row],[RANK Sorted]],ProjectTimelineData[],3,0),\"\")","v":""},{"$f":"IFERROR(VLOOKUP(SortedTimeline[[#This Row],[RANK Sorted]],ProjectTimelineData[],4,0),\"\")","v":""},{"$f":"IFERROR(VLOOKUP(SortedTimeline[[#This Row],[RANK Sorted]],ProjectTimelineData[],5,0),\"\")","v":""}]
[{"$nulls":4},{"$f":"IFERROR(RANK(F253,ProjectTimelineData[RANK])+SUMPRODUCT(--(F253=ProjectTimelineData[RANK]),--(J253<ProjectTimelineData[NUM])),\"\")","v":""},{"$f":"IFERROR(RANK(ProjectTimelineData[[#This Row],[DATE]],ProjectTimelineData[DATE],1),\"\")","v":""},{"$f":"IFERROR(IF(ISBLANK(INDEX(ProjectDetails[#Data],Project_last_entry-Project_start_row-ProjectTimelineData[[#This Row],[NUM]]+1,1)),\"\",INDEX(ProjectDetails[#Data],Project_last_entry-Project_start_row-ProjectTimelineData[[#This Row],[NUM]]+1,1)),\"\")","v":""},{"$f":"IFERROR(IF(ISBLANK(INDEX(ProjectDetails[#Data],Project_last_entry-Project_start_row-ProjectTimelineData[[#This Row],[NUM]]+1,2)),\"\",INDEX(ProjectDetails[#Data],Project_last_entry-Project_start_row-ProjectTimelineData[[#This Row],[NUM]]+1,2)),\"\")","v":""},{"$f":"IFERROR(IF(ISBLANK(INDEX(ProjectDetails[#Data],Project_last_entry-Project_start_row-ProjectTimelineData[[#This Row],[NUM]]+1,3)),\"\",INDEX(ProjectDetails[#Data],Project_last_entry-Project_start_row-ProjectTimelineData[[#This Row],[NUM]]+1,3)),\"\")","v":""},{"$f":"IFERROR(IF(ISBLANK(INDEX(ProjectDetails[#Data],ROW(A248)+1,1)),\"\",IF($J252-1<=-1,\"\",$J252-1)),\"\")","v":""},null,null,{"$f":"IFERROR(ProjectTimelineData[[#This Row],[NUM]]+1,\"\")","v":""},{"$f":"IFERROR(VLOOKUP(SortedTimeline[[#This Row],[RANK Sorted]],ProjectTimelineData[],3,0),\"\")","v":""},{"$f":"IFERROR(VLOOKUP(SortedTimeline[[#This Row],[RANK Sorted]],ProjectTimelineData[],4,0),\"\")","v":""},{"$f":"IFERROR(VLOOKUP(SortedTimeline[[#This Row],[RANK Sorted]],ProjectTimelineData[],5,0),\"\")","v":""}]
[{"$nulls":4},{"$f":"IFERROR(RANK(F254,ProjectTimelineData[RANK])+SUMPRODUCT(--(F254=ProjectTimelineData[RANK]),--(J254<ProjectTimelineData[NUM])),\"\")","v":""},{"$f":"IFERROR(RANK(ProjectTimelineData[[#This Row],[DATE]],ProjectTimelineData[DATE],1),\"\")","v":""},{"$f":"IFERROR(IF(ISBLANK(INDEX(ProjectDetails[#Data],Project_last_entry-Project_start_row-ProjectTimelineData[[#This Row],[NUM]]+1,1)),\"\",INDEX(ProjectDetails[#Data],Project_last_entry-Project_start_row-ProjectTimelineData[[#This Row],[NUM]]+1,1)),\"\")","v":""},{"$f":"IFERROR(IF(ISBLANK(INDEX(ProjectDetails[#Data],Project_last_entry-Project_start_row-ProjectTimelineData[[#This Row],[NUM]]+1,2)),\"\",INDEX(ProjectDetails[#Data],Project_last_entry-Project_start_row-ProjectTimelineData[[#This Row],[NUM]]+1,2)),\"\")","v":""},{"$f":"IFERROR(IF(ISBLANK(INDEX(ProjectDetails[#Data],Project_last_entry-Project_start_row-ProjectTimelineData[[#This Row],[NUM]]+1,3)),\"\",INDEX(ProjectDetails[#Data],Project_last_entry-Project_start_row-ProjectTimelineData[[#This Row],[NUM]]+1,3)),\"\")","v":""},{"$f":"IFERROR(IF(ISBLANK(INDEX(ProjectDetails[#Data],ROW(A249)+1,1)),\"\",IF($J253-1<=-1,\"\",$J253-1)),\"\")","v":""},null,null,{"$f":"IFERROR(ProjectTimelineData[[#This Row],[NUM]]+1,\"\")","v":""},{"$f":"IFERROR(VLOOKUP(SortedTimeline[[#This Row],[RANK Sorted]],ProjectTimelineData[],3,0),\"\")","v":""},{"$f":"IFERROR(VLOOKUP(SortedTimeline[[#This Row],[RANK Sorted]],ProjectTimelineData[],4,0),\"\")","v":""},{"$f":"IFERROR(VLOOKUP(SortedTimeline[[#This Row],[RANK Sorted]],ProjectTimelineData[],5,0),\"\")","v":""}]
[{"$nulls":4},{"$f":"IFERROR(RANK(F255,ProjectTimelineData[RANK])+SUMPRODUCT(--(F255=ProjectTimelineData[RANK]),--(J255<ProjectTimelineData[NUM])),\"\")","v":""},{"$f":"IFERROR(RANK(ProjectTimelineData[[#This Row],[DATE]],ProjectTimelineData[DATE],1),\"\")","v":""},{"$f":"IFERROR(IF(ISBLANK(INDEX(ProjectDetails[#Data],Project_last_entry-Project_start_row-ProjectTimelineData[[#This Row],[NUM]]+1,1)),\"\",INDEX(ProjectDetails[#Data],Project_last_entry-Project_start_row-ProjectTimelineData[[#This Row],[NUM]]+1,1)),\"\")","v":""},{"$f":"IFERROR(IF(ISBLANK(INDEX(ProjectDetails[#Data],Project_last_entry-Project_start_row-ProjectTimelineData[[#This Row],[NUM]]+1,2)),\"\",INDEX(ProjectDetails[#Data],Project_last_entry-Project_start_row-ProjectTimelineData[[#This Row],[NUM]]+1,2)),\"\")","v":""},{"$f":"IFERROR(IF(ISBLANK(INDEX(ProjectDetails[#Data],Project_last_entry-Project_start_row-ProjectTimelineData[[#This Row],[NUM]]+1,3)),\"\",INDEX(ProjectDetails[#Data],Project_last_entry-Project_start_row-ProjectTimelineData[[#This Row],[NUM]]+1,3)),\"\")","v":""},{"$f":"IFERROR(IF(ISBLANK(INDEX(ProjectDetails[#Data],ROW(A250)+1,1)),\"\",IF($J254-1<=-1,\"\",$J254-1)),\"\")","v":""},null,null,{"$f":"IFERROR(ProjectTimelineData[[#This Row],[NUM]]+1,\"\")","v":""},{"$f":"IFERROR(VLOOKUP(SortedTimeline[[#This Row],[RANK Sorted]],ProjectTimelineData[],3,0),\"\")","v":""},{"$f":"IFERROR(VLOOKUP(SortedTimeline[[#This Row],[RANK Sorted]],ProjectTimelineData[],4,0),\"\")","v":""},{"$f":"IFERROR(VLOOKUP(SortedTimeline[[#This Row],[RANK Sorted]],ProjectTimelineData[],5,0),\"\")","v":""}]
[{"$nulls":4},{"$f":"IFERROR(RANK(F256,ProjectTimelineData[RANK])+SUMPRODUCT(--(F256=ProjectTimelineData[RANK]),--(J256<ProjectTimelineData[NUM])),\"\")","v":""},{"$f":"IFERROR(RANK(ProjectTimelineData[[#This Row],[DATE]],ProjectTimelineData[DATE],1),\"\")","v":""},{"$f":"IFERROR(IF(ISBLANK(INDEX(ProjectDetails[#Data],Project_last_entry-Project_start_row-ProjectTimelineData[[#This Row],[NUM]]+1,1)),\"\",INDEX(ProjectDetails[#Data],Project_last_entry-Project_start_row-ProjectTimelineData[[#This Row],[NUM]]+1,1)),\"\")","v":""},{"$f":"IFERROR(IF(ISBLANK(INDEX(ProjectDetails[#Data],Project_last_entry-Project_start_row-ProjectTimelineData[[#This Row],[NUM]]+1,2)),\"\",INDEX(ProjectDetails[#Data],Project_last_entry-Project_start_row-ProjectTimelineData[[#This Row],[NUM]]+1,2)),\"\")","v":""},{"$f":"IFERROR(IF(ISBLANK(INDEX(ProjectDetails[#Data],Project_last_entry-Project_start_row-ProjectTimelineData[[#This Row],[NUM]]+1,3)),\"\",INDEX(ProjectDetails[#Data],Project_last_entry-Project_start_row-ProjectTimelineData[[#This Row],[NUM]]+1,3)),\"\")","v":""},{"$f":"IFERROR(IF(ISBLANK(INDEX(ProjectDetails[#Data],ROW(A251)+1,1)),\"\",IF($J255-1<=-1,\"\",$J255-1)),\"\")","v":""},null,null,{"$f":"IFERROR(ProjectTimelineData[[#This Row],[NUM]]+1,\"\")","v":""},{"$f":"IFERROR(VLOOKUP(SortedTimeline[[#This Row],[RANK Sorted]],ProjectTimelineData[],3,0),\"\")","v":""},{"$f":"IFERROR(VLOOKUP(SortedTimeline[[#This Row],[RANK Sorted]],ProjectTimelineData[],4,0),\"\")","v":""},{"$f":"IFERROR(VLOOKUP(SortedTimeline[[#This Row],[RANK Sorted]],ProjectTimelineData[],5,0),\"\")","v":""}]
[{"$nulls":4},{"$f":"IFERROR(RANK(F257,ProjectTimelineData[RANK])+SUMPRODUCT(--(F257=ProjectTimelineData[RANK]),--(J257<ProjectTimelineData[NUM])),\"\")","v":""},{"$f":"IFERROR(RANK(ProjectTimelineData[[#This Row],[DATE]],ProjectTimelineData[DATE],1),\"\")","v":""},{"$f":"IFERROR(IF(ISBLANK(INDEX(ProjectDetails[#Data],Project_last_entry-Project_start_row-ProjectTimelineData[[#This Row],[NUM]]+1,1)),\"\",INDEX(ProjectDetails[#Data],Project_last_entry-Project_start_row-ProjectTimelineData[[#This Row],[NUM]]+1,1)),\"\")","v":""},{"$f":"IFERROR(IF(ISBLANK(INDEX(ProjectDetails[#Data],Project_last_entry-Project_start_row-ProjectTimelineData[[#This Row],[NUM]]+1,2)),\"\",INDEX(ProjectDetails[#Data],Project_last_entry-Project_start_row-ProjectTimelineData[[#This Row],[NUM]]+1,2)),\"\")","v":""},{"$f":"IFERROR(IF(ISBLANK(INDEX(ProjectDetails[#Data],Project_last_entry-Project_start_row-ProjectTimelineData[[#This Row],[NUM]]+1,3)),\"\",INDEX(ProjectDetails[#Data],Project_last_entry-Project_start_row-ProjectTimelineData[[#This Row],[NUM]]+1,3)),\"\")","v":""},{"$f":"IFERROR(IF(ISBLANK(INDEX(ProjectDetails[#Data],ROW(A252)+1,1)),\"\",IF($J256-1<=-1,\"\",$J256-1)),\"\")","v":""},null,null,{"$f":"IFERROR(ProjectTimelineData[[#This Row],[NUM]]+1,\"\")","v":""},{"$f":"IFERROR(VLOOKUP(SortedTimeline[[#This Row],[RANK Sorted]],ProjectTimelineData[],3,0),\"\")","v":""},{"$f":"IFERROR(VLOOKUP(SortedTimeline[[#This Row],[RANK Sorted]],ProjectTimelineData[],4,0),\"\")","v":""},{"$f":"IFERROR(VLOOKUP(SortedTimeline[[#This Row],[RANK Sorted]],ProjectTimelineData[],5,0),\"\")","v":""}]
[{"$nulls":4},{"$f":"IFERROR(RANK(F258,ProjectTimelineData[RANK])+SUMPRODUCT(--(F258=ProjectTimelineData[RANK]),--(J258<ProjectTimelineData[NUM])),\"\")","v":""},{"$f":"IFERROR(RANK(ProjectTimelineData[[#This Row],[DATE]],ProjectTimelineData[DATE],1),\"\")","v":""},{"$f":"IFERROR(IF(ISBLANK(INDEX(ProjectDetails[#Data],Project_last_entry-Project_start_row-ProjectTimelineData[[#This Row],[NUM]]+1,1)),\"\",INDEX(ProjectDetails[#Data],Project_last_entry-Project_start_row-ProjectTimelineData[[#This Row],[NUM]]+1,1)),\"\")","v":""},{"$f":"IFERROR(IF(ISBLANK(INDEX(ProjectDetails[#Data],Project_last_entry-Project_start_row-ProjectTimelineData[[#This Row],[NUM]]+1,2)),\"\",INDEX(ProjectDetails[#Data],Project_last_entry-Project_start_row-ProjectTimelineData[[#This Row],[NUM]]+1,2)),\"\")","v":""},{"$f":"IFERROR(IF(ISBLANK(INDEX(ProjectDetails[#Data],Project_last_entry-Project_start_row-ProjectTimelineData[[#This Row],[NUM]]+1,3)),\"\",INDEX(ProjectDetails[#Data],Project_last_entry-Project_start_row-ProjectTimelineData[[#This Row],[NUM]]+1,3)),\"\")","v":""},{"$f":"IFERROR(IF(ISBLANK(INDEX(ProjectDetails[#Data],ROW(A253)+1,1)),\"\",IF($J257-1<=-1,\"\",$J257-1)),\"\")","v":""},null,null,{"$f":"IFERROR(ProjectTimelineData[[#This Row],[NUM]]+1,\"\")","v":""},{"$f":"IFERROR(VLOOKUP(SortedTimeline[[#This Row],[RANK Sorted]],ProjectTimelineData[],3,0),\"\")","v":""},{"$f":"IFERROR(VLOOKUP(SortedTimeline[[#This Row],[RANK Sorted]],ProjectTimelineData[],4,0),\"\")","v":""},{"$f":"IFERROR(VLOOKUP(SortedTimeline[[#This Row],[RANK Sorted]],ProjectTimelineData[],5,0),\"\")","v":""}]
[{"$nulls":4},{"$f":"IFERROR(RANK(F259,ProjectTimelineData[RANK])+SUMPRODUCT(--(F259=ProjectTimelineData[RANK]),--(J259<ProjectTimelineData[NUM])),\"\")","v":""},{"$f":"IFERROR(RANK(ProjectTimelineData[[#This Row],[DATE]],ProjectTimelineData[DATE],1),\"\")","v":""},{"$f":"IFERROR(IF(ISBLANK(INDEX(ProjectDetails[#Data],Project_last_entry-Project_start_row-ProjectTimelineData[[#This Row],[NUM]]+1,1)),\"\",INDEX(ProjectDetails[#Data],Project_last_entry-Project_start_row-ProjectTimelineData[[#This Row],[NUM]]+1,1)),\"\")","v":""},{"$f":"IFERROR(IF(ISBLANK(INDEX(ProjectDetails[#Data],Project_last_entry-Project_start_row-ProjectTimelineData[[#This Row],[NUM]]+1,2)),\"\",INDEX(ProjectDetails[#Data],Project_last_entry-Project_start_row-ProjectTimelineData[[#This Row],[NUM]]+1,2)),\"\")","v":""},{"$f":"IFERROR(IF(ISBLANK(INDEX(ProjectDetails[#Data],Project_last_entry-Project_start_row-ProjectTimelineData[[#This Row],[NUM]]+1,3)),\"\",INDEX(ProjectDetails[#Data],Project_last_entry-Project_start_row-ProjectTimelineData[[#This Row],[NUM]]+1,3)),\"\")","v":""},{"$f":"IFERROR(IF(ISBLANK(INDEX(ProjectDetails[#Data],ROW(A254)+1,1)),\"\",IF($J258-1<=-1,\"\",$J258-1)),\"\")","v":""},null,null,{"$f":"IFERROR(ProjectTimelineData[[#This Row],[NUM]]+1,\"\")","v":""},{"$f":"IFERROR(VLOOKUP(SortedTimeline[[#This Row],[RANK Sorted]],ProjectTimelineData[],3,0),\"\")","v":""},{"$f":"IFERROR(VLOOKUP(SortedTimeline[[#This Row],[RANK Sorted]],ProjectTimelineData[],4,0),\"\")","v":""},{"$f":"IFERROR(VLOOKUP(SortedTimeline[[#This Row],[RANK Sorted]],ProjectTimelineData[],5,0),\"\")","v":""}]
[{"$nulls":4},{"$f":"IFERROR(RANK(F260,ProjectTimelineData[RANK])+SUMPRODUCT(--(F260=ProjectTimelineData[RANK]),--(J260<ProjectTimelineData[NUM])),\"\")","v":""},{"$f":"IFERROR(RANK(ProjectTimelineData[[#This Row],[DATE]],ProjectTimelineData[DATE],1),\"\")","v":""},{"$f":"IFERROR(IF(ISBLANK(INDEX(ProjectDetails[#Data],Project_last_entry-Project_start_row-ProjectTimelineData[[#This Row],[NUM]]+1,1)),\"\",INDEX(ProjectDetails[#Data],Project_last_entry-Project_start_row-ProjectTimelineData[[#This Row],[NUM]]+1,1)),\"\")","v":""},{"$f":"IFERROR(IF(ISBLANK(INDEX(ProjectDetails[#Data],Project_last_entry-Project_start_row-ProjectTimelineData[[#This Row],[NUM]]+1,2)),\"\",INDEX(ProjectDetails[#Data],Project_last_entry-Project_start_row-ProjectTimelineData[[#This Row],[NUM]]+1,2)),\"\")","v":""},{"$f":"IFERROR(IF(ISBLANK(INDEX(ProjectDetails[#Data],Project_last_entry-Project_start_row-ProjectTimelineData[[#This Row],[NUM]]+1,3)),\"\",INDEX(ProjectDetails[#Data],Project_last_entry-Project_start_row-ProjectTimelineData[[#This Row],[NUM]]+1,3)),\"\")","v":""},{"$f":"IFERROR(IF(ISBLANK(INDEX(ProjectDetails[#Data],ROW(A255)+1,1)),\"\",IF($J259-1<=-1,\"\",$J259-1)),\"\")","v":""},null,null,{"$f":"IFERROR(ProjectTimelineData[[#This Row],[NUM]]+1,\"\")","v":""},{"$f":"IFERROR(VLOOKUP(SortedTimeline[[#This Row],[RANK Sorted]],ProjectTimelineData[],3,0),\"\")","v":""},{"$f":"IFERROR(VLOOKUP(SortedTimeline[[#This Row],[RANK Sorted]],ProjectTimelineData[],4,0),\"\")","v":""},{"$f":"IFERROR(VLOOKUP(SortedTimeline[[#This Row],[RANK Sorted]],ProjectTimelineData[],5,0),\"\")","v":""}]
[{"$nulls":4},{"$f":"IFERROR(RANK(F261,ProjectTimelineData[RANK])+SUMPRODUCT(--(F261=ProjectTimelineData[RANK]),--(J261<ProjectTimelineData[NUM])),\"\")","v":""},{"$f":"IFERROR(RANK(ProjectTimelineData[[#This Row],[DATE]],ProjectTimelineData[DATE],1),\"\")","v":""},{"$f":"IFERROR(IF(ISBLANK(INDEX(ProjectDetails[#Data],Project_last_entry-Project_start_row-ProjectTimelineData[[#This Row],[NUM]]+1,1)),\"\",INDEX(ProjectDetails[#Data],Project_last_entry-Project_start_row-ProjectTimelineData[[#This Row],[NUM]]+1,1)),\"\")","v":""},{"$f":"IFERROR(IF(ISBLANK(INDEX(ProjectDetails[#Data],Project_last_entry-Project_start_row-ProjectTimelineData[[#This Row],[NUM]]+1,2)),\"\",INDEX(ProjectDetails[#Data],Project_last_entry-Project_start_row-ProjectTimelineData[[#This Row],[NUM]]+1,2)),\"\")","v":""},{"$f":"IFERROR(IF(ISBLANK(INDEX(ProjectDetails[#Data],Project_last_entry-Project_start_row-ProjectTimelineData[[#This Row],[NUM]]+1,3)),\"\",INDEX(ProjectDetails[#Data],Project_last_entry-Project_start_row-ProjectTimelineData[[#This Row],[NUM]]+1,3)),\"\")","v":""},{"$f":"IFERROR(IF(ISBLANK(INDEX(ProjectDetails[#Data],ROW(A256)+1,1)),\"\",IF($J260-1<=-1,\"\",$J260-1)),\"\")","v":""},null,null,{"$f":"IFERROR(ProjectTimelineData[[#This Row],[NUM]]+1,\"\")","v":""},{"$f":"IFERROR(VLOOKUP(SortedTimeline[[#This Row],[RANK Sorted]],ProjectTimelineData[],3,0),\"\")","v":""},{"$f":"IFERROR(VLOOKUP(SortedTimeline[[#This Row],[RANK Sorted]],ProjectTimelineData[],4,0),\"\")","v":""},{"$f":"IFERROR(VLOOKUP(SortedTimeline[[#This Row],[RANK Sorted]],ProjectTimelineData[],5,0),\"\")","v":""}]
[{"$nulls":4},{"$f":"IFERROR(RANK(F262,ProjectTimelineData[RANK])+SUMPRODUCT(--(F262=ProjectTimelineData[RANK]),--(J262<ProjectTimelineData[NUM])),\"\")","v":""},{"$f":"IFERROR(RANK(ProjectTimelineData[[#This Row],[DATE]],ProjectTimelineData[DATE],1),\"\")","v":""},{"$f":"IFERROR(IF(ISBLANK(INDEX(ProjectDetails[#Data],Project_last_entry-Project_start_row-ProjectTimelineData[[#This Row],[NUM]]+1,1)),\"\",INDEX(ProjectDetails[#Data],Project_last_entry-Project_start_row-ProjectTimelineData[[#This Row],[NUM]]+1,1)),\"\")","v":""},{"$f":"IFERROR(IF(ISBLANK(INDEX(ProjectDetails[#Data],Project_last_entry-Project_start_row-ProjectTimelineData[[#This Row],[NUM]]+1,2)),\"\",INDEX(ProjectDetails[#Data],Project_last_entry-Project_start_row-ProjectTimelineData[[#This Row],[NUM]]+1,2)),\"\")","v":""},{"$f":"IFERROR(IF(ISBLANK(INDEX(ProjectDetails[#Data],Project_last_entry-Project_start_row-ProjectTimelineData[[#This Row],[NUM]]+1,3)),\"\",INDEX(ProjectDetails[#Data],Project_last_entry-Project_start_row-ProjectTimelineData[[#This Row],[NUM]]+1,3)),\"\")","v":""},{"$f":"IFERROR(IF(ISBLANK(INDEX(ProjectDetails[#Data],ROW(A257)+1,1)),\"\",IF($J261-1<=-1,\"\",$J261-1)),\"\")","v":""},null,null,{"$f":"IFERROR(ProjectTimelineData[[#This Row],[NUM]]+1,\"\")","v":""},{"$f":"IFERROR(VLOOKUP(SortedTimeline[[#This Row],[RANK Sorted]],ProjectTimelineData[],3,0),\"\")","v":""},{"$f":"IFERROR(VLOOKUP(SortedTimeline[[#This Row],[RANK Sorted]],ProjectTimelineData[],4,0),\"\")","v":""},{"$f":"IFERROR(VLOOKUP(SortedTimeline[[#This Row],[RANK Sorted]],ProjectTimelineData[],5,0),\"\")","v":""}]
[{"$nulls":4},{"$f":"IFERROR(RANK(F263,ProjectTimelineData[RANK])+SUMPRODUCT(--(F263=ProjectTimelineData[RANK]),--(J263<ProjectTimelineData[NUM])),\"\")","v":""},{"$f":"IFERROR(RANK(ProjectTimelineData[[#This Row],[DATE]],ProjectTimelineData[DATE],1),\"\")","v":""},{"$f":"IFERROR(IF(ISBLANK(INDEX(ProjectDetails[#Data],Project_last_entry-Project_start_row-ProjectTimelineData[[#This Row],[NUM]]+1,1)),\"\",INDEX(ProjectDetails[#Data],Project_last_entry-Project_start_row-ProjectTimelineData[[#This Row],[NUM]]+1,1)),\"\")","v":""},{"$f":"IFERROR(IF(ISBLANK(INDEX(ProjectDetails[#Data],Project_last_entry-Project_start_row-ProjectTimelineData[[#This Row],[NUM]]+1,2)),\"\",INDEX(ProjectDetails[#Data],Project_last_entry-Project_start_row-ProjectTimelineData[[#This Row],[NUM]]+1,2)),\"\")","v":""},{"$f":"IFERROR(IF(ISBLANK(INDEX(ProjectDetails[#Data],Project_last_entry-Project_start_row-ProjectTimelineData[[#This Row],[NUM]]+1,3)),\"\",INDEX(ProjectDetails[#Data],Project_last_entry-Project_start_row-ProjectTimelineData[[#This Row],[NUM]]+1,3)),\"\")","v":""},{"$f":"IFERROR(IF(ISBLANK(INDEX(ProjectDetails[#Data],ROW(A258)+1,1)),\"\",IF($J262-1<=-1,\"\",$J262-1)),\"\")","v":""},null,null,{"$f":"IFERROR(ProjectTimelineData[[#This Row],[NUM]]+1,\"\")","v":""},{"$f":"IFERROR(VLOOKUP(SortedTimeline[[#This Row],[RANK Sorted]],ProjectTimelineData[],3,0),\"\")","v":""},{"$f":"IFERROR(VLOOKUP(SortedTimeline[[#This Row],[RANK Sorted]],ProjectTimelineData[],4,0),\"\")","v":""},{"$f":"IFERROR(VLOOKUP(SortedTimeline[[#This Row],[RANK Sorted]],ProjectTimelineData[],5,0),\"\")","v":""}]
[{"$nulls":4},{"$f":"IFERROR(RANK(F264,ProjectTimelineData[RANK])+SUMPRODUCT(--(F264=ProjectTimelineData[RANK]),--(J264<ProjectTimelineData[NUM])),\"\")","v":""},{"$f":"IFERROR(RANK(ProjectTimelineData[[#This Row],[DATE]],ProjectTimelineData[DATE],1),\"\")","v":""},{"$f":"IFERROR(IF(ISBLANK(INDEX(ProjectDetails[#Data],Project_last_entry-Project_start_row-ProjectTimelineData[[#This Row],[NUM]]+1,1)),\"\",INDEX(ProjectDetails[#Data],Project_last_entry-Project_start_row-ProjectTimelineData[[#This Row],[NUM]]+1,1)),\"\")","v":""},{"$f":"IFERROR(IF(ISBLANK(INDEX(ProjectDetails[#Data],Project_last_entry-Project_start_row-ProjectTimelineData[[#This Row],[NUM]]+1,2)),\"\",INDEX(ProjectDetails[#Data],Project_last_entry-Project_start_row-ProjectTimelineData[[#This Row],[NUM]]+1,2)),\"\")","v":""},{"$f":"IFERROR(IF(ISBLANK(INDEX(ProjectDetails[#Data],Project_last_entry-Project_start_row-ProjectTimelineData[[#This Row],[NUM]]+1,3)),\"\",INDEX(ProjectDetails[#Data],Project_last_entry-Project_start_row-ProjectTimelineData[[#This Row],[NUM]]+1,3)),\"\")","v":""},{"$f":"IFERROR(IF(ISBLANK(INDEX(ProjectDetails[#Data],ROW(A259)+1,1)),\"\",IF($J263-1<=-1,\"\",$J263-1)),\"\")","v":""},null,null,{"$f":"IFERROR(ProjectTimelineData[[#This Row],[NUM]]+1,\"\")","v":""},{"$f":"IFERROR(VLOOKUP(SortedTimeline[[#This Row],[RANK Sorted]],ProjectTimelineData[],3,0),\"\")","v":""},{"$f":"IFERROR(VLOOKUP(SortedTimeline[[#This Row],[RANK Sorted]],ProjectTimelineData[],4,0),\"\")","v":""},{"$f":"IFERROR(VLOOKUP(SortedTimeline[[#This Row],[RANK Sorted]],ProjectTimelineData[],5,0),\"\")","v":""}]
[{"$nulls":4},{"$f":"IFERROR(RANK(F265,ProjectTimelineData[RANK])+SUMPRODUCT(--(F265=ProjectTimelineData[RANK]),--(J265<ProjectTimelineData[NUM])),\"\")","v":""},{"$f":"IFERROR(RANK(ProjectTimelineData[[#This Row],[DATE]],ProjectTimelineData[DATE],1),\"\")","v":""},{"$f":"IFERROR(IF(ISBLANK(INDEX(ProjectDetails[#Data],Project_last_entry-Project_start_row-ProjectTimelineData[[#This Row],[NUM]]+1,1)),\"\",INDEX(ProjectDetails[#Data],Project_last_entry-Project_start_row-ProjectTimelineData[[#This Row],[NUM]]+1,1)),\"\")","v":""},{"$f":"IFERROR(IF(ISBLANK(INDEX(ProjectDetails[#Data],Project_last_entry-Project_start_row-ProjectTimelineData[[#This Row],[NUM]]+1,2)),\"\",INDEX(ProjectDetails[#Data],Project_last_entry-Project_start_row-ProjectTimelineData[[#This Row],[NUM]]+1,2)),\"\")","v":""},{"$f":"IFERROR(IF(ISBLANK(INDEX(ProjectDetails[#Data],Project_last_entry-Project_start_row-ProjectTimelineData[[#This Row],[NUM]]+1,3)),\"\",INDEX(ProjectDetails[#Data],Project_last_entry-Project_start_row-ProjectTimelineData[[#This Row],[NUM]]+1,3)),\"\")","v":""},{"$f":"IFERROR(IF(ISBLANK(INDEX(ProjectDetails[#Data],ROW(A260)+1,1)),\"\",IF($J264-1<=-1,\"\",$J264-1)),\"\")","v":""},null,null,{"$f":"IFERROR(ProjectTimelineData[[#This Row],[NUM]]+1,\"\")","v":""},{"$f":"IFERROR(VLOOKUP(SortedTimeline[[#This Row],[RANK Sorted]],ProjectTimelineData[],3,0),\"\")","v":""},{"$f":"IFERROR(VLOOKUP(SortedTimeline[[#This Row],[RANK Sorted]],ProjectTimelineData[],4,0),\"\")","v":""},{"$f":"IFERROR(VLOOKUP(SortedTimeline[[#This Row],[RANK Sorted]],ProjectTimelineData[],5,0),\"\")","v":""}]
[{"$nulls":4},{"$f":"IFERROR(RANK(F266,ProjectTimelineData[RANK])+SUMPRODUCT(--(F266=ProjectTimelineData[RANK]),--(J266<ProjectTimelineData[NUM])),\"\")","v":""},{"$f":"IFERROR(RANK(ProjectTimelineData[[#This Row],[DATE]],ProjectTimelineData[DATE],1),\"\")","v":""},{"$f":"IFERROR(IF(ISBLANK(INDEX(ProjectDetails[#Data],Project_last_entry-Project_start_row-ProjectTimelineData[[#This Row],[NUM]]+1,1)),\"\",INDEX(ProjectDetails[#Data],Project_last_entry-Project_start_row-ProjectTimelineData[[#This Row],[NUM]]+1,1)),\"\")","v":""},{"$f":"IFERROR(IF(ISBLANK(INDEX(ProjectDetails[#Data],Project_last_entry-Project_start_row-ProjectTimelineData[[#This Row],[NUM]]+1,2)),\"\",INDEX(ProjectDetails[#Data],Project_last_entry-Project_start_row-ProjectTimelineData[[#This Row],[NUM]]+1,2)),\"\")","v":""},{"$f":"IFERROR(IF(ISBLANK(INDEX(ProjectDetails[#Data],Project_last_entry-Project_start_row-ProjectTimelineData[[#This Row],[NUM]]+1,3)),\"\",INDEX(ProjectDetails[#Data],Project_last_entry-Project_start_row-ProjectTimelineData[[#This Row],[NUM]]+1,3)),\"\")","v":""},{"$f":"IFERROR(IF(ISBLANK(INDEX(ProjectDetails[#Data],ROW(A261)+1,1)),\"\",IF($J265-1<=-1,\"\",$J265-1)),\"\")","v":""},null,null,{"$f":"IFERROR(ProjectTimelineData[[#This Row],[NUM]]+1,\"\")","v":""},{"$f":"IFERROR(VLOOKUP(SortedTimeline[[#This Row],[RANK Sorted]],ProjectTimelineData[],3,0),\"\")","v":""},{"$f":"IFERROR(VLOOKUP(SortedTimeline[[#This Row],[RANK Sorted]],ProjectTimelineData[],4,0),\"\")","v":""},{"$f":"IFERROR(VLOOKUP(SortedTimeline[[#This Row],[RANK Sorted]],ProjectTimelineData[],5,0),\"\")","v":""}]
[{"$nulls":4},{"$f":"IFERROR(RANK(F267,ProjectTimelineData[RANK])+SUMPRODUCT(--(F267=ProjectTimelineData[RANK]),--(J267<ProjectTimelineData[NUM])),\"\")","v":""},{"$f":"IFERROR(RANK(ProjectTimelineData[[#This Row],[DATE]],ProjectTimelineData[DATE],1),\"\")","v":""},{"$f":"IFERROR(IF(ISBLANK(INDEX(ProjectDetails[#Data],Project_last_entry-Project_start_row-ProjectTimelineData[[#This Row],[NUM]]+1,1)),\"\",INDEX(ProjectDetails[#Data],Project_last_entry-Project_start_row-ProjectTimelineData[[#This Row],[NUM]]+1,1)),\"\")","v":""},{"$f":"IFERROR(IF(ISBLANK(INDEX(ProjectDetails[#Data],Project_last_entry-Project_start_row-ProjectTimelineData[[#This Row],[NUM]]+1,2)),\"\",INDEX(ProjectDetails[#Data],Project_last_entry-Project_start_row-ProjectTimelineData[[#This Row],[NUM]]+1,2)),\"\")","v":""},{"$f":"IFERROR(IF(ISBLANK(INDEX(ProjectDetails[#Data],Project_last_entry-Project_start_row-ProjectTimelineData[[#This Row],[NUM]]+1,3)),\"\",INDEX(ProjectDetails[#Data],Project_last_entry-Project_start_row-ProjectTimelineData[[#This Row],[NUM]]+1,3)),\"\")","v":""},{"$f":"IFERROR(IF(ISBLANK(INDEX(ProjectDetails[#Data],ROW(A262)+1,1)),\"\",IF($J266-1<=-1,\"\",$J266-1)),\"\")","v":""},null,null,{"$f":"IFERROR(ProjectTimelineData[[#This Row],[NUM]]+1,\"\")","v":""},{"$f":"IFERROR(VLOOKUP(SortedTimeline[[#This Row],[RANK Sorted]],ProjectTimelineData[],3,0),\"\")","v":""},{"$f":"IFERROR(VLOOKUP(SortedTimeline[[#This Row],[RANK Sorted]],ProjectTimelineData[],4,0),\"\")","v":""},{"$f":"IFERROR(VLOOKUP(SortedTimeline[[#This Row],[RANK Sorted]],ProjectTimelineData[],5,0),\"\")","v":""}]
[{"$nulls":4},{"$f":"IFERROR(RANK(F268,ProjectTimelineData[RANK])+SUMPRODUCT(--(F268=ProjectTimelineData[RANK]),--(J268<ProjectTimelineData[NUM])),\"\")","v":""},{"$f":"IFERROR(RANK(ProjectTimelineData[[#This Row],[DATE]],ProjectTimelineData[DATE],1),\"\")","v":""},{"$f":"IFERROR(IF(ISBLANK(INDEX(ProjectDetails[#Data],Project_last_entry-Project_start_row-ProjectTimelineData[[#This Row],[NUM]]+1,1)),\"\",INDEX(ProjectDetails[#Data],Project_last_entry-Project_start_row-ProjectTimelineData[[#This Row],[NUM]]+1,1)),\"\")","v":""},{"$f":"IFERROR(IF(ISBLANK(INDEX(ProjectDetails[#Data],Project_last_entry-Project_start_row-ProjectTimelineData[[#This Row],[NUM]]+1,2)),\"\",INDEX(ProjectDetails[#Data],Project_last_entry-Project_start_row-ProjectTimelineData[[#This Row],[NUM]]+1,2)),\"\")","v":""},{"$f":"IFERROR(IF(ISBLANK(INDEX(ProjectDetails[#Data],Project_last_entry-Project_start_row-ProjectTimelineData[[#This Row],[NUM]]+1,3)),\"\",INDEX(ProjectDetails[#Data],Project_last_entry-Project_start_row-ProjectTimelineData[[#This Row],[NUM]]+1,3)),\"\")","v":""},{"$f":"IFERROR(IF(ISBLANK(INDEX(ProjectDetails[#Data],ROW(A263)+1,1)),\"\",IF($J267-1<=-1,\"\",$J267-1)),\"\")","v":""},null,null,{"$f":"IFERROR(ProjectTimelineData[[#This Row],[NUM]]+1,\"\")","v":""},{"$f":"IFERROR(VLOOKUP(SortedTimeline[[#This Row],[RANK Sorted]],ProjectTimelineData[],3,0),\"\")","v":""},{"$f":"IFERROR(VLOOKUP(SortedTimeline[[#This Row],[RANK Sorted]],ProjectTimelineData[],4,0),\"\")","v":""},{"$f":"IFERROR(VLOOKUP(SortedTimeline[[#This Row],[RANK Sorted]],ProjectTimelineData[],5,0),\"\")","v":""}]
[{"$nulls":4},{"$f":"IFERROR(RANK(F269,ProjectTimelineData[RANK])+SUMPRODUCT(--(F269=ProjectTimelineData[RANK]),--(J269<ProjectTimelineData[NUM])),\"\")","v":""},{"$f":"IFERROR(RANK(ProjectTimelineData[[#This Row],[DATE]],ProjectTimelineData[DATE],1),\"\")","v":""},{"$f":"IFERROR(IF(ISBLANK(INDEX(ProjectDetails[#Data],Project_last_entry-Project_start_row-ProjectTimelineData[[#This Row],[NUM]]+1,1)),\"\",INDEX(ProjectDetails[#Data],Project_last_entry-Project_start_row-ProjectTimelineData[[#This Row],[NUM]]+1,1)),\"\")","v":""},{"$f":"IFERROR(IF(ISBLANK(INDEX(ProjectDetails[#Data],Project_last_entry-Project_start_row-ProjectTimelineData[[#This Row],[NUM]]+1,2)),\"\",INDEX(ProjectDetails[#Data],Project_last_entry-Project_start_row-ProjectTimelineData[[#This Row],[NUM]]+1,2)),\"\")","v":""},{"$f":"IFERROR(IF(ISBLANK(INDEX(ProjectDetails[#Data],Project_last_entry-Project_start_row-ProjectTimelineData[[#This Row],[NUM]]+1,3)),\"\",INDEX(ProjectDetails[#Data],Project_last_entry-Project_start_row-ProjectTimelineData[[#This Row],[NUM]]+1,3)),\"\")","v":""},{"$f":"IFERROR(IF(ISBLANK(INDEX(ProjectDetails[#Data],ROW(A264)+1,1)),\"\",IF($J268-1<=-1,\"\",$J268-1)),\"\")","v":""},null,null,{"$f":"IFERROR(ProjectTimelineData[[#This Row],[NUM]]+1,\"\")","v":""},{"$f":"IFERROR(VLOOKUP(SortedTimeline[[#This Row],[RANK Sorted]],ProjectTimelineData[],3,0),\"\")","v":""},{"$f":"IFERROR(VLOOKUP(SortedTimeline[[#This Row],[RANK Sorted]],ProjectTimelineData[],4,0),\"\")","v":""},{"$f":"IFERROR(VLOOKUP(SortedTimeline[[#This Row],[RANK Sorted]],ProjectTimelineData[],5,0),\"\")","v":""}]
[{"$nulls":4},{"$f":"IFERROR(RANK(F270,ProjectTimelineData[RANK])+SUMPRODUCT(--(F270=ProjectTimelineData[RANK]),--(J270<ProjectTimelineData[NUM])),\"\")","v":""},{"$f":"IFERROR(RANK(ProjectTimelineData[[#This Row],[DATE]],ProjectTimelineData[DATE],1),\"\")","v":""},{"$f":"IFERROR(IF(ISBLANK(INDEX(ProjectDetails[#Data],Project_last_entry-Project_start_row-ProjectTimelineData[[#This Row],[NUM]]+1,1)),\"\",INDEX(ProjectDetails[#Data],Project_last_entry-Project_start_row-ProjectTimelineData[[#This Row],[NUM]]+1,1)),\"\")","v":""},{"$f":"IFERROR(IF(ISBLANK(INDEX(ProjectDetails[#Data],Project_last_entry-Project_start_row-ProjectTimelineData[[#This Row],[NUM]]+1,2)),\"\",INDEX(ProjectDetails[#Data],Project_last_entry-Project_start_row-ProjectTimelineData[[#This Row],[NUM]]+1,2)),\"\")","v":""},{"$f":"IFERROR(IF(ISBLANK(INDEX(ProjectDetails[#Data],Project_last_entry-Project_start_row-ProjectTimelineData[[#This Row],[NUM]]+1,3)),\"\",INDEX(ProjectDetails[#Data],Project_last_entry-Project_start_row-ProjectTimelineData[[#This Row],[NUM]]+1,3)),\"\")","v":""},{"$f":"IFERROR(IF(ISBLANK(INDEX(ProjectDetails[#Data],ROW(A265)+1,1)),\"\",IF($J269-1<=-1,\"\",$J269-1)),\"\")","v":""},null,null,{"$f":"IFERROR(ProjectTimelineData[[#This Row],[NUM]]+1,\"\")","v":""},{"$f":"IFERROR(VLOOKUP(SortedTimeline[[#This Row],[RANK Sorted]],ProjectTimelineData[],3,0),\"\")","v":""},{"$f":"IFERROR(VLOOKUP(SortedTimeline[[#This Row],[RANK Sorted]],ProjectTimelineData[],4,0),\"\")","v":""},{"$f":"IFERROR(VLOOKUP(SortedTimeline[[#This Row],[RANK Sorted]],ProjectTimelineData[],5,0),\"\")","v":""}]
[{"$nulls":4},{"$f":"IFERROR(RANK(F271,ProjectTimelineData[RANK])+SUMPRODUCT(--(F271=ProjectTimelineData[RANK]),--(J271<ProjectTimelineData[NUM])),\"\")","v":""},{"$f":"IFERROR(RANK(ProjectTimelineData[[#This Row],[DATE]],ProjectTimelineData[DATE],1),\"\")","v":""},{"$f":"IFERROR(IF(ISBLANK(INDEX(ProjectDetails[#Data],Project_last_entry-Project_start_row-ProjectTimelineData[[#This Row],[NUM]]+1,1)),\"\",INDEX(ProjectDetails[#Data],Project_last_entry-Project_start_row-ProjectTimelineData[[#This Row],[NUM]]+1,1)),\"\")","v":""},{"$f":"IFERROR(IF(ISBLANK(INDEX(ProjectDetails[#Data],Project_last_entry-Project_start_row-ProjectTimelineData[[#This Row],[NUM]]+1,2)),\"\",INDEX(ProjectDetails[#Data],Project_last_entry-Project_start_row-ProjectTimelineData[[#This Row],[NUM]]+1,2)),\"\")","v":""},{"$f":"IFERROR(IF(ISBLANK(INDEX(ProjectDetails[#Data],Project_last_entry-Project_start_row-ProjectTimelineData[[#This Row],[NUM]]+1,3)),\"\",INDEX(ProjectDetails[#Data],Project_last_entry-Project_start_row-ProjectTimelineData[[#This Row],[NUM]]+1,3)),\"\")","v":""},{"$f":"IFERROR(IF(ISBLANK(INDEX(ProjectDetails[#Data],ROW(A266)+1,1)),\"\",IF($J270-1<=-1,\"\",$J270-1)),\"\")","v":""},null,null,{"$f":"IFERROR(ProjectTimelineData[[#This Row],[NUM]]+1,\"\")","v":""},{"$f":"IFERROR(VLOOKUP(SortedTimeline[[#This Row],[RANK Sorted]],ProjectTimelineData[],3,0),\"\")","v":""},{"$f":"IFERROR(VLOOKUP(SortedTimeline[[#This Row],[RANK Sorted]],ProjectTimelineData[],4,0),\"\")","v":""},{"$f":"IFERROR(VLOOKUP(SortedTimeline[[#This Row],[RANK Sorted]],ProjectTimelineData[],5,0),\"\")","v":""}]
[{"$nulls":4},{"$f":"IFERROR(RANK(F272,ProjectTimelineData[RANK])+SUMPRODUCT(--(F272=ProjectTimelineData[RANK]),--(J272<ProjectTimelineData[NUM])),\"\")","v":""},{"$f":"IFERROR(RANK(ProjectTimelineData[[#This Row],[DATE]],ProjectTimelineData[DATE],1),\"\")","v":""},{"$f":"IFERROR(IF(ISBLANK(INDEX(ProjectDetails[#Data],Project_last_entry-Project_start_row-ProjectTimelineData[[#This Row],[NUM]]+1,1)),\"\",INDEX(ProjectDetails[#Data],Project_last_entry-Project_start_row-ProjectTimelineData[[#This Row],[NUM]]+1,1)),\"\")","v":""},{"$f":"IFERROR(IF(ISBLANK(INDEX(ProjectDetails[#Data],Project_last_entry-Project_start_row-ProjectTimelineData[[#This Row],[NUM]]+1,2)),\"\",INDEX(ProjectDetails[#Data],Project_last_entry-Project_start_row-ProjectTimelineData[[#This Row],[NUM]]+1,2)),\"\")","v":""},{"$f":"IFERROR(IF(ISBLANK(INDEX(ProjectDetails[#Data],Project_last_entry-Project_start_row-ProjectTimelineData[[#This Row],[NUM]]+1,3)),\"\",INDEX(ProjectDetails[#Data],Project_last_entry-Project_start_row-ProjectTimelineData[[#This Row],[NUM]]+1,3)),\"\")","v":""},{"$f":"IFERROR(IF(ISBLANK(INDEX(ProjectDetails[#Data],ROW(A267)+1,1)),\"\",IF($J271-1<=-1,\"\",$J271-1)),\"\")","v":""},null,null,{"$f":"IFERROR(ProjectTimelineData[[#This Row],[NUM]]+1,\"\")","v":""},{"$f":"IFERROR(VLOOKUP(SortedTimeline[[#This Row],[RANK Sorted]],ProjectTimelineData[],3,0),\"\")","v":""},{"$f":"IFERROR(VLOOKUP(SortedTimeline[[#This Row],[RANK Sorted]],ProjectTimelineData[],4,0),\"\")","v":""},{"$f":"IFERROR(VLOOKUP(SortedTimeline[[#This Row],[RANK Sorted]],ProjectTimelineData[],5,0),\"\")","v":""}]
[{"$nulls":4},{"$f":"IFERROR(RANK(F273,ProjectTimelineData[RANK])+SUMPRODUCT(--(F273=ProjectTimelineData[RANK]),--(J273<ProjectTimelineData[NUM])),\"\")","v":""},{"$f":"IFERROR(RANK(ProjectTimelineData[[#This Row],[DATE]],ProjectTimelineData[DATE],1),\"\")","v":""},{"$f":"IFERROR(IF(ISBLANK(INDEX(ProjectDetails[#Data],Project_last_entry-Project_start_row-ProjectTimelineData[[#This Row],[NUM]]+1,1)),\"\",INDEX(ProjectDetails[#Data],Project_last_entry-Project_start_row-ProjectTimelineData[[#This Row],[NUM]]+1,1)),\"\")","v":""},{"$f":"IFERROR(IF(ISBLANK(INDEX(ProjectDetails[#Data],Project_last_entry-Project_start_row-ProjectTimelineData[[#This Row],[NUM]]+1,2)),\"\",INDEX(ProjectDetails[#Data],Project_last_entry-Project_start_row-ProjectTimelineData[[#This Row],[NUM]]+1,2)),\"\")","v":""},{"$f":"IFERROR(IF(ISBLANK(INDEX(ProjectDetails[#Data],Project_last_entry-Project_start_row-ProjectTimelineData[[#This Row],[NUM]]+1,3)),\"\",INDEX(ProjectDetails[#Data],Project_last_entry-Project_start_row-ProjectTimelineData[[#This Row],[NUM]]+1,3)),\"\")","v":""},{"$f":"IFERROR(IF(ISBLANK(INDEX(ProjectDetails[#Data],ROW(A268)+1,1)),\"\",IF($J272-1<=-1,\"\",$J272-1)),\"\")","v":""},null,null,{"$f":"IFERROR(ProjectTimelineData[[#This Row],[NUM]]+1,\"\")","v":""},{"$f":"IFERROR(VLOOKUP(SortedTimeline[[#This Row],[RANK Sorted]],ProjectTimelineData[],3,0),\"\")","v":""},{"$f":"IFERROR(VLOOKUP(SortedTimeline[[#This Row],[RANK Sorted]],ProjectTimelineData[],4,0),\"\")","v":""},{"$f":"IFERROR(VLOOKUP(SortedTimeline[[#This Row],[RANK Sorted]],ProjectTimelineData[],5,0),\"\")","v":""}]
[{"$nulls":4},{"$f":"IFERROR(RANK(F274,ProjectTimelineData[RANK])+SUMPRODUCT(--(F274=ProjectTimelineData[RANK]),--(J274<ProjectTimelineData[NUM])),\"\")","v":""},{"$f":"IFERROR(RANK(ProjectTimelineData[[#This Row],[DATE]],ProjectTimelineData[DATE],1),\"\")","v":""},{"$f":"IFERROR(IF(ISBLANK(INDEX(ProjectDetails[#Data],Project_last_entry-Project_start_row-ProjectTimelineData[[#This Row],[NUM]]+1,1)),\"\",INDEX(ProjectDetails[#Data],Project_last_entry-Project_start_row-ProjectTimelineData[[#This Row],[NUM]]+1,1)),\"\")","v":""},{"$f":"IFERROR(IF(ISBLANK(INDEX(ProjectDetails[#Data],Project_last_entry-Project_start_row-ProjectTimelineData[[#This Row],[NUM]]+1,2)),\"\",INDEX(ProjectDetails[#Data],Project_last_entry-Project_start_row-ProjectTimelineData[[#This Row],[NUM]]+1,2)),\"\")","v":""},{"$f":"IFERROR(IF(ISBLANK(INDEX(ProjectDetails[#Data],Project_last_entry-Project_start_row-ProjectTimelineData[[#This Row],[NUM]]+1,3)),\"\",INDEX(ProjectDetails[#Data],Project_last_entry-Project_start_row-ProjectTimelineData[[#This Row],[NUM]]+1,3)),\"\")","v":""},{"$f":"IFERROR(IF(ISBLANK(INDEX(ProjectDetails[#Data],ROW(A269)+1,1)),\"\",IF($J273-1<=-1,\"\",$J273-1)),\"\")","v":""},null,null,{"$f":"IFERROR(ProjectTimelineData[[#This Row],[NUM]]+1,\"\")","v":""},{"$f":"IFERROR(VLOOKUP(SortedTimeline[[#This Row],[RANK Sorted]],ProjectTimelineData[],3,0),\"\")","v":""},{"$f":"IFERROR(VLOOKUP(SortedTimeline[[#This Row],[RANK Sorted]],ProjectTimelineData[],4,0),\"\")","v":""},{"$f":"IFERROR(VLOOKUP(SortedTimeline[[#This Row],[RANK Sorted]],ProjectTimelineData[],5,0),\"\")","v":""}]
[{"$nulls":4},{"$f":"IFERROR(RANK(F275,ProjectTimelineData[RANK])+SUMPRODUCT(--(F275=ProjectTimelineData[RANK]),--(J275<ProjectTimelineData[NUM])),\"\")","v":""},{"$f":"IFERROR(RANK(ProjectTimelineData[[#This Row],[DATE]],ProjectTimelineData[DATE],1),\"\")","v":""},{"$f":"IFERROR(IF(ISBLANK(INDEX(ProjectDetails[#Data],Project_last_entry-Project_start_row-ProjectTimelineData[[#This Row],[NUM]]+1,1)),\"\",INDEX(ProjectDetails[#Data],Project_last_entry-Project_start_row-ProjectTimelineData[[#This Row],[NUM]]+1,1)),\"\")","v":""},{"$f":"IFERROR(IF(ISBLANK(INDEX(ProjectDetails[#Data],Project_last_entry-Project_start_row-ProjectTimelineData[[#This Row],[NUM]]+1,2)),\"\",INDEX(ProjectDetails[#Data],Project_last_entry-Project_start_row-ProjectTimelineData[[#This Row],[NUM]]+1,2)),\"\")","v":""},{"$f":"IFERROR(IF(ISBLANK(INDEX(ProjectDetails[#Data],Project_last_entry-Project_start_row-ProjectTimelineData[[#This Row],[NUM]]+1,3)),\"\",INDEX(ProjectDetails[#Data],Project_last_entry-Project_start_row-ProjectTimelineData[[#This Row],[NUM]]+1,3)),\"\")","v":""},{"$f":"IFERROR(IF(ISBLANK(INDEX(ProjectDetails[#Data],ROW(A270)+1,1)),\"\",IF($J274-1<=-1,\"\",$J274-1)),\"\")","v":""},null,null,{"$f":"IFERROR(ProjectTimelineData[[#This Row],[NUM]]+1,\"\")","v":""},{"$f":"IFERROR(VLOOKUP(SortedTimeline[[#This Row],[RANK Sorted]],ProjectTimelineData[],3,0),\"\")","v":""},{"$f":"IFERROR(VLOOKUP(SortedTimeline[[#This Row],[RANK Sorted]],ProjectTimelineData[],4,0),\"\")","v":""},{"$f":"IFERROR(VLOOKUP(SortedTimeline[[#This Row],[RANK Sorted]],ProjectTimelineData[],5,0),\"\")","v":""}]
[{"$nulls":4},{"$f":"IFERROR(RANK(F276,ProjectTimelineData[RANK])+SUMPRODUCT(--(F276=ProjectTimelineData[RANK]),--(J276<ProjectTimelineData[NUM])),\"\")","v":""},{"$f":"IFERROR(RANK(ProjectTimelineData[[#This Row],[DATE]],ProjectTimelineData[DATE],1),\"\")","v":""},{"$f":"IFERROR(IF(ISBLANK(INDEX(ProjectDetails[#Data],Project_last_entry-Project_start_row-ProjectTimelineData[[#This Row],[NUM]]+1,1)),\"\",INDEX(ProjectDetails[#Data],Project_last_entry-Project_start_row-ProjectTimelineData[[#This Row],[NUM]]+1,1)),\"\")","v":""},{"$f":"IFERROR(IF(ISBLANK(INDEX(ProjectDetails[#Data],Project_last_entry-Project_start_row-ProjectTimelineData[[#This Row],[NUM]]+1,2)),\"\",INDEX(ProjectDetails[#Data],Project_last_entry-Project_start_row-ProjectTimelineData[[#This Row],[NUM]]+1,2)),\"\")","v":""},{"$f":"IFERROR(IF(ISBLANK(INDEX(ProjectDetails[#Data],Project_last_entry-Project_start_row-ProjectTimelineData[[#This Row],[NUM]]+1,3)),\"\",INDEX(ProjectDetails[#Data],Project_last_entry-Project_start_row-ProjectTimelineData[[#This Row],[NUM]]+1,3)),\"\")","v":""},{"$f":"IFERROR(IF(ISBLANK(INDEX(ProjectDetails[#Data],ROW(A271)+1,1)),\"\",IF($J275-1<=-1,\"\",$J275-1)),\"\")","v":""},null,null,{"$f":"IFERROR(ProjectTimelineData[[#This Row],[NUM]]+1,\"\")","v":""},{"$f":"IFERROR(VLOOKUP(SortedTimeline[[#This Row],[RANK Sorted]],ProjectTimelineData[],3,0),\"\")","v":""},{"$f":"IFERROR(VLOOKUP(SortedTimeline[[#This Row],[RANK Sorted]],ProjectTimelineData[],4,0),\"\")","v":""},{"$f":"IFERROR(VLOOKUP(SortedTimeline[[#This Row],[RANK Sorted]],ProjectTimelineData[],5,0),\"\")","v":""}]
[{"$nulls":4},{"$f":"IFERROR(RANK(F277,ProjectTimelineData[RANK])+SUMPRODUCT(--(F277=ProjectTimelineData[RANK]),--(J277<ProjectTimelineData[NUM])),\"\")","v":""},{"$f":"IFERROR(RANK(ProjectTimelineData[[#This Row],[DATE]],ProjectTimelineData[DATE],1),\"\")","v":""},{"$f":"IFERROR(IF(ISBLANK(INDEX(ProjectDetails[#Data],Project_last_entry-Project_start_row-ProjectTimelineData[[#This Row],[NUM]]+1,1)),\"\",INDEX(ProjectDetails[#Data],Project_last_entry-Project_start_row-ProjectTimelineData[[#This Row],[NUM]]+1,1)),\"\")","v":""},{"$f":"IFERROR(IF(ISBLANK(INDEX(ProjectDetails[#Data],Project_last_entry-Project_start_row-ProjectTimelineData[[#This Row],[NUM]]+1,2)),\"\",INDEX(ProjectDetails[#Data],Project_last_entry-Project_start_row-ProjectTimelineData[[#This Row],[NUM]]+1,2)),\"\")","v":""},{"$f":"IFERROR(IF(ISBLANK(INDEX(ProjectDetails[#Data],Project_last_entry-Project_start_row-ProjectTimelineData[[#This Row],[NUM]]+1,3)),\"\",INDEX(ProjectDetails[#Data],Project_last_entry-Project_start_row-ProjectTimelineData[[#This Row],[NUM]]+1,3)),\"\")","v":""},{"$f":"IFERROR(IF(ISBLANK(INDEX(ProjectDetails[#Data],ROW(A272)+1,1)),\"\",IF($J276-1<=-1,\"\",$J276-1)),\"\")","v":""},null,null,{"$f":"IFERROR(ProjectTimelineData[[#This Row],[NUM]]+1,\"\")","v":""},{"$f":"IFERROR(VLOOKUP(SortedTimeline[[#This Row],[RANK Sorted]],ProjectTimelineData[],3,0),\"\")","v":""},{"$f":"IFERROR(VLOOKUP(SortedTimeline[[#This Row],[RANK Sorted]],ProjectTimelineData[],4,0),\"\")","v":""},{"$f":"IFERROR(VLOOKUP(SortedTimeline[[#This Row],[RANK Sorted]],ProjectTimelineData[],5,0),\"\")","v":""}]
[{"$nulls":4},{"$f":"IFERROR(RANK(F278,ProjectTimelineData[RANK])+SUMPRODUCT(--(F278=ProjectTimelineData[RANK]),--(J278<ProjectTimelineData[NUM])),\"\")","v":""},{"$f":"IFERROR(RANK(ProjectTimelineData[[#This Row],[DATE]],ProjectTimelineData[DATE],1),\"\")","v":""},{"$f":"IFERROR(IF(ISBLANK(INDEX(ProjectDetails[#Data],Project_last_entry-Project_start_row-ProjectTimelineData[[#This Row],[NUM]]+1,1)),\"\",INDEX(ProjectDetails[#Data],Project_last_entry-Project_start_row-ProjectTimelineData[[#This Row],[NUM]]+1,1)),\"\")","v":""},{"$f":"IFERROR(IF(ISBLANK(INDEX(ProjectDetails[#Data],Project_last_entry-Project_start_row-ProjectTimelineData[[#This Row],[NUM]]+1,2)),\"\",INDEX(ProjectDetails[#Data],Project_last_entry-Project_start_row-ProjectTimelineData[[#This Row],[NUM]]+1,2)),\"\")","v":""},{"$f":"IFERROR(IF(ISBLANK(INDEX(ProjectDetails[#Data],Project_last_entry-Project_start_row-ProjectTimelineData[[#This Row],[NUM]]+1,3)),\"\",INDEX(ProjectDetails[#Data],Project_last_entry-Project_start_row-ProjectTimelineData[[#This Row],[NUM]]+1,3)),\"\")","v":""},{"$f":"IFERROR(IF(ISBLANK(INDEX(ProjectDetails[#Data],ROW(A273)+1,1)),\"\",IF($J277-1<=-1,\"\",$J277-1)),\"\")","v":""},null,null,{"$f":"IFERROR(ProjectTimelineData[[#This Row],[NUM]]+1,\"\")","v":""},{"$f":"IFERROR(VLOOKUP(SortedTimeline[[#This Row],[RANK Sorted]],ProjectTimelineData[],3,0),\"\")","v":""},{"$f":"IFERROR(VLOOKUP(SortedTimeline[[#This Row],[RANK Sorted]],ProjectTimelineData[],4,0),\"\")","v":""},{"$f":"IFERROR(VLOOKUP(SortedTimeline[[#This Row],[RANK Sorted]],ProjectTimelineData[],5,0),\"\")","v":""}]
[{"$nulls":4},{"$f":"IFERROR(RANK(F279,ProjectTimelineData[RANK])+SUMPRODUCT(--(F279=ProjectTimelineData[RANK]),--(J279<ProjectTimelineData[NUM])),\"\")","v":""},{"$f":"IFERROR(RANK(ProjectTimelineData[[#This Row],[DATE]],ProjectTimelineData[DATE],1),\"\")","v":""},{"$f":"IFERROR(IF(ISBLANK(INDEX(ProjectDetails[#Data],Project_last_entry-Project_start_row-ProjectTimelineData[[#This Row],[NUM]]+1,1)),\"\",INDEX(ProjectDetails[#Data],Project_last_entry-Project_start_row-ProjectTimelineData[[#This Row],[NUM]]+1,1)),\"\")","v":""},{"$f":"IFERROR(IF(ISBLANK(INDEX(ProjectDetails[#Data],Project_last_entry-Project_start_row-ProjectTimelineData[[#This Row],[NUM]]+1,2)),\"\",INDEX(ProjectDetails[#Data],Project_last_entry-Project_start_row-ProjectTimelineData[[#This Row],[NUM]]+1,2)),\"\")","v":""},{"$f":"IFERROR(IF(ISBLANK(INDEX(ProjectDetails[#Data],Project_last_entry-Project_start_row-ProjectTimelineData[[#This Row],[NUM]]+1,3)),\"\",INDEX(ProjectDetails[#Data],Project_last_entry-Project_start_row-ProjectTimelineData[[#This Row],[NUM]]+1,3)),\"\")","v":""},{"$f":"IFERROR(IF(ISBLANK(INDEX(ProjectDetails[#Data],ROW(A274)+1,1)),\"\",IF($J278-1<=-1,\"\",$J278-1)),\"\")","v":""},null,null,{"$f":"IFERROR(ProjectTimelineData[[#This Row],[NUM]]+1,\"\")","v":""},{"$f":"IFERROR(VLOOKUP(SortedTimeline[[#This Row],[RANK Sorted]],ProjectTimelineData[],3,0),\"\")","v":""},{"$f":"IFERROR(VLOOKUP(SortedTimeline[[#This Row],[RANK Sorted]],ProjectTimelineData[],4,0),\"\")","v":""},{"$f":"IFERROR(VLOOKUP(SortedTimeline[[#This Row],[RANK Sorted]],ProjectTimelineData[],5,0),\"\")","v":""}]
[{"$nulls":4},{"$f":"IFERROR(RANK(F280,ProjectTimelineData[RANK])+SUMPRODUCT(--(F280=ProjectTimelineData[RANK]),--(J280<ProjectTimelineData[NUM])),\"\")","v":""},{"$f":"IFERROR(RANK(ProjectTimelineData[[#This Row],[DATE]],ProjectTimelineData[DATE],1),\"\")","v":""},{"$f":"IFERROR(IF(ISBLANK(INDEX(ProjectDetails[#Data],Project_last_entry-Project_start_row-ProjectTimelineData[[#This Row],[NUM]]+1,1)),\"\",INDEX(ProjectDetails[#Data],Project_last_entry-Project_start_row-ProjectTimelineData[[#This Row],[NUM]]+1,1)),\"\")","v":""},{"$f":"IFERROR(IF(ISBLANK(INDEX(ProjectDetails[#Data],Project_last_entry-Project_start_row-ProjectTimelineData[[#This Row],[NUM]]+1,2)),\"\",INDEX(ProjectDetails[#Data],Project_last_entry-Project_start_row-ProjectTimelineData[[#This Row],[NUM]]+1,2)),\"\")","v":""},{"$f":"IFERROR(IF(ISBLANK(INDEX(ProjectDetails[#Data],Project_last_entry-Project_start_row-ProjectTimelineData[[#This Row],[NUM]]+1,3)),\"\",INDEX(ProjectDetails[#Data],Project_last_entry-Project_start_row-ProjectTimelineData[[#This Row],[NUM]]+1,3)),\"\")","v":""},{"$f":"IFERROR(IF(ISBLANK(INDEX(ProjectDetails[#Data],ROW(A275)+1,1)),\"\",IF($J279-1<=-1,\"\",$J279-1)),\"\")","v":""},null,null,{"$f":"IFERROR(ProjectTimelineData[[#This Row],[NUM]]+1,\"\")","v":""},{"$f":"IFERROR(VLOOKUP(SortedTimeline[[#This Row],[RANK Sorted]],ProjectTimelineData[],3,0),\"\")","v":""},{"$f":"IFERROR(VLOOKUP(SortedTimeline[[#This Row],[RANK Sorted]],ProjectTimelineData[],4,0),\"\")","v":""},{"$f":"IFERROR(VLOOKUP(SortedTimeline[[#This Row],[RANK Sorted]],ProjectTimelineData[],5,0),\"\")","v":""}]
[{"$nulls":4},{"$f":"IFERROR(RANK(F281,ProjectTimelineData[RANK])+SUMPRODUCT(--(F281=ProjectTimelineData[RANK]),--(J281<ProjectTimelineData[NUM])),\"\")","v":""},{"$f":"IFERROR(RANK(ProjectTimelineData[[#This Row],[DATE]],ProjectTimelineData[DATE],1),\"\")","v":""},{"$f":"IFERROR(IF(ISBLANK(INDEX(ProjectDetails[#Data],Project_last_entry-Project_start_row-ProjectTimelineData[[#This Row],[NUM]]+1,1)),\"\",INDEX(ProjectDetails[#Data],Project_last_entry-Project_start_row-ProjectTimelineData[[#This Row],[NUM]]+1,1)),\"\")","v":""},{"$f":"IFERROR(IF(ISBLANK(INDEX(ProjectDetails[#Data],Project_last_entry-Project_start_row-ProjectTimelineData[[#This Row],[NUM]]+1,2)),\"\",INDEX(ProjectDetails[#Data],Project_last_entry-Project_start_row-ProjectTimelineData[[#This Row],[NUM]]+1,2)),\"\")","v":""},{"$f":"IFERROR(IF(ISBLANK(INDEX(ProjectDetails[#Data],Project_last_entry-Project_start_row-ProjectTimelineData[[#This Row],[NUM]]+1,3)),\"\",INDEX(ProjectDetails[#Data],Project_last_entry-Project_start_row-ProjectTimelineData[[#This Row],[NUM]]+1,3)),\"\")","v":""},{"$f":"IFERROR(IF(ISBLANK(INDEX(ProjectDetails[#Data],ROW(A276)+1,1)),\"\",IF($J280-1<=-1,\"\",$J280-1)),\"\")","v":""},null,null,{"$f":"IFERROR(ProjectTimelineData[[#This Row],[NUM]]+1,\"\")","v":""},{"$f":"IFERROR(VLOOKUP(SortedTimeline[[#This Row],[RANK Sorted]],ProjectTimelineData[],3,0),\"\")","v":""},{"$f":"IFERROR(VLOOKUP(SortedTimeline[[#This Row],[RANK Sorted]],ProjectTimelineData[],4,0),\"\")","v":""},{"$f":"IFERROR(VLOOKUP(SortedTimeline[[#This Row],[RANK Sorted]],ProjectTimelineData[],5,0),\"\")","v":""}]
[{"$nulls":4},{"$f":"IFERROR(RANK(F282,ProjectTimelineData[RANK])+SUMPRODUCT(--(F282=ProjectTimelineData[RANK]),--(J282<ProjectTimelineData[NUM])),\"\")","v":""},{"$f":"IFERROR(RANK(ProjectTimelineData[[#This Row],[DATE]],ProjectTimelineData[DATE],1),\"\")","v":""},{"$f":"IFERROR(IF(ISBLANK(INDEX(ProjectDetails[#Data],Project_last_entry-Project_start_row-ProjectTimelineData[[#This Row],[NUM]]+1,1)),\"\",INDEX(ProjectDetails[#Data],Project_last_entry-Project_start_row-ProjectTimelineData[[#This Row],[NUM]]+1,1)),\"\")","v":""},{"$f":"IFERROR(IF(ISBLANK(INDEX(ProjectDetails[#Data],Project_last_entry-Project_start_row-ProjectTimelineData[[#This Row],[NUM]]+1,2)),\"\",INDEX(ProjectDetails[#Data],Project_last_entry-Project_start_row-ProjectTimelineData[[#This Row],[NUM]]+1,2)),\"\")","v":""},{"$f":"IFERROR(IF(ISBLANK(INDEX(ProjectDetails[#Data],Project_last_entry-Project_start_row-ProjectTimelineData[[#This Row],[NUM]]+1,3)),\"\",INDEX(ProjectDetails[#Data],Project_last_entry-Project_start_row-ProjectTimelineData[[#This Row],[NUM]]+1,3)),\"\")","v":""},{"$f":"IFERROR(IF(ISBLANK(INDEX(ProjectDetails[#Data],ROW(A277)+1,1)),\"\",IF($J281-1<=-1,\"\",$J281-1)),\"\")","v":""},null,null,{"$f":"IFERROR(ProjectTimelineData[[#This Row],[NUM]]+1,\"\")","v":""},{"$f":"IFERROR(VLOOKUP(SortedTimeline[[#This Row],[RANK Sorted]],ProjectTimelineData[],3,0),\"\")","v":""},{"$f":"IFERROR(VLOOKUP(SortedTimeline[[#This Row],[RANK Sorted]],ProjectTimelineData[],4,0),\"\")","v":""},{"$f":"IFERROR(VLOOKUP(SortedTimeline[[#This Row],[RANK Sorted]],ProjectTimelineData[],5,0),\"\")","v":""}]
[{"$nulls":4},{"$f":"IFERROR(RANK(F283,ProjectTimelineData[RANK])+SUMPRODUCT(--(F283=ProjectTimelineData[RANK]),--(J283<ProjectTimelineData[NUM])),\"\")","v":""},{"$f":"IFERROR(RANK(ProjectTimelineData[[#This Row],[DATE]],ProjectTimelineData[DATE],1),\"\")","v":""},{"$f":"IFERROR(IF(ISBLANK(INDEX(ProjectDetails[#Data],Project_last_entry-Project_start_row-ProjectTimelineData[[#This Row],[NUM]]+1,1)),\"\",INDEX(ProjectDetails[#Data],Project_last_entry-Project_start_row-ProjectTimelineData[[#This Row],[NUM]]+1,1)),\"\")","v":""},{"$f":"IFERROR(IF(ISBLANK(INDEX(ProjectDetails[#Data],Project_last_entry-Project_start_row-ProjectTimelineData[[#This Row],[NUM]]+1,2)),\"\",INDEX(ProjectDetails[#Data],Project_last_entry-Project_start_row-ProjectTimelineData[[#This Row],[NUM]]+1,2)),\"\")","v":""},{"$f":"IFERROR(IF(ISBLANK(INDEX(ProjectDetails[#Data],Project_last_entry-Project_start_row-ProjectTimelineData[[#This Row],[NUM]]+1,3)),\"\",INDEX(ProjectDetails[#Data],Project_last_entry-Project_start_row-ProjectTimelineData[[#This Row],[NUM]]+1,3)),\"\")","v":""},{"$f":"IFERROR(IF(ISBLANK(INDEX(ProjectDetails[#Data],ROW(A278)+1,1)),\"\",IF($J282-1<=-1,\"\",$J282-1)),\"\")","v":""},null,null,{"$f":"IFERROR(ProjectTimelineData[[#This Row],[NUM]]+1,\"\")","v":""},{"$f":"IFERROR(VLOOKUP(SortedTimeline[[#This Row],[RANK Sorted]],ProjectTimelineData[],3,0),\"\")","v":""},{"$f":"IFERROR(VLOOKUP(SortedTimeline[[#This Row],[RANK Sorted]],ProjectTimelineData[],4,0),\"\")","v":""},{"$f":"IFERROR(VLOOKUP(SortedTimeline[[#This Row],[RANK Sorted]],ProjectTimelineData[],5,0),\"\")","v":""}]
[{"$nulls":4},{"$f":"IFERROR(RANK(F284,ProjectTimelineData[RANK])+SUMPRODUCT(--(F284=ProjectTimelineData[RANK]),--(J284<ProjectTimelineData[NUM])),\"\")","v":""},{"$f":"IFERROR(RANK(ProjectTimelineData[[#This Row],[DATE]],ProjectTimelineData[DATE],1),\"\")","v":""},{"$f":"IFERROR(IF(ISBLANK(INDEX(ProjectDetails[#Data],Project_last_entry-Project_start_row-ProjectTimelineData[[#This Row],[NUM]]+1,1)),\"\",INDEX(ProjectDetails[#Data],Project_last_entry-Project_start_row-ProjectTimelineData[[#This Row],[NUM]]+1,1)),\"\")","v":""},{"$f":"IFERROR(IF(ISBLANK(INDEX(ProjectDetails[#Data],Project_last_entry-Project_start_row-ProjectTimelineData[[#This Row],[NUM]]+1,2)),\"\",INDEX(ProjectDetails[#Data],Project_last_entry-Project_start_row-ProjectTimelineData[[#This Row],[NUM]]+1,2)),\"\")","v":""},{"$f":"IFERROR(IF(ISBLANK(INDEX(ProjectDetails[#Data],Project_last_entry-Project_start_row-ProjectTimelineData[[#This Row],[NUM]]+1,3)),\"\",INDEX(ProjectDetails[#Data],Project_last_entry-Project_start_row-ProjectTimelineData[[#This Row],[NUM]]+1,3)),\"\")","v":""},{"$f":"IFERROR(IF(ISBLANK(INDEX(ProjectDetails[#Data],ROW(A279)+1,1)),\"\",IF($J283-1<=-1,\"\",$J283-1)),\"\")","v":""},null,null,{"$f":"IFERROR(ProjectTimelineData[[#This Row],[NUM]]+1,\"\")","v":""},{"$f":"IFERROR(VLOOKUP(SortedTimeline[[#This Row],[RANK Sorted]],ProjectTimelineData[],3,0),\"\")","v":""},{"$f":"IFERROR(VLOOKUP(SortedTimeline[[#This Row],[RANK Sorted]],ProjectTimelineData[],4,0),\"\")","v":""},{"$f":"IFERROR(VLOOKUP(SortedTimeline[[#This Row],[RANK Sorted]],ProjectTimelineData[],5,0),\"\")","v":""}]
[{"$nulls":4},{"$f":"IFERROR(RANK(F285,ProjectTimelineData[RANK])+SUMPRODUCT(--(F285=ProjectTimelineData[RANK]),--(J285<ProjectTimelineData[NUM])),\"\")","v":""},{"$f":"IFERROR(RANK(ProjectTimelineData[[#This Row],[DATE]],ProjectTimelineData[DATE],1),\"\")","v":""},{"$f":"IFERROR(IF(ISBLANK(INDEX(ProjectDetails[#Data],Project_last_entry-Project_start_row-ProjectTimelineData[[#This Row],[NUM]]+1,1)),\"\",INDEX(ProjectDetails[#Data],Project_last_entry-Project_start_row-ProjectTimelineData[[#This Row],[NUM]]+1,1)),\"\")","v":""},{"$f":"IFERROR(IF(ISBLANK(INDEX(ProjectDetails[#Data],Project_last_entry-Project_start_row-ProjectTimelineData[[#This Row],[NUM]]+1,2)),\"\",INDEX(ProjectDetails[#Data],Project_last_entry-Project_start_row-ProjectTimelineData[[#This Row],[NUM]]+1,2)),\"\")","v":""},{"$f":"IFERROR(IF(ISBLANK(INDEX(ProjectDetails[#Data],Project_last_entry-Project_start_row-ProjectTimelineData[[#This Row],[NUM]]+1,3)),\"\",INDEX(ProjectDetails[#Data],Project_last_entry-Project_start_row-ProjectTimelineData[[#This Row],[NUM]]+1,3)),\"\")","v":""},{"$f":"IFERROR(IF(ISBLANK(INDEX(ProjectDetails[#Data],ROW(A280)+1,1)),\"\",IF($J284-1<=-1,\"\",$J284-1)),\"\")","v":""},null,null,{"$f":"IFERROR(ProjectTimelineData[[#This Row],[NUM]]+1,\"\")","v":""},{"$f":"IFERROR(VLOOKUP(SortedTimeline[[#This Row],[RANK Sorted]],ProjectTimelineData[],3,0),\"\")","v":""},{"$f":"IFERROR(VLOOKUP(SortedTimeline[[#This Row],[RANK Sorted]],ProjectTimelineData[],4,0),\"\")","v":""},{"$f":"IFERROR(VLOOKUP(SortedTimeline[[#This Row],[RANK Sorted]],ProjectTimelineData[],5,0),\"\")","v":""}]
[{"$nulls":4},{"$f":"IFERROR(RANK(F286,ProjectTimelineData[RANK])+SUMPRODUCT(--(F286=ProjectTimelineData[RANK]),--(J286<ProjectTimelineData[NUM])),\"\")","v":""},{"$f":"IFERROR(RANK(ProjectTimelineData[[#This Row],[DATE]],ProjectTimelineData[DATE],1),\"\")","v":""},{"$f":"IFERROR(IF(ISBLANK(INDEX(ProjectDetails[#Data],Project_last_entry-Project_start_row-ProjectTimelineData[[#This Row],[NUM]]+1,1)),\"\",INDEX(ProjectDetails[#Data],Project_last_entry-Project_start_row-ProjectTimelineData[[#This Row],[NUM]]+1,1)),\"\")","v":""},{"$f":"IFERROR(IF(ISBLANK(INDEX(ProjectDetails[#Data],Project_last_entry-Project_start_row-ProjectTimelineData[[#This Row],[NUM]]+1,2)),\"\",INDEX(ProjectDetails[#Data],Project_last_entry-Project_start_row-ProjectTimelineData[[#This Row],[NUM]]+1,2)),\"\")","v":""},{"$f":"IFERROR(IF(ISBLANK(INDEX(ProjectDetails[#Data],Project_last_entry-Project_start_row-ProjectTimelineData[[#This Row],[NUM]]+1,3)),\"\",INDEX(ProjectDetails[#Data],Project_last_entry-Project_start_row-ProjectTimelineData[[#This Row],[NUM]]+1,3)),\"\")","v":""},{"$f":"IFERROR(IF(ISBLANK(INDEX(ProjectDetails[#Data],ROW(A281)+1,1)),\"\",IF($J285-1<=-1,\"\",$J285-1)),\"\")","v":""},null,null,{"$f":"IFERROR(ProjectTimelineData[[#This Row],[NUM]]+1,\"\")","v":""},{"$f":"IFERROR(VLOOKUP(SortedTimeline[[#This Row],[RANK Sorted]],ProjectTimelineData[],3,0),\"\")","v":""},{"$f":"IFERROR(VLOOKUP(SortedTimeline[[#This Row],[RANK Sorted]],ProjectTimelineData[],4,0),\"\")","v":""},{"$f":"IFERROR(VLOOKUP(SortedTimeline[[#This Row],[RANK Sorted]],ProjectTimelineData[],5,0),\"\")","v":""}]
[{"$nulls":4},{"$f":"IFERROR(RANK(F287,ProjectTimelineData[RANK])+SUMPRODUCT(--(F287=ProjectTimelineData[RANK]),--(J287<ProjectTimelineData[NUM])),\"\")","v":""},{"$f":"IFERROR(RANK(ProjectTimelineData[[#This Row],[DATE]],ProjectTimelineData[DATE],1),\"\")","v":""},{"$f":"IFERROR(IF(ISBLANK(INDEX(ProjectDetails[#Data],Project_last_entry-Project_start_row-ProjectTimelineData[[#This Row],[NUM]]+1,1)),\"\",INDEX(ProjectDetails[#Data],Project_last_entry-Project_start_row-ProjectTimelineData[[#This Row],[NUM]]+1,1)),\"\")","v":""},{"$f":"IFERROR(IF(ISBLANK(INDEX(ProjectDetails[#Data],Project_last_entry-Project_start_row-ProjectTimelineData[[#This Row],[NUM]]+1,2)),\"\",INDEX(ProjectDetails[#Data],Project_last_entry-Project_start_row-ProjectTimelineData[[#This Row],[NUM]]+1,2)),\"\")","v":""},{"$f":"IFERROR(IF(ISBLANK(INDEX(ProjectDetails[#Data],Project_last_entry-Project_start_row-ProjectTimelineData[[#This Row],[NUM]]+1,3)),\"\",INDEX(ProjectDetails[#Data],Project_last_entry-Project_start_row-ProjectTimelineData[[#This Row],[NUM]]+1,3)),\"\")","v":""},{"$f":"IFERROR(IF(ISBLANK(INDEX(ProjectDetails[#Data],ROW(A282)+1,1)),\"\",IF($J286-1<=-1,\"\",$J286-1)),\"\")","v":""},null,null,{"$f":"IFERROR(ProjectTimelineData[[#This Row],[NUM]]+1,\"\")","v":""},{"$f":"IFERROR(VLOOKUP(SortedTimeline[[#This Row],[RANK Sorted]],ProjectTimelineData[],3,0),\"\")","v":""},{"$f":"IFERROR(VLOOKUP(SortedTimeline[[#This Row],[RANK Sorted]],ProjectTimelineData[],4,0),\"\")","v":""},{"$f":"IFERROR(VLOOKUP(SortedTimeline[[#This Row],[RANK Sorted]],ProjectTimelineData[],5,0),\"\")","v":""}]
[{"$nulls":4},{"$f":"IFERROR(RANK(F288,ProjectTimelineData[RANK])+SUMPRODUCT(--(F288=ProjectTimelineData[RANK]),--(J288<ProjectTimelineData[NUM])),\"\")","v":""},{"$f":"IFERROR(RANK(ProjectTimelineData[[#This Row],[DATE]],ProjectTimelineData[DATE],1),\"\")","v":""},{"$f":"IFERROR(IF(ISBLANK(INDEX(ProjectDetails[#Data],Project_last_entry-Project_start_row-ProjectTimelineData[[#This Row],[NUM]]+1,1)),\"\",INDEX(ProjectDetails[#Data],Project_last_entry-Project_start_row-ProjectTimelineData[[#This Row],[NUM]]+1,1)),\"\")","v":""},{"$f":"IFERROR(IF(ISBLANK(INDEX(ProjectDetails[#Data],Project_last_entry-Project_start_row-ProjectTimelineData[[#This Row],[NUM]]+1,2)),\"\",INDEX(ProjectDetails[#Data],Project_last_entry-Project_start_row-ProjectTimelineData[[#This Row],[NUM]]+1,2)),\"\")","v":""},{"$f":"IFERROR(IF(ISBLANK(INDEX(ProjectDetails[#Data],Project_last_entry-Project_start_row-ProjectTimelineData[[#This Row],[NUM]]+1,3)),\"\",INDEX(ProjectDetails[#Data],Project_last_entry-Project_start_row-ProjectTimelineData[[#This Row],[NUM]]+1,3)),\"\")","v":""},{"$f":"IFERROR(IF(ISBLANK(INDEX(ProjectDetails[#Data],ROW(A283)+1,1)),\"\",IF($J287-1<=-1,\"\",$J287-1)),\"\")","v":""},null,null,{"$f":"IFERROR(ProjectTimelineData[[#This Row],[NUM]]+1,\"\")","v":""},{"$f":"IFERROR(VLOOKUP(SortedTimeline[[#This Row],[RANK Sorted]],ProjectTimelineData[],3,0),\"\")","v":""},{"$f":"IFERROR(VLOOKUP(SortedTimeline[[#This Row],[RANK Sorted]],ProjectTimelineData[],4,0),\"\")","v":""},{"$f":"IFERROR(VLOOKUP(SortedTimeline[[#This Row],[RANK Sorted]],ProjectTimelineData[],5,0),\"\")","v":""}]
[{"$nulls":4},{"$f":"IFERROR(RANK(F289,ProjectTimelineData[RANK])+SUMPRODUCT(--(F289=ProjectTimelineData[RANK]),--(J289<ProjectTimelineData[NUM])),\"\")","v":""},{"$f":"IFERROR(RANK(ProjectTimelineData[[#This Row],[DATE]],ProjectTimelineData[DATE],1),\"\")","v":""},{"$f":"IFERROR(IF(ISBLANK(INDEX(ProjectDetails[#Data],Project_last_entry-Project_start_row-ProjectTimelineData[[#This Row],[NUM]]+1,1)),\"\",INDEX(ProjectDetails[#Data],Project_last_entry-Project_start_row-ProjectTimelineData[[#This Row],[NUM]]+1,1)),\"\")","v":""},{"$f":"IFERROR(IF(ISBLANK(INDEX(ProjectDetails[#Data],Project_last_entry-Project_start_row-ProjectTimelineData[[#This Row],[NUM]]+1,2)),\"\",INDEX(ProjectDetails[#Data],Project_last_entry-Project_start_row-ProjectTimelineData[[#This Row],[NUM]]+1,2)),\"\")","v":""},{"$f":"IFERROR(IF(ISBLANK(INDEX(ProjectDetails[#Data],Project_last_entry-Project_start_row-ProjectTimelineData[[#This Row],[NUM]]+1,3)),\"\",INDEX(ProjectDetails[#Data],Project_last_entry-Project_start_row-ProjectTimelineData[[#This Row],[NUM]]+1,3)),\"\")","v":""},{"$f":"IFERROR(IF(ISBLANK(INDEX(ProjectDetails[#Data],ROW(A284)+1,1)),\"\",IF($J288-1<=-1,\"\",$J288-1)),\"\")","v":""},null,null,{"$f":"IFERROR(ProjectTimelineData[[#This Row],[NUM]]+1,\"\")","v":""},{"$f":"IFERROR(VLOOKUP(SortedTimeline[[#This Row],[RANK Sorted]],ProjectTimelineData[],3,0),\"\")","v":""},{"$f":"IFERROR(VLOOKUP(SortedTimeline[[#This Row],[RANK Sorted]],ProjectTimelineData[],4,0),\"\")","v":""},{"$f":"IFERROR(VLOOKUP(SortedTimeline[[#This Row],[RANK Sorted]],ProjectTimelineData[],5,0),\"\")","v":""}]
[{"$nulls":4},{"$f":"IFERROR(RANK(F290,ProjectTimelineData[RANK])+SUMPRODUCT(--(F290=ProjectTimelineData[RANK]),--(J290<ProjectTimelineData[NUM])),\"\")","v":""},{"$f":"IFERROR(RANK(ProjectTimelineData[[#This Row],[DATE]],ProjectTimelineData[DATE],1),\"\")","v":""},{"$f":"IFERROR(IF(ISBLANK(INDEX(ProjectDetails[#Data],Project_last_entry-Project_start_row-ProjectTimelineData[[#This Row],[NUM]]+1,1)),\"\",INDEX(ProjectDetails[#Data],Project_last_entry-Project_start_row-ProjectTimelineData[[#This Row],[NUM]]+1,1)),\"\")","v":""},{"$f":"IFERROR(IF(ISBLANK(INDEX(ProjectDetails[#Data],Project_last_entry-Project_start_row-ProjectTimelineData[[#This Row],[NUM]]+1,2)),\"\",INDEX(ProjectDetails[#Data],Project_last_entry-Project_start_row-ProjectTimelineData[[#This Row],[NUM]]+1,2)),\"\")","v":""},{"$f":"IFERROR(IF(ISBLANK(INDEX(ProjectDetails[#Data],Project_last_entry-Project_start_row-ProjectTimelineData[[#This Row],[NUM]]+1,3)),\"\",INDEX(ProjectDetails[#Data],Project_last_entry-Project_start_row-ProjectTimelineData[[#This Row],[NUM]]+1,3)),\"\")","v":""},{"$f":"IFERROR(IF(ISBLANK(INDEX(ProjectDetails[#Data],ROW(A285)+1,1)),\"\",IF($J289-1<=-1,\"\",$J289-1)),\"\")","v":""},null,null,{"$f":"IFERROR(ProjectTimelineData[[#This Row],[NUM]]+1,\"\")","v":""},{"$f":"IFERROR(VLOOKUP(SortedTimeline[[#This Row],[RANK Sorted]],ProjectTimelineData[],3,0),\"\")","v":""},{"$f":"IFERROR(VLOOKUP(SortedTimeline[[#This Row],[RANK Sorted]],ProjectTimelineData[],4,0),\"\")","v":""},{"$f":"IFERROR(VLOOKUP(SortedTimeline[[#This Row],[RANK Sorted]],ProjectTimelineData[],5,0),\"\")","v":""}]
[{"$nulls":4},{"$f":"IFERROR(RANK(F291,ProjectTimelineData[RANK])+SUMPRODUCT(--(F291=ProjectTimelineData[RANK]),--(J291<ProjectTimelineData[NUM])),\"\")","v":""},{"$f":"IFERROR(RANK(ProjectTimelineData[[#This Row],[DATE]],ProjectTimelineData[DATE],1),\"\")","v":""},{"$f":"IFERROR(IF(ISBLANK(INDEX(ProjectDetails[#Data],Project_last_entry-Project_start_row-ProjectTimelineData[[#This Row],[NUM]]+1,1)),\"\",INDEX(ProjectDetails[#Data],Project_last_entry-Project_start_row-ProjectTimelineData[[#This Row],[NUM]]+1,1)),\"\")","v":""},{"$f":"IFERROR(IF(ISBLANK(INDEX(ProjectDetails[#Data],Project_last_entry-Project_start_row-ProjectTimelineData[[#This Row],[NUM]]+1,2)),\"\",INDEX(ProjectDetails[#Data],Project_last_entry-Project_start_row-ProjectTimelineData[[#This Row],[NUM]]+1,2)),\"\")","v":""},{"$f":"IFERROR(IF(ISBLANK(INDEX(ProjectDetails[#Data],Project_last_entry-Project_start_row-ProjectTimelineData[[#This Row],[NUM]]+1,3)),\"\",INDEX(ProjectDetails[#Data],Project_last_entry-Project_start_row-ProjectTimelineData[[#This Row],[NUM]]+1,3)),\"\")","v":""},{"$f":"IFERROR(IF(ISBLANK(INDEX(ProjectDetails[#Data],ROW(A286)+1,1)),\"\",IF($J290-1<=-1,\"\",$J290-1)),\"\")","v":""},null,null,{"$f":"IFERROR(ProjectTimelineData[[#This Row],[NUM]]+1,\"\")","v":""},{"$f":"IFERROR(VLOOKUP(SortedTimeline[[#This Row],[RANK Sorted]],ProjectTimelineData[],3,0),\"\")","v":""},{"$f":"IFERROR(VLOOKUP(SortedTimeline[[#This Row],[RANK Sorted]],ProjectTimelineData[],4,0),\"\")","v":""},{"$f":"IFERROR(VLOOKUP(SortedTimeline[[#This Row],[RANK Sorted]],ProjectTimelineData[],5,0),\"\")","v":""}]
[{"$nulls":4},{"$f":"IFERROR(RANK(F292,ProjectTimelineData[RANK])+SUMPRODUCT(--(F292=ProjectTimelineData[RANK]),--(J292<ProjectTimelineData[NUM])),\"\")","v":""},{"$f":"IFERROR(RANK(ProjectTimelineData[[#This Row],[DATE]],ProjectTimelineData[DATE],1),\"\")","v":""},{"$f":"IFERROR(IF(ISBLANK(INDEX(ProjectDetails[#Data],Project_last_entry-Project_start_row-ProjectTimelineData[[#This Row],[NUM]]+1,1)),\"\",INDEX(ProjectDetails[#Data],Project_last_entry-Project_start_row-ProjectTimelineData[[#This Row],[NUM]]+1,1)),\"\")","v":""},{"$f":"IFERROR(IF(ISBLANK(INDEX(ProjectDetails[#Data],Project_last_entry-Project_start_row-ProjectTimelineData[[#This Row],[NUM]]+1,2)),\"\",INDEX(ProjectDetails[#Data],Project_last_entry-Project_start_row-ProjectTimelineData[[#This Row],[NUM]]+1,2)),\"\")","v":""},{"$f":"IFERROR(IF(ISBLANK(INDEX(ProjectDetails[#Data],Project_last_entry-Project_start_row-ProjectTimelineData[[#This Row],[NUM]]+1,3)),\"\",INDEX(ProjectDetails[#Data],Project_last_entry-Project_start_row-ProjectTimelineData[[#This Row],[NUM]]+1,3)),\"\")","v":""},{"$f":"IFERROR(IF(ISBLANK(INDEX(ProjectDetails[#Data],ROW(A287)+1,1)),\"\",IF($J291-1<=-1,\"\",$J291-1)),\"\")","v":""},null,null,{"$f":"IFERROR(ProjectTimelineData[[#This Row],[NUM]]+1,\"\")","v":""},{"$f":"IFERROR(VLOOKUP(SortedTimeline[[#This Row],[RANK Sorted]],ProjectTimelineData[],3,0),\"\")","v":""},{"$f":"IFERROR(VLOOKUP(SortedTimeline[[#This Row],[RANK Sorted]],ProjectTimelineData[],4,0),\"\")","v":""},{"$f":"IFERROR(VLOOKUP(SortedTimeline[[#This Row],[RANK Sorted]],ProjectTimelineData[],5,0),\"\")","v":""}]
[{"$nulls":4},{"$f":"IFERROR(RANK(F293,ProjectTimelineData[RANK])+SUMPRODUCT(--(F293=ProjectTimelineData[RANK]),--(J293<ProjectTimelineData[NUM])),\"\")","v":""},{"$f":"IFERROR(RANK(ProjectTimelineData[[#This Row],[DATE]],ProjectTimelineData[DATE],1),\"\")","v":""},{"$f":"IFERROR(IF(ISBLANK(INDEX(ProjectDetails[#Data],Project_last_entry-Project_start_row-ProjectTimelineData[[#This Row],[NUM]]+1,1)),\"\",INDEX(ProjectDetails[#Data],Project_last_entry-Project_start_row-ProjectTimelineData[[#This Row],[NUM]]+1,1)),\"\")","v":""},{"$f":"IFERROR(IF(ISBLANK(INDEX(ProjectDetails[#Data],Project_last_entry-Project_start_row-ProjectTimelineData[[#This Row],[NUM]]+1,2)),\"\",INDEX(ProjectDetails[#Data],Project_last_entry-Project_start_row-ProjectTimelineData[[#This Row],[NUM]]+1,2)),\"\")","v":""},{"$f":"IFERROR(IF(ISBLANK(INDEX(ProjectDetails[#Data],Project_last_entry-Project_start_row-ProjectTimelineData[[#This Row],[NUM]]+1,3)),\"\",INDEX(ProjectDetails[#Data],Project_last_entry-Project_start_row-ProjectTimelineData[[#This Row],[NUM]]+1,3)),\"\")","v":""},{"$f":"IFERROR(IF(ISBLANK(INDEX(ProjectDetails[#Data],ROW(A288)+1,1)),\"\",IF($J292-1<=-1,\"\",$J292-1)),\"\")","v":""},null,null,{"$f":"IFERROR(ProjectTimelineData[[#This Row],[NUM]]+1,\"\")","v":""},{"$f":"IFERROR(VLOOKUP(SortedTimeline[[#This Row],[RANK Sorted]],ProjectTimelineData[],3,0),\"\")","v":""},{"$f":"IFERROR(VLOOKUP(SortedTimeline[[#This Row],[RANK Sorted]],ProjectTimelineData[],4,0),\"\")","v":""},{"$f":"IFERROR(VLOOKUP(SortedTimeline[[#This Row],[RANK Sorted]],ProjectTimelineData[],5,0),\"\")","v":""}]
[{"$nulls":4},{"$f":"IFERROR(RANK(F294,ProjectTimelineData[RANK])+SUMPRODUCT(--(F294=ProjectTimelineData[RANK]),--(J294<ProjectTimelineData[NUM])),\"\")","v":""},{"$f":"IFERROR(RANK(ProjectTimelineData[[#This Row],[DATE]],ProjectTimelineData[DATE],1),\"\")","v":""},{"$f":"IFERROR(IF(ISBLANK(INDEX(ProjectDetails[#Data],Project_last_entry-Project_start_row-ProjectTimelineData[[#This Row],[NUM]]+1,1)),\"\",INDEX(ProjectDetails[#Data],Project_last_entry-Project_start_row-ProjectTimelineData[[#This Row],[NUM]]+1,1)),\"\")","v":""},{"$f":"IFERROR(IF(ISBLANK(INDEX(ProjectDetails[#Data],Project_last_entry-Project_start_row-ProjectTimelineData[[#This Row],[NUM]]+1,2)),\"\",INDEX(ProjectDetails[#Data],Project_last_entry-Project_start_row-ProjectTimelineData[[#This Row],[NUM]]+1,2)),\"\")","v":""},{"$f":"IFERROR(IF(ISBLANK(INDEX(ProjectDetails[#Data],Project_last_entry-Project_start_row-ProjectTimelineData[[#This Row],[NUM]]+1,3)),\"\",INDEX(ProjectDetails[#Data],Project_last_entry-Project_start_row-ProjectTimelineData[[#This Row],[NUM]]+1,3)),\"\")","v":""},{"$f":"IFERROR(IF(ISBLANK(INDEX(ProjectDetails[#Data],ROW(A289)+1,1)),\"\",IF($J293-1<=-1,\"\",$J293-1)),\"\")","v":""},null,null,{"$f":"IFERROR(ProjectTimelineData[[#This Row],[NUM]]+1,\"\")","v":""},{"$f":"IFERROR(VLOOKUP(SortedTimeline[[#This Row],[RANK Sorted]],ProjectTimelineData[],3,0),\"\")","v":""},{"$f":"IFERROR(VLOOKUP(SortedTimeline[[#This Row],[RANK Sorted]],ProjectTimelineData[],4,0),\"\")","v":""},{"$f":"IFERROR(VLOOKUP(SortedTimeline[[#This Row],[RANK Sorted]],ProjectTimelineData[],5,0),\"\")","v":""}]
[{"$nulls":4},{"$f":"IFERROR(RANK(F295,ProjectTimelineData[RANK])+SUMPRODUCT(--(F295=ProjectTimelineData[RANK]),--(J295<ProjectTimelineData[NUM])),\"\")","v":""},{"$f":"IFERROR(RANK(ProjectTimelineData[[#This Row],[DATE]],ProjectTimelineData[DATE],1),\"\")","v":""},{"$f":"IFERROR(IF(ISBLANK(INDEX(ProjectDetails[#Data],Project_last_entry-Project_start_row-ProjectTimelineData[[#This Row],[NUM]]+1,1)),\"\",INDEX(ProjectDetails[#Data],Project_last_entry-Project_start_row-ProjectTimelineData[[#This Row],[NUM]]+1,1)),\"\")","v":""},{"$f":"IFERROR(IF(ISBLANK(INDEX(ProjectDetails[#Data],Project_last_entry-Project_start_row-ProjectTimelineData[[#This Row],[NUM]]+1,2)),\"\",INDEX(ProjectDetails[#Data],Project_last_entry-Project_start_row-ProjectTimelineData[[#This Row],[NUM]]+1,2)),\"\")","v":""},{"$f":"IFERROR(IF(ISBLANK(INDEX(ProjectDetails[#Data],Project_last_entry-Project_start_row-ProjectTimelineData[[#This Row],[NUM]]+1,3)),\"\",INDEX(ProjectDetails[#Data],Project_last_entry-Project_start_row-ProjectTimelineData[[#This Row],[NUM]]+1,3)),\"\")","v":""},{"$f":"IFERROR(IF(ISBLANK(INDEX(ProjectDetails[#Data],ROW(A290)+1,1)),\"\",IF($J294-1<=-1,\"\",$J294-1)),\"\")","v":""},null,null,{"$f":"IFERROR(ProjectTimelineData[[#This Row],[NUM]]+1,\"\")","v":""},{"$f":"IFERROR(VLOOKUP(SortedTimeline[[#This Row],[RANK Sorted]],ProjectTimelineData[],3,0),\"\")","v":""},{"$f":"IFERROR(VLOOKUP(SortedTimeline[[#This Row],[RANK Sorted]],ProjectTimelineData[],4,0),\"\")","v":""},{"$f":"IFERROR(VLOOKUP(SortedTimeline[[#This Row],[RANK Sorted]],ProjectTimelineData[],5,0),\"\")","v":""}]
[{"$nulls":4},{"$f":"IFERROR(RANK(F296,ProjectTimelineData[RANK])+SUMPRODUCT(--(F296=ProjectTimelineData[RANK]),--(J296<ProjectTimelineData[NUM])),\"\")","v":""},{"$f":"IFERROR(RANK(ProjectTimelineData[[#This Row],[DATE]],ProjectTimelineData[DATE],1),\"\")","v":""},{"$f":"IFERROR(IF(ISBLANK(INDEX(ProjectDetails[#Data],Project_last_entry-Project_start_row-ProjectTimelineData[[#This Row],[NUM]]+1,1)),\"\",INDEX(ProjectDetails[#Data],Project_last_entry-Project_start_row-ProjectTimelineData[[#This Row],[NUM]]+1,1)),\"\")","v":""},{"$f":"IFERROR(IF(ISBLANK(INDEX(ProjectDetails[#Data],Project_last_entry-Project_start_row-ProjectTimelineData[[#This Row],[NUM]]+1,2)),\"\",INDEX(ProjectDetails[#Data],Project_last_entry-Project_start_row-ProjectTimelineData[[#This Row],[NUM]]+1,2)),\"\")","v":""},{"$f":"IFERROR(IF(ISBLANK(INDEX(ProjectDetails[#Data],Project_last_entry-Project_start_row-ProjectTimelineData[[#This Row],[NUM]]+1,3)),\"\",INDEX(ProjectDetails[#Data],Project_last_entry-Project_start_row-ProjectTimelineData[[#This Row],[NUM]]+1,3)),\"\")","v":""},{"$f":"IFERROR(IF(ISBLANK(INDEX(ProjectDetails[#Data],ROW(A291)+1,1)),\"\",IF($J295-1<=-1,\"\",$J295-1)),\"\")","v":""},null,null,{"$f":"IFERROR(ProjectTimelineData[[#This Row],[NUM]]+1,\"\")","v":""},{"$f":"IFERROR(VLOOKUP(SortedTimeline[[#This Row],[RANK Sorted]],ProjectTimelineData[],3,0),\"\")","v":""},{"$f":"IFERROR(VLOOKUP(SortedTimeline[[#This Row],[RANK Sorted]],ProjectTimelineData[],4,0),\"\")","v":""},{"$f":"IFERROR(VLOOKUP(SortedTimeline[[#This Row],[RANK Sorted]],ProjectTimelineData[],5,0),\"\")","v":""}]
[{"$nulls":4},{"$f":"IFERROR(RANK(F297,ProjectTimelineData[RANK])+SUMPRODUCT(--(F297=ProjectTimelineData[RANK]),--(J297<ProjectTimelineData[NUM])),\"\")","v":""},{"$f":"IFERROR(RANK(ProjectTimelineData[[#This Row],[DATE]],ProjectTimelineData[DATE],1),\"\")","v":""},{"$f":"IFERROR(IF(ISBLANK(INDEX(ProjectDetails[#Data],Project_last_entry-Project_start_row-ProjectTimelineData[[#This Row],[NUM]]+1,1)),\"\",INDEX(ProjectDetails[#Data],Project_last_entry-Project_start_row-ProjectTimelineData[[#This Row],[NUM]]+1,1)),\"\")","v":""},{"$f":"IFERROR(IF(ISBLANK(INDEX(ProjectDetails[#Data],Project_last_entry-Project_start_row-ProjectTimelineData[[#This Row],[NUM]]+1,2)),\"\",INDEX(ProjectDetails[#Data],Project_last_entry-Project_start_row-ProjectTimelineData[[#This Row],[NUM]]+1,2)),\"\")","v":""},{"$f":"IFERROR(IF(ISBLANK(INDEX(ProjectDetails[#Data],Project_last_entry-Project_start_row-ProjectTimelineData[[#This Row],[NUM]]+1,3)),\"\",INDEX(ProjectDetails[#Data],Project_last_entry-Project_start_row-ProjectTimelineData[[#This Row],[NUM]]+1,3)),\"\")","v":""},{"$f":"IFERROR(IF(ISBLANK(INDEX(ProjectDetails[#Data],ROW(A292)+1,1)),\"\",IF($J296-1<=-1,\"\",$J296-1)),\"\")","v":""},null,null,{"$f":"IFERROR(ProjectTimelineData[[#This Row],[NUM]]+1,\"\")","v":""},{"$f":"IFERROR(VLOOKUP(SortedTimeline[[#This Row],[RANK Sorted]],ProjectTimelineData[],3,0),\"\")","v":""},{"$f":"IFERROR(VLOOKUP(SortedTimeline[[#This Row],[RANK Sorted]],ProjectTimelineData[],4,0),\"\")","v":""},{"$f":"IFERROR(VLOOKUP(SortedTimeline[[#This Row],[RANK Sorted]],ProjectTimelineData[],5,0),\"\")","v":""}]
[{"$nulls":4},{"$f":"IFERROR(RANK(F298,ProjectTimelineData[RANK])+SUMPRODUCT(--(F298=ProjectTimelineData[RANK]),--(J298<ProjectTimelineData[NUM])),\"\")","v":""},{"$f":"IFERROR(RANK(ProjectTimelineData[[#This Row],[DATE]],ProjectTimelineData[DATE],1),\"\")","v":""},{"$f":"IFERROR(IF(ISBLANK(INDEX(ProjectDetails[#Data],Project_last_entry-Project_start_row-ProjectTimelineData[[#This Row],[NUM]]+1,1)),\"\",INDEX(ProjectDetails[#Data],Project_last_entry-Project_start_row-ProjectTimelineData[[#This Row],[NUM]]+1,1)),\"\")","v":""},{"$f":"IFERROR(IF(ISBLANK(INDEX(ProjectDetails[#Data],Project_last_entry-Project_start_row-ProjectTimelineData[[#This Row],[NUM]]+1,2)),\"\",INDEX(ProjectDetails[#Data],Project_last_entry-Project_start_row-ProjectTimelineData[[#This Row],[NUM]]+1,2)),\"\")","v":""},{"$f":"IFERROR(IF(ISBLANK(INDEX(ProjectDetails[#Data],Project_last_entry-Project_start_row-ProjectTimelineData[[#This Row],[NUM]]+1,3)),\"\",INDEX(ProjectDetails[#Data],Project_last_entry-Project_start_row-ProjectTimelineData[[#This Row],[NUM]]+1,3)),\"\")","v":""},{"$f":"IFERROR(IF(ISBLANK(INDEX(ProjectDetails[#Data],ROW(A293)+1,1)),\"\",IF($J297-1<=-1,\"\",$J297-1)),\"\")","v":""},null,null,{"$f":"IFERROR(ProjectTimelineData[[#This Row],[NUM]]+1,\"\")","v":""},{"$f":"IFERROR(VLOOKUP(SortedTimeline[[#This Row],[RANK Sorted]],ProjectTimelineData[],3,0),\"\")","v":""},{"$f":"IFERROR(VLOOKUP(SortedTimeline[[#This Row],[RANK Sorted]],ProjectTimelineData[],4,0),\"\")","v":""},{"$f":"IFERROR(VLOOKUP(SortedTimeline[[#This Row],[RANK Sorted]],ProjectTimelineData[],5,0),\"\")","v":""}]
[{"$nulls":4},{"$f":"IFERROR(RANK(F299,ProjectTimelineData[RANK])+SUMPRODUCT(--(F299=ProjectTimelineData[RANK]),--(J299<ProjectTimelineData[NUM])),\"\")","v":""},{"$f":"IFERROR(RANK(ProjectTimelineData[[#This Row],[DATE]],ProjectTimelineData[DATE],1),\"\")","v":""},{"$f":"IFERROR(IF(ISBLANK(INDEX(ProjectDetails[#Data],Project_last_entry-Project_start_row-ProjectTimelineData[[#This Row],[NUM]]+1,1)),\"\",INDEX(ProjectDetails[#Data],Project_last_entry-Project_start_row-ProjectTimelineData[[#This Row],[NUM]]+1,1)),\"\")","v":""},{"$f":"IFERROR(IF(ISBLANK(INDEX(ProjectDetails[#Data],Project_last_entry-Project_start_row-ProjectTimelineData[[#This Row],[NUM]]+1,2)),\"\",INDEX(ProjectDetails[#Data],Project_last_entry-Project_start_row-ProjectTimelineData[[#This Row],[NUM]]+1,2)),\"\")","v":""},{"$f":"IFERROR(IF(ISBLANK(INDEX(ProjectDetails[#Data],Project_last_entry-Project_start_row-ProjectTimelineData[[#This Row],[NUM]]+1,3)),\"\",INDEX(ProjectDetails[#Data],Project_last_entry-Project_start_row-ProjectTimelineData[[#This Row],[NUM]]+1,3)),\"\")","v":""},{"$f":"IFERROR(IF(ISBLANK(INDEX(ProjectDetails[#Data],ROW(A294)+1,1)),\"\",IF($J298-1<=-1,\"\",$J298-1)),\"\")","v":""},null,null,{"$f":"IFERROR(ProjectTimelineData[[#This Row],[NUM]]+1,\"\")","v":""},{"$f":"IFERROR(VLOOKUP(SortedTimeline[[#This Row],[RANK Sorted]],ProjectTimelineData[],3,0),\"\")","v":""},{"$f":"IFERROR(VLOOKUP(SortedTimeline[[#This Row],[RANK Sorted]],ProjectTimelineData[],4,0),\"\")","v":""},{"$f":"IFERROR(VLOOKUP(SortedTimeline[[#This Row],[RANK Sorted]],ProjectTimelineData[],5,0),\"\")","v":""}]
[{"$nulls":4},{"$f":"IFERROR(RANK(F300,ProjectTimelineData[RANK])+SUMPRODUCT(--(F300=ProjectTimelineData[RANK]),--(J300<ProjectTimelineData[NUM])),\"\")","v":""},{"$f":"IFERROR(RANK(ProjectTimelineData[[#This Row],[DATE]],ProjectTimelineData[DATE],1),\"\")","v":""},{"$f":"IFERROR(IF(ISBLANK(INDEX(ProjectDetails[#Data],Project_last_entry-Project_start_row-ProjectTimelineData[[#This Row],[NUM]]+1,1)),\"\",INDEX(ProjectDetails[#Data],Project_last_entry-Project_start_row-ProjectTimelineData[[#This Row],[NUM]]+1,1)),\"\")","v":""},{"$f":"IFERROR(IF(ISBLANK(INDEX(ProjectDetails[#Data],Project_last_entry-Project_start_row-ProjectTimelineData[[#This Row],[NUM]]+1,2)),\"\",INDEX(ProjectDetails[#Data],Project_last_entry-Project_start_row-ProjectTimelineData[[#This Row],[NUM]]+1,2)),\"\")","v":""},{"$f":"IFERROR(IF(ISBLANK(INDEX(ProjectDetails[#Data],Project_last_entry-Project_start_row-ProjectTimelineData[[#This Row],[NUM]]+1,3)),\"\",INDEX(ProjectDetails[#Data],Project_last_entry-Project_start_row-ProjectTimelineData[[#This Row],[NUM]]+1,3)),\"\")","v":""},{"$f":"IFERROR(IF(ISBLANK(INDEX(ProjectDetails[#Data],ROW(A295)+1,1)),\"\",IF($J299-1<=-1,\"\",$J299-1)),\"\")","v":""},null,null,{"$f":"IFERROR(ProjectTimelineData[[#This Row],[NUM]]+1,\"\")","v":""},{"$f":"IFERROR(VLOOKUP(SortedTimeline[[#This Row],[RANK Sorted]],ProjectTimelineData[],3,0),\"\")","v":""},{"$f":"IFERROR(VLOOKUP(SortedTimeline[[#This Row],[RANK Sorted]],ProjectTimelineData[],4,0),\"\")","v":""},{"$f":"IFERROR(VLOOKUP(SortedTimeline[[#This Row],[RANK Sorted]],ProjectTimelineData[],5,0),\"\")","v":""}]
[{"$nulls":4},{"$f":"IFERROR(RANK(F301,ProjectTimelineData[RANK])+SUMPRODUCT(--(F301=ProjectTimelineData[RANK]),--(J301<ProjectTimelineData[NUM])),\"\")","v":""},{"$f":"IFERROR(RANK(ProjectTimelineData[[#This Row],[DATE]],ProjectTimelineData[DATE],1),\"\")","v":""},{"$f":"IFERROR(IF(ISBLANK(INDEX(ProjectDetails[#Data],Project_last_entry-Project_start_row-ProjectTimelineData[[#This Row],[NUM]]+1,1)),\"\",INDEX(ProjectDetails[#Data],Project_last_entry-Project_start_row-ProjectTimelineData[[#This Row],[NUM]]+1,1)),\"\")","v":""},{"$f":"IFERROR(IF(ISBLANK(INDEX(ProjectDetails[#Data],Project_last_entry-Project_start_row-ProjectTimelineData[[#This Row],[NUM]]+1,2)),\"\",INDEX(ProjectDetails[#Data],Project_last_entry-Project_start_row-ProjectTimelineData[[#This Row],[NUM]]+1,2)),\"\")","v":""},{"$f":"IFERROR(IF(ISBLANK(INDEX(ProjectDetails[#Data],Project_last_entry-Project_start_row-ProjectTimelineData[[#This Row],[NUM]]+1,3)),\"\",INDEX(ProjectDetails[#Data],Project_last_entry-Project_start_row-ProjectTimelineData[[#This Row],[NUM]]+1,3)),\"\")","v":""},{"$f":"IFERROR(IF(ISBLANK(INDEX(ProjectDetails[#Data],ROW(A296)+1,1)),\"\",IF($J300-1<=-1,\"\",$J300-1)),\"\")","v":""},null,null,{"$f":"IFERROR(ProjectTimelineData[[#This Row],[NUM]]+1,\"\")","v":""},{"$f":"IFERROR(VLOOKUP(SortedTimeline[[#This Row],[RANK Sorted]],ProjectTimelineData[],3,0),\"\")","v":""},{"$f":"IFERROR(VLOOKUP(SortedTimeline[[#This Row],[RANK Sorted]],ProjectTimelineData[],4,0),\"\")","v":""},{"$f":"IFERROR(VLOOKUP(SortedTimeline[[#This Row],[RANK Sorted]],ProjectTimelineData[],5,0),\"\")","v":""}]
[{"$nulls":4},{"$f":"IFERROR(RANK(F302,ProjectTimelineData[RANK])+SUMPRODUCT(--(F302=ProjectTimelineData[RANK]),--(J302<ProjectTimelineData[NUM])),\"\")","v":""},{"$f":"IFERROR(RANK(ProjectTimelineData[[#This Row],[DATE]],ProjectTimelineData[DATE],1),\"\")","v":""},{"$f":"IFERROR(IF(ISBLANK(INDEX(ProjectDetails[#Data],Project_last_entry-Project_start_row-ProjectTimelineData[[#This Row],[NUM]]+1,1)),\"\",INDEX(ProjectDetails[#Data],Project_last_entry-Project_start_row-ProjectTimelineData[[#This Row],[NUM]]+1,1)),\"\")","v":""},{"$f":"IFERROR(IF(ISBLANK(INDEX(ProjectDetails[#Data],Project_last_entry-Project_start_row-ProjectTimelineData[[#This Row],[NUM]]+1,2)),\"\",INDEX(ProjectDetails[#Data],Project_last_entry-Project_start_row-ProjectTimelineData[[#This Row],[NUM]]+1,2)),\"\")","v":""},{"$f":"IFERROR(IF(ISBLANK(INDEX(ProjectDetails[#Data],Project_last_entry-Project_start_row-ProjectTimelineData[[#This Row],[NUM]]+1,3)),\"\",INDEX(ProjectDetails[#Data],Project_last_entry-Project_start_row-ProjectTimelineData[[#This Row],[NUM]]+1,3)),\"\")","v":""},{"$f":"IFERROR(IF(ISBLANK(INDEX(ProjectDetails[#Data],ROW(A297)+1,1)),\"\",IF($J301-1<=-1,\"\",$J301-1)),\"\")","v":""},null,null,{"$f":"IFERROR(ProjectTimelineData[[#This Row],[NUM]]+1,\"\")","v":""},{"$f":"IFERROR(VLOOKUP(SortedTimeline[[#This Row],[RANK Sorted]],ProjectTimelineData[],3,0),\"\")","v":""},{"$f":"IFERROR(VLOOKUP(SortedTimeline[[#This Row],[RANK Sorted]],ProjectTimelineData[],4,0),\"\")","v":""},{"$f":"IFERROR(VLOOKUP(SortedTimeline[[#This Row],[RANK Sorted]],ProjectTimelineData[],5,0),\"\")","v":""}]
[{"$nulls":4},{"$f":"IFERROR(RANK(F303,ProjectTimelineData[RANK])+SUMPRODUCT(--(F303=ProjectTimelineData[RANK]),--(J303<ProjectTimelineData[NUM])),\"\")","v":""},{"$f":"IFERROR(RANK(ProjectTimelineData[[#This Row],[DATE]],ProjectTimelineData[DATE],1),\"\")","v":""},{"$f":"IFERROR(IF(ISBLANK(INDEX(ProjectDetails[#Data],Project_last_entry-Project_start_row-ProjectTimelineData[[#This Row],[NUM]]+1,1)),\"\",INDEX(ProjectDetails[#Data],Project_last_entry-Project_start_row-ProjectTimelineData[[#This Row],[NUM]]+1,1)),\"\")","v":""},{"$f":"IFERROR(IF(ISBLANK(INDEX(ProjectDetails[#Data],Project_last_entry-Project_start_row-ProjectTimelineData[[#This Row],[NUM]]+1,2)),\"\",INDEX(ProjectDetails[#Data],Project_last_entry-Project_start_row-ProjectTimelineData[[#This Row],[NUM]]+1,2)),\"\")","v":""},{"$f":"IFERROR(IF(ISBLANK(INDEX(ProjectDetails[#Data],Project_last_entry-Project_start_row-ProjectTimelineData[[#This Row],[NUM]]+1,3)),\"\",INDEX(ProjectDetails[#Data],Project_last_entry-Project_start_row-ProjectTimelineData[[#This Row],[NUM]]+1,3)),\"\")","v":""},{"$f":"IFERROR(IF(ISBLANK(INDEX(ProjectDetails[#Data],ROW(A298)+1,1)),\"\",IF($J302-1<=-1,\"\",$J302-1)),\"\")","v":""},null,null,{"$f":"IFERROR(ProjectTimelineData[[#This Row],[NUM]]+1,\"\")","v":""},{"$f":"IFERROR(VLOOKUP(SortedTimeline[[#This Row],[RANK Sorted]],ProjectTimelineData[],3,0),\"\")","v":""},{"$f":"IFERROR(VLOOKUP(SortedTimeline[[#This Row],[RANK Sorted]],ProjectTimelineData[],4,0),\"\")","v":""},{"$f":"IFERROR(VLOOKUP(SortedTimeline[[#This Row],[RANK Sorted]],ProjectTimelineData[],5,0),\"\")","v":""}]
[{"$nulls":4},{"$f":"IFERROR(RANK(F304,ProjectTimelineData[RANK])+SUMPRODUCT(--(F304=ProjectTimelineData[RANK]),--(J304<ProjectTimelineData[NUM])),\"\")","v":""},{"$f":"IFERROR(RANK(ProjectTimelineData[[#This Row],[DATE]],ProjectTimelineData[DATE],1),\"\")","v":""},{"$f":"IFERROR(IF(ISBLANK(INDEX(ProjectDetails[#Data],Project_last_entry-Project_start_row-ProjectTimelineData[[#This Row],[NUM]]+1,1)),\"\",INDEX(ProjectDetails[#Data],Project_last_entry-Project_start_row-ProjectTimelineData[[#This Row],[NUM]]+1,1)),\"\")","v":""},{"$f":"IFERROR(IF(ISBLANK(INDEX(ProjectDetails[#Data],Project_last_entry-Project_start_row-ProjectTimelineData[[#This Row],[NUM]]+1,2)),\"\",INDEX(ProjectDetails[#Data],Project_last_entry-Project_start_row-ProjectTimelineData[[#This Row],[NUM]]+1,2)),\"\")","v":""},{"$f":"IFERROR(IF(ISBLANK(INDEX(ProjectDetails[#Data],Project_last_entry-Project_start_row-ProjectTimelineData[[#This Row],[NUM]]+1,3)),\"\",INDEX(ProjectDetails[#Data],Project_last_entry-Project_start_row-ProjectTimelineData[[#This Row],[NUM]]+1,3)),\"\")","v":""},{"$f":"IFERROR(IF(ISBLANK(INDEX(ProjectDetails[#Data],ROW(A299)+1,1)),\"\",IF($J303-1<=-1,\"\",$J303-1)),\"\")","v":""},null,null,{"$f":"IFERROR(ProjectTimelineData[[#This Row],[NUM]]+1,\"\")","v":""},{"$f":"IFERROR(VLOOKUP(SortedTimeline[[#This Row],[RANK Sorted]],ProjectTimelineData[],3,0),\"\")","v":""},{"$f":"IFERROR(VLOOKUP(SortedTimeline[[#This Row],[RANK Sorted]],ProjectTimelineData[],4,0),\"\")","v":""},{"$f":"IFERROR(VLOOKUP(SortedTimeline[[#This Row],[RANK Sorted]],ProjectTimelineData[],5,0),\"\")","v":""}]
[{"$nulls":4},{"$f":"IFERROR(RANK(F305,ProjectTimelineData[RANK])+SUMPRODUCT(--(F305=ProjectTimelineData[RANK]),--(J305<ProjectTimelineData[NUM])),\"\")","v":""},{"$f":"IFERROR(RANK(ProjectTimelineData[[#This Row],[DATE]],ProjectTimelineData[DATE],1),\"\")","v":""},{"$f":"IFERROR(IF(ISBLANK(INDEX(ProjectDetails[#Data],Project_last_entry-Project_start_row-ProjectTimelineData[[#This Row],[NUM]]+1,1)),\"\",INDEX(ProjectDetails[#Data],Project_last_entry-Project_start_row-ProjectTimelineData[[#This Row],[NUM]]+1,1)),\"\")","v":""},{"$f":"IFERROR(IF(ISBLANK(INDEX(ProjectDetails[#Data],Project_last_entry-Project_start_row-ProjectTimelineData[[#This Row],[NUM]]+1,2)),\"\",INDEX(ProjectDetails[#Data],Project_last_entry-Project_start_row-ProjectTimelineData[[#This Row],[NUM]]+1,2)),\"\")","v":""},{"$f":"IFERROR(IF(ISBLANK(INDEX(ProjectDetails[#Data],Project_last_entry-Project_start_row-ProjectTimelineData[[#This Row],[NUM]]+1,3)),\"\",INDEX(ProjectDetails[#Data],Project_last_entry-Project_start_row-ProjectTimelineData[[#This Row],[NUM]]+1,3)),\"\")","v":""},{"$f":"IFERROR(IF(ISBLANK(INDEX(ProjectDetails[#Data],ROW(A300)+1,1)),\"\",IF($J304-1<=-1,\"\",$J304-1)),\"\")","v":""},null,null,{"$f":"IFERROR(ProjectTimelineData[[#This Row],[NUM]]+1,\"\")","v":""},{"$f":"IFERROR(VLOOKUP(SortedTimeline[[#This Row],[RANK Sorted]],ProjectTimelineData[],3,0),\"\")","v":""},{"$f":"IFERROR(VLOOKUP(SortedTimeline[[#This Row],[RANK Sorted]],ProjectTimelineData[],4,0),\"\")","v":""},{"$f":"IFERROR(VLOOKUP(SortedTimeline[[#This Row],[RANK Sorted]],ProjectTimelineData[],5,0),\"\")","v":""}]
[{"$nulls":4},{"$f":"IFERROR(RANK(F306,ProjectTimelineData[RANK])+SUMPRODUCT(--(F306=ProjectTimelineData[RANK]),--(J306<ProjectTimelineData[NUM])),\"\")","v":""},{"$f":"IFERROR(RANK(ProjectTimelineData[[#This Row],[DATE]],ProjectTimelineData[DATE],1),\"\")","v":""},{"$f":"IFERROR(IF(ISBLANK(INDEX(ProjectDetails[#Data],Project_last_entry-Project_start_row-ProjectTimelineData[[#This Row],[NUM]]+1,1)),\"\",INDEX(ProjectDetails[#Data],Project_last_entry-Project_start_row-ProjectTimelineData[[#This Row],[NUM]]+1,1)),\"\")","v":""},{"$f":"IFERROR(IF(ISBLANK(INDEX(ProjectDetails[#Data],Project_last_entry-Project_start_row-ProjectTimelineData[[#This Row],[NUM]]+1,2)),\"\",INDEX(ProjectDetails[#Data],Project_last_entry-Project_start_row-ProjectTimelineData[[#This Row],[NUM]]+1,2)),\"\")","v":""},{"$f":"IFERROR(IF(ISBLANK(INDEX(ProjectDetails[#Data],Project_last_entry-Project_start_row-ProjectTimelineData[[#This Row],[NUM]]+1,3)),\"\",INDEX(ProjectDetails[#Data],Project_last_entry-Project_start_row-ProjectTimelineData[[#This Row],[NUM]]+1,3)),\"\")","v":""},{"$f":"IFERROR(IF(ISBLANK(INDEX(ProjectDetails[#Data],ROW(A301)+1,1)),\"\",IF($J305-1<=-1,\"\",$J305-1)),\"\")","v":""},null,null,{"$f":"IFERROR(ProjectTimelineData[[#This Row],[NUM]]+1,\"\")","v":""},{"$f":"IFERROR(VLOOKUP(SortedTimeline[[#This Row],[RANK Sorted]],ProjectTimelineData[],3,0),\"\")","v":""},{"$f":"IFERROR(VLOOKUP(SortedTimeline[[#This Row],[RANK Sorted]],ProjectTimelineData[],4,0),\"\")","v":""},{"$f":"IFERROR(VLOOKUP(SortedTimeline[[#This Row],[RANK Sorted]],ProjectTimelineData[],5,0),\"\")","v":""}]
[{"$nulls":4},{"$f":"IFERROR(RANK(F307,ProjectTimelineData[RANK])+SUMPRODUCT(--(F307=ProjectTimelineData[RANK]),--(J307<ProjectTimelineData[NUM])),\"\")","v":""},{"$f":"IFERROR(RANK(ProjectTimelineData[[#This Row],[DATE]],ProjectTimelineData[DATE],1),\"\")","v":""},{"$f":"IFERROR(IF(ISBLANK(INDEX(ProjectDetails[#Data],Project_last_entry-Project_start_row-ProjectTimelineData[[#This Row],[NUM]]+1,1)),\"\",INDEX(ProjectDetails[#Data],Project_last_entry-Project_start_row-ProjectTimelineData[[#This Row],[NUM]]+1,1)),\"\")","v":""},{"$f":"IFERROR(IF(ISBLANK(INDEX(ProjectDetails[#Data],Project_last_entry-Project_start_row-ProjectTimelineData[[#This Row],[NUM]]+1,2)),\"\",INDEX(ProjectDetails[#Data],Project_last_entry-Project_start_row-ProjectTimelineData[[#This Row],[NUM]]+1,2)),\"\")","v":""},{"$f":"IFERROR(IF(ISBLANK(INDEX(ProjectDetails[#Data],Project_last_entry-Project_start_row-ProjectTimelineData[[#This Row],[NUM]]+1,3)),\"\",INDEX(ProjectDetails[#Data],Project_last_entry-Project_start_row-ProjectTimelineData[[#This Row],[NUM]]+1,3)),\"\")","v":""},{"$f":"IFERROR(IF(ISBLANK(INDEX(ProjectDetails[#Data],ROW(A302)+1,1)),\"\",IF($J306-1<=-1,\"\",$J306-1)),\"\")","v":""},null,null,{"$f":"IFERROR(ProjectTimelineData[[#This Row],[NUM]]+1,\"\")","v":""},{"$f":"IFERROR(VLOOKUP(SortedTimeline[[#This Row],[RANK Sorted]],ProjectTimelineData[],3,0),\"\")","v":""},{"$f":"IFERROR(VLOOKUP(SortedTimeline[[#This Row],[RANK Sorted]],ProjectTimelineData[],4,0),\"\")","v":""},{"$f":"IFERROR(VLOOKUP(SortedTimeline[[#This Row],[RANK Sorted]],ProjectTimelineData[],5,0),\"\")","v":""}]
[{"$nulls":4},{"$f":"IFERROR(RANK(F308,ProjectTimelineData[RANK])+SUMPRODUCT(--(F308=ProjectTimelineData[RANK]),--(J308<ProjectTimelineData[NUM])),\"\")","v":""},{"$f":"IFERROR(RANK(ProjectTimelineData[[#This Row],[DATE]],ProjectTimelineData[DATE],1),\"\")","v":""},{"$f":"IFERROR(IF(ISBLANK(INDEX(ProjectDetails[#Data],Project_last_entry-Project_start_row-ProjectTimelineData[[#This Row],[NUM]]+1,1)),\"\",INDEX(ProjectDetails[#Data],Project_last_entry-Project_start_row-ProjectTimelineData[[#This Row],[NUM]]+1,1)),\"\")","v":""},{"$f":"IFERROR(IF(ISBLANK(INDEX(ProjectDetails[#Data],Project_last_entry-Project_start_row-ProjectTimelineData[[#This Row],[NUM]]+1,2)),\"\",INDEX(ProjectDetails[#Data],Project_last_entry-Project_start_row-ProjectTimelineData[[#This Row],[NUM]]+1,2)),\"\")","v":""},{"$f":"IFERROR(IF(ISBLANK(INDEX(ProjectDetails[#Data],Project_last_entry-Project_start_row-ProjectTimelineData[[#This Row],[NUM]]+1,3)),\"\",INDEX(ProjectDetails[#Data],Project_last_entry-Project_start_row-ProjectTimelineData[[#This Row],[NUM]]+1,3)),\"\")","v":""},{"$f":"IFERROR(IF(ISBLANK(INDEX(ProjectDetails[#Data],ROW(A303)+1,1)),\"\",IF($J307-1<=-1,\"\",$J307-1)),\"\")","v":""},null,null,{"$f":"IFERROR(ProjectTimelineData[[#This Row],[NUM]]+1,\"\")","v":""},{"$f":"IFERROR(VLOOKUP(SortedTimeline[[#This Row],[RANK Sorted]],ProjectTimelineData[],3,0),\"\")","v":""},{"$f":"IFERROR(VLOOKUP(SortedTimeline[[#This Row],[RANK Sorted]],ProjectTimelineData[],4,0),\"\")","v":""},{"$f":"IFERROR(VLOOKUP(SortedTimeline[[#This Row],[RANK Sorted]],ProjectTimelineData[],5,0),\"\")","v":""}]
[{"$nulls":4},{"$f":"IFERROR(RANK(F309,ProjectTimelineData[RANK])+SUMPRODUCT(--(F309=ProjectTimelineData[RANK]),--(J309<ProjectTimelineData[NUM])),\"\")","v":""},{"$f":"IFERROR(RANK(ProjectTimelineData[[#This Row],[DATE]],ProjectTimelineData[DATE],1),\"\")","v":""},{"$f":"IFERROR(IF(ISBLANK(INDEX(ProjectDetails[#Data],Project_last_entry-Project_start_row-ProjectTimelineData[[#This Row],[NUM]]+1,1)),\"\",INDEX(ProjectDetails[#Data],Project_last_entry-Project_start_row-ProjectTimelineData[[#This Row],[NUM]]+1,1)),\"\")","v":""},{"$f":"IFERROR(IF(ISBLANK(INDEX(ProjectDetails[#Data],Project_last_entry-Project_start_row-ProjectTimelineData[[#This Row],[NUM]]+1,2)),\"\",INDEX(ProjectDetails[#Data],Project_last_entry-Project_start_row-ProjectTimelineData[[#This Row],[NUM]]+1,2)),\"\")","v":""},{"$f":"IFERROR(IF(ISBLANK(INDEX(ProjectDetails[#Data],Project_last_entry-Project_start_row-ProjectTimelineData[[#This Row],[NUM]]+1,3)),\"\",INDEX(ProjectDetails[#Data],Project_last_entry-Project_start_row-ProjectTimelineData[[#This Row],[NUM]]+1,3)),\"\")","v":""},{"$f":"IFERROR(IF(ISBLANK(INDEX(ProjectDetails[#Data],ROW(A304)+1,1)),\"\",IF($J308-1<=-1,\"\",$J308-1)),\"\")","v":""},null,null,{"$f":"IFERROR(ProjectTimelineData[[#This Row],[NUM]]+1,\"\")","v":""},{"$f":"IFERROR(VLOOKUP(SortedTimeline[[#This Row],[RANK Sorted]],ProjectTimelineData[],3,0),\"\")","v":""},{"$f":"IFERROR(VLOOKUP(SortedTimeline[[#This Row],[RANK Sorted]],ProjectTimelineData[],4,0),\"\")","v":""},{"$f":"IFERROR(VLOOKUP(SortedTimeline[[#This Row],[RANK Sorted]],ProjectTimelineData[],5,0),\"\")","v":""}]
[{"$nulls":4},{"$f":"IFERROR(RANK(F310,ProjectTimelineData[RANK])+SUMPRODUCT(--(F310=ProjectTimelineData[RANK]),--(J310<ProjectTimelineData[NUM])),\"\")","v":""},{"$f":"IFERROR(RANK(ProjectTimelineData[[#This Row],[DATE]],ProjectTimelineData[DATE],1),\"\")","v":""},{"$f":"IFERROR(IF(ISBLANK(INDEX(ProjectDetails[#Data],Project_last_entry-Project_start_row-ProjectTimelineData[[#This Row],[NUM]]+1,1)),\"\",INDEX(ProjectDetails[#Data],Project_last_entry-Project_start_row-ProjectTimelineData[[#This Row],[NUM]]+1,1)),\"\")","v":""},{"$f":"IFERROR(IF(ISBLANK(INDEX(ProjectDetails[#Data],Project_last_entry-Project_start_row-ProjectTimelineData[[#This Row],[NUM]]+1,2)),\"\",INDEX(ProjectDetails[#Data],Project_last_entry-Project_start_row-ProjectTimelineData[[#This Row],[NUM]]+1,2)),\"\")","v":""},{"$f":"IFERROR(IF(ISBLANK(INDEX(ProjectDetails[#Data],Project_last_entry-Project_start_row-ProjectTimelineData[[#This Row],[NUM]]+1,3)),\"\",INDEX(ProjectDetails[#Data],Project_last_entry-Project_start_row-ProjectTimelineData[[#This Row],[NUM]]+1,3)),\"\")","v":""},{"$f":"IFERROR(IF(ISBLANK(INDEX(ProjectDetails[#Data],ROW(A305)+1,1)),\"\",IF($J309-1<=-1,\"\",$J309-1)),\"\")","v":""},null,null,{"$f":"IFERROR(ProjectTimelineData[[#This Row],[NUM]]+1,\"\")","v":""},{"$f":"IFERROR(VLOOKUP(SortedTimeline[[#This Row],[RANK Sorted]],ProjectTimelineData[],3,0),\"\")","v":""},{"$f":"IFERROR(VLOOKUP(SortedTimeline[[#This Row],[RANK Sorted]],ProjectTimelineData[],4,0),\"\")","v":""},{"$f":"IFERROR(VLOOKUP(SortedTimeline[[#This Row],[RANK Sorted]],ProjectTimelineData[],5,0),\"\")","v":""}]
[{"$nulls":4},{"$f":"IFERROR(RANK(F311,ProjectTimelineData[RANK])+SUMPRODUCT(--(F311=ProjectTimelineData[RANK]),--(J311<ProjectTimelineData[NUM])),\"\")","v":""},{"$f":"IFERROR(RANK(ProjectTimelineData[[#This Row],[DATE]],ProjectTimelineData[DATE],1),\"\")","v":""},{"$f":"IFERROR(IF(ISBLANK(INDEX(ProjectDetails[#Data],Project_last_entry-Project_start_row-ProjectTimelineData[[#This Row],[NUM]]+1,1)),\"\",INDEX(ProjectDetails[#Data],Project_last_entry-Project_start_row-ProjectTimelineData[[#This Row],[NUM]]+1,1)),\"\")","v":""},{"$f":"IFERROR(IF(ISBLANK(INDEX(ProjectDetails[#Data],Project_last_entry-Project_start_row-ProjectTimelineData[[#This Row],[NUM]]+1,2)),\"\",INDEX(ProjectDetails[#Data],Project_last_entry-Project_start_row-ProjectTimelineData[[#This Row],[NUM]]+1,2)),\"\")","v":""},{"$f":"IFERROR(IF(ISBLANK(INDEX(ProjectDetails[#Data],Project_last_entry-Project_start_row-ProjectTimelineData[[#This Row],[NUM]]+1,3)),\"\",INDEX(ProjectDetails[#Data],Project_last_entry-Project_start_row-ProjectTimelineData[[#This Row],[NUM]]+1,3)),\"\")","v":""},{"$f":"IFERROR(IF(ISBLANK(INDEX(ProjectDetails[#Data],ROW(A306)+1,1)),\"\",IF($J310-1<=-1,\"\",$J310-1)),\"\")","v":""},null,null,{"$f":"IFERROR(ProjectTimelineData[[#This Row],[NUM]]+1,\"\")","v":""},{"$f":"IFERROR(VLOOKUP(SortedTimeline[[#This Row],[RANK Sorted]],ProjectTimelineData[],3,0),\"\")","v":""},{"$f":"IFERROR(VLOOKUP(SortedTimeline[[#This Row],[RANK Sorted]],ProjectTimelineData[],4,0),\"\")","v":""},{"$f":"IFERROR(VLOOKUP(SortedTimeline[[#This Row],[RANK Sorted]],ProjectTimelineData[],5,0),\"\")","v":""}]
[{"$nulls":4},{"$f":"IFERROR(RANK(F312,ProjectTimelineData[RANK])+SUMPRODUCT(--(F312=ProjectTimelineData[RANK]),--(J312<ProjectTimelineData[NUM])),\"\")","v":""},{"$f":"IFERROR(RANK(ProjectTimelineData[[#This Row],[DATE]],ProjectTimelineData[DATE],1),\"\")","v":""},{"$f":"IFERROR(IF(ISBLANK(INDEX(ProjectDetails[#Data],Project_last_entry-Project_start_row-ProjectTimelineData[[#This Row],[NUM]]+1,1)),\"\",INDEX(ProjectDetails[#Data],Project_last_entry-Project_start_row-ProjectTimelineData[[#This Row],[NUM]]+1,1)),\"\")","v":""},{"$f":"IFERROR(IF(ISBLANK(INDEX(ProjectDetails[#Data],Project_last_entry-Project_start_row-ProjectTimelineData[[#This Row],[NUM]]+1,2)),\"\",INDEX(ProjectDetails[#Data],Project_last_entry-Project_start_row-ProjectTimelineData[[#This Row],[NUM]]+1,2)),\"\")","v":""},{"$f":"IFERROR(IF(ISBLANK(INDEX(ProjectDetails[#Data],Project_last_entry-Project_start_row-ProjectTimelineData[[#This Row],[NUM]]+1,3)),\"\",INDEX(ProjectDetails[#Data],Project_last_entry-Project_start_row-ProjectTimelineData[[#This Row],[NUM]]+1,3)),\"\")","v":""},{"$f":"IFERROR(IF(ISBLANK(INDEX(ProjectDetails[#Data],ROW(A307)+1,1)),\"\",IF($J311-1<=-1,\"\",$J311-1)),\"\")","v":""},null,null,{"$f":"IFERROR(ProjectTimelineData[[#This Row],[NUM]]+1,\"\")","v":""},{"$f":"IFERROR(VLOOKUP(SortedTimeline[[#This Row],[RANK Sorted]],ProjectTimelineData[],3,0),\"\")","v":""},{"$f":"IFERROR(VLOOKUP(SortedTimeline[[#This Row],[RANK Sorted]],ProjectTimelineData[],4,0),\"\")","v":""},{"$f":"IFERROR(VLOOKUP(SortedTimeline[[#This Row],[RANK Sorted]],ProjectTimelineData[],5,0),\"\")","v":""}]
[{"$nulls":4},{"$f":"IFERROR(RANK(F313,ProjectTimelineData[RANK])+SUMPRODUCT(--(F313=ProjectTimelineData[RANK]),--(J313<ProjectTimelineData[NUM])),\"\")","v":""},{"$f":"IFERROR(RANK(ProjectTimelineData[[#This Row],[DATE]],ProjectTimelineData[DATE],1),\"\")","v":""},{"$f":"IFERROR(IF(ISBLANK(INDEX(ProjectDetails[#Data],Project_last_entry-Project_start_row-ProjectTimelineData[[#This Row],[NUM]]+1,1)),\"\",INDEX(ProjectDetails[#Data],Project_last_entry-Project_start_row-ProjectTimelineData[[#This Row],[NUM]]+1,1)),\"\")","v":""},{"$f":"IFERROR(IF(ISBLANK(INDEX(ProjectDetails[#Data],Project_last_entry-Project_start_row-ProjectTimelineData[[#This Row],[NUM]]+1,2)),\"\",INDEX(ProjectDetails[#Data],Project_last_entry-Project_start_row-ProjectTimelineData[[#This Row],[NUM]]+1,2)),\"\")","v":""},{"$f":"IFERROR(IF(ISBLANK(INDEX(ProjectDetails[#Data],Project_last_entry-Project_start_row-ProjectTimelineData[[#This Row],[NUM]]+1,3)),\"\",INDEX(ProjectDetails[#Data],Project_last_entry-Project_start_row-ProjectTimelineData[[#This Row],[NUM]]+1,3)),\"\")","v":""},{"$f":"IFERROR(IF(ISBLANK(INDEX(ProjectDetails[#Data],ROW(A308)+1,1)),\"\",IF($J312-1<=-1,\"\",$J312-1)),\"\")","v":""},null,null,{"$f":"IFERROR(ProjectTimelineData[[#This Row],[NUM]]+1,\"\")","v":""},{"$f":"IFERROR(VLOOKUP(SortedTimeline[[#This Row],[RANK Sorted]],ProjectTimelineData[],3,0),\"\")","v":""},{"$f":"IFERROR(VLOOKUP(SortedTimeline[[#This Row],[RANK Sorted]],ProjectTimelineData[],4,0),\"\")","v":""},{"$f":"IFERROR(VLOOKUP(SortedTimeline[[#This Row],[RANK Sorted]],ProjectTimelineData[],5,0),\"\")","v":""}]
[{"$nulls":4},{"$f":"IFERROR(RANK(F314,ProjectTimelineData[RANK])+SUMPRODUCT(--(F314=ProjectTimelineData[RANK]),--(J314<ProjectTimelineData[NUM])),\"\")","v":""},{"$f":"IFERROR(RANK(ProjectTimelineData[[#This Row],[DATE]],ProjectTimelineData[DATE],1),\"\")","v":""},{"$f":"IFERROR(IF(ISBLANK(INDEX(ProjectDetails[#Data],Project_last_entry-Project_start_row-ProjectTimelineData[[#This Row],[NUM]]+1,1)),\"\",INDEX(ProjectDetails[#Data],Project_last_entry-Project_start_row-ProjectTimelineData[[#This Row],[NUM]]+1,1)),\"\")","v":""},{"$f":"IFERROR(IF(ISBLANK(INDEX(ProjectDetails[#Data],Project_last_entry-Project_start_row-ProjectTimelineData[[#This Row],[NUM]]+1,2)),\"\",INDEX(ProjectDetails[#Data],Project_last_entry-Project_start_row-ProjectTimelineData[[#This Row],[NUM]]+1,2)),\"\")","v":""},{"$f":"IFERROR(IF(ISBLANK(INDEX(ProjectDetails[#Data],Project_last_entry-Project_start_row-ProjectTimelineData[[#This Row],[NUM]]+1,3)),\"\",INDEX(ProjectDetails[#Data],Project_last_entry-Project_start_row-ProjectTimelineData[[#This Row],[NUM]]+1,3)),\"\")","v":""},{"$f":"IFERROR(IF(ISBLANK(INDEX(ProjectDetails[#Data],ROW(A309)+1,1)),\"\",IF($J313-1<=-1,\"\",$J313-1)),\"\")","v":""},null,null,{"$f":"IFERROR(ProjectTimelineData[[#This Row],[NUM]]+1,\"\")","v":""},{"$f":"IFERROR(VLOOKUP(SortedTimeline[[#This Row],[RANK Sorted]],ProjectTimelineData[],3,0),\"\")","v":""},{"$f":"IFERROR(VLOOKUP(SortedTimeline[[#This Row],[RANK Sorted]],ProjectTimelineData[],4,0),\"\")","v":""},{"$f":"IFERROR(VLOOKUP(SortedTimeline[[#This Row],[RANK Sorted]],ProjectTimelineData[],5,0),\"\")","v":""}]
[{"$nulls":4},{"$f":"IFERROR(RANK(F315,ProjectTimelineData[RANK])+SUMPRODUCT(--(F315=ProjectTimelineData[RANK]),--(J315<ProjectTimelineData[NUM])),\"\")","v":""},{"$f":"IFERROR(RANK(ProjectTimelineData[[#This Row],[DATE]],ProjectTimelineData[DATE],1),\"\")","v":""},{"$f":"IFERROR(IF(ISBLANK(INDEX(ProjectDetails[#Data],Project_last_entry-Project_start_row-ProjectTimelineData[[#This Row],[NUM]]+1,1)),\"\",INDEX(ProjectDetails[#Data],Project_last_entry-Project_start_row-ProjectTimelineData[[#This Row],[NUM]]+1,1)),\"\")","v":""},{"$f":"IFERROR(IF(ISBLANK(INDEX(ProjectDetails[#Data],Project_last_entry-Project_start_row-ProjectTimelineData[[#This Row],[NUM]]+1,2)),\"\",INDEX(ProjectDetails[#Data],Project_last_entry-Project_start_row-ProjectTimelineData[[#This Row],[NUM]]+1,2)),\"\")","v":""},{"$f":"IFERROR(IF(ISBLANK(INDEX(ProjectDetails[#Data],Project_last_entry-Project_start_row-ProjectTimelineData[[#This Row],[NUM]]+1,3)),\"\",INDEX(ProjectDetails[#Data],Project_last_entry-Project_start_row-ProjectTimelineData[[#This Row],[NUM]]+1,3)),\"\")","v":""},{"$f":"IFERROR(IF(ISBLANK(INDEX(ProjectDetails[#Data],ROW(A310)+1,1)),\"\",IF($J314-1<=-1,\"\",$J314-1)),\"\")","v":""},null,null,{"$f":"IFERROR(ProjectTimelineData[[#This Row],[NUM]]+1,\"\")","v":""},{"$f":"IFERROR(VLOOKUP(SortedTimeline[[#This Row],[RANK Sorted]],ProjectTimelineData[],3,0),\"\")","v":""},{"$f":"IFERROR(VLOOKUP(SortedTimeline[[#This Row],[RANK Sorted]],ProjectTimelineData[],4,0),\"\")","v":""},{"$f":"IFERROR(VLOOKUP(SortedTimeline[[#This Row],[RANK Sorted]],ProjectTimelineData[],5,0),\"\")","v":""}]
[{"$nulls":4},{"$f":"IFERROR(RANK(F316,ProjectTimelineData[RANK])+SUMPRODUCT(--(F316=ProjectTimelineData[RANK]),--(J316<ProjectTimelineData[NUM])),\"\")","v":""},{"$f":"IFERROR(RANK(ProjectTimelineData[[#This Row],[DATE]],ProjectTimelineData[DATE],1),\"\")","v":""},{"$f":"IFERROR(IF(ISBLANK(INDEX(ProjectDetails[#Data],Project_last_entry-Project_start_row-ProjectTimelineData[[#This Row],[NUM]]+1,1)),\"\",INDEX(ProjectDetails[#Data],Project_last_entry-Project_start_row-ProjectTimelineData[[#This Row],[NUM]]+1,1)),\"\")","v":""},{"$f":"IFERROR(IF(ISBLANK(INDEX(ProjectDetails[#Data],Project_last_entry-Project_start_row-ProjectTimelineData[[#This Row],[NUM]]+1,2)),\"\",INDEX(ProjectDetails[#Data],Project_last_entry-Project_start_row-ProjectTimelineData[[#This Row],[NUM]]+1,2)),\"\")","v":""},{"$f":"IFERROR(IF(ISBLANK(INDEX(ProjectDetails[#Data],Project_last_entry-Project_start_row-ProjectTimelineData[[#This Row],[NUM]]+1,3)),\"\",INDEX(ProjectDetails[#Data],Project_last_entry-Project_start_row-ProjectTimelineData[[#This Row],[NUM]]+1,3)),\"\")","v":""},{"$f":"IFERROR(IF(ISBLANK(INDEX(ProjectDetails[#Data],ROW(A311)+1,1)),\"\",IF($J315-1<=-1,\"\",$J315-1)),\"\")","v":""},null,null,{"$f":"IFERROR(ProjectTimelineData[[#This Row],[NUM]]+1,\"\")","v":""},{"$f":"IFERROR(VLOOKUP(SortedTimeline[[#This Row],[RANK Sorted]],ProjectTimelineData[],3,0),\"\")","v":""},{"$f":"IFERROR(VLOOKUP(SortedTimeline[[#This Row],[RANK Sorted]],ProjectTimelineData[],4,0),\"\")","v":""},{"$f":"IFERROR(VLOOKUP(SortedTimeline[[#This Row],[RANK Sorted]],ProjectTimelineData[],5,0),\"\")","v":""}]
[{"$nulls":4},{"$f":"IFERROR(RANK(F317,ProjectTimelineData[RANK])+SUMPRODUCT(--(F317=ProjectTimelineData[RANK]),--(J317<ProjectTimelineData[NUM])),\"\")","v":""},{"$f":"IFERROR(RANK(ProjectTimelineData[[#This Row],[DATE]],ProjectTimelineData[DATE],1),\"\")","v":""},{"$f":"IFERROR(IF(ISBLANK(INDEX(ProjectDetails[#Data],Project_last_entry-Project_start_row-ProjectTimelineData[[#This Row],[NUM]]+1,1)),\"\",INDEX(ProjectDetails[#Data],Project_last_entry-Project_start_row-ProjectTimelineData[[#This Row],[NUM]]+1,1)),\"\")","v":""},{"$f":"IFERROR(IF(ISBLANK(INDEX(ProjectDetails[#Data],Project_last_entry-Project_start_row-ProjectTimelineData[[#This Row],[NUM]]+1,2)),\"\",INDEX(ProjectDetails[#Data],Project_last_entry-Project_start_row-ProjectTimelineData[[#This Row],[NUM]]+1,2)),\"\")","v":""},{"$f":"IFERROR(IF(ISBLANK(INDEX(ProjectDetails[#Data],Project_last_entry-Project_start_row-ProjectTimelineData[[#This Row],[NUM]]+1,3)),\"\",INDEX(ProjectDetails[#Data],Project_last_entry-Project_start_row-ProjectTimelineData[[#This Row],[NUM]]+1,3)),\"\")","v":""},{"$f":"IFERROR(IF(ISBLANK(INDEX(ProjectDetails[#Data],ROW(A312)+1,1)),\"\",IF($J316-1<=-1,\"\",$J316-1)),\"\")","v":""},null,null,{"$f":"IFERROR(ProjectTimelineData[[#This Row],[NUM]]+1,\"\")","v":""},{"$f":"IFERROR(VLOOKUP(SortedTimeline[[#This Row],[RANK Sorted]],ProjectTimelineData[],3,0),\"\")","v":""},{"$f":"IFERROR(VLOOKUP(SortedTimeline[[#This Row],[RANK Sorted]],ProjectTimelineData[],4,0),\"\")","v":""},{"$f":"IFERROR(VLOOKUP(SortedTimeline[[#This Row],[RANK Sorted]],ProjectTimelineData[],5,0),\"\")","v":""}]
[{"$nulls":4},{"$f":"IFERROR(RANK(F318,ProjectTimelineData[RANK])+SUMPRODUCT(--(F318=ProjectTimelineData[RANK]),--(J318<ProjectTimelineData[NUM])),\"\")","v":""},{"$f":"IFERROR(RANK(ProjectTimelineData[[#This Row],[DATE]],ProjectTimelineData[DATE],1),\"\")","v":""},{"$f":"IFERROR(IF(ISBLANK(INDEX(ProjectDetails[#Data],Project_last_entry-Project_start_row-ProjectTimelineData[[#This Row],[NUM]]+1,1)),\"\",INDEX(ProjectDetails[#Data],Project_last_entry-Project_start_row-ProjectTimelineData[[#This Row],[NUM]]+1,1)),\"\")","v":""},{"$f":"IFERROR(IF(ISBLANK(INDEX(ProjectDetails[#Data],Project_last_entry-Project_start_row-ProjectTimelineData[[#This Row],[NUM]]+1,2)),\"\",INDEX(ProjectDetails[#Data],Project_last_entry-Project_start_row-ProjectTimelineData[[#This Row],[NUM]]+1,2)),\"\")","v":""},{"$f":"IFERROR(IF(ISBLANK(INDEX(ProjectDetails[#Data],Project_last_entry-Project_start_row-ProjectTimelineData[[#This Row],[NUM]]+1,3)),\"\",INDEX(ProjectDetails[#Data],Project_last_entry-Project_start_row-ProjectTimelineData[[#This Row],[NUM]]+1,3)),\"\")","v":""},{"$f":"IFERROR(IF(ISBLANK(INDEX(ProjectDetails[#Data],ROW(A313)+1,1)),\"\",IF($J317-1<=-1,\"\",$J317-1)),\"\")","v":""},null,null,{"$f":"IFERROR(ProjectTimelineData[[#This Row],[NUM]]+1,\"\")","v":""},{"$f":"IFERROR(VLOOKUP(SortedTimeline[[#This Row],[RANK Sorted]],ProjectTimelineData[],3,0),\"\")","v":""},{"$f":"IFERROR(VLOOKUP(SortedTimeline[[#This Row],[RANK Sorted]],ProjectTimelineData[],4,0),\"\")","v":""},{"$f":"IFERROR(VLOOKUP(SortedTimeline[[#This Row],[RANK Sorted]],ProjectTimelineData[],5,0),\"\")","v":""}]
[{"$nulls":4},{"$f":"IFERROR(RANK(F319,ProjectTimelineData[RANK])+SUMPRODUCT(--(F319=ProjectTimelineData[RANK]),--(J319<ProjectTimelineData[NUM])),\"\")","v":""},{"$f":"IFERROR(RANK(ProjectTimelineData[[#This Row],[DATE]],ProjectTimelineData[DATE],1),\"\")","v":""},{"$f":"IFERROR(IF(ISBLANK(INDEX(ProjectDetails[#Data],Project_last_entry-Project_start_row-ProjectTimelineData[[#This Row],[NUM]]+1,1)),\"\",INDEX(ProjectDetails[#Data],Project_last_entry-Project_start_row-ProjectTimelineData[[#This Row],[NUM]]+1,1)),\"\")","v":""},{"$f":"IFERROR(IF(ISBLANK(INDEX(ProjectDetails[#Data],Project_last_entry-Project_start_row-ProjectTimelineData[[#This Row],[NUM]]+1,2)),\"\",INDEX(ProjectDetails[#Data],Project_last_entry-Project_start_row-ProjectTimelineData[[#This Row],[NUM]]+1,2)),\"\")","v":""},{"$f":"IFERROR(IF(ISBLANK(INDEX(ProjectDetails[#Data],Project_last_entry-Project_start_row-ProjectTimelineData[[#This Row],[NUM]]+1,3)),\"\",INDEX(ProjectDetails[#Data],Project_last_entry-Project_start_row-ProjectTimelineData[[#This Row],[NUM]]+1,3)),\"\")","v":""},{"$f":"IFERROR(IF(ISBLANK(INDEX(ProjectDetails[#Data],ROW(A314)+1,1)),\"\",IF($J318-1<=-1,\"\",$J318-1)),\"\")","v":""},null,null,{"$f":"IFERROR(ProjectTimelineData[[#This Row],[NUM]]+1,\"\")","v":""},{"$f":"IFERROR(VLOOKUP(SortedTimeline[[#This Row],[RANK Sorted]],ProjectTimelineData[],3,0),\"\")","v":""},{"$f":"IFERROR(VLOOKUP(SortedTimeline[[#This Row],[RANK Sorted]],ProjectTimelineData[],4,0),\"\")","v":""},{"$f":"IFERROR(VLOOKUP(SortedTimeline[[#This Row],[RANK Sorted]],ProjectTimelineData[],5,0),\"\")","v":""}]
[{"$nulls":4},{"$f":"IFERROR(RANK(F320,ProjectTimelineData[RANK])+SUMPRODUCT(--(F320=ProjectTimelineData[RANK]),--(J320<ProjectTimelineData[NUM])),\"\")","v":""},{"$f":"IFERROR(RANK(ProjectTimelineData[[#This Row],[DATE]],ProjectTimelineData[DATE],1),\"\")","v":""},{"$f":"IFERROR(IF(ISBLANK(INDEX(ProjectDetails[#Data],Project_last_entry-Project_start_row-ProjectTimelineData[[#This Row],[NUM]]+1,1)),\"\",INDEX(ProjectDetails[#Data],Project_last_entry-Project_start_row-ProjectTimelineData[[#This Row],[NUM]]+1,1)),\"\")","v":""},{"$f":"IFERROR(IF(ISBLANK(INDEX(ProjectDetails[#Data],Project_last_entry-Project_start_row-ProjectTimelineData[[#This Row],[NUM]]+1,2)),\"\",INDEX(ProjectDetails[#Data],Project_last_entry-Project_start_row-ProjectTimelineData[[#This Row],[NUM]]+1,2)),\"\")","v":""},{"$f":"IFERROR(IF(ISBLANK(INDEX(ProjectDetails[#Data],Project_last_entry-Project_start_row-ProjectTimelineData[[#This Row],[NUM]]+1,3)),\"\",INDEX(ProjectDetails[#Data],Project_last_entry-Project_start_row-ProjectTimelineData[[#This Row],[NUM]]+1,3)),\"\")","v":""},{"$f":"IFERROR(IF(ISBLANK(INDEX(ProjectDetails[#Data],ROW(A315)+1,1)),\"\",IF($J319-1<=-1,\"\",$J319-1)),\"\")","v":""},null,null,{"$f":"IFERROR(ProjectTimelineData[[#This Row],[NUM]]+1,\"\")","v":""},{"$f":"IFERROR(VLOOKUP(SortedTimeline[[#This Row],[RANK Sorted]],ProjectTimelineData[],3,0),\"\")","v":""},{"$f":"IFERROR(VLOOKUP(SortedTimeline[[#This Row],[RANK Sorted]],ProjectTimelineData[],4,0),\"\")","v":""},{"$f":"IFERROR(VLOOKUP(SortedTimeline[[#This Row],[RANK Sorted]],ProjectTimelineData[],5,0),\"\")","v":""}]
[{"$nulls":4},{"$f":"IFERROR(RANK(F321,ProjectTimelineData[RANK])+SUMPRODUCT(--(F321=ProjectTimelineData[RANK]),--(J321<ProjectTimelineData[NUM])),\"\")","v":""},{"$f":"IFERROR(RANK(ProjectTimelineData[[#This Row],[DATE]],ProjectTimelineData[DATE],1),\"\")","v":""},{"$f":"IFERROR(IF(ISBLANK(INDEX(ProjectDetails[#Data],Project_last_entry-Project_start_row-ProjectTimelineData[[#This Row],[NUM]]+1,1)),\"\",INDEX(ProjectDetails[#Data],Project_last_entry-Project_start_row-ProjectTimelineData[[#This Row],[NUM]]+1,1)),\"\")","v":""},{"$f":"IFERROR(IF(ISBLANK(INDEX(ProjectDetails[#Data],Project_last_entry-Project_start_row-ProjectTimelineData[[#This Row],[NUM]]+1,2)),\"\",INDEX(ProjectDetails[#Data],Project_last_entry-Project_start_row-ProjectTimelineData[[#This Row],[NUM]]+1,2)),\"\")","v":""},{"$f":"IFERROR(IF(ISBLANK(INDEX(ProjectDetails[#Data],Project_last_entry-Project_start_row-ProjectTimelineData[[#This Row],[NUM]]+1,3)),\"\",INDEX(ProjectDetails[#Data],Project_last_entry-Project_start_row-ProjectTimelineData[[#This Row],[NUM]]+1,3)),\"\")","v":""},{"$f":"IFERROR(IF(ISBLANK(INDEX(ProjectDetails[#Data],ROW(A316)+1,1)),\"\",IF($J320-1<=-1,\"\",$J320-1)),\"\")","v":""},null,null,{"$f":"IFERROR(ProjectTimelineData[[#This Row],[NUM]]+1,\"\")","v":""},{"$f":"IFERROR(VLOOKUP(SortedTimeline[[#This Row],[RANK Sorted]],ProjectTimelineData[],3,0),\"\")","v":""},{"$f":"IFERROR(VLOOKUP(SortedTimeline[[#This Row],[RANK Sorted]],ProjectTimelineData[],4,0),\"\")","v":""},{"$f":"IFERROR(VLOOKUP(SortedTimeline[[#This Row],[RANK Sorted]],ProjectTimelineData[],5,0),\"\")","v":""}]
[{"$nulls":4},{"$f":"IFERROR(RANK(F322,ProjectTimelineData[RANK])+SUMPRODUCT(--(F322=ProjectTimelineData[RANK]),--(J322<ProjectTimelineData[NUM])),\"\")","v":""},{"$f":"IFERROR(RANK(ProjectTimelineData[[#This Row],[DATE]],ProjectTimelineData[DATE],1),\"\")","v":""},{"$f":"IFERROR(IF(ISBLANK(INDEX(ProjectDetails[#Data],Project_last_entry-Project_start_row-ProjectTimelineData[[#This Row],[NUM]]+1,1)),\"\",INDEX(ProjectDetails[#Data],Project_last_entry-Project_start_row-ProjectTimelineData[[#This Row],[NUM]]+1,1)),\"\")","v":""},{"$f":"IFERROR(IF(ISBLANK(INDEX(ProjectDetails[#Data],Project_last_entry-Project_start_row-ProjectTimelineData[[#This Row],[NUM]]+1,2)),\"\",INDEX(ProjectDetails[#Data],Project_last_entry-Project_start_row-ProjectTimelineData[[#This Row],[NUM]]+1,2)),\"\")","v":""},{"$f":"IFERROR(IF(ISBLANK(INDEX(ProjectDetails[#Data],Project_last_entry-Project_start_row-ProjectTimelineData[[#This Row],[NUM]]+1,3)),\"\",INDEX(ProjectDetails[#Data],Project_last_entry-Project_start_row-ProjectTimelineData[[#This Row],[NUM]]+1,3)),\"\")","v":""},{"$f":"IFERROR(IF(ISBLANK(INDEX(ProjectDetails[#Data],ROW(A317)+1,1)),\"\",IF($J321-1<=-1,\"\",$J321-1)),\"\")","v":""},null,null,{"$f":"IFERROR(ProjectTimelineData[[#This Row],[NUM]]+1,\"\")","v":""},{"$f":"IFERROR(VLOOKUP(SortedTimeline[[#This Row],[RANK Sorted]],ProjectTimelineData[],3,0),\"\")","v":""},{"$f":"IFERROR(VLOOKUP(SortedTimeline[[#This Row],[RANK Sorted]],ProjectTimelineData[],4,0),\"\")","v":""},{"$f":"IFERROR(VLOOKUP(SortedTimeline[[#This Row],[RANK Sorted]],ProjectTimelineData[],5,0),\"\")","v":""}]
[{"$nulls":4},{"$f":"IFERROR(RANK(F323,ProjectTimelineData[RANK])+SUMPRODUCT(--(F323=ProjectTimelineData[RANK]),--(J323<ProjectTimelineData[NUM])),\"\")","v":""},{"$f":"IFERROR(RANK(ProjectTimelineData[[#This Row],[DATE]],ProjectTimelineData[DATE],1),\"\")","v":""},{"$f":"IFERROR(IF(ISBLANK(INDEX(ProjectDetails[#Data],Project_last_entry-Project_start_row-ProjectTimelineData[[#This Row],[NUM]]+1,1)),\"\",INDEX(ProjectDetails[#Data],Project_last_entry-Project_start_row-ProjectTimelineData[[#This Row],[NUM]]+1,1)),\"\")","v":""},{"$f":"IFERROR(IF(ISBLANK(INDEX(ProjectDetails[#Data],Project_last_entry-Project_start_row-ProjectTimelineData[[#This Row],[NUM]]+1,2)),\"\",INDEX(ProjectDetails[#Data],Project_last_entry-Project_start_row-ProjectTimelineData[[#This Row],[NUM]]+1,2)),\"\")","v":""},{"$f":"IFERROR(IF(ISBLANK(INDEX(ProjectDetails[#Data],Project_last_entry-Project_start_row-ProjectTimelineData[[#This Row],[NUM]]+1,3)),\"\",INDEX(ProjectDetails[#Data],Project_last_entry-Project_start_row-ProjectTimelineData[[#This Row],[NUM]]+1,3)),\"\")","v":""},{"$f":"IFERROR(IF(ISBLANK(INDEX(ProjectDetails[#Data],ROW(A318)+1,1)),\"\",IF($J322-1<=-1,\"\",$J322-1)),\"\")","v":""},null,null,{"$f":"IFERROR(ProjectTimelineData[[#This Row],[NUM]]+1,\"\")","v":""},{"$f":"IFERROR(VLOOKUP(SortedTimeline[[#This Row],[RANK Sorted]],ProjectTimelineData[],3,0),\"\")","v":""},{"$f":"IFERROR(VLOOKUP(SortedTimeline[[#This Row],[RANK Sorted]],ProjectTimelineData[],4,0),\"\")","v":""},{"$f":"IFERROR(VLOOKUP(SortedTimeline[[#This Row],[RANK Sorted]],ProjectTimelineData[],5,0),\"\")","v":""}]
[{"$nulls":4},{"$f":"IFERROR(RANK(F324,ProjectTimelineData[RANK])+SUMPRODUCT(--(F324=ProjectTimelineData[RANK]),--(J324<ProjectTimelineData[NUM])),\"\")","v":""},{"$f":"IFERROR(RANK(ProjectTimelineData[[#This Row],[DATE]],ProjectTimelineData[DATE],1),\"\")","v":""},{"$f":"IFERROR(IF(ISBLANK(INDEX(ProjectDetails[#Data],Project_last_entry-Project_start_row-ProjectTimelineData[[#This Row],[NUM]]+1,1)),\"\",INDEX(ProjectDetails[#Data],Project_last_entry-Project_start_row-ProjectTimelineData[[#This Row],[NUM]]+1,1)),\"\")","v":""},{"$f":"IFERROR(IF(ISBLANK(INDEX(ProjectDetails[#Data],Project_last_entry-Project_start_row-ProjectTimelineData[[#This Row],[NUM]]+1,2)),\"\",INDEX(ProjectDetails[#Data],Project_last_entry-Project_start_row-ProjectTimelineData[[#This Row],[NUM]]+1,2)),\"\")","v":""},{"$f":"IFERROR(IF(ISBLANK(INDEX(ProjectDetails[#Data],Project_last_entry-Project_start_row-ProjectTimelineData[[#This Row],[NUM]]+1,3)),\"\",INDEX(ProjectDetails[#Data],Project_last_entry-Project_start_row-ProjectTimelineData[[#This Row],[NUM]]+1,3)),\"\")","v":""},{"$f":"IFERROR(IF(ISBLANK(INDEX(ProjectDetails[#Data],ROW(A319)+1,1)),\"\",IF($J323-1<=-1,\"\",$J323-1)),\"\")","v":""},null,null,{"$f":"IFERROR(ProjectTimelineData[[#This Row],[NUM]]+1,\"\")","v":""},{"$f":"IFERROR(VLOOKUP(SortedTimeline[[#This Row],[RANK Sorted]],ProjectTimelineData[],3,0),\"\")","v":""},{"$f":"IFERROR(VLOOKUP(SortedTimeline[[#This Row],[RANK Sorted]],ProjectTimelineData[],4,0),\"\")","v":""},{"$f":"IFERROR(VLOOKUP(SortedTimeline[[#This Row],[RANK Sorted]],ProjectTimelineData[],5,0),\"\")","v":""}]
[{"$nulls":4},{"$f":"IFERROR(RANK(F325,ProjectTimelineData[RANK])+SUMPRODUCT(--(F325=ProjectTimelineData[RANK]),--(J325<ProjectTimelineData[NUM])),\"\")","v":""},{"$f":"IFERROR(RANK(ProjectTimelineData[[#This Row],[DATE]],ProjectTimelineData[DATE],1),\"\")","v":""},{"$f":"IFERROR(IF(ISBLANK(INDEX(ProjectDetails[#Data],Project_last_entry-Project_start_row-ProjectTimelineData[[#This Row],[NUM]]+1,1)),\"\",INDEX(ProjectDetails[#Data],Project_last_entry-Project_start_row-ProjectTimelineData[[#This Row],[NUM]]+1,1)),\"\")","v":""},{"$f":"IFERROR(IF(ISBLANK(INDEX(ProjectDetails[#Data],Project_last_entry-Project_start_row-ProjectTimelineData[[#This Row],[NUM]]+1,2)),\"\",INDEX(ProjectDetails[#Data],Project_last_entry-Project_start_row-ProjectTimelineData[[#This Row],[NUM]]+1,2)),\"\")","v":""},{"$f":"IFERROR(IF(ISBLANK(INDEX(ProjectDetails[#Data],Project_last_entry-Project_start_row-ProjectTimelineData[[#This Row],[NUM]]+1,3)),\"\",INDEX(ProjectDetails[#Data],Project_last_entry-Project_start_row-ProjectTimelineData[[#This Row],[NUM]]+1,3)),\"\")","v":""},{"$f":"IFERROR(IF(ISBLANK(INDEX(ProjectDetails[#Data],ROW(A320)+1,1)),\"\",IF($J324-1<=-1,\"\",$J324-1)),\"\")","v":""},null,null,{"$f":"IFERROR(ProjectTimelineData[[#This Row],[NUM]]+1,\"\")","v":""},{"$f":"IFERROR(VLOOKUP(SortedTimeline[[#This Row],[RANK Sorted]],ProjectTimelineData[],3,0),\"\")","v":""},{"$f":"IFERROR(VLOOKUP(SortedTimeline[[#This Row],[RANK Sorted]],ProjectTimelineData[],4,0),\"\")","v":""},{"$f":"IFERROR(VLOOKUP(SortedTimeline[[#This Row],[RANK Sorted]],ProjectTimelineData[],5,0),\"\")","v":""}]
[{"$nulls":4},{"$f":"IFERROR(RANK(F326,ProjectTimelineData[RANK])+SUMPRODUCT(--(F326=ProjectTimelineData[RANK]),--(J326<ProjectTimelineData[NUM])),\"\")","v":""},{"$f":"IFERROR(RANK(ProjectTimelineData[[#This Row],[DATE]],ProjectTimelineData[DATE],1),\"\")","v":""},{"$f":"IFERROR(IF(ISBLANK(INDEX(ProjectDetails[#Data],Project_last_entry-Project_start_row-ProjectTimelineData[[#This Row],[NUM]]+1,1)),\"\",INDEX(ProjectDetails[#Data],Project_last_entry-Project_start_row-ProjectTimelineData[[#This Row],[NUM]]+1,1)),\"\")","v":""},{"$f":"IFERROR(IF(ISBLANK(INDEX(ProjectDetails[#Data],Project_last_entry-Project_start_row-ProjectTimelineData[[#This Row],[NUM]]+1,2)),\"\",INDEX(ProjectDetails[#Data],Project_last_entry-Project_start_row-ProjectTimelineData[[#This Row],[NUM]]+1,2)),\"\")","v":""},{"$f":"IFERROR(IF(ISBLANK(INDEX(ProjectDetails[#Data],Project_last_entry-Project_start_row-ProjectTimelineData[[#This Row],[NUM]]+1,3)),\"\",INDEX(ProjectDetails[#Data],Project_last_entry-Project_start_row-ProjectTimelineData[[#This Row],[NUM]]+1,3)),\"\")","v":""},{"$f":"IFERROR(IF(ISBLANK(INDEX(ProjectDetails[#Data],ROW(A321)+1,1)),\"\",IF($J325-1<=-1,\"\",$J325-1)),\"\")","v":""},null,null,{"$f":"IFERROR(ProjectTimelineData[[#This Row],[NUM]]+1,\"\")","v":""},{"$f":"IFERROR(VLOOKUP(SortedTimeline[[#This Row],[RANK Sorted]],ProjectTimelineData[],3,0),\"\")","v":""},{"$f":"IFERROR(VLOOKUP(SortedTimeline[[#This Row],[RANK Sorted]],ProjectTimelineData[],4,0),\"\")","v":""},{"$f":"IFERROR(VLOOKUP(SortedTimeline[[#This Row],[RANK Sorted]],ProjectTimelineData[],5,0),\"\")","v":""}]
[{"$nulls":4},{"$f":"IFERROR(RANK(F327,ProjectTimelineData[RANK])+SUMPRODUCT(--(F327=ProjectTimelineData[RANK]),--(J327<ProjectTimelineData[NUM])),\"\")","v":""},{"$f":"IFERROR(RANK(ProjectTimelineData[[#This Row],[DATE]],ProjectTimelineData[DATE],1),\"\")","v":""},{"$f":"IFERROR(IF(ISBLANK(INDEX(ProjectDetails[#Data],Project_last_entry-Project_start_row-ProjectTimelineData[[#This Row],[NUM]]+1,1)),\"\",INDEX(ProjectDetails[#Data],Project_last_entry-Project_start_row-ProjectTimelineData[[#This Row],[NUM]]+1,1)),\"\")","v":""},{"$f":"IFERROR(IF(ISBLANK(INDEX(ProjectDetails[#Data],Project_last_entry-Project_start_row-ProjectTimelineData[[#This Row],[NUM]]+1,2)),\"\",INDEX(ProjectDetails[#Data],Project_last_entry-Project_start_row-ProjectTimelineData[[#This Row],[NUM]]+1,2)),\"\")","v":""},{"$f":"IFERROR(IF(ISBLANK(INDEX(ProjectDetails[#Data],Project_last_entry-Project_start_row-ProjectTimelineData[[#This Row],[NUM]]+1,3)),\"\",INDEX(ProjectDetails[#Data],Project_last_entry-Project_start_row-ProjectTimelineData[[#This Row],[NUM]]+1,3)),\"\")","v":""},{"$f":"IFERROR(IF(ISBLANK(INDEX(ProjectDetails[#Data],ROW(A322)+1,1)),\"\",IF($J326-1<=-1,\"\",$J326-1)),\"\")","v":""},null,null,{"$f":"IFERROR(ProjectTimelineData[[#This Row],[NUM]]+1,\"\")","v":""},{"$f":"IFERROR(VLOOKUP(SortedTimeline[[#This Row],[RANK Sorted]],ProjectTimelineData[],3,0),\"\")","v":""},{"$f":"IFERROR(VLOOKUP(SortedTimeline[[#This Row],[RANK Sorted]],ProjectTimelineData[],4,0),\"\")","v":""},{"$f":"IFERROR(VLOOKUP(SortedTimeline[[#This Row],[RANK Sorted]],ProjectTimelineData[],5,0),\"\")","v":""}]
[{"$nulls":4},{"$f":"IFERROR(RANK(F328,ProjectTimelineData[RANK])+SUMPRODUCT(--(F328=ProjectTimelineData[RANK]),--(J328<ProjectTimelineData[NUM])),\"\")","v":""},{"$f":"IFERROR(RANK(ProjectTimelineData[[#This Row],[DATE]],ProjectTimelineData[DATE],1),\"\")","v":""},{"$f":"IFERROR(IF(ISBLANK(INDEX(ProjectDetails[#Data],Project_last_entry-Project_start_row-ProjectTimelineData[[#This Row],[NUM]]+1,1)),\"\",INDEX(ProjectDetails[#Data],Project_last_entry-Project_start_row-ProjectTimelineData[[#This Row],[NUM]]+1,1)),\"\")","v":""},{"$f":"IFERROR(IF(ISBLANK(INDEX(ProjectDetails[#Data],Project_last_entry-Project_start_row-ProjectTimelineData[[#This Row],[NUM]]+1,2)),\"\",INDEX(ProjectDetails[#Data],Project_last_entry-Project_start_row-ProjectTimelineData[[#This Row],[NUM]]+1,2)),\"\")","v":""},{"$f":"IFERROR(IF(ISBLANK(INDEX(ProjectDetails[#Data],Project_last_entry-Project_start_row-ProjectTimelineData[[#This Row],[NUM]]+1,3)),\"\",INDEX(ProjectDetails[#Data],Project_last_entry-Project_start_row-ProjectTimelineData[[#This Row],[NUM]]+1,3)),\"\")","v":""},{"$f":"IFERROR(IF(ISBLANK(INDEX(ProjectDetails[#Data],ROW(A323)+1,1)),\"\",IF($J327-1<=-1,\"\",$J327-1)),\"\")","v":""},null,null,{"$f":"IFERROR(ProjectTimelineData[[#This Row],[NUM]]+1,\"\")","v":""},{"$f":"IFERROR(VLOOKUP(SortedTimeline[[#This Row],[RANK Sorted]],ProjectTimelineData[],3,0),\"\")","v":""},{"$f":"IFERROR(VLOOKUP(SortedTimeline[[#This Row],[RANK Sorted]],ProjectTimelineData[],4,0),\"\")","v":""},{"$f":"IFERROR(VLOOKUP(SortedTimeline[[#This Row],[RANK Sorted]],ProjectTimelineData[],5,0),\"\")","v":""}]
[{"$nulls":4},{"$f":"IFERROR(RANK(F329,ProjectTimelineData[RANK])+SUMPRODUCT(--(F329=ProjectTimelineData[RANK]),--(J329<ProjectTimelineData[NUM])),\"\")","v":""},{"$f":"IFERROR(RANK(ProjectTimelineData[[#This Row],[DATE]],ProjectTimelineData[DATE],1),\"\")","v":""},{"$f":"IFERROR(IF(ISBLANK(INDEX(ProjectDetails[#Data],Project_last_entry-Project_start_row-ProjectTimelineData[[#This Row],[NUM]]+1,1)),\"\",INDEX(ProjectDetails[#Data],Project_last_entry-Project_start_row-ProjectTimelineData[[#This Row],[NUM]]+1,1)),\"\")","v":""},{"$f":"IFERROR(IF(ISBLANK(INDEX(ProjectDetails[#Data],Project_last_entry-Project_start_row-ProjectTimelineData[[#This Row],[NUM]]+1,2)),\"\",INDEX(ProjectDetails[#Data],Project_last_entry-Project_start_row-ProjectTimelineData[[#This Row],[NUM]]+1,2)),\"\")","v":""},{"$f":"IFERROR(IF(ISBLANK(INDEX(ProjectDetails[#Data],Project_last_entry-Project_start_row-ProjectTimelineData[[#This Row],[NUM]]+1,3)),\"\",INDEX(ProjectDetails[#Data],Project_last_entry-Project_start_row-ProjectTimelineData[[#This Row],[NUM]]+1,3)),\"\")","v":""},{"$f":"IFERROR(IF(ISBLANK(INDEX(ProjectDetails[#Data],ROW(A324)+1,1)),\"\",IF($J328-1<=-1,\"\",$J328-1)),\"\")","v":""},null,null,{"$f":"IFERROR(ProjectTimelineData[[#This Row],[NUM]]+1,\"\")","v":""},{"$f":"IFERROR(VLOOKUP(SortedTimeline[[#This Row],[RANK Sorted]],ProjectTimelineData[],3,0),\"\")","v":""},{"$f":"IFERROR(VLOOKUP(SortedTimeline[[#This Row],[RANK Sorted]],ProjectTimelineData[],4,0),\"\")","v":""},{"$f":"IFERROR(VLOOKUP(SortedTimeline[[#This Row],[RANK Sorted]],ProjectTimelineData[],5,0),\"\")","v":""}]
[{"$nulls":4},{"$f":"IFERROR(RANK(F330,ProjectTimelineData[RANK])+SUMPRODUCT(--(F330=ProjectTimelineData[RANK]),--(J330<ProjectTimelineData[NUM])),\"\")","v":""},{"$f":"IFERROR(RANK(ProjectTimelineData[[#This Row],[DATE]],ProjectTimelineData[DATE],1),\"\")","v":""},{"$f":"IFERROR(IF(ISBLANK(INDEX(ProjectDetails[#Data],Project_last_entry-Project_start_row-ProjectTimelineData[[#This Row],[NUM]]+1,1)),\"\",INDEX(ProjectDetails[#Data],Project_last_entry-Project_start_row-ProjectTimelineData[[#This Row],[NUM]]+1,1)),\"\")","v":""},{"$f":"IFERROR(IF(ISBLANK(INDEX(ProjectDetails[#Data],Project_last_entry-Project_start_row-ProjectTimelineData[[#This Row],[NUM]]+1,2)),\"\",INDEX(ProjectDetails[#Data],Project_last_entry-Project_start_row-ProjectTimelineData[[#This Row],[NUM]]+1,2)),\"\")","v":""},{"$f":"IFERROR(IF(ISBLANK(INDEX(ProjectDetails[#Data],Project_last_entry-Project_start_row-ProjectTimelineData[[#This Row],[NUM]]+1,3)),\"\",INDEX(ProjectDetails[#Data],Project_last_entry-Project_start_row-ProjectTimelineData[[#This Row],[NUM]]+1,3)),\"\")","v":""},{"$f":"IFERROR(IF(ISBLANK(INDEX(ProjectDetails[#Data],ROW(A325)+1,1)),\"\",IF($J329-1<=-1,\"\",$J329-1)),\"\")","v":""},null,null,{"$f":"IFERROR(ProjectTimelineData[[#This Row],[NUM]]+1,\"\")","v":""},{"$f":"IFERROR(VLOOKUP(SortedTimeline[[#This Row],[RANK Sorted]],ProjectTimelineData[],3,0),\"\")","v":""},{"$f":"IFERROR(VLOOKUP(SortedTimeline[[#This Row],[RANK Sorted]],ProjectTimelineData[],4,0),\"\")","v":""},{"$f":"IFERROR(VLOOKUP(SortedTimeline[[#This Row],[RANK Sorted]],ProjectTimelineData[],5,0),\"\")","v":""}]
[{"$nulls":4},{"$f":"IFERROR(RANK(F331,ProjectTimelineData[RANK])+SUMPRODUCT(--(F331=ProjectTimelineData[RANK]),--(J331<ProjectTimelineData[NUM])),\"\")","v":""},{"$f":"IFERROR(RANK(ProjectTimelineData[[#This Row],[DATE]],ProjectTimelineData[DATE],1),\"\")","v":""},{"$f":"IFERROR(IF(ISBLANK(INDEX(ProjectDetails[#Data],Project_last_entry-Project_start_row-ProjectTimelineData[[#This Row],[NUM]]+1,1)),\"\",INDEX(ProjectDetails[#Data],Project_last_entry-Project_start_row-ProjectTimelineData[[#This Row],[NUM]]+1,1)),\"\")","v":""},{"$f":"IFERROR(IF(ISBLANK(INDEX(ProjectDetails[#Data],Project_last_entry-Project_start_row-ProjectTimelineData[[#This Row],[NUM]]+1,2)),\"\",INDEX(ProjectDetails[#Data],Project_last_entry-Project_start_row-ProjectTimelineData[[#This Row],[NUM]]+1,2)),\"\")","v":""},{"$f":"IFERROR(IF(ISBLANK(INDEX(ProjectDetails[#Data],Project_last_entry-Project_start_row-ProjectTimelineData[[#This Row],[NUM]]+1,3)),\"\",INDEX(ProjectDetails[#Data],Project_last_entry-Project_start_row-ProjectTimelineData[[#This Row],[NUM]]+1,3)),\"\")","v":""},{"$f":"IFERROR(IF(ISBLANK(INDEX(ProjectDetails[#Data],ROW(A326)+1,1)),\"\",IF($J330-1<=-1,\"\",$J330-1)),\"\")","v":""},null,null,{"$f":"IFERROR(ProjectTimelineData[[#This Row],[NUM]]+1,\"\")","v":""},{"$f":"IFERROR(VLOOKUP(SortedTimeline[[#This Row],[RANK Sorted]],ProjectTimelineData[],3,0),\"\")","v":""},{"$f":"IFERROR(VLOOKUP(SortedTimeline[[#This Row],[RANK Sorted]],ProjectTimelineData[],4,0),\"\")","v":""},{"$f":"IFERROR(VLOOKUP(SortedTimeline[[#This Row],[RANK Sorted]],ProjectTimelineData[],5,0),\"\")","v":""}]
[{"$nulls":4},{"$f":"IFERROR(RANK(F332,ProjectTimelineData[RANK])+SUMPRODUCT(--(F332=ProjectTimelineData[RANK]),--(J332<ProjectTimelineData[NUM])),\"\")","v":""},{"$f":"IFERROR(RANK(ProjectTimelineData[[#This Row],[DATE]],ProjectTimelineData[DATE],1),\"\")","v":""},{"$f":"IFERROR(IF(ISBLANK(INDEX(ProjectDetails[#Data],Project_last_entry-Project_start_row-ProjectTimelineData[[#This Row],[NUM]]+1,1)),\"\",INDEX(ProjectDetails[#Data],Project_last_entry-Project_start_row-ProjectTimelineData[[#This Row],[NUM]]+1,1)),\"\")","v":""},{"$f":"IFERROR(IF(ISBLANK(INDEX(ProjectDetails[#Data],Project_last_entry-Project_start_row-ProjectTimelineData[[#This Row],[NUM]]+1,2)),\"\",INDEX(ProjectDetails[#Data],Project_last_entry-Project_start_row-ProjectTimelineData[[#This Row],[NUM]]+1,2)),\"\")","v":""},{"$f":"IFERROR(IF(ISBLANK(INDEX(ProjectDetails[#Data],Project_last_entry-Project_start_row-ProjectTimelineData[[#This Row],[NUM]]+1,3)),\"\",INDEX(ProjectDetails[#Data],Project_last_entry-Project_start_row-ProjectTimelineData[[#This Row],[NUM]]+1,3)),\"\")","v":""},{"$f":"IFERROR(IF(ISBLANK(INDEX(ProjectDetails[#Data],ROW(A327)+1,1)),\"\",IF($J331-1<=-1,\"\",$J331-1)),\"\")","v":""},null,null,{"$f":"IFERROR(ProjectTimelineData[[#This Row],[NUM]]+1,\"\")","v":""},{"$f":"IFERROR(VLOOKUP(SortedTimeline[[#This Row],[RANK Sorted]],ProjectTimelineData[],3,0),\"\")","v":""},{"$f":"IFERROR(VLOOKUP(SortedTimeline[[#This Row],[RANK Sorted]],ProjectTimelineData[],4,0),\"\")","v":""},{"$f":"IFERROR(VLOOKUP(SortedTimeline[[#This Row],[RANK Sorted]],ProjectTimelineData[],5,0),\"\")","v":""}]
[{"$nulls":4},{"$f":"IFERROR(RANK(F333,ProjectTimelineData[RANK])+SUMPRODUCT(--(F333=ProjectTimelineData[RANK]),--(J333<ProjectTimelineData[NUM])),\"\")","v":""},{"$f":"IFERROR(RANK(ProjectTimelineData[[#This Row],[DATE]],ProjectTimelineData[DATE],1),\"\")","v":""},{"$f":"IFERROR(IF(ISBLANK(INDEX(ProjectDetails[#Data],Project_last_entry-Project_start_row-ProjectTimelineData[[#This Row],[NUM]]+1,1)),\"\",INDEX(ProjectDetails[#Data],Project_last_entry-Project_start_row-ProjectTimelineData[[#This Row],[NUM]]+1,1)),\"\")","v":""},{"$f":"IFERROR(IF(ISBLANK(INDEX(ProjectDetails[#Data],Project_last_entry-Project_start_row-ProjectTimelineData[[#This Row],[NUM]]+1,2)),\"\",INDEX(ProjectDetails[#Data],Project_last_entry-Project_start_row-ProjectTimelineData[[#This Row],[NUM]]+1,2)),\"\")","v":""},{"$f":"IFERROR(IF(ISBLANK(INDEX(ProjectDetails[#Data],Project_last_entry-Project_start_row-ProjectTimelineData[[#This Row],[NUM]]+1,3)),\"\",INDEX(ProjectDetails[#Data],Project_last_entry-Project_start_row-ProjectTimelineData[[#This Row],[NUM]]+1,3)),\"\")","v":""},{"$f":"IFERROR(IF(ISBLANK(INDEX(ProjectDetails[#Data],ROW(A328)+1,1)),\"\",IF($J332-1<=-1,\"\",$J332-1)),\"\")","v":""},null,null,{"$f":"IFERROR(ProjectTimelineData[[#This Row],[NUM]]+1,\"\")","v":""},{"$f":"IFERROR(VLOOKUP(SortedTimeline[[#This Row],[RANK Sorted]],ProjectTimelineData[],3,0),\"\")","v":""},{"$f":"IFERROR(VLOOKUP(SortedTimeline[[#This Row],[RANK Sorted]],ProjectTimelineData[],4,0),\"\")","v":""},{"$f":"IFERROR(VLOOKUP(SortedTimeline[[#This Row],[RANK Sorted]],ProjectTimelineData[],5,0),\"\")","v":""}]
[{"$nulls":4},{"$f":"IFERROR(RANK(F334,ProjectTimelineData[RANK])+SUMPRODUCT(--(F334=ProjectTimelineData[RANK]),--(J334<ProjectTimelineData[NUM])),\"\")","v":""},{"$f":"IFERROR(RANK(ProjectTimelineData[[#This Row],[DATE]],ProjectTimelineData[DATE],1),\"\")","v":""},{"$f":"IFERROR(IF(ISBLANK(INDEX(ProjectDetails[#Data],Project_last_entry-Project_start_row-ProjectTimelineData[[#This Row],[NUM]]+1,1)),\"\",INDEX(ProjectDetails[#Data],Project_last_entry-Project_start_row-ProjectTimelineData[[#This Row],[NUM]]+1,1)),\"\")","v":""},{"$f":"IFERROR(IF(ISBLANK(INDEX(ProjectDetails[#Data],Project_last_entry-Project_start_row-ProjectTimelineData[[#This Row],[NUM]]+1,2)),\"\",INDEX(ProjectDetails[#Data],Project_last_entry-Project_start_row-ProjectTimelineData[[#This Row],[NUM]]+1,2)),\"\")","v":""},{"$f":"IFERROR(IF(ISBLANK(INDEX(ProjectDetails[#Data],Project_last_entry-Project_start_row-ProjectTimelineData[[#This Row],[NUM]]+1,3)),\"\",INDEX(ProjectDetails[#Data],Project_last_entry-Project_start_row-ProjectTimelineData[[#This Row],[NUM]]+1,3)),\"\")","v":""},{"$f":"IFERROR(IF(ISBLANK(INDEX(ProjectDetails[#Data],ROW(A329)+1,1)),\"\",IF($J333-1<=-1,\"\",$J333-1)),\"\")","v":""},null,null,{"$f":"IFERROR(ProjectTimelineData[[#This Row],[NUM]]+1,\"\")","v":""},{"$f":"IFERROR(VLOOKUP(SortedTimeline[[#This Row],[RANK Sorted]],ProjectTimelineData[],3,0),\"\")","v":""},{"$f":"IFERROR(VLOOKUP(SortedTimeline[[#This Row],[RANK Sorted]],ProjectTimelineData[],4,0),\"\")","v":""},{"$f":"IFERROR(VLOOKUP(SortedTimeline[[#This Row],[RANK Sorted]],ProjectTimelineData[],5,0),\"\")","v":""}]
[{"$nulls":4},{"$f":"IFERROR(RANK(F335,ProjectTimelineData[RANK])+SUMPRODUCT(--(F335=ProjectTimelineData[RANK]),--(J335<ProjectTimelineData[NUM])),\"\")","v":""},{"$f":"IFERROR(RANK(ProjectTimelineData[[#This Row],[DATE]],ProjectTimelineData[DATE],1),\"\")","v":""},{"$f":"IFERROR(IF(ISBLANK(INDEX(ProjectDetails[#Data],Project_last_entry-Project_start_row-ProjectTimelineData[[#This Row],[NUM]]+1,1)),\"\",INDEX(ProjectDetails[#Data],Project_last_entry-Project_start_row-ProjectTimelineData[[#This Row],[NUM]]+1,1)),\"\")","v":""},{"$f":"IFERROR(IF(ISBLANK(INDEX(ProjectDetails[#Data],Project_last_entry-Project_start_row-ProjectTimelineData[[#This Row],[NUM]]+1,2)),\"\",INDEX(ProjectDetails[#Data],Project_last_entry-Project_start_row-ProjectTimelineData[[#This Row],[NUM]]+1,2)),\"\")","v":""},{"$f":"IFERROR(IF(ISBLANK(INDEX(ProjectDetails[#Data],Project_last_entry-Project_start_row-ProjectTimelineData[[#This Row],[NUM]]+1,3)),\"\",INDEX(ProjectDetails[#Data],Project_last_entry-Project_start_row-ProjectTimelineData[[#This Row],[NUM]]+1,3)),\"\")","v":""},{"$f":"IFERROR(IF(ISBLANK(INDEX(ProjectDetails[#Data],ROW(A330)+1,1)),\"\",IF($J334-1<=-1,\"\",$J334-1)),\"\")","v":""},null,null,{"$f":"IFERROR(ProjectTimelineData[[#This Row],[NUM]]+1,\"\")","v":""},{"$f":"IFERROR(VLOOKUP(SortedTimeline[[#This Row],[RANK Sorted]],ProjectTimelineData[],3,0),\"\")","v":""},{"$f":"IFERROR(VLOOKUP(SortedTimeline[[#This Row],[RANK Sorted]],ProjectTimelineData[],4,0),\"\")","v":""},{"$f":"IFERROR(VLOOKUP(SortedTimeline[[#This Row],[RANK Sorted]],ProjectTimelineData[],5,0),\"\")","v":""}]
[{"$nulls":4},{"$f":"IFERROR(RANK(F336,ProjectTimelineData[RANK])+SUMPRODUCT(--(F336=ProjectTimelineData[RANK]),--(J336<ProjectTimelineData[NUM])),\"\")","v":""},{"$f":"IFERROR(RANK(ProjectTimelineData[[#This Row],[DATE]],ProjectTimelineData[DATE],1),\"\")","v":""},{"$f":"IFERROR(IF(ISBLANK(INDEX(ProjectDetails[#Data],Project_last_entry-Project_start_row-ProjectTimelineData[[#This Row],[NUM]]+1,1)),\"\",INDEX(ProjectDetails[#Data],Project_last_entry-Project_start_row-ProjectTimelineData[[#This Row],[NUM]]+1,1)),\"\")","v":""},{"$f":"IFERROR(IF(ISBLANK(INDEX(ProjectDetails[#Data],Project_last_entry-Project_start_row-ProjectTimelineData[[#This Row],[NUM]]+1,2)),\"\",INDEX(ProjectDetails[#Data],Project_last_entry-Project_start_row-ProjectTimelineData[[#This Row],[NUM]]+1,2)),\"\")","v":""},{"$f":"IFERROR(IF(ISBLANK(INDEX(ProjectDetails[#Data],Project_last_entry-Project_start_row-ProjectTimelineData[[#This Row],[NUM]]+1,3)),\"\",INDEX(ProjectDetails[#Data],Project_last_entry-Project_start_row-ProjectTimelineData[[#This Row],[NUM]]+1,3)),\"\")","v":""},{"$f":"IFERROR(IF(ISBLANK(INDEX(ProjectDetails[#Data],ROW(A331)+1,1)),\"\",IF($J335-1<=-1,\"\",$J335-1)),\"\")","v":""},null,null,{"$f":"IFERROR(ProjectTimelineData[[#This Row],[NUM]]+1,\"\")","v":""},{"$f":"IFERROR(VLOOKUP(SortedTimeline[[#This Row],[RANK Sorted]],ProjectTimelineData[],3,0),\"\")","v":""},{"$f":"IFERROR(VLOOKUP(SortedTimeline[[#This Row],[RANK Sorted]],ProjectTimelineData[],4,0),\"\")","v":""},{"$f":"IFERROR(VLOOKUP(SortedTimeline[[#This Row],[RANK Sorted]],ProjectTimelineData[],5,0),\"\")","v":""}]
[{"$nulls":4},{"$f":"IFERROR(RANK(F337,ProjectTimelineData[RANK])+SUMPRODUCT(--(F337=ProjectTimelineData[RANK]),--(J337<ProjectTimelineData[NUM])),\"\")","v":""},{"$f":"IFERROR(RANK(ProjectTimelineData[[#This Row],[DATE]],ProjectTimelineData[DATE],1),\"\")","v":""},{"$f":"IFERROR(IF(ISBLANK(INDEX(ProjectDetails[#Data],Project_last_entry-Project_start_row-ProjectTimelineData[[#This Row],[NUM]]+1,1)),\"\",INDEX(ProjectDetails[#Data],Project_last_entry-Project_start_row-ProjectTimelineData[[#This Row],[NUM]]+1,1)),\"\")","v":""},{"$f":"IFERROR(IF(ISBLANK(INDEX(ProjectDetails[#Data],Project_last_entry-Project_start_row-ProjectTimelineData[[#This Row],[NUM]]+1,2)),\"\",INDEX(ProjectDetails[#Data],Project_last_entry-Project_start_row-ProjectTimelineData[[#This Row],[NUM]]+1,2)),\"\")","v":""},{"$f":"IFERROR(IF(ISBLANK(INDEX(ProjectDetails[#Data],Project_last_entry-Project_start_row-ProjectTimelineData[[#This Row],[NUM]]+1,3)),\"\",INDEX(ProjectDetails[#Data],Project_last_entry-Project_start_row-ProjectTimelineData[[#This Row],[NUM]]+1,3)),\"\")","v":""},{"$f":"IFERROR(IF(ISBLANK(INDEX(ProjectDetails[#Data],ROW(A332)+1,1)),\"\",IF($J336-1<=-1,\"\",$J336-1)),\"\")","v":""},null,null,{"$f":"IFERROR(ProjectTimelineData[[#This Row],[NUM]]+1,\"\")","v":""},{"$f":"IFERROR(VLOOKUP(SortedTimeline[[#This Row],[RANK Sorted]],ProjectTimelineData[],3,0),\"\")","v":""},{"$f":"IFERROR(VLOOKUP(SortedTimeline[[#This Row],[RANK Sorted]],ProjectTimelineData[],4,0),\"\")","v":""},{"$f":"IFERROR(VLOOKUP(SortedTimeline[[#This Row],[RANK Sorted]],ProjectTimelineData[],5,0),\"\")","v":""}]
[{"$nulls":4},{"$f":"IFERROR(RANK(F338,ProjectTimelineData[RANK])+SUMPRODUCT(--(F338=ProjectTimelineData[RANK]),--(J338<ProjectTimelineData[NUM])),\"\")","v":""},{"$f":"IFERROR(RANK(ProjectTimelineData[[#This Row],[DATE]],ProjectTimelineData[DATE],1),\"\")","v":""},{"$f":"IFERROR(IF(ISBLANK(INDEX(ProjectDetails[#Data],Project_last_entry-Project_start_row-ProjectTimelineData[[#This Row],[NUM]]+1,1)),\"\",INDEX(ProjectDetails[#Data],Project_last_entry-Project_start_row-ProjectTimelineData[[#This Row],[NUM]]+1,1)),\"\")","v":""},{"$f":"IFERROR(IF(ISBLANK(INDEX(ProjectDetails[#Data],Project_last_entry-Project_start_row-ProjectTimelineData[[#This Row],[NUM]]+1,2)),\"\",INDEX(ProjectDetails[#Data],Project_last_entry-Project_start_row-ProjectTimelineData[[#This Row],[NUM]]+1,2)),\"\")","v":""},{"$f":"IFERROR(IF(ISBLANK(INDEX(ProjectDetails[#Data],Project_last_entry-Project_start_row-ProjectTimelineData[[#This Row],[NUM]]+1,3)),\"\",INDEX(ProjectDetails[#Data],Project_last_entry-Project_start_row-ProjectTimelineData[[#This Row],[NUM]]+1,3)),\"\")","v":""},{"$f":"IFERROR(IF(ISBLANK(INDEX(ProjectDetails[#Data],ROW(A333)+1,1)),\"\",IF($J337-1<=-1,\"\",$J337-1)),\"\")","v":""},null,null,{"$f":"IFERROR(ProjectTimelineData[[#This Row],[NUM]]+1,\"\")","v":""},{"$f":"IFERROR(VLOOKUP(SortedTimeline[[#This Row],[RANK Sorted]],ProjectTimelineData[],3,0),\"\")","v":""},{"$f":"IFERROR(VLOOKUP(SortedTimeline[[#This Row],[RANK Sorted]],ProjectTimelineData[],4,0),\"\")","v":""},{"$f":"IFERROR(VLOOKUP(SortedTimeline[[#This Row],[RANK Sorted]],ProjectTimelineData[],5,0),\"\")","v":""}]
[{"$nulls":4},{"$f":"IFERROR(RANK(F339,ProjectTimelineData[RANK])+SUMPRODUCT(--(F339=ProjectTimelineData[RANK]),--(J339<ProjectTimelineData[NUM])),\"\")","v":""},{"$f":"IFERROR(RANK(ProjectTimelineData[[#This Row],[DATE]],ProjectTimelineData[DATE],1),\"\")","v":""},{"$f":"IFERROR(IF(ISBLANK(INDEX(ProjectDetails[#Data],Project_last_entry-Project_start_row-ProjectTimelineData[[#This Row],[NUM]]+1,1)),\"\",INDEX(ProjectDetails[#Data],Project_last_entry-Project_start_row-ProjectTimelineData[[#This Row],[NUM]]+1,1)),\"\")","v":""},{"$f":"IFERROR(IF(ISBLANK(INDEX(ProjectDetails[#Data],Project_last_entry-Project_start_row-ProjectTimelineData[[#This Row],[NUM]]+1,2)),\"\",INDEX(ProjectDetails[#Data],Project_last_entry-Project_start_row-ProjectTimelineData[[#This Row],[NUM]]+1,2)),\"\")","v":""},{"$f":"IFERROR(IF(ISBLANK(INDEX(ProjectDetails[#Data],Project_last_entry-Project_start_row-ProjectTimelineData[[#This Row],[NUM]]+1,3)),\"\",INDEX(ProjectDetails[#Data],Project_last_entry-Project_start_row-ProjectTimelineData[[#This Row],[NUM]]+1,3)),\"\")","v":""},{"$f":"IFERROR(IF(ISBLANK(INDEX(ProjectDetails[#Data],ROW(A334)+1,1)),\"\",IF($J338-1<=-1,\"\",$J338-1)),\"\")","v":""},null,null,{"$f":"IFERROR(ProjectTimelineData[[#This Row],[NUM]]+1,\"\")","v":""},{"$f":"IFERROR(VLOOKUP(SortedTimeline[[#This Row],[RANK Sorted]],ProjectTimelineData[],3,0),\"\")","v":""},{"$f":"IFERROR(VLOOKUP(SortedTimeline[[#This Row],[RANK Sorted]],ProjectTimelineData[],4,0),\"\")","v":""},{"$f":"IFERROR(VLOOKUP(SortedTimeline[[#This Row],[RANK Sorted]],ProjectTimelineData[],5,0),\"\")","v":""}]
[{"$nulls":4},{"$f":"IFERROR(RANK(F340,ProjectTimelineData[RANK])+SUMPRODUCT(--(F340=ProjectTimelineData[RANK]),--(J340<ProjectTimelineData[NUM])),\"\")","v":""},{"$f":"IFERROR(RANK(ProjectTimelineData[[#This Row],[DATE]],ProjectTimelineData[DATE],1),\"\")","v":""},{"$f":"IFERROR(IF(ISBLANK(INDEX(ProjectDetails[#Data],Project_last_entry-Project_start_row-ProjectTimelineData[[#This Row],[NUM]]+1,1)),\"\",INDEX(ProjectDetails[#Data],Project_last_entry-Project_start_row-ProjectTimelineData[[#This Row],[NUM]]+1,1)),\"\")","v":""},{"$f":"IFERROR(IF(ISBLANK(INDEX(ProjectDetails[#Data],Project_last_entry-Project_start_row-ProjectTimelineData[[#This Row],[NUM]]+1,2)),\"\",INDEX(ProjectDetails[#Data],Project_last_entry-Project_start_row-ProjectTimelineData[[#This Row],[NUM]]+1,2)),\"\")","v":""},{"$f":"IFERROR(IF(ISBLANK(INDEX(ProjectDetails[#Data],Project_last_entry-Project_start_row-ProjectTimelineData[[#This Row],[NUM]]+1,3)),\"\",INDEX(ProjectDetails[#Data],Project_last_entry-Project_start_row-ProjectTimelineData[[#This Row],[NUM]]+1,3)),\"\")","v":""},{"$f":"IFERROR(IF(ISBLANK(INDEX(ProjectDetails[#Data],ROW(A335)+1,1)),\"\",IF($J339-1<=-1,\"\",$J339-1)),\"\")","v":""},null,null,{"$f":"IFERROR(ProjectTimelineData[[#This Row],[NUM]]+1,\"\")","v":""},{"$f":"IFERROR(VLOOKUP(SortedTimeline[[#This Row],[RANK Sorted]],ProjectTimelineData[],3,0),\"\")","v":""},{"$f":"IFERROR(VLOOKUP(SortedTimeline[[#This Row],[RANK Sorted]],ProjectTimelineData[],4,0),\"\")","v":""},{"$f":"IFERROR(VLOOKUP(SortedTimeline[[#This Row],[RANK Sorted]],ProjectTimelineData[],5,0),\"\")","v":""}]
[{"$nulls":4},{"$f":"IFERROR(RANK(F341,ProjectTimelineData[RANK])+SUMPRODUCT(--(F341=ProjectTimelineData[RANK]),--(J341<ProjectTimelineData[NUM])),\"\")","v":""},{"$f":"IFERROR(RANK(ProjectTimelineData[[#This Row],[DATE]],ProjectTimelineData[DATE],1),\"\")","v":""},{"$f":"IFERROR(IF(ISBLANK(INDEX(ProjectDetails[#Data],Project_last_entry-Project_start_row-ProjectTimelineData[[#This Row],[NUM]]+1,1)),\"\",INDEX(ProjectDetails[#Data],Project_last_entry-Project_start_row-ProjectTimelineData[[#This Row],[NUM]]+1,1)),\"\")","v":""},{"$f":"IFERROR(IF(ISBLANK(INDEX(ProjectDetails[#Data],Project_last_entry-Project_start_row-ProjectTimelineData[[#This Row],[NUM]]+1,2)),\"\",INDEX(ProjectDetails[#Data],Project_last_entry-Project_start_row-ProjectTimelineData[[#This Row],[NUM]]+1,2)),\"\")","v":""},{"$f":"IFERROR(IF(ISBLANK(INDEX(ProjectDetails[#Data],Project_last_entry-Project_start_row-ProjectTimelineData[[#This Row],[NUM]]+1,3)),\"\",INDEX(ProjectDetails[#Data],Project_last_entry-Project_start_row-ProjectTimelineData[[#This Row],[NUM]]+1,3)),\"\")","v":""},{"$f":"IFERROR(IF(ISBLANK(INDEX(ProjectDetails[#Data],ROW(A336)+1,1)),\"\",IF($J340-1<=-1,\"\",$J340-1)),\"\")","v":""},null,null,{"$f":"IFERROR(ProjectTimelineData[[#This Row],[NUM]]+1,\"\")","v":""},{"$f":"IFERROR(VLOOKUP(SortedTimeline[[#This Row],[RANK Sorted]],ProjectTimelineData[],3,0),\"\")","v":""},{"$f":"IFERROR(VLOOKUP(SortedTimeline[[#This Row],[RANK Sorted]],ProjectTimelineData[],4,0),\"\")","v":""},{"$f":"IFERROR(VLOOKUP(SortedTimeline[[#This Row],[RANK Sorted]],ProjectTimelineData[],5,0),\"\")","v":""}]
[{"$nulls":4},{"$f":"IFERROR(RANK(F342,ProjectTimelineData[RANK])+SUMPRODUCT(--(F342=ProjectTimelineData[RANK]),--(J342<ProjectTimelineData[NUM])),\"\")","v":""},{"$f":"IFERROR(RANK(ProjectTimelineData[[#This Row],[DATE]],ProjectTimelineData[DATE],1),\"\")","v":""},{"$f":"IFERROR(IF(ISBLANK(INDEX(ProjectDetails[#Data],Project_last_entry-Project_start_row-ProjectTimelineData[[#This Row],[NUM]]+1,1)),\"\",INDEX(ProjectDetails[#Data],Project_last_entry-Project_start_row-ProjectTimelineData[[#This Row],[NUM]]+1,1)),\"\")","v":""},{"$f":"IFERROR(IF(ISBLANK(INDEX(ProjectDetails[#Data],Project_last_entry-Project_start_row-ProjectTimelineData[[#This Row],[NUM]]+1,2)),\"\",INDEX(ProjectDetails[#Data],Project_last_entry-Project_start_row-ProjectTimelineData[[#This Row],[NUM]]+1,2)),\"\")","v":""},{"$f":"IFERROR(IF(ISBLANK(INDEX(ProjectDetails[#Data],Project_last_entry-Project_start_row-ProjectTimelineData[[#This Row],[NUM]]+1,3)),\"\",INDEX(ProjectDetails[#Data],Project_last_entry-Project_start_row-ProjectTimelineData[[#This Row],[NUM]]+1,3)),\"\")","v":""},{"$f":"IFERROR(IF(ISBLANK(INDEX(ProjectDetails[#Data],ROW(A337)+1,1)),\"\",IF($J341-1<=-1,\"\",$J341-1)),\"\")","v":""},null,null,{"$f":"IFERROR(ProjectTimelineData[[#This Row],[NUM]]+1,\"\")","v":""},{"$f":"IFERROR(VLOOKUP(SortedTimeline[[#This Row],[RANK Sorted]],ProjectTimelineData[],3,0),\"\")","v":""},{"$f":"IFERROR(VLOOKUP(SortedTimeline[[#This Row],[RANK Sorted]],ProjectTimelineData[],4,0),\"\")","v":""},{"$f":"IFERROR(VLOOKUP(SortedTimeline[[#This Row],[RANK Sorted]],ProjectTimelineData[],5,0),\"\")","v":""}]
[{"$nulls":4},{"$f":"IFERROR(RANK(F343,ProjectTimelineData[RANK])+SUMPRODUCT(--(F343=ProjectTimelineData[RANK]),--(J343<ProjectTimelineData[NUM])),\"\")","v":""},{"$f":"IFERROR(RANK(ProjectTimelineData[[#This Row],[DATE]],ProjectTimelineData[DATE],1),\"\")","v":""},{"$f":"IFERROR(IF(ISBLANK(INDEX(ProjectDetails[#Data],Project_last_entry-Project_start_row-ProjectTimelineData[[#This Row],[NUM]]+1,1)),\"\",INDEX(ProjectDetails[#Data],Project_last_entry-Project_start_row-ProjectTimelineData[[#This Row],[NUM]]+1,1)),\"\")","v":""},{"$f":"IFERROR(IF(ISBLANK(INDEX(ProjectDetails[#Data],Project_last_entry-Project_start_row-ProjectTimelineData[[#This Row],[NUM]]+1,2)),\"\",INDEX(ProjectDetails[#Data],Project_last_entry-Project_start_row-ProjectTimelineData[[#This Row],[NUM]]+1,2)),\"\")","v":""},{"$f":"IFERROR(IF(ISBLANK(INDEX(ProjectDetails[#Data],Project_last_entry-Project_start_row-ProjectTimelineData[[#This Row],[NUM]]+1,3)),\"\",INDEX(ProjectDetails[#Data],Project_last_entry-Project_start_row-ProjectTimelineData[[#This Row],[NUM]]+1,3)),\"\")","v":""},{"$f":"IFERROR(IF(ISBLANK(INDEX(ProjectDetails[#Data],ROW(A338)+1,1)),\"\",IF($J342-1<=-1,\"\",$J342-1)),\"\")","v":""},null,null,{"$f":"IFERROR(ProjectTimelineData[[#This Row],[NUM]]+1,\"\")","v":""},{"$f":"IFERROR(VLOOKUP(SortedTimeline[[#This Row],[RANK Sorted]],ProjectTimelineData[],3,0),\"\")","v":""},{"$f":"IFERROR(VLOOKUP(SortedTimeline[[#This Row],[RANK Sorted]],ProjectTimelineData[],4,0),\"\")","v":""},{"$f":"IFERROR(VLOOKUP(SortedTimeline[[#This Row],[RANK Sorted]],ProjectTimelineData[],5,0),\"\")","v":""}]
[{"$nulls":4},{"$f":"IFERROR(RANK(F344,ProjectTimelineData[RANK])+SUMPRODUCT(--(F344=ProjectTimelineData[RANK]),--(J344<ProjectTimelineData[NUM])),\"\")","v":""},{"$f":"IFERROR(RANK(ProjectTimelineData[[#This Row],[DATE]],ProjectTimelineData[DATE],1),\"\")","v":""},{"$f":"IFERROR(IF(ISBLANK(INDEX(ProjectDetails[#Data],Project_last_entry-Project_start_row-ProjectTimelineData[[#This Row],[NUM]]+1,1)),\"\",INDEX(ProjectDetails[#Data],Project_last_entry-Project_start_row-ProjectTimelineData[[#This Row],[NUM]]+1,1)),\"\")","v":""},{"$f":"IFERROR(IF(ISBLANK(INDEX(ProjectDetails[#Data],Project_last_entry-Project_start_row-ProjectTimelineData[[#This Row],[NUM]]+1,2)),\"\",INDEX(ProjectDetails[#Data],Project_last_entry-Project_start_row-ProjectTimelineData[[#This Row],[NUM]]+1,2)),\"\")","v":""},{"$f":"IFERROR(IF(ISBLANK(INDEX(ProjectDetails[#Data],Project_last_entry-Project_start_row-ProjectTimelineData[[#This Row],[NUM]]+1,3)),\"\",INDEX(ProjectDetails[#Data],Project_last_entry-Project_start_row-ProjectTimelineData[[#This Row],[NUM]]+1,3)),\"\")","v":""},{"$f":"IFERROR(IF(ISBLANK(INDEX(ProjectDetails[#Data],ROW(A339)+1,1)),\"\",IF($J343-1<=-1,\"\",$J343-1)),\"\")","v":""},null,null,{"$f":"IFERROR(ProjectTimelineData[[#This Row],[NUM]]+1,\"\")","v":""},{"$f":"IFERROR(VLOOKUP(SortedTimeline[[#This Row],[RANK Sorted]],ProjectTimelineData[],3,0),\"\")","v":""},{"$f":"IFERROR(VLOOKUP(SortedTimeline[[#This Row],[RANK Sorted]],ProjectTimelineData[],4,0),\"\")","v":""},{"$f":"IFERROR(VLOOKUP(SortedTimeline[[#This Row],[RANK Sorted]],ProjectTimelineData[],5,0),\"\")","v":""}]
[{"$nulls":4},{"$f":"IFERROR(RANK(F345,ProjectTimelineData[RANK])+SUMPRODUCT(--(F345=ProjectTimelineData[RANK]),--(J345<ProjectTimelineData[NUM])),\"\")","v":""},{"$f":"IFERROR(RANK(ProjectTimelineData[[#This Row],[DATE]],ProjectTimelineData[DATE],1),\"\")","v":""},{"$f":"IFERROR(IF(ISBLANK(INDEX(ProjectDetails[#Data],Project_last_entry-Project_start_row-ProjectTimelineData[[#This Row],[NUM]]+1,1)),\"\",INDEX(ProjectDetails[#Data],Project_last_entry-Project_start_row-ProjectTimelineData[[#This Row],[NUM]]+1,1)),\"\")","v":""},{"$f":"IFERROR(IF(ISBLANK(INDEX(ProjectDetails[#Data],Project_last_entry-Project_start_row-ProjectTimelineData[[#This Row],[NUM]]+1,2)),\"\",INDEX(ProjectDetails[#Data],Project_last_entry-Project_start_row-ProjectTimelineData[[#This Row],[NUM]]+1,2)),\"\")","v":""},{"$f":"IFERROR(IF(ISBLANK(INDEX(ProjectDetails[#Data],Project_last_entry-Project_start_row-ProjectTimelineData[[#This Row],[NUM]]+1,3)),\"\",INDEX(ProjectDetails[#Data],Project_last_entry-Project_start_row-ProjectTimelineData[[#This Row],[NUM]]+1,3)),\"\")","v":""},{"$f":"IFERROR(IF(ISBLANK(INDEX(ProjectDetails[#Data],ROW(A340)+1,1)),\"\",IF($J344-1<=-1,\"\",$J344-1)),\"\")","v":""},null,null,{"$f":"IFERROR(ProjectTimelineData[[#This Row],[NUM]]+1,\"\")","v":""},{"$f":"IFERROR(VLOOKUP(SortedTimeline[[#This Row],[RANK Sorted]],ProjectTimelineData[],3,0),\"\")","v":""},{"$f":"IFERROR(VLOOKUP(SortedTimeline[[#This Row],[RANK Sorted]],ProjectTimelineData[],4,0),\"\")","v":""},{"$f":"IFERROR(VLOOKUP(SortedTimeline[[#This Row],[RANK Sorted]],ProjectTimelineData[],5,0),\"\")","v":""}]
[{"$nulls":4},{"$f":"IFERROR(RANK(F346,ProjectTimelineData[RANK])+SUMPRODUCT(--(F346=ProjectTimelineData[RANK]),--(J346<ProjectTimelineData[NUM])),\"\")","v":""},{"$f":"IFERROR(RANK(ProjectTimelineData[[#This Row],[DATE]],ProjectTimelineData[DATE],1),\"\")","v":""},{"$f":"IFERROR(IF(ISBLANK(INDEX(ProjectDetails[#Data],Project_last_entry-Project_start_row-ProjectTimelineData[[#This Row],[NUM]]+1,1)),\"\",INDEX(ProjectDetails[#Data],Project_last_entry-Project_start_row-ProjectTimelineData[[#This Row],[NUM]]+1,1)),\"\")","v":""},{"$f":"IFERROR(IF(ISBLANK(INDEX(ProjectDetails[#Data],Project_last_entry-Project_start_row-ProjectTimelineData[[#This Row],[NUM]]+1,2)),\"\",INDEX(ProjectDetails[#Data],Project_last_entry-Project_start_row-ProjectTimelineData[[#This Row],[NUM]]+1,2)),\"\")","v":""},{"$f":"IFERROR(IF(ISBLANK(INDEX(ProjectDetails[#Data],Project_last_entry-Project_start_row-ProjectTimelineData[[#This Row],[NUM]]+1,3)),\"\",INDEX(ProjectDetails[#Data],Project_last_entry-Project_start_row-ProjectTimelineData[[#This Row],[NUM]]+1,3)),\"\")","v":""},{"$f":"IFERROR(IF(ISBLANK(INDEX(ProjectDetails[#Data],ROW(A341)+1,1)),\"\",IF($J345-1<=-1,\"\",$J345-1)),\"\")","v":""},null,null,{"$f":"IFERROR(ProjectTimelineData[[#This Row],[NUM]]+1,\"\")","v":""},{"$f":"IFERROR(VLOOKUP(SortedTimeline[[#This Row],[RANK Sorted]],ProjectTimelineData[],3,0),\"\")","v":""},{"$f":"IFERROR(VLOOKUP(SortedTimeline[[#This Row],[RANK Sorted]],ProjectTimelineData[],4,0),\"\")","v":""},{"$f":"IFERROR(VLOOKUP(SortedTimeline[[#This Row],[RANK Sorted]],ProjectTimelineData[],5,0),\"\")","v":""}]
[{"$nulls":4},{"$f":"IFERROR(RANK(F347,ProjectTimelineData[RANK])+SUMPRODUCT(--(F347=ProjectTimelineData[RANK]),--(J347<ProjectTimelineData[NUM])),\"\")","v":""},{"$f":"IFERROR(RANK(ProjectTimelineData[[#This Row],[DATE]],ProjectTimelineData[DATE],1),\"\")","v":""},{"$f":"IFERROR(IF(ISBLANK(INDEX(ProjectDetails[#Data],Project_last_entry-Project_start_row-ProjectTimelineData[[#This Row],[NUM]]+1,1)),\"\",INDEX(ProjectDetails[#Data],Project_last_entry-Project_start_row-ProjectTimelineData[[#This Row],[NUM]]+1,1)),\"\")","v":""},{"$f":"IFERROR(IF(ISBLANK(INDEX(ProjectDetails[#Data],Project_last_entry-Project_start_row-ProjectTimelineData[[#This Row],[NUM]]+1,2)),\"\",INDEX(ProjectDetails[#Data],Project_last_entry-Project_start_row-ProjectTimelineData[[#This Row],[NUM]]+1,2)),\"\")","v":""},{"$f":"IFERROR(IF(ISBLANK(INDEX(ProjectDetails[#Data],Project_last_entry-Project_start_row-ProjectTimelineData[[#This Row],[NUM]]+1,3)),\"\",INDEX(ProjectDetails[#Data],Project_last_entry-Project_start_row-ProjectTimelineData[[#This Row],[NUM]]+1,3)),\"\")","v":""},{"$f":"IFERROR(IF(ISBLANK(INDEX(ProjectDetails[#Data],ROW(A342)+1,1)),\"\",IF($J346-1<=-1,\"\",$J346-1)),\"\")","v":""},null,null,{"$f":"IFERROR(ProjectTimelineData[[#This Row],[NUM]]+1,\"\")","v":""},{"$f":"IFERROR(VLOOKUP(SortedTimeline[[#This Row],[RANK Sorted]],ProjectTimelineData[],3,0),\"\")","v":""},{"$f":"IFERROR(VLOOKUP(SortedTimeline[[#This Row],[RANK Sorted]],ProjectTimelineData[],4,0),\"\")","v":""},{"$f":"IFERROR(VLOOKUP(SortedTimeline[[#This Row],[RANK Sorted]],ProjectTimelineData[],5,0),\"\")","v":""}]
[{"$nulls":4},{"$f":"IFERROR(RANK(F348,ProjectTimelineData[RANK])+SUMPRODUCT(--(F348=ProjectTimelineData[RANK]),--(J348<ProjectTimelineData[NUM])),\"\")","v":""},{"$f":"IFERROR(RANK(ProjectTimelineData[[#This Row],[DATE]],ProjectTimelineData[DATE],1),\"\")","v":""},{"$f":"IFERROR(IF(ISBLANK(INDEX(ProjectDetails[#Data],Project_last_entry-Project_start_row-ProjectTimelineData[[#This Row],[NUM]]+1,1)),\"\",INDEX(ProjectDetails[#Data],Project_last_entry-Project_start_row-ProjectTimelineData[[#This Row],[NUM]]+1,1)),\"\")","v":""},{"$f":"IFERROR(IF(ISBLANK(INDEX(ProjectDetails[#Data],Project_last_entry-Project_start_row-ProjectTimelineData[[#This Row],[NUM]]+1,2)),\"\",INDEX(ProjectDetails[#Data],Project_last_entry-Project_start_row-ProjectTimelineData[[#This Row],[NUM]]+1,2)),\"\")","v":""},{"$f":"IFERROR(IF(ISBLANK(INDEX(ProjectDetails[#Data],Project_last_entry-Project_start_row-ProjectTimelineData[[#This Row],[NUM]]+1,3)),\"\",INDEX(ProjectDetails[#Data],Project_last_entry-Project_start_row-ProjectTimelineData[[#This Row],[NUM]]+1,3)),\"\")","v":""},{"$f":"IFERROR(IF(ISBLANK(INDEX(ProjectDetails[#Data],ROW(A343)+1,1)),\"\",IF($J347-1<=-1,\"\",$J347-1)),\"\")","v":""},null,null,{"$f":"IFERROR(ProjectTimelineData[[#This Row],[NUM]]+1,\"\")","v":""},{"$f":"IFERROR(VLOOKUP(SortedTimeline[[#This Row],[RANK Sorted]],ProjectTimelineData[],3,0),\"\")","v":""},{"$f":"IFERROR(VLOOKUP(SortedTimeline[[#This Row],[RANK Sorted]],ProjectTimelineData[],4,0),\"\")","v":""},{"$f":"IFERROR(VLOOKUP(SortedTimeline[[#This Row],[RANK Sorted]],ProjectTimelineData[],5,0),\"\")","v":""}]
[{"$nulls":4},{"$f":"IFERROR(RANK(F349,ProjectTimelineData[RANK])+SUMPRODUCT(--(F349=ProjectTimelineData[RANK]),--(J349<ProjectTimelineData[NUM])),\"\")","v":""},{"$f":"IFERROR(RANK(ProjectTimelineData[[#This Row],[DATE]],ProjectTimelineData[DATE],1),\"\")","v":""},{"$f":"IFERROR(IF(ISBLANK(INDEX(ProjectDetails[#Data],Project_last_entry-Project_start_row-ProjectTimelineData[[#This Row],[NUM]]+1,1)),\"\",INDEX(ProjectDetails[#Data],Project_last_entry-Project_start_row-ProjectTimelineData[[#This Row],[NUM]]+1,1)),\"\")","v":""},{"$f":"IFERROR(IF(ISBLANK(INDEX(ProjectDetails[#Data],Project_last_entry-Project_start_row-ProjectTimelineData[[#This Row],[NUM]]+1,2)),\"\",INDEX(ProjectDetails[#Data],Project_last_entry-Project_start_row-ProjectTimelineData[[#This Row],[NUM]]+1,2)),\"\")","v":""},{"$f":"IFERROR(IF(ISBLANK(INDEX(ProjectDetails[#Data],Project_last_entry-Project_start_row-ProjectTimelineData[[#This Row],[NUM]]+1,3)),\"\",INDEX(ProjectDetails[#Data],Project_last_entry-Project_start_row-ProjectTimelineData[[#This Row],[NUM]]+1,3)),\"\")","v":""},{"$f":"IFERROR(IF(ISBLANK(INDEX(ProjectDetails[#Data],ROW(A344)+1,1)),\"\",IF($J348-1<=-1,\"\",$J348-1)),\"\")","v":""},null,null,{"$f":"IFERROR(ProjectTimelineData[[#This Row],[NUM]]+1,\"\")","v":""},{"$f":"IFERROR(VLOOKUP(SortedTimeline[[#This Row],[RANK Sorted]],ProjectTimelineData[],3,0),\"\")","v":""},{"$f":"IFERROR(VLOOKUP(SortedTimeline[[#This Row],[RANK Sorted]],ProjectTimelineData[],4,0),\"\")","v":""},{"$f":"IFERROR(VLOOKUP(SortedTimeline[[#This Row],[RANK Sorted]],ProjectTimelineData[],5,0),\"\")","v":""}]