{"text_format":"3","workbook":"xlsx","n_sheets":16,"sheets":["Start","1","2","3","4","5","6","7","8","9","10","11","12","13","14","Weitere Informationen"],"not_rendered":{"images":13,"defined_names":12},"read":"whole","date_system":"1900"}

{"sheet":"Start","index":0,"n_rows":5,"n_cols":1,"rows_kept":5}
[]
[]
["Arbeit mit Aktien"]
["Erfahren Sie, wie Sie den Datentyp „Aktien“ verwenden, mit dem\nSie Aktienkurse und andere nützliche Informationen abrufen können."]
["Sie gelangen wieder zum Anfang, wenn Sie STRG+POS1 drücken. Zum Starten der Tour drücken Sie STRG+NACH-UNTEN-TASTE."]

{"sheet":"1","index":1,"n_rows":13,"n_cols":7,"rows_kept":13}
{"$rows_empty":8}
[null,"Firmenname","Preis","Änderung","Letzte Handelszeit","52-Wochen-Hoch","52-Wochen-Tief"]
[null,{"$error":"#VALUE!"},{"$f":"_FV(Tabelle3[[#This Row],[Firmenname]],\"Preis\")","v":{"v":299.56,"d":"299.56 €"}},{"$f":"_FV(Tabelle3[[#This Row],[Firmenname]],\"Änderung\")","v":{"v":0.98,"d":"0.98 €"}},{"$f":"_FV(Tabelle3[[#This Row],[Firmenname]],\"Letzte Handelszeit\",TRUE)","v":"2021-09-23T23:59:38.200"},{"$f":"_FV(Tabelle3[[#This Row],[Firmenname]],\"52-Wochen-Hoch\",TRUE)","v":{"v":305.84,"d":"305.84 €"}},{"$f":"_FV(Tabelle3[[#This Row],[Firmenname]],\"52-Wochen-Tief\",TRUE)","v":{"v":199.2,"d":"199.20 €"}}]
[null,{"$error":"#VALUE!"},{"$f":"_FV(Tabelle3[[#This Row],[Firmenname]],\"Preis\")","v":{"v":159.54,"d":"159.54 €"}},{"$f":"_FV(Tabelle3[[#This Row],[Firmenname]],\"Änderung\")","v":{"v":2.1,"d":"2.10 €"}},{"$f":"_FV(Tabelle3[[#This Row],[Firmenname]],\"Letzte Handelszeit\",TRUE)","v":"2021-09-23T23:59:56.937"},{"$f":"_FV(Tabelle3[[#This Row],[Firmenname]],\"52-Wochen-Hoch\",TRUE)","v":{"v":174.38,"d":"174.38 €"}},{"$f":"_FV(Tabelle3[[#This Row],[Firmenname]],\"52-Wochen-Tief\",TRUE)","v":{"v":118.8,"d":"118.80 €"}}]
[null,{"$error":"#VALUE!"},{"$f":"_FV(Tabelle3[[#This Row],[Firmenname]],\"Preis\")","v":{"v":220.98,"d":"220.98 €"}},{"$f":"_FV(Tabelle3[[#This Row],[Firmenname]],\"Änderung\")","v":{"v":4,"d":"4.00 €"}},{"$f":"_FV(Tabelle3[[#This Row],[Firmenname]],\"Letzte Handelszeit\",TRUE)","v":"2021-09-23T23:59:30.441"},{"$f":"_FV(Tabelle3[[#This Row],[Firmenname]],\"52-Wochen-Hoch\",TRUE)","v":{"v":278.5671,"d":"278.57 €"}},{"$f":"_FV(Tabelle3[[#This Row],[Firmenname]],\"52-Wochen-Tief\",TRUE)","v":{"v":141.58,"d":"141.58 €"}}]
[null,{"$error":"#VALUE!"},{"$f":"_FV(Tabelle3[[#This Row],[Firmenname]],\"Preis\")","v":{"v":114.14,"d":"114.14 €"}},{"$f":"_FV(Tabelle3[[#This Row],[Firmenname]],\"Änderung\")","v":{"v":1.07,"d":"1.07 €"}},{"$f":"_FV(Tabelle3[[#This Row],[Firmenname]],\"Letzte Handelszeit\",TRUE)","v":"2021-09-23T23:57:29.203"},{"$f":"_FV(Tabelle3[[#This Row],[Firmenname]],\"52-Wochen-Hoch\",TRUE)","v":{"v":126.32,"d":"126.32 €"}},{"$f":"_FV(Tabelle3[[#This Row],[Firmenname]],\"52-Wochen-Tief\",TRUE)","v":{"v":81.92,"d":"81.92 €"}}]

{"sheet":"2","index":2,"n_rows":12,"n_cols":7,"rows_kept":12}
{"$rows_empty":7}
[null,"Firmenname","Preis","Änderung","Letzte Handelszeit","52-Wochen-Hoch","52-Wochen-Tief"]
[null,{"$error":"#VALUE!"},{"$f":"_FV(Tabelle319[[#This Row],[Firmenname]],\"Preis\")","v":{"v":299.56,"d":"299.56 €"}},{"$f":"_FV(Tabelle319[[#This Row],[Firmenname]],\"Änderung\")","v":{"v":0.98,"d":"0.98 €"}},{"$f":"_FV(Tabelle319[[#This Row],[Firmenname]],\"Letzte Handelszeit\",TRUE)","v":"2021-09-23T23:59:38.200"},{"$f":"_FV(Tabelle319[[#This Row],[Firmenname]],\"52-Wochen-Hoch\",TRUE)","v":{"v":305.84,"d":"305.84 €"}},{"$f":"_FV(Tabelle319[[#This Row],[Firmenname]],\"52-Wochen-Tief\",TRUE)","v":{"v":199.2,"d":"199.20 €"}}]
[null,{"$error":"#VALUE!"},{"$f":"_FV(Tabelle319[[#This Row],[Firmenname]],\"Preis\")","v":{"v":159.54,"d":"159.54 €"}},{"$f":"_FV(Tabelle319[[#This Row],[Firmenname]],\"Änderung\")","v":{"v":2.1,"d":"2.10 €"}},{"$f":"_FV(Tabelle319[[#This Row],[Firmenname]],\"Letzte Handelszeit\",TRUE)","v":"2021-09-23T23:59:56.937"},{"$f":"_FV(Tabelle319[[#This Row],[Firmenname]],\"52-Wochen-Hoch\",TRUE)","v":{"v":174.38,"d":"174.38 €"}},{"$f":"_FV(Tabelle319[[#This Row],[Firmenname]],\"52-Wochen-Tief\",TRUE)","v":{"v":118.8,"d":"118.80 €"}}]
[null,{"$error":"#VALUE!"},{"$f":"_FV(Tabelle319[[#This Row],[Firmenname]],\"Preis\")","v":{"v":220.98,"d":"220.98 €"}},{"$f":"_FV(Tabelle319[[#This Row],[Firmenname]],\"Änderung\")","v":{"v":4,"d":"4.00 €"}},{"$f":"_FV(Tabelle319[[#This Row],[Firmenname]],\"Letzte Handelszeit\",TRUE)","v":"2021-09-23T23:59:30.441"},{"$f":"_FV(Tabelle319[[#This Row],[Firmenname]],\"52-Wochen-Hoch\",TRUE)","v":{"v":278.5671,"d":"278.57 €"}},{"$f":"_FV(Tabelle319[[#This Row],[Firmenname]],\"52-Wochen-Tief\",TRUE)","v":{"v":141.58,"d":"141.58 €"}}]
[null,{"$error":"#VALUE!"},{"$f":"_FV(Tabelle319[[#This Row],[Firmenname]],\"Preis\")","v":{"v":114.14,"d":"114.14 €"}},{"$f":"_FV(Tabelle319[[#This Row],[Firmenname]],\"Änderung\")","v":{"v":1.07,"d":"1.07 €"}},{"$f":"_FV(Tabelle319[[#This Row],[Firmenname]],\"Letzte Handelszeit\",TRUE)","v":"2021-09-23T23:57:29.203"},{"$f":"_FV(Tabelle319[[#This Row],[Firmenname]],\"52-Wochen-Hoch\",TRUE)","v":{"v":126.32,"d":"126.32 €"}},{"$f":"_FV(Tabelle319[[#This Row],[Firmenname]],\"52-Wochen-Tief\",TRUE)","v":{"v":81.92,"d":"81.92 €"}}]

{"sheet":"3","index":3,"n_rows":16,"n_cols":7,"rows_kept":16}
{"$rows_empty":11}
[null,"Firmenname","Preis","Änderung","Letzte Handelszeit","52-Wochen-Hoch","52-Wochen-Tief"]
[null,{"$error":"#VALUE!"},{"$f":"_FV(Tabelle311[[#This Row],[Firmenname]],\"Preis\")","v":{"v":299.56,"d":"299.56 €"}},{"$f":"_FV(Tabelle311[[#This Row],[Firmenname]],\"Änderung\")","v":{"v":0.98,"d":"0.98 €"}},{"$f":"_FV(Tabelle311[[#This Row],[Firmenname]],\"Letzte Handelszeit\",TRUE)","v":"2021-09-23T23:59:38.200"},{"$f":"_FV(Tabelle311[[#This Row],[Firmenname]],\"52-Wochen-Hoch\",TRUE)","v":{"v":305.84,"d":"305.84 €"}},{"$f":"_FV(Tabelle311[[#This Row],[Firmenname]],\"52-Wochen-Tief\",TRUE)","v":{"v":199.2,"d":"199.20 €"}}]
[null,{"$error":"#VALUE!"},{"$f":"_FV(Tabelle311[[#This Row],[Firmenname]],\"Preis\")","v":{"v":159.54,"d":"159.54 €"}},{"$f":"_FV(Tabelle311[[#This Row],[Firmenname]],\"Änderung\")","v":{"v":2.1,"d":"2.10 €"}},{"$f":"_FV(Tabelle311[[#This Row],[Firmenname]],\"Letzte Handelszeit\",TRUE)","v":"2021-09-23T23:59:56.937"},{"$f":"_FV(Tabelle311[[#This Row],[Firmenname]],\"52-Wochen-Hoch\",TRUE)","v":{"v":174.38,"d":"174.38 €"}},{"$f":"_FV(Tabelle311[[#This Row],[Firmenname]],\"52-Wochen-Tief\",TRUE)","v":{"v":118.8,"d":"118.80 €"}}]
[null,{"$error":"#VALUE!"},{"$f":"_FV(Tabelle311[[#This Row],[Firmenname]],\"Preis\")","v":{"v":220.98,"d":"220.98 €"}},{"$f":"_FV(Tabelle311[[#This Row],[Firmenname]],\"Änderung\")","v":{"v":4,"d":"4.00 €"}},{"$f":"_FV(Tabelle311[[#This Row],[Firmenname]],\"Letzte Handelszeit\",TRUE)","v":"2021-09-23T23:59:30.441"},{"$f":"_FV(Tabelle311[[#This Row],[Firmenname]],\"52-Wochen-Hoch\",TRUE)","v":{"v":278.5671,"d":"278.57 €"}},{"$f":"_FV(Tabelle311[[#This Row],[Firmenname]],\"52-Wochen-Tief\",TRUE)","v":{"v":141.58,"d":"141.58 €"}}]
[null,{"$error":"#VALUE!"},{"$f":"_FV(Tabelle311[[#This Row],[Firmenname]],\"Preis\")","v":{"v":114.14,"d":"114.14 €"}},{"$f":"_FV(Tabelle311[[#This Row],[Firmenname]],\"Änderung\")","v":{"v":1.07,"d":"1.07 €"}},{"$f":"_FV(Tabelle311[[#This Row],[Firmenname]],\"Letzte Handelszeit\",TRUE)","v":"2021-09-23T23:57:29.203"},{"$f":"_FV(Tabelle311[[#This Row],[Firmenname]],\"52-Wochen-Hoch\",TRUE)","v":{"v":126.32,"d":"126.32 €"}},{"$f":"_FV(Tabelle311[[#This Row],[Firmenname]],\"52-Wochen-Tief\",TRUE)","v":{"v":81.92,"d":"81.92 €"}}]

{"sheet":"4","index":4,"n_rows":13,"n_cols":2,"rows_kept":13}
{"$rows_empty":8}
[null,"Firmenname"]
[null,"MSFT"]
[null,"NKE"]
[null,"BA"]
[null,"SBUX"]

{"sheet":"5","index":5,"n_rows":15,"n_cols":2,"rows_kept":15}
{"$rows_empty":8}
[null,"Firmenname"]
[null,"MSFT"]
[null,"NKE"]
[null,"BA"]
[null,"SBUX"]
[]
[null,{"$f":"IFERROR(IF(AND(_FV($B$10,\"Name\")=\"MICROSOFT CORPORATION\",_FV($B$13,\"Name\")=\"STARBUCKS CORPORATION\"),\"Gut gemacht.\",\" \"),\" \")","v":" "}]

{"sheet":"6","index":6,"n_rows":15,"n_cols":6,"rows_kept":15}
{"$rows_empty":8}
[{"$nulls":4},"Firmenname"]
[{"$nulls":4},{"$error":"#VALUE!"}]
[{"$nulls":4},{"$error":"#VALUE!"}]
[{"$nulls":4},{"$error":"#VALUE!"}]
[{"$nulls":4},{"$error":"#VALUE!"}]
[]
[{"$nulls":5},{"$f":"IFERROR(IF(AND(F9=\"Preis\",F13>0.01),\"Gut!\",\" \"),\" \")","v":" "}]

{"sheet":"7","index":7,"n_rows":15,"n_cols":8,"rows_kept":15}
{"$rows_empty":8}
[{"$nulls":4},"Firmenname","Preis"]
[{"$nulls":4},{"$error":"#VALUE!"},{"$f":"_FV(Tabelle79126[[#This Row],[Firmenname]],\"Preis\")","v":{"v":299.56,"d":"299.56 €"}}]
[{"$nulls":4},{"$error":"#VALUE!"},{"$f":"_FV(Tabelle79126[[#This Row],[Firmenname]],\"Preis\")","v":{"v":159.54,"d":"159.54 €"}}]
[{"$nulls":4},{"$error":"#VALUE!"},{"$f":"_FV(Tabelle79126[[#This Row],[Firmenname]],\"Preis\")","v":{"v":220.98,"d":"220.98 €"}}]
[{"$nulls":4},{"$error":"#VALUE!"},{"$f":"_FV(Tabelle79126[[#This Row],[Firmenname]],\"Preis\")","v":{"v":114.14,"d":"114.14 €"}}]
[]
[{"$nulls":6},{"$f":"IFERROR(IF(G9=\"Änderung\",\"Schön!\",\" \"),\" \")","v":" "},{"$f":"IFERROR(IF(H9=\"Letzte Handelszeit\",\"Großartig!\",\" \"),\" \")","v":" "}]

{"sheet":"8","index":8,"n_rows":13,"n_cols":7,"rows_kept":13}
{"$rows_empty":8}
[{"$nulls":4},"Firmenname","Preis","Änderung"]
[{"$nulls":4},{"$error":"#VALUE!"},{"$f":"_FV(Tabelle7912613[[#This Row],[Firmenname]],\"Preis\")","v":{"v":299.56,"d":"299.56 €"}},{"$f":"_FV(Tabelle7912613[[#This Row],[Firmenname]],\"Änderung\")","v":{"v":0.98,"d":"0.98 €"}}]
[{"$nulls":4},{"$error":"#VALUE!"},{"$f":"_FV(Tabelle7912613[[#This Row],[Firmenname]],\"Preis\")","v":{"v":159.54,"d":"159.54 €"}},{"$f":"_FV(Tabelle7912613[[#This Row],[Firmenname]],\"Änderung\")","v":{"v":2.1,"d":"2.10 €"}}]
[{"$nulls":4},{"$error":"#VALUE!"},{"$f":"_FV(Tabelle7912613[[#This Row],[Firmenname]],\"Preis\")","v":{"v":220.98,"d":"220.98 €"}},{"$f":"_FV(Tabelle7912613[[#This Row],[Firmenname]],\"Änderung\")","v":{"v":4,"d":"4.00 €"}}]
[{"$nulls":4},{"$error":"#VALUE!"},{"$f":"_FV(Tabelle7912613[[#This Row],[Firmenname]],\"Preis\")","v":{"v":114.14,"d":"114.14 €"}},{"$f":"_FV(Tabelle7912613[[#This Row],[Firmenname]],\"Änderung\")","v":{"v":1.07,"d":"1.07 €"}}]

{"sheet":"9","index":9,"n_rows":98,"n_cols":6,"rows_kept":98}
{"$rows_empty":9}
[{"$nulls":5},{"$f":"IFERROR(_xlfn.IFS(_xlfn.FORMULATEXT($F$12)=\"=B12.[52-Wochen-Hoch]\",\"Schön!\",_xlfn.FORMULATEXT($F$12)=\"=B12.52 week high\",\"Gut!\"),\" \")","v":" "}]
[null,"Firmenname","Preis","Änderung","Letzte Handelszeit","52-Wochen-Hoch"]
[null,{"$error":"#VALUE!"},{"$f":"_FV(Tabelle31118[[#This Row],[Firmenname]],\"Preis\")","v":{"v":299.56,"d":"299.56 €"}},{"$f":"_FV(Tabelle31118[[#This Row],[Firmenname]],\"Änderung\")","v":{"v":0.98,"d":"0.98 €"}},{"$f":"_FV(Tabelle31118[[#This Row],[Firmenname]],\"Letzte Handelszeit\",TRUE)","v":"2021-09-23T23:59:38.200"}]
[null,{"$error":"#VALUE!"},{"$f":"_FV(Tabelle31118[[#This Row],[Firmenname]],\"Preis\")","v":{"v":159.54,"d":"159.54 €"}},{"$f":"_FV(Tabelle31118[[#This Row],[Firmenname]],\"Änderung\")","v":{"v":2.1,"d":"2.10 €"}},{"$f":"_FV(Tabelle31118[[#This Row],[Firmenname]],\"Letzte Handelszeit\",TRUE)","v":"2021-09-23T23:59:56.937"}]
[null,{"$error":"#VALUE!"},{"$f":"_FV(Tabelle31118[[#This Row],[Firmenname]],\"Preis\")","v":{"v":220.98,"d":"220.98 €"}},{"$f":"_FV(Tabelle31118[[#This Row],[Firmenname]],\"Änderung\")","v":{"v":4,"d":"4.00 €"}},{"$f":"_FV(Tabelle31118[[#This Row],[Firmenname]],\"Letzte Handelszeit\",TRUE)","v":"2021-09-23T23:59:30.441"}]
[null,{"$error":"#VALUE!"},{"$f":"_FV(Tabelle31118[[#This Row],[Firmenname]],\"Preis\")","v":{"v":114.14,"d":"114.14 €"}},{"$f":"_FV(Tabelle31118[[#This Row],[Firmenname]],\"Änderung\")","v":{"v":1.07,"d":"1.07 €"}},{"$f":"_FV(Tabelle31118[[#This Row],[Firmenname]],\"Letzte Handelszeit\",TRUE)","v":"2021-09-23T23:57:29.203"}]
{"$rows_empty":82}
[{"$nulls":5},{"$f":"_xlfn.FORMULATEXT(#REF!)","v":{"$error":"#REF!"}}]

{"sheet":"10","index":10,"n_rows":100,"n_cols":6,"rows_kept":100}
{"$rows_empty":10}
[{"$nulls":5},{"$f":"IFERROR(_xlfn.IFS(_xlfn.FORMULATEXT($F$13)=\"=B13.[Mitarbeiter]\",\"Schön!\",_xlfn.FORMULATEXT($F$13)=\"=B13.Mitarbeiter\",\"Gut!\"),\" \")","v":" "}]
[null,"Firmenname","Preis","Änderung","Letzte Handelszeit","Mitarbeiter"]
[null,{"$error":"#VALUE!"},{"$f":"_FV(Tabelle3111815[[#This Row],[Firmenname]],\"Preis\")","v":{"v":299.56,"d":"299.56 €"}},{"$f":"_FV(Tabelle3111815[[#This Row],[Firmenname]],\"Änderung\")","v":{"v":0.98,"d":"0.98 €"}},{"$f":"_FV(Tabelle3111815[[#This Row],[Firmenname]],\"Letzte Handelszeit\",TRUE)","v":"2021-09-23T23:59:38.200"}]
[null,{"$error":"#VALUE!"},{"$f":"_FV(Tabelle3111815[[#This Row],[Firmenname]],\"Preis\")","v":{"v":159.54,"d":"159.54 €"}},{"$f":"_FV(Tabelle3111815[[#This Row],[Firmenname]],\"Änderung\")","v":{"v":2.1,"d":"2.10 €"}},{"$f":"_FV(Tabelle3111815[[#This Row],[Firmenname]],\"Letzte Handelszeit\",TRUE)","v":"2021-09-23T23:59:56.937"}]
[null,{"$error":"#VALUE!"},{"$f":"_FV(Tabelle3111815[[#This Row],[Firmenname]],\"Preis\")","v":{"v":220.98,"d":"220.98 €"}},{"$f":"_FV(Tabelle3111815[[#This Row],[Firmenname]],\"Änderung\")","v":{"v":4,"d":"4.00 €"}},{"$f":"_FV(Tabelle3111815[[#This Row],[Firmenname]],\"Letzte Handelszeit\",TRUE)","v":"2021-09-23T23:59:30.441"}]
[null,{"$error":"#VALUE!"},{"$f":"_FV(Tabelle3111815[[#This Row],[Firmenname]],\"Preis\")","v":{"v":114.14,"d":"114.14 €"}},{"$f":"_FV(Tabelle3111815[[#This Row],[Firmenname]],\"Änderung\")","v":{"v":1.07,"d":"1.07 €"}},{"$f":"_FV(Tabelle3111815[[#This Row],[Firmenname]],\"Letzte Handelszeit\",TRUE)","v":"2021-09-23T23:57:29.203"}]
{"$rows_empty":83}
[{"$nulls":5},{"$f":"_xlfn.FORMULATEXT(#REF!)","v":{"$error":"#REF!"}}]

{"sheet":"11","index":11,"n_rows":13,"n_cols":6,"rows_kept":13}
[]
[]
[]
[]
[]
[]
[{"$nulls":5},{"$f":"IFERROR(IF(AND(F9=\"Preis\",F13>0.01),\"Gut!\",\" \"),\" \")","v":" "}]
[]
[{"$nulls":4},"Firmenname"]
[{"$nulls":4},{"$error":"#VALUE!"}]
[{"$nulls":4},{"$error":"#VALUE!"}]
[{"$nulls":4},{"$error":"#VALUE!"}]
[{"$nulls":4},{"$error":"#VALUE!"}]

{"sheet":"12","index":12,"n_rows":17,"n_cols":5,"rows_kept":17}
{"$rows_empty":12}
[null,null,{"$f":"IFERROR(IF(C14=\"Preis\",\"Gut!\",\" \"),\" \")","v":" "},{"$f":"IFERROR(IF(D14=\"Änderung\",\"Großartig!\",\" \"),\" \")","v":" "},{"$f":"IFERROR(IF(E14=\"Zeitpunkt des letzten Handels\",\"Gut gemacht!\",\" \"),\" \")","v":" "}]
[null,"Name"]
[null,"MSFT"]
[null,"NKE"]
[null,"BA"]

{"sheet":"13","index":13,"n_rows":18,"n_cols":4,"rows_kept":18}
{"$rows_empty":11}
[null,null,{"$f":"IFERROR(IF(C13=\"Instrumententyp\",\"Gute Arbeit!\",\" \"),\" \")","v":" "},{"$f":"IFERROR(IF(D13=\"Kostenquote\",\"Gute Arbeit!\",\" \"),\" \")","v":" "}]
[null,"Name"]
[null,"SBUX"]
[null,"VBMFX"]
[null,"VTSMX"]
[null,"VGTSX"]
[null,"MSFT"]

{"sheet":"14","index":14,"n_rows":100,"n_cols":7,"rows_kept":100}
{"$rows_empty":13}
[{"$nulls":3},{"$f":"IFERROR(_xlfn.IFS($D$100=\"=B16.Änderung\",\"Gut!\",$D$100=\"=B16.[Änderung]\",\"Gut!\"),\" \")","v":" "},{"$f":"IFERROR(_xlfn.IFS($E$100=\"=B16.Letzte Handelszeit\",\"Gut!\",$E$100=\"=B16.[Letzte Handelszeit]\",\"Schön!\"),\" \")","v":" "}]
[null,"Firmenname","Preis","Änderung","Letzte Handelszeit","GMT-Unterschied","Ortszeit"]
[null,{"$error":"#VALUE!"},{"$f":"_FV(B16,\"Preis\")","v":{"v":299.56,"d":"299.56 €"}},{"$nulls":3},{"$f":"E16+(F16/24)","v":"00:00:00"}]
[]
[{"$nulls":4},{"$f":"IF($D$18=TRUE,\"Gut!\",\" \")","v":" "}]
{"$rows_empty":81}
[{"$nulls":3},{"$f":"_xlfn.FORMULATEXT(Tabelle202223[Änderung])","v":{"$error":"#N/A"}},{"$f":"_xlfn.FORMULATEXT(E16)","v":{"$error":"#N/A"}}]

{"sheet":"Weitere Informationen","index":15,"n_rows":14,"n_cols":6,"rows_kept":14}
{"$rows_empty":9}
[null,"Verwandte Artikel",null,"Weitere hilfreiche Informationen",null,"Weitere Ressourcen"]
[null,"Abrufen eines Aktienkurses",null,"Informationen zum Datentyp „Geografie“",null,"Schulungen"]
[null,"Schreiben von Formeln für Datentypen",{"$nulls":3},"Tech-Community"]
[null,"FELDWERT (Funktion)",{"$nulls":3},"Excel-Blog"]
[null,"#FELD!-Fehler",{"$nulls":3},"Einen Vorschlag bei Excel User Voice machen"]