{"text_format":"3","workbook":"xlsx","n_sheets":2,"sheets":["Vægttabsmåler","beregninger"],"not_rendered":{"charts":1,"defined_names":10},"read":"whole","date_system":"1900"}

{"sheet":"Vægttabsmåler","index":0,"n_rows":19,"n_cols":9,"rows_kept":19,"merged":[[0,3,0,7],[0,8,0,9],[1,3,2,9]]}
[null,"MÅL VÆGT","DIAGRAMVISNING","Navn",{"$nulls":4},"VÆGTTAB"]
[{"$nulls":3},"SPORER"]
[null,{"v":172,"d":"172.0"},"UGENTLIG"]
[null,"VIS MÅL VÆGT","Ja"]
[null,"Vægtmålerdiagram for vægt der registrerer den aktuelle vægt, er i denne celle. Klik på\"Ja\" i celle C4 for at få vist målvægtlinjen over områdediagrammet."]
[]
[null,"DATO","VÆGT"]
[null,{"$f":"TODAY()-77","v":"2022-01-11"},{"v":176,"d":"176.0"}]
[null,{"$f":"TODAY()-70","v":"2022-01-18"},{"v":176,"d":"176.0"}]
[null,{"$f":"TODAY()-63","v":"2022-01-25"},177.6]
[null,{"$f":"TODAY()-56","v":"2022-02-01"},176.5]
[null,{"$f":"TODAY()-49","v":"2022-02-08"},176.1]
[null,{"$f":"TODAY()-42","v":"2022-02-15"},{"v":174,"d":"174.0"}]
[null,{"$f":"TODAY()-35","v":"2022-02-22"},173.5]
[null,{"$f":"TODAY()-28","v":"2022-03-01"},{"v":173,"d":"173.0"}]
[null,{"$f":"TODAY()-21","v":"2022-03-08"},{"v":172,"d":"172.0"}]
[null,{"$f":"TODAY()-14","v":"2022-03-15"},{"v":172,"d":"172.0"}]
[null,{"$f":"TODAY()-7","v":"2022-03-22"},{"v":173,"d":"173.0"}]
[null,{"$f":"TODAY()","v":"2022-03-29"},{"v":172,"d":"172.0"}]

{"sheet":"beregninger","index":1,"n_rows":107,"n_cols":17,"rows_kept":107,"hidden":true}
["*** Dette ark skal være skjult ***"]
[]
[{"$f":"COUNTIF(A5:A107,FALSE)","v":12},"Tidsrum","Værdier",{"$nulls":3},{"$f":"COUNTIF(H5:H28,\">\"&0)","v":3},"Tidsrum",null,"Værdier"]
[null,"Uge",null,null,{"$f":"IFERROR(IF(ShowGoalWeight=\"Ja\", TRUE, FALSE),FALSE)","v":true},null,null,"Måned","EOM"]
[{"$f":"FALSE","v":false},{"$f":"IFERROR(IF(LEN(Vægttabsmåler!$B8)=0,TODAY(),Vægttabsmåler!$B8),TODAY())","v":"2022-01-11"},{"$f":"IFERROR(IF(LEN(Vægttabsmåler!$C8)=0,GoalWeight,Vægttabsmåler!$C8),0)","v":176},{"$f":"IFERROR(IF(MIN(ChartPeriods)=0,TODAY(),MIN(ChartPeriods)),TODAY())","v":"2022-01-11"},{"$f":"IFERROR(IF($A$5,0,IF($E$4,GoalWeight,NA())),0)","v":172},null,null,{"$f":"IFERROR(IF($A$5,TODAY(),DATE(YEAR($B5),MONTH($B5),1)),\"\")","v":"2022-01-01"},{"$f":"IFERROR(IF($A$5,TODAY(),EOMONTH($H5,0)),\"\")","v":"2022-01-31"},{"$f":"IFERROR(IF($A$5,0,AVERAGEIFS(Vægt[VÆGT],Vægt[DATO],\">=\"&$H5,Vægt[DATO],\"<=\"&$I5)),NA())","v":176.53333333333333}]
[{"$f":"IF((LEN(Vægttabsmåler!$C9)=0),TRUE)","v":false},{"$f":"IFERROR(IF(A6,0,IF(LEN(Vægttabsmåler!$B9)=0,0,Vægttabsmåler!$B9)),\"\")","v":"2022-01-18"},{"$f":"IFERROR(IF(A6,0,IF(LEN(Vægttabsmåler!$C9)=0,0,Vægttabsmåler!$C9)),\"\")","v":176},{"$f":"IFERROR(IF(MAX(ChartPeriods)=0,TODAY(),MAX(ChartPeriods)),TODAY())","v":"2022-03-29"},{"$f":"IFERROR(IF($A$5,0,IF($E$4,GoalWeight,NA())),0)","v":172},null,null,{"$f":"IF($I5+1>MAX($B:$B),NA(),$I5+1)","v":"2022-02-01"},{"$f":"EOMONTH($H6,0)","v":"2022-02-28"},{"$f":"IFERROR(AVERAGEIFS(Vægt[VÆGT],Vægt[DATO],\">=\"&$H6,Vægt[DATO],\"<=\"&$I6),NA())","v":175.025}]
[{"$f":"IF((LEN(Vægttabsmåler!$C10)=0),TRUE)","v":false},{"$f":"IFERROR(IF(A7,0,IF(LEN(Vægttabsmåler!$B10)=0,0,Vægttabsmåler!$B10)),\"\")","v":"2022-01-25"},{"$f":"IFERROR(IF(A7,0,IF(LEN(Vægttabsmåler!$C10)=0,0,Vægttabsmåler!$C10)),\"\")","v":177.6},{"$nulls":4},"2022-03-01","2022-03-31",{"$f":"IFERROR(AVERAGEIFS(Vægt[VÆGT],Vægt[DATO],\">=\"&$H7,Vægt[DATO],\"<=\"&$I7),NA())","v":172.4}]
[{"$f":"IF((LEN(Vægttabsmåler!$C11)=0),TRUE)","v":false},{"$f":"IFERROR(IF(A8,0,IF(LEN(Vægttabsmåler!$B11)=0,0,Vægttabsmåler!$B11)),\"\")","v":"2022-02-01"},{"$f":"IFERROR(IF(A8,0,IF(LEN(Vægttabsmåler!$C11)=0,0,Vægttabsmåler!$C11)),\"\")","v":176.5},{"$nulls":4},{"$error":"#N/A"},{"$error":"#N/A"},{"$f":"IFERROR(AVERAGEIFS(Vægt[VÆGT],Vægt[DATO],\">=\"&$H8,Vægt[DATO],\"<=\"&$I8),NA())","v":{"$error":"#N/A"}}]
[{"$f":"IF((LEN(Vægttabsmåler!$C12)=0),TRUE)","v":false},{"$f":"IFERROR(IF(A9,0,IF(LEN(Vægttabsmåler!$B12)=0,0,Vægttabsmåler!$B12)),\"\")","v":"2022-02-08"},{"$f":"IFERROR(IF(A9,0,IF(LEN(Vægttabsmåler!$C12)=0,0,Vægttabsmåler!$C12)),\"\")","v":176.1},{"$nulls":4},{"$error":"#N/A"},{"$error":"#N/A"},{"$f":"IFERROR(AVERAGEIFS(Vægt[VÆGT],Vægt[DATO],\">=\"&$H9,Vægt[DATO],\"<=\"&$I9),NA())","v":{"$error":"#N/A"}}]
[{"$f":"IF((LEN(Vægttabsmåler!$C13)=0),TRUE)","v":false},{"$f":"IFERROR(IF(A10,0,IF(LEN(Vægttabsmåler!$B13)=0,0,Vægttabsmåler!$B13)),\"\")","v":"2022-02-15"},{"$f":"IFERROR(IF(A10,0,IF(LEN(Vægttabsmåler!$C13)=0,0,Vægttabsmåler!$C13)),\"\")","v":174},{"$nulls":4},{"$error":"#N/A"},{"$error":"#N/A"},{"$f":"IFERROR(AVERAGEIFS(Vægt[VÆGT],Vægt[DATO],\">=\"&$H10,Vægt[DATO],\"<=\"&$I10),NA())","v":{"$error":"#N/A"}}]
[{"$f":"IF((LEN(Vægttabsmåler!$C14)=0),TRUE)","v":false},{"$f":"IFERROR(IF(A11,0,IF(LEN(Vægttabsmåler!$B14)=0,0,Vægttabsmåler!$B14)),\"\")","v":"2022-02-22"},{"$f":"IFERROR(IF(A11,0,IF(LEN(Vægttabsmåler!$C14)=0,0,Vægttabsmåler!$C14)),\"\")","v":173.5},{"$nulls":4},{"$error":"#N/A"},{"$error":"#N/A"},{"$f":"IFERROR(AVERAGEIFS(Vægt[VÆGT],Vægt[DATO],\">=\"&$H11,Vægt[DATO],\"<=\"&$I11),NA())","v":{"$error":"#N/A"}},{"$nulls":6},{"$f":"MAX($B:$B)","v":"2022-03-29"}]
[{"$f":"IF((LEN(Vægttabsmåler!$C15)=0),TRUE)","v":false},{"$f":"IFERROR(IF(A12,0,IF(LEN(Vægttabsmåler!$B15)=0,0,Vægttabsmåler!$B15)),\"\")","v":"2022-03-01"},{"$f":"IFERROR(IF(A12,0,IF(LEN(Vægttabsmåler!$C15)=0,0,Vægttabsmåler!$C15)),\"\")","v":173},{"$nulls":4},{"$error":"#N/A"},{"$error":"#N/A"},{"$f":"IFERROR(AVERAGEIFS(Vægt[VÆGT],Vægt[DATO],\">=\"&$H12,Vægt[DATO],\"<=\"&$I12),NA())","v":{"$error":"#N/A"}}]
[{"$f":"IF((LEN(Vægttabsmåler!$C16)=0),TRUE)","v":false},{"$f":"IFERROR(IF(A13,0,IF(LEN(Vægttabsmåler!$B16)=0,0,Vægttabsmåler!$B16)),\"\")","v":"2022-03-08"},{"$f":"IFERROR(IF(A13,0,IF(LEN(Vægttabsmåler!$C16)=0,0,Vægttabsmåler!$C16)),\"\")","v":172},{"$nulls":4},{"$error":"#N/A"},{"$error":"#N/A"},{"$f":"IFERROR(AVERAGEIFS(Vægt[VÆGT],Vægt[DATO],\">=\"&$H13,Vægt[DATO],\"<=\"&$I13),NA())","v":{"$error":"#N/A"}}]
[{"$f":"IF((LEN(Vægttabsmåler!$C17)=0),TRUE)","v":false},{"$f":"IFERROR(IF(A14,0,IF(LEN(Vægttabsmåler!$B17)=0,0,Vægttabsmåler!$B17)),\"\")","v":"2022-03-15"},{"$f":"IFERROR(IF(A14,0,IF(LEN(Vægttabsmåler!$C17)=0,0,Vægttabsmåler!$C17)),\"\")","v":172},{"$nulls":4},{"$error":"#N/A"},{"$error":"#N/A"},{"$f":"IFERROR(AVERAGEIFS(Vægt[VÆGT],Vægt[DATO],\">=\"&$H14,Vægt[DATO],\"<=\"&$I14),NA())","v":{"$error":"#N/A"}}]
[{"$f":"IF((LEN(Vægttabsmåler!$C18)=0),TRUE)","v":false},{"$f":"IFERROR(IF(A15,0,IF(LEN(Vægttabsmåler!$B18)=0,0,Vægttabsmåler!$B18)),\"\")","v":"2022-03-22"},{"$f":"IFERROR(IF(A15,0,IF(LEN(Vægttabsmåler!$C18)=0,0,Vægttabsmåler!$C18)),\"\")","v":173},{"$nulls":4},{"$error":"#N/A"},{"$error":"#N/A"},{"$f":"IFERROR(AVERAGEIFS(Vægt[VÆGT],Vægt[DATO],\">=\"&$H15,Vægt[DATO],\"<=\"&$I15),NA())","v":{"$error":"#N/A"}}]
[{"$f":"IF((LEN(Vægttabsmåler!$C19)=0),TRUE)","v":false},{"$f":"IFERROR(IF(A16,0,IF(LEN(Vægttabsmåler!$B19)=0,0,Vægttabsmåler!$B19)),\"\")","v":"2022-03-29"},{"$f":"IFERROR(IF(A16,0,IF(LEN(Vægttabsmåler!$C19)=0,0,Vægttabsmåler!$C19)),\"\")","v":172},{"$nulls":4},{"$error":"#N/A"},{"$error":"#N/A"},{"$f":"IFERROR(AVERAGEIFS(Vægt[VÆGT],Vægt[DATO],\">=\"&$H16,Vægt[DATO],\"<=\"&$I16),NA())","v":{"$error":"#N/A"}}]
[{"$f":"IF((LEN(Vægttabsmåler!$C20)=0),TRUE)","v":true},{"$f":"IFERROR(IF(A17,0,IF(LEN(Vægttabsmåler!$B20)=0,0,Vægttabsmåler!$B20)),\"\")","v":"00:00:00"},{"$f":"IFERROR(IF(A17,0,IF(LEN(Vægttabsmåler!$C20)=0,0,Vægttabsmåler!$C20)),\"\")","v":0},{"$nulls":4},{"$error":"#N/A"},{"$error":"#N/A"},{"$f":"IFERROR(AVERAGEIFS(Vægt[VÆGT],Vægt[DATO],\">=\"&$H17,Vægt[DATO],\"<=\"&$I17),NA())","v":{"$error":"#N/A"}}]
[{"$f":"IF((LEN(Vægttabsmåler!$C21)=0),TRUE)","v":true},{"$f":"IFERROR(IF(A18,0,IF(LEN(Vægttabsmåler!$B21)=0,0,Vægttabsmåler!$B21)),\"\")","v":"00:00:00"},{"$f":"IFERROR(IF(A18,0,IF(LEN(Vægttabsmåler!$C21)=0,0,Vægttabsmåler!$C21)),\"\")","v":0},{"$nulls":4},{"$error":"#N/A"},{"$error":"#N/A"},{"$f":"IFERROR(AVERAGEIFS(Vægt[VÆGT],Vægt[DATO],\">=\"&$H18,Vægt[DATO],\"<=\"&$I18),NA())","v":{"$error":"#N/A"}}]
[{"$f":"IF((LEN(Vægttabsmåler!$C22)=0),TRUE)","v":true},{"$f":"IFERROR(IF(A19,0,IF(LEN(Vægttabsmåler!$B22)=0,0,Vægttabsmåler!$B22)),\"\")","v":"00:00:00"},{"$f":"IFERROR(IF(A19,0,IF(LEN(Vægttabsmåler!$C22)=0,0,Vægttabsmåler!$C22)),\"\")","v":0},{"$nulls":4},{"$error":"#N/A"},{"$error":"#N/A"},{"$f":"IFERROR(AVERAGEIFS(Vægt[VÆGT],Vægt[DATO],\">=\"&$H19,Vægt[DATO],\"<=\"&$I19),NA())","v":{"$error":"#N/A"}}]
[{"$f":"IF((LEN(Vægttabsmåler!$C23)=0),TRUE)","v":true},{"$f":"IFERROR(IF(A20,0,IF(LEN(Vægttabsmåler!$B23)=0,0,Vægttabsmåler!$B23)),\"\")","v":"00:00:00"},{"$f":"IFERROR(IF(A20,0,IF(LEN(Vægttabsmåler!$C23)=0,0,Vægttabsmåler!$C23)),\"\")","v":0},{"$nulls":4},{"$error":"#N/A"},{"$error":"#N/A"},{"$f":"IFERROR(AVERAGEIFS(Vægt[VÆGT],Vægt[DATO],\">=\"&$H20,Vægt[DATO],\"<=\"&$I20),NA())","v":{"$error":"#N/A"}}]
[{"$f":"IF((LEN(Vægttabsmåler!$C24)=0),TRUE)","v":true},{"$f":"IFERROR(IF(A21,0,IF(LEN(Vægttabsmåler!$B24)=0,0,Vægttabsmåler!$B24)),\"\")","v":"00:00:00"},{"$f":"IFERROR(IF(A21,0,IF(LEN(Vægttabsmåler!$C24)=0,0,Vægttabsmåler!$C24)),\"\")","v":0},{"$nulls":4},{"$error":"#N/A"},{"$error":"#N/A"},{"$f":"IFERROR(AVERAGEIFS(Vægt[VÆGT],Vægt[DATO],\">=\"&$H21,Vægt[DATO],\"<=\"&$I21),NA())","v":{"$error":"#N/A"}}]
[{"$f":"IF((LEN(Vægttabsmåler!$C25)=0),TRUE)","v":true},{"$f":"IFERROR(IF(A22,0,IF(LEN(Vægttabsmåler!$B25)=0,0,Vægttabsmåler!$B25)),\"\")","v":"00:00:00"},{"$f":"IFERROR(IF(A22,0,IF(LEN(Vægttabsmåler!$C25)=0,0,Vægttabsmåler!$C25)),\"\")","v":0},{"$nulls":4},{"$error":"#N/A"},{"$error":"#N/A"},{"$f":"IFERROR(AVERAGEIFS(Vægt[VÆGT],Vægt[DATO],\">=\"&$H22,Vægt[DATO],\"<=\"&$I22),NA())","v":{"$error":"#N/A"}}]
[{"$f":"IF((LEN(Vægttabsmåler!$C26)=0),TRUE)","v":true},{"$f":"IFERROR(IF(A23,0,IF(LEN(Vægttabsmåler!$B26)=0,0,Vægttabsmåler!$B26)),\"\")","v":"00:00:00"},{"$f":"IFERROR(IF(A23,0,IF(LEN(Vægttabsmåler!$C26)=0,0,Vægttabsmåler!$C26)),\"\")","v":0},{"$nulls":4},{"$error":"#N/A"},{"$error":"#N/A"},{"$f":"IFERROR(AVERAGEIFS(Vægt[VÆGT],Vægt[DATO],\">=\"&$H23,Vægt[DATO],\"<=\"&$I23),NA())","v":{"$error":"#N/A"}}]
[{"$f":"IF((LEN(Vægttabsmåler!$C27)=0),TRUE)","v":true},{"$f":"IFERROR(IF(A24,0,IF(LEN(Vægttabsmåler!$B27)=0,0,Vægttabsmåler!$B27)),\"\")","v":"00:00:00"},{"$f":"IFERROR(IF(A24,0,IF(LEN(Vægttabsmåler!$C27)=0,0,Vægttabsmåler!$C27)),\"\")","v":0},{"$nulls":4},{"$error":"#N/A"},{"$error":"#N/A"},{"$f":"IFERROR(AVERAGEIFS(Vægt[VÆGT],Vægt[DATO],\">=\"&$H24,Vægt[DATO],\"<=\"&$I24),NA())","v":{"$error":"#N/A"}}]
[{"$f":"IF((LEN(Vægttabsmåler!$C28)=0),TRUE)","v":true},{"$f":"IFERROR(IF(A25,0,IF(LEN(Vægttabsmåler!$B28)=0,0,Vægttabsmåler!$B28)),\"\")","v":"00:00:00"},{"$f":"IFERROR(IF(A25,0,IF(LEN(Vægttabsmåler!$C28)=0,0,Vægttabsmåler!$C28)),\"\")","v":0},{"$nulls":4},{"$error":"#N/A"},{"$error":"#N/A"},{"$f":"IFERROR(AVERAGEIFS(Vægt[VÆGT],Vægt[DATO],\">=\"&$H25,Vægt[DATO],\"<=\"&$I25),NA())","v":{"$error":"#N/A"}}]
[{"$f":"IF((LEN(Vægttabsmåler!$C29)=0),TRUE)","v":true},{"$f":"IFERROR(IF(A26,0,IF(LEN(Vægttabsmåler!$B29)=0,0,Vægttabsmåler!$B29)),\"\")","v":"00:00:00"},{"$f":"IFERROR(IF(A26,0,IF(LEN(Vægttabsmåler!$C29)=0,0,Vægttabsmåler!$C29)),\"\")","v":0},{"$nulls":4},{"$error":"#N/A"},{"$error":"#N/A"},{"$f":"IFERROR(AVERAGEIFS(Vægt[VÆGT],Vægt[DATO],\">=\"&$H26,Vægt[DATO],\"<=\"&$I26),NA())","v":{"$error":"#N/A"}}]
[{"$f":"IF((LEN(Vægttabsmåler!$C30)=0),TRUE)","v":true},{"$f":"IFERROR(IF(A27,0,IF(LEN(Vægttabsmåler!$B30)=0,0,Vægttabsmåler!$B30)),\"\")","v":"00:00:00"},{"$f":"IFERROR(IF(A27,0,IF(LEN(Vægttabsmåler!$C30)=0,0,Vægttabsmåler!$C30)),\"\")","v":0},{"$nulls":4},{"$error":"#N/A"},{"$error":"#N/A"},{"$f":"IFERROR(AVERAGEIFS(Vægt[VÆGT],Vægt[DATO],\">=\"&$H27,Vægt[DATO],\"<=\"&$I27),NA())","v":{"$error":"#N/A"}}]
[{"$f":"IF((LEN(Vægttabsmåler!$C31)=0),TRUE)","v":true},{"$f":"IFERROR(IF(A28,0,IF(LEN(Vægttabsmåler!$B31)=0,0,Vægttabsmåler!$B31)),\"\")","v":"00:00:00"},{"$f":"IFERROR(IF(A28,0,IF(LEN(Vægttabsmåler!$C31)=0,0,Vægttabsmåler!$C31)),\"\")","v":0},{"$nulls":4},{"$error":"#N/A"},{"$error":"#N/A"},{"$f":"IFERROR(AVERAGEIFS(Vægt[VÆGT],Vægt[DATO],\">=\"&$H28,Vægt[DATO],\"<=\"&$I28),NA())","v":{"$error":"#N/A"}}]
[{"$f":"IF((LEN(Vægttabsmåler!$C32)=0),TRUE)","v":true},{"$f":"IFERROR(IF(A29,0,IF(LEN(Vægttabsmåler!$B32)=0,0,Vægttabsmåler!$B32)),\"\")","v":"00:00:00"},{"$f":"IFERROR(IF(A29,0,IF(LEN(Vægttabsmåler!$C32)=0,0,Vægttabsmåler!$C32)),\"\")","v":0}]
[{"$f":"IF((LEN(Vægttabsmåler!$C33)=0),TRUE)","v":true},{"$f":"IFERROR(IF(A30,0,IF(LEN(Vægttabsmåler!$B33)=0,0,Vægttabsmåler!$B33)),\"\")","v":"00:00:00"},{"$f":"IFERROR(IF(A30,0,IF(LEN(Vægttabsmåler!$C33)=0,0,Vægttabsmåler!$C33)),\"\")","v":0}]
[{"$f":"IF((LEN(Vægttabsmåler!$C34)=0),TRUE)","v":true},{"$f":"IFERROR(IF(A31,0,IF(LEN(Vægttabsmåler!$B34)=0,0,Vægttabsmåler!$B34)),\"\")","v":"00:00:00"},{"$f":"IFERROR(IF(A31,0,IF(LEN(Vægttabsmåler!$C34)=0,0,Vægttabsmåler!$C34)),\"\")","v":0}]
[{"$f":"IF((LEN(Vægttabsmåler!$C35)=0),TRUE)","v":true},{"$f":"IFERROR(IF(A32,0,IF(LEN(Vægttabsmåler!$B35)=0,0,Vægttabsmåler!$B35)),\"\")","v":"00:00:00"},{"$f":"IFERROR(IF(A32,0,IF(LEN(Vægttabsmåler!$C35)=0,0,Vægttabsmåler!$C35)),\"\")","v":0}]
[{"$f":"IF((LEN(Vægttabsmåler!$C36)=0),TRUE)","v":true},{"$f":"IFERROR(IF(A33,0,IF(LEN(Vægttabsmåler!$B36)=0,0,Vægttabsmåler!$B36)),\"\")","v":"00:00:00"},{"$f":"IFERROR(IF(A33,0,IF(LEN(Vægttabsmåler!$C36)=0,0,Vægttabsmåler!$C36)),\"\")","v":0}]
[{"$f":"IF((LEN(Vægttabsmåler!$C37)=0),TRUE)","v":true},{"$f":"IFERROR(IF(A34,0,IF(LEN(Vægttabsmåler!$B37)=0,0,Vægttabsmåler!$B37)),\"\")","v":"00:00:00"},{"$f":"IFERROR(IF(A34,0,IF(LEN(Vægttabsmåler!$C37)=0,0,Vægttabsmåler!$C37)),\"\")","v":0}]
[{"$f":"IF((LEN(Vægttabsmåler!$C38)=0),TRUE)","v":true},{"$f":"IFERROR(IF(A35,0,IF(LEN(Vægttabsmåler!$B38)=0,0,Vægttabsmåler!$B38)),\"\")","v":"00:00:00"},{"$f":"IFERROR(IF(A35,0,IF(LEN(Vægttabsmåler!$C38)=0,0,Vægttabsmåler!$C38)),\"\")","v":0}]
[{"$f":"IF((LEN(Vægttabsmåler!$C39)=0),TRUE)","v":true},{"$f":"IFERROR(IF(A36,0,IF(LEN(Vægttabsmåler!$B39)=0,0,Vægttabsmåler!$B39)),\"\")","v":"00:00:00"},{"$f":"IFERROR(IF(A36,0,IF(LEN(Vægttabsmåler!$C39)=0,0,Vægttabsmåler!$C39)),\"\")","v":0}]
[{"$f":"IF((LEN(Vægttabsmåler!$C40)=0),TRUE)","v":true},{"$f":"IFERROR(IF(A37,0,IF(LEN(Vægttabsmåler!$B40)=0,0,Vægttabsmåler!$B40)),\"\")","v":"00:00:00"},{"$f":"IFERROR(IF(A37,0,IF(LEN(Vægttabsmåler!$C40)=0,0,Vægttabsmåler!$C40)),\"\")","v":0}]
[{"$f":"IF((LEN(Vægttabsmåler!$C41)=0),TRUE)","v":true},{"$f":"IFERROR(IF(A38,0,IF(LEN(Vægttabsmåler!$B41)=0,0,Vægttabsmåler!$B41)),\"\")","v":"00:00:00"},{"$f":"IFERROR(IF(A38,0,IF(LEN(Vægttabsmåler!$C41)=0,0,Vægttabsmåler!$C41)),\"\")","v":0}]
[{"$f":"IF((LEN(Vægttabsmåler!$C42)=0),TRUE)","v":true},{"$f":"IFERROR(IF(A39,0,IF(LEN(Vægttabsmåler!$B42)=0,0,Vægttabsmåler!$B42)),\"\")","v":"00:00:00"},{"$f":"IFERROR(IF(A39,0,IF(LEN(Vægttabsmåler!$C42)=0,0,Vægttabsmåler!$C42)),\"\")","v":0}]
[{"$f":"IF((LEN(Vægttabsmåler!$C43)=0),TRUE)","v":true},{"$f":"IFERROR(IF(A40,0,IF(LEN(Vægttabsmåler!$B43)=0,0,Vægttabsmåler!$B43)),\"\")","v":"00:00:00"},{"$f":"IFERROR(IF(A40,0,IF(LEN(Vægttabsmåler!$C43)=0,0,Vægttabsmåler!$C43)),\"\")","v":0}]
[{"$f":"IF((LEN(Vægttabsmåler!$C44)=0),TRUE)","v":true},{"$f":"IFERROR(IF(A41,0,IF(LEN(Vægttabsmåler!$B44)=0,0,Vægttabsmåler!$B44)),\"\")","v":"00:00:00"},{"$f":"IFERROR(IF(A41,0,IF(LEN(Vægttabsmåler!$C44)=0,0,Vægttabsmåler!$C44)),\"\")","v":0}]
[{"$f":"IF((LEN(Vægttabsmåler!$C45)=0),TRUE)","v":true},{"$f":"IFERROR(IF(A42,0,IF(LEN(Vægttabsmåler!$B45)=0,0,Vægttabsmåler!$B45)),\"\")","v":"00:00:00"},{"$f":"IFERROR(IF(A42,0,IF(LEN(Vægttabsmåler!$C45)=0,0,Vægttabsmåler!$C45)),\"\")","v":0}]
[{"$f":"IF((LEN(Vægttabsmåler!$C46)=0),TRUE)","v":true},{"$f":"IFERROR(IF(A43,0,IF(LEN(Vægttabsmåler!$B46)=0,0,Vægttabsmåler!$B46)),\"\")","v":"00:00:00"},{"$f":"IFERROR(IF(A43,0,IF(LEN(Vægttabsmåler!$C46)=0,0,Vægttabsmåler!$C46)),\"\")","v":0}]
[{"$f":"IF((LEN(Vægttabsmåler!$C47)=0),TRUE)","v":true},{"$f":"IFERROR(IF(A44,0,IF(LEN(Vægttabsmåler!$B47)=0,0,Vægttabsmåler!$B47)),\"\")","v":"00:00:00"},{"$f":"IFERROR(IF(A44,0,IF(LEN(Vægttabsmåler!$C47)=0,0,Vægttabsmåler!$C47)),\"\")","v":0}]
[{"$f":"IF((LEN(Vægttabsmåler!$C48)=0),TRUE)","v":true},{"$f":"IFERROR(IF(A45,0,IF(LEN(Vægttabsmåler!$B48)=0,0,Vægttabsmåler!$B48)),\"\")","v":"00:00:00"},{"$f":"IFERROR(IF(A45,0,IF(LEN(Vægttabsmåler!$C48)=0,0,Vægttabsmåler!$C48)),\"\")","v":0}]
[{"$f":"IF((LEN(Vægttabsmåler!$C49)=0),TRUE)","v":true},{"$f":"IFERROR(IF(A46,0,IF(LEN(Vægttabsmåler!$B49)=0,0,Vægttabsmåler!$B49)),\"\")","v":"00:00:00"},{"$f":"IFERROR(IF(A46,0,IF(LEN(Vægttabsmåler!$C49)=0,0,Vægttabsmåler!$C49)),\"\")","v":0}]
[{"$f":"IF((LEN(Vægttabsmåler!$C50)=0),TRUE)","v":true},{"$f":"IFERROR(IF(A47,0,IF(LEN(Vægttabsmåler!$B50)=0,0,Vægttabsmåler!$B50)),\"\")","v":"00:00:00"},{"$f":"IFERROR(IF(A47,0,IF(LEN(Vægttabsmåler!$C50)=0,0,Vægttabsmåler!$C50)),\"\")","v":0}]
[{"$f":"IF((LEN(Vægttabsmåler!$C51)=0),TRUE)","v":true},{"$f":"IFERROR(IF(A48,0,IF(LEN(Vægttabsmåler!$B51)=0,0,Vægttabsmåler!$B51)),\"\")","v":"00:00:00"},{"$f":"IFERROR(IF(A48,0,IF(LEN(Vægttabsmåler!$C51)=0,0,Vægttabsmåler!$C51)),\"\")","v":0}]
[{"$f":"IF((LEN(Vægttabsmåler!$C52)=0),TRUE)","v":true},{"$f":"IFERROR(IF(A49,0,IF(LEN(Vægttabsmåler!$B52)=0,0,Vægttabsmåler!$B52)),\"\")","v":"00:00:00"},{"$f":"IFERROR(IF(A49,0,IF(LEN(Vægttabsmåler!$C52)=0,0,Vægttabsmåler!$C52)),\"\")","v":0}]
[{"$f":"IF((LEN(Vægttabsmåler!$C53)=0),TRUE)","v":true},{"$f":"IFERROR(IF(A50,0,IF(LEN(Vægttabsmåler!$B53)=0,0,Vægttabsmåler!$B53)),\"\")","v":"00:00:00"},{"$f":"IFERROR(IF(A50,0,IF(LEN(Vægttabsmåler!$C53)=0,0,Vægttabsmåler!$C53)),\"\")","v":0}]
[{"$f":"IF((LEN(Vægttabsmåler!$C54)=0),TRUE)","v":true},{"$f":"IFERROR(IF(A51,0,IF(LEN(Vægttabsmåler!$B54)=0,0,Vægttabsmåler!$B54)),\"\")","v":"00:00:00"},{"$f":"IFERROR(IF(A51,0,IF(LEN(Vægttabsmåler!$C54)=0,0,Vægttabsmåler!$C54)),\"\")","v":0}]
[{"$f":"IF((LEN(Vægttabsmåler!$C55)=0),TRUE)","v":true},{"$f":"IFERROR(IF(A52,0,IF(LEN(Vægttabsmåler!$B55)=0,0,Vægttabsmåler!$B55)),\"\")","v":"00:00:00"},{"$f":"IFERROR(IF(A52,0,IF(LEN(Vægttabsmåler!$C55)=0,0,Vægttabsmåler!$C55)),\"\")","v":0}]
[{"$f":"IF((LEN(Vægttabsmåler!$C56)=0),TRUE)","v":true},{"$f":"IFERROR(IF(A53,0,IF(LEN(Vægttabsmåler!$B56)=0,0,Vægttabsmåler!$B56)),\"\")","v":"00:00:00"},{"$f":"IFERROR(IF(A53,0,IF(LEN(Vægttabsmåler!$C56)=0,0,Vægttabsmåler!$C56)),\"\")","v":0}]
[{"$f":"IF((LEN(Vægttabsmåler!$C57)=0),TRUE)","v":true},{"$f":"IFERROR(IF(A54,0,IF(LEN(Vægttabsmåler!$B57)=0,0,Vægttabsmåler!$B57)),\"\")","v":"00:00:00"},{"$f":"IFERROR(IF(A54,0,IF(LEN(Vægttabsmåler!$C57)=0,0,Vægttabsmåler!$C57)),\"\")","v":0}]
[{"$f":"IF((LEN(Vægttabsmåler!$C58)=0),TRUE)","v":true},{"$f":"IFERROR(IF(A55,0,IF(LEN(Vægttabsmåler!$B58)=0,0,Vægttabsmåler!$B58)),\"\")","v":"00:00:00"},{"$f":"IFERROR(IF(A55,0,IF(LEN(Vægttabsmåler!$C58)=0,0,Vægttabsmåler!$C58)),\"\")","v":0}]
[{"$f":"IF((LEN(Vægttabsmåler!$C59)=0),TRUE)","v":true},{"$f":"IFERROR(IF(A56,0,IF(LEN(Vægttabsmåler!$B59)=0,0,Vægttabsmåler!$B59)),\"\")","v":"00:00:00"},{"$f":"IFERROR(IF(A56,0,IF(LEN(Vægttabsmåler!$C59)=0,0,Vægttabsmåler!$C59)),\"\")","v":0}]
[{"$f":"IF((LEN(Vægttabsmåler!$C60)=0),TRUE)","v":true},{"$f":"IFERROR(IF(A57,0,IF(LEN(Vægttabsmåler!$B60)=0,0,Vægttabsmåler!$B60)),\"\")","v":"00:00:00"},{"$f":"IFERROR(IF(A57,0,IF(LEN(Vægttabsmåler!$C60)=0,0,Vægttabsmåler!$C60)),\"\")","v":0}]
[{"$f":"IF((LEN(Vægttabsmåler!$C61)=0),TRUE)","v":true},{"$f":"IFERROR(IF(A58,0,IF(LEN(Vægttabsmåler!$B61)=0,0,Vægttabsmåler!$B61)),\"\")","v":"00:00:00"},{"$f":"IFERROR(IF(A58,0,IF(LEN(Vægttabsmåler!$C61)=0,0,Vægttabsmåler!$C61)),\"\")","v":0}]
[{"$f":"IF((LEN(Vægttabsmåler!$C62)=0),TRUE)","v":true},{"$f":"IFERROR(IF(A59,0,IF(LEN(Vægttabsmåler!$B62)=0,0,Vægttabsmåler!$B62)),\"\")","v":"00:00:00"},{"$f":"IFERROR(IF(A59,0,IF(LEN(Vægttabsmåler!$C62)=0,0,Vægttabsmåler!$C62)),\"\")","v":0}]
[{"$f":"IF((LEN(Vægttabsmåler!$C63)=0),TRUE)","v":true},{"$f":"IFERROR(IF(A60,0,IF(LEN(Vægttabsmåler!$B63)=0,0,Vægttabsmåler!$B63)),\"\")","v":"00:00:00"},{"$f":"IFERROR(IF(A60,0,IF(LEN(Vægttabsmåler!$C63)=0,0,Vægttabsmåler!$C63)),\"\")","v":0}]
[{"$f":"IF((LEN(Vægttabsmåler!$C64)=0),TRUE)","v":true},{"$f":"IFERROR(IF(A61,0,IF(LEN(Vægttabsmåler!$B64)=0,0,Vægttabsmåler!$B64)),\"\")","v":"00:00:00"},{"$f":"IFERROR(IF(A61,0,IF(LEN(Vægttabsmåler!$C64)=0,0,Vægttabsmåler!$C64)),\"\")","v":0}]
[{"$f":"IF((LEN(Vægttabsmåler!$C65)=0),TRUE)","v":true},{"$f":"IFERROR(IF(A62,0,IF(LEN(Vægttabsmåler!$B65)=0,0,Vægttabsmåler!$B65)),\"\")","v":"00:00:00"},{"$f":"IFERROR(IF(A62,0,IF(LEN(Vægttabsmåler!$C65)=0,0,Vægttabsmåler!$C65)),\"\")","v":0}]
[{"$f":"IF((LEN(Vægttabsmåler!$C66)=0),TRUE)","v":true},{"$f":"IFERROR(IF(A63,0,IF(LEN(Vægttabsmåler!$B66)=0,0,Vægttabsmåler!$B66)),\"\")","v":"00:00:00"},{"$f":"IFERROR(IF(A63,0,IF(LEN(Vægttabsmåler!$C66)=0,0,Vægttabsmåler!$C66)),\"\")","v":0}]
[{"$f":"IF((LEN(Vægttabsmåler!$C67)=0),TRUE)","v":true},{"$f":"IFERROR(IF(A64,0,IF(LEN(Vægttabsmåler!$B67)=0,0,Vægttabsmåler!$B67)),\"\")","v":"00:00:00"},{"$f":"IFERROR(IF(A64,0,IF(LEN(Vægttabsmåler!$C67)=0,0,Vægttabsmåler!$C67)),\"\")","v":0}]
[{"$f":"IF((LEN(Vægttabsmåler!$C68)=0),TRUE)","v":true},{"$f":"IFERROR(IF(A65,0,IF(LEN(Vægttabsmåler!$B68)=0,0,Vægttabsmåler!$B68)),\"\")","v":"00:00:00"},{"$f":"IFERROR(IF(A65,0,IF(LEN(Vægttabsmåler!$C68)=0,0,Vægttabsmåler!$C68)),\"\")","v":0}]
[{"$f":"IF((LEN(Vægttabsmåler!$C69)=0),TRUE)","v":true},{"$f":"IFERROR(IF(A66,0,IF(LEN(Vægttabsmåler!$B69)=0,0,Vægttabsmåler!$B69)),\"\")","v":"00:00:00"},{"$f":"IFERROR(IF(A66,0,IF(LEN(Vægttabsmåler!$C69)=0,0,Vægttabsmåler!$C69)),\"\")","v":0}]
[{"$f":"IF((LEN(Vægttabsmåler!$C70)=0),TRUE)","v":true},{"$f":"IFERROR(IF(A67,0,IF(LEN(Vægttabsmåler!$B70)=0,0,Vægttabsmåler!$B70)),\"\")","v":"00:00:00"},{"$f":"IFERROR(IF(A67,0,IF(LEN(Vægttabsmåler!$C70)=0,0,Vægttabsmåler!$C70)),\"\")","v":0}]
[{"$f":"IF((LEN(Vægttabsmåler!$C71)=0),TRUE)","v":true},{"$f":"IFERROR(IF(A68,0,IF(LEN(Vægttabsmåler!$B71)=0,0,Vægttabsmåler!$B71)),\"\")","v":"00:00:00"},{"$f":"IFERROR(IF(A68,0,IF(LEN(Vægttabsmåler!$C71)=0,0,Vægttabsmåler!$C71)),\"\")","v":0}]
[{"$f":"IF((LEN(Vægttabsmåler!$C72)=0),TRUE)","v":true},{"$f":"IFERROR(IF(A69,0,IF(LEN(Vægttabsmåler!$B72)=0,0,Vægttabsmåler!$B72)),\"\")","v":"00:00:00"},{"$f":"IFERROR(IF(A69,0,IF(LEN(Vægttabsmåler!$C72)=0,0,Vægttabsmåler!$C72)),\"\")","v":0}]
[{"$f":"IF((LEN(Vægttabsmåler!$C73)=0),TRUE)","v":true},{"$f":"IFERROR(IF(A70,0,IF(LEN(Vægttabsmåler!$B73)=0,0,Vægttabsmåler!$B73)),\"\")","v":"00:00:00"},{"$f":"IFERROR(IF(A70,0,IF(LEN(Vægttabsmåler!$C73)=0,0,Vægttabsmåler!$C73)),\"\")","v":0}]
[{"$f":"IF((LEN(Vægttabsmåler!$C74)=0),TRUE)","v":true},{"$f":"IFERROR(IF(A71,0,IF(LEN(Vægttabsmåler!$B74)=0,0,Vægttabsmåler!$B74)),\"\")","v":"00:00:00"},{"$f":"IFERROR(IF(A71,0,IF(LEN(Vægttabsmåler!$C74)=0,0,Vægttabsmåler!$C74)),\"\")","v":0}]
[{"$f":"IF((LEN(Vægttabsmåler!$C75)=0),TRUE)","v":true},{"$f":"IFERROR(IF(A72,0,IF(LEN(Vægttabsmåler!$B75)=0,0,Vægttabsmåler!$B75)),\"\")","v":"00:00:00"},{"$f":"IFERROR(IF(A72,0,IF(LEN(Vægttabsmåler!$C75)=0,0,Vægttabsmåler!$C75)),\"\")","v":0}]
[{"$f":"IF((LEN(Vægttabsmåler!$C76)=0),TRUE)","v":true},{"$f":"IFERROR(IF(A73,0,IF(LEN(Vægttabsmåler!$B76)=0,0,Vægttabsmåler!$B76)),\"\")","v":"00:00:00"},{"$f":"IFERROR(IF(A73,0,IF(LEN(Vægttabsmåler!$C76)=0,0,Vægttabsmåler!$C76)),\"\")","v":0}]
[{"$f":"IF((LEN(Vægttabsmåler!$C77)=0),TRUE)","v":true},{"$f":"IFERROR(IF(A74,0,IF(LEN(Vægttabsmåler!$B77)=0,0,Vægttabsmåler!$B77)),\"\")","v":"00:00:00"},{"$f":"IFERROR(IF(A74,0,IF(LEN(Vægttabsmåler!$C77)=0,0,Vægttabsmåler!$C77)),\"\")","v":0}]
[{"$f":"IF((LEN(Vægttabsmåler!$C78)=0),TRUE)","v":true},{"$f":"IFERROR(IF(A75,0,IF(LEN(Vægttabsmåler!$B78)=0,0,Vægttabsmåler!$B78)),\"\")","v":"00:00:00"},{"$f":"IFERROR(IF(A75,0,IF(LEN(Vægttabsmåler!$C78)=0,0,Vægttabsmåler!$C78)),\"\")","v":0}]
[{"$f":"IF((LEN(Vægttabsmåler!$C79)=0),TRUE)","v":true},{"$f":"IFERROR(IF(A76,0,IF(LEN(Vægttabsmåler!$B79)=0,0,Vægttabsmåler!$B79)),\"\")","v":"00:00:00"},{"$f":"IFERROR(IF(A76,0,IF(LEN(Vægttabsmåler!$C79)=0,0,Vægttabsmåler!$C79)),\"\")","v":0}]
[{"$f":"IF((LEN(Vægttabsmåler!$C80)=0),TRUE)","v":true},{"$f":"IFERROR(IF(A77,0,IF(LEN(Vægttabsmåler!$B80)=0,0,Vægttabsmåler!$B80)),\"\")","v":"00:00:00"},{"$f":"IFERROR(IF(A77,0,IF(LEN(Vægttabsmåler!$C80)=0,0,Vægttabsmåler!$C80)),\"\")","v":0}]
[{"$f":"IF((LEN(Vægttabsmåler!$C81)=0),TRUE)","v":true},{"$f":"IFERROR(IF(A78,0,IF(LEN(Vægttabsmåler!$B81)=0,0,Vægttabsmåler!$B81)),\"\")","v":"00:00:00"},{"$f":"IFERROR(IF(A78,0,IF(LEN(Vægttabsmåler!$C81)=0,0,Vægttabsmåler!$C81)),\"\")","v":0}]
[{"$f":"IF((LEN(Vægttabsmåler!$C82)=0),TRUE)","v":true},{"$f":"IFERROR(IF(A79,0,IF(LEN(Vægttabsmåler!$B82)=0,0,Vægttabsmåler!$B82)),\"\")","v":"00:00:00"},{"$f":"IFERROR(IF(A79,0,IF(LEN(Vægttabsmåler!$C82)=0,0,Vægttabsmåler!$C82)),\"\")","v":0}]
[{"$f":"IF((LEN(Vægttabsmåler!$C83)=0),TRUE)","v":true},{"$f":"IFERROR(IF(A80,0,IF(LEN(Vægttabsmåler!$B83)=0,0,Vægttabsmåler!$B83)),\"\")","v":"00:00:00"},{"$f":"IFERROR(IF(A80,0,IF(LEN(Vægttabsmåler!$C83)=0,0,Vægttabsmåler!$C83)),\"\")","v":0}]
[{"$f":"IF((LEN(Vægttabsmåler!$C84)=0),TRUE)","v":true},{"$f":"IFERROR(IF(A81,0,IF(LEN(Vægttabsmåler!$B84)=0,0,Vægttabsmåler!$B84)),\"\")","v":"00:00:00"},{"$f":"IFERROR(IF(A81,0,IF(LEN(Vægttabsmåler!$C84)=0,0,Vægttabsmåler!$C84)),\"\")","v":0}]
[{"$f":"IF((LEN(Vægttabsmåler!$C85)=0),TRUE)","v":true},{"$f":"IFERROR(IF(A82,0,IF(LEN(Vægttabsmåler!$B85)=0,0,Vægttabsmåler!$B85)),\"\")","v":"00:00:00"},{"$f":"IFERROR(IF(A82,0,IF(LEN(Vægttabsmåler!$C85)=0,0,Vægttabsmåler!$C85)),\"\")","v":0}]
[{"$f":"IF((LEN(Vægttabsmåler!$C86)=0),TRUE)","v":true},{"$f":"IFERROR(IF(A83,0,IF(LEN(Vægttabsmåler!$B86)=0,0,Vægttabsmåler!$B86)),\"\")","v":"00:00:00"},{"$f":"IFERROR(IF(A83,0,IF(LEN(Vægttabsmåler!$C86)=0,0,Vægttabsmåler!$C86)),\"\")","v":0}]
[{"$f":"IF((LEN(Vægttabsmåler!$C87)=0),TRUE)","v":true},{"$f":"IFERROR(IF(A84,0,IF(LEN(Vægttabsmåler!$B87)=0,0,Vægttabsmåler!$B87)),\"\")","v":"00:00:00"},{"$f":"IFERROR(IF(A84,0,IF(LEN(Vægttabsmåler!$C87)=0,0,Vægttabsmåler!$C87)),\"\")","v":0}]
[{"$f":"IF((LEN(Vægttabsmåler!$C88)=0),TRUE)","v":true},{"$f":"IFERROR(IF(A85,0,IF(LEN(Vægttabsmåler!$B88)=0,0,Vægttabsmåler!$B88)),\"\")","v":"00:00:00"},{"$f":"IFERROR(IF(A85,0,IF(LEN(Vægttabsmåler!$C88)=0,0,Vægttabsmåler!$C88)),\"\")","v":0}]
[{"$f":"IF((LEN(Vægttabsmåler!$C89)=0),TRUE)","v":true},{"$f":"IFERROR(IF(A86,0,IF(LEN(Vægttabsmåler!$B89)=0,0,Vægttabsmåler!$B89)),\"\")","v":"00:00:00"},{"$f":"IFERROR(IF(A86,0,IF(LEN(Vægttabsmåler!$C89)=0,0,Vægttabsmåler!$C89)),\"\")","v":0}]
[{"$f":"IF((LEN(Vægttabsmåler!$C90)=0),TRUE)","v":true},{"$f":"IFERROR(IF(A87,0,IF(LEN(Vægttabsmåler!$B90)=0,0,Vægttabsmåler!$B90)),\"\")","v":"00:00:00"},{"$f":"IFERROR(IF(A87,0,IF(LEN(Vægttabsmåler!$C90)=0,0,Vægttabsmåler!$C90)),\"\")","v":0}]
[{"$f":"IF((LEN(Vægttabsmåler!$C91)=0),TRUE)","v":true},{"$f":"IFERROR(IF(A88,0,IF(LEN(Vægttabsmåler!$B91)=0,0,Vægttabsmåler!$B91)),\"\")","v":"00:00:00"},{"$f":"IFERROR(IF(A88,0,IF(LEN(Vægttabsmåler!$C91)=0,0,Vægttabsmåler!$C91)),\"\")","v":0}]
[{"$f":"IF((LEN(Vægttabsmåler!$C92)=0),TRUE)","v":true},{"$f":"IFERROR(IF(A89,0,IF(LEN(Vægttabsmåler!$B92)=0,0,Vægttabsmåler!$B92)),\"\")","v":"00:00:00"},{"$f":"IFERROR(IF(A89,0,IF(LEN(Vægttabsmåler!$C92)=0,0,Vægttabsmåler!$C92)),\"\")","v":0}]
[{"$f":"IF((LEN(Vægttabsmåler!$C93)=0),TRUE)","v":true},{"$f":"IFERROR(IF(A90,0,IF(LEN(Vægttabsmåler!$B93)=0,0,Vægttabsmåler!$B93)),\"\")","v":"00:00:00"},{"$f":"IFERROR(IF(A90,0,IF(LEN(Vægttabsmåler!$C93)=0,0,Vægttabsmåler!$C93)),\"\")","v":0}]
[{"$f":"IF((LEN(Vægttabsmåler!$C94)=0),TRUE)","v":true},{"$f":"IFERROR(IF(A91,0,IF(LEN(Vægttabsmåler!$B94)=0,0,Vægttabsmåler!$B94)),\"\")","v":"00:00:00"},{"$f":"IFERROR(IF(A91,0,IF(LEN(Vægttabsmåler!$C94)=0,0,Vægttabsmåler!$C94)),\"\")","v":0}]
[{"$f":"IF((LEN(Vægttabsmåler!$C95)=0),TRUE)","v":true},{"$f":"IFERROR(IF(A92,0,IF(LEN(Vægttabsmåler!$B95)=0,0,Vægttabsmåler!$B95)),\"\")","v":"00:00:00"},{"$f":"IFERROR(IF(A92,0,IF(LEN(Vægttabsmåler!$C95)=0,0,Vægttabsmåler!$C95)),\"\")","v":0}]
[{"$f":"IF((LEN(Vægttabsmåler!$C96)=0),TRUE)","v":true},{"$f":"IFERROR(IF(A93,0,IF(LEN(Vægttabsmåler!$B96)=0,0,Vægttabsmåler!$B96)),\"\")","v":"00:00:00"},{"$f":"IFERROR(IF(A93,0,IF(LEN(Vægttabsmåler!$C96)=0,0,Vægttabsmåler!$C96)),\"\")","v":0}]
[{"$f":"IF((LEN(Vægttabsmåler!$C97)=0),TRUE)","v":true},{"$f":"IFERROR(IF(A94,0,IF(LEN(Vægttabsmåler!$B97)=0,0,Vægttabsmåler!$B97)),\"\")","v":"00:00:00"},{"$f":"IFERROR(IF(A94,0,IF(LEN(Vægttabsmåler!$C97)=0,0,Vægttabsmåler!$C97)),\"\")","v":0}]
[{"$f":"IF((LEN(Vægttabsmåler!$C98)=0),TRUE)","v":true},{"$f":"IFERROR(IF(A95,0,IF(LEN(Vægttabsmåler!$B98)=0,0,Vægttabsmåler!$B98)),\"\")","v":"00:00:00"},{"$f":"IFERROR(IF(A95,0,IF(LEN(Vægttabsmåler!$C98)=0,0,Vægttabsmåler!$C98)),\"\")","v":0}]
[{"$f":"IF((LEN(Vægttabsmåler!$C99)=0),TRUE)","v":true},{"$f":"IFERROR(IF(A96,0,IF(LEN(Vægttabsmåler!$B99)=0,0,Vægttabsmåler!$B99)),\"\")","v":"00:00:00"},{"$f":"IFERROR(IF(A96,0,IF(LEN(Vægttabsmåler!$C99)=0,0,Vægttabsmåler!$C99)),\"\")","v":0}]
[{"$f":"IF((LEN(Vægttabsmåler!$C100)=0),TRUE)","v":true},{"$f":"IFERROR(IF(A97,0,IF(LEN(Vægttabsmåler!$B100)=0,0,Vægttabsmåler!$B100)),\"\")","v":"00:00:00"},{"$f":"IFERROR(IF(A97,0,IF(LEN(Vægttabsmåler!$C100)=0,0,Vægttabsmåler!$C100)),\"\")","v":0}]
[{"$f":"IF((LEN(Vægttabsmåler!$C101)=0),TRUE)","v":true},{"$f":"IFERROR(IF(A98,0,IF(LEN(Vægttabsmåler!$B101)=0,0,Vægttabsmåler!$B101)),\"\")","v":"00:00:00"},{"$f":"IFERROR(IF(A98,0,IF(LEN(Vægttabsmåler!$C101)=0,0,Vægttabsmåler!$C101)),\"\")","v":0}]
[{"$f":"IF((LEN(Vægttabsmåler!$C102)=0),TRUE)","v":true},{"$f":"IFERROR(IF(A99,0,IF(LEN(Vægttabsmåler!$B102)=0,0,Vægttabsmåler!$B102)),\"\")","v":"00:00:00"},{"$f":"IFERROR(IF(A99,0,IF(LEN(Vægttabsmåler!$C102)=0,0,Vægttabsmåler!$C102)),\"\")","v":0}]
[{"$f":"IF((LEN(Vægttabsmåler!$C103)=0),TRUE)","v":true},{"$f":"IFERROR(IF(A100,0,IF(LEN(Vægttabsmåler!$B103)=0,0,Vægttabsmåler!$B103)),\"\")","v":"00:00:00"},{"$f":"IFERROR(IF(A100,0,IF(LEN(Vægttabsmåler!$C103)=0,0,Vægttabsmåler!$C103)),\"\")","v":0}]
[{"$f":"IF((LEN(Vægttabsmåler!$C104)=0),TRUE)","v":true},{"$f":"IFERROR(IF(A101,0,IF(LEN(Vægttabsmåler!$B104)=0,0,Vægttabsmåler!$B104)),\"\")","v":"00:00:00"},{"$f":"IFERROR(IF(A101,0,IF(LEN(Vægttabsmåler!$C104)=0,0,Vægttabsmåler!$C104)),\"\")","v":0}]
[{"$f":"IF((LEN(Vægttabsmåler!$C105)=0),TRUE)","v":true},{"$f":"IFERROR(IF(A102,0,IF(LEN(Vægttabsmåler!$B105)=0,0,Vægttabsmåler!$B105)),\"\")","v":"00:00:00"},{"$f":"IFERROR(IF(A102,0,IF(LEN(Vægttabsmåler!$C105)=0,0,Vægttabsmåler!$C105)),\"\")","v":0}]
[{"$f":"IF((LEN(Vægttabsmåler!$C106)=0),TRUE)","v":true},{"$f":"IFERROR(IF(A103,0,IF(LEN(Vægttabsmåler!$B106)=0,0,Vægttabsmåler!$B106)),\"\")","v":"00:00:00"},{"$f":"IFERROR(IF(A103,0,IF(LEN(Vægttabsmåler!$C106)=0,0,Vægttabsmåler!$C106)),\"\")","v":0}]
[{"$f":"IF((LEN(Vægttabsmåler!$C107)=0),TRUE)","v":true},{"$f":"IFERROR(IF(A104,0,IF(LEN(Vægttabsmåler!$B107)=0,0,Vægttabsmåler!$B107)),\"\")","v":"00:00:00"},{"$f":"IFERROR(IF(A104,0,IF(LEN(Vægttabsmåler!$C107)=0,0,Vægttabsmåler!$C107)),\"\")","v":0}]
[{"$f":"IF((LEN(Vægttabsmåler!$C108)=0),TRUE)","v":true},{"$f":"IFERROR(IF(A105,0,IF(LEN(Vægttabsmåler!$B108)=0,0,Vægttabsmåler!$B108)),\"\")","v":"00:00:00"},{"$f":"IFERROR(IF(A105,0,IF(LEN(Vægttabsmåler!$C108)=0,0,Vægttabsmåler!$C108)),\"\")","v":0}]
[{"$f":"IF((LEN(Vægttabsmåler!$C109)=0),TRUE)","v":true},{"$f":"IFERROR(IF(A106,0,IF(LEN(Vægttabsmåler!$B109)=0,0,Vægttabsmåler!$B109)),\"\")","v":"00:00:00"},{"$f":"IFERROR(IF(A106,0,IF(LEN(Vægttabsmåler!$C109)=0,0,Vægttabsmåler!$C109)),\"\")","v":0}]
[{"$f":"IF((LEN(Vægttabsmåler!$C110)=0),TRUE)","v":true},{"$f":"IFERROR(IF(A107,0,IF(LEN(Vægttabsmåler!$B110)=0,0,Vægttabsmåler!$B110)),\"\")","v":"00:00:00"},{"$f":"IFERROR(IF(A107,0,IF(LEN(Vægttabsmåler!$C110)=0,0,Vægttabsmåler!$C110)),\"\")","v":0}]