{"text_format":"3","workbook":"xlsx","n_sheets":1,"sheets":["Регионални продажби"],"not_rendered":{"charts":1,"defined_names":7},"read":"whole","date_system":"1900"}

{"sheet":"Регионални продажби","index":0,"n_rows":12,"n_cols":17,"rows_kept":12,"merged":[[0,0,0,14],[1,0,1,12],[1,13,1,14]]}
["  РЕГИОНАЛНИ ПРОДАЖБИ",{"$nulls":15}," "]
["Диаграмата на регионалните продажби изобразява продажбите в максимум осем региона от януари до декември. Въведете бележки в клетка N2 отдясно, а данните за продажбите през всеки месец в клетките по-долу.",{"$nulls":12},"\nБЕЛЕЖКИ:\nСеверна Америка продължава силното си представяне през август, но трябва да обърнем повече внимание на Азия."]
["РЕГИОН","ЯНУ","ФЕВ","МАР","АПР","МАЙ","ЮНИ","ЮЛИ","АВГ","СЕП","ОКТ","НОЕ","ДЕК","ОБЩА СУМА","%","Етикет"]
["Северна Америка",{"v":23000,"d":"23,000 лв."},{"v":25000,"d":"25,000 лв."},{"v":19000,"d":"19,000 лв."},{"v":13000,"d":"13,000 лв."},{"v":18000,"d":"18,000 лв."},{"v":22000,"d":"22,000 лв."},{"v":26000,"d":"26,000 лв."},{"$nulls":5},{"$f":"SUM('Регионални продажби'!$B4:$M4)","v":{"v":146000,"d":"146,000.00 лв."}},{"$f":"'Регионални продажби'!$N4/SUM('Регионални продажби'!$N$4:$N$11)","v":{"v":0.42196531791907516,"d":"42%"}},{"$f":"'Регионални продажби'!$A4 & \" (\" & TEXT('Регионални продажби'!$O4,\"0%\") & \")\"","v":"Северна Америка (42%)"}]
["Азия",{"v":14000,"d":"14,000 лв."},{"v":18000,"d":"18,000 лв."},{"v":14000,"d":"14,000 лв."},{"v":12000,"d":"12,000 лв."},{"v":14000,"d":"14,000 лв."},{"v":18000,"d":"18,000 лв."},{"v":12000,"d":"12,000 лв."},{"$nulls":5},{"$f":"SUM('Регионални продажби'!$B5:$M5)","v":{"v":102000,"d":"102,000.00 лв."}},{"$f":"'Регионални продажби'!$N5/SUM('Регионални продажби'!$N$4:$N$11)","v":{"v":0.2947976878612717,"d":"29%"}},{"$f":"'Регионални продажби'!$A5 & \" (\" & TEXT('Регионални продажби'!$O5,\"0%\") & \")\"","v":"Азия (29%)"}]
["Европа",{"v":20000,"d":"20,000 лв."},{"v":12000,"d":"12,000 лв."},{"v":13000,"d":"13,000 лв."},{"v":10000,"d":"10,000 лв."},{"v":11000,"d":"11,000 лв."},{"v":15000,"d":"15,000 лв."},{"v":17000,"d":"17,000 лв."},{"$nulls":5},{"$f":"SUM('Регионални продажби'!$B6:$M6)","v":{"v":98000,"d":"98,000.00 лв."}},{"$f":"'Регионални продажби'!$N6/SUM('Регионални продажби'!$N$4:$N$11)","v":{"v":0.2832369942196532,"d":"28%"}},{"$f":"'Регионални продажби'!$A6 & \" (\" & TEXT('Регионални продажби'!$O6,\"0%\") & \")\"","v":"Европа (28%)"}]
[{"$nulls":13},{"$f":"SUM('Регионални продажби'!$B7:$M7)","v":{"v":0,"d":"0.00 лв."}},{"$f":"'Регионални продажби'!$N7/SUM('Регионални продажби'!$N$4:$N$11)","v":{"v":0,"d":"0%"}},{"$f":"'Регионални продажби'!$A7 & \" (\" & TEXT('Регионални продажби'!$O7,\"0%\") & \")\"","v":" (0%)"}]
[{"$nulls":13},{"$f":"SUM('Регионални продажби'!$B8:$M8)","v":{"v":0,"d":"0.00 лв."}},{"$f":"'Регионални продажби'!$N8/SUM('Регионални продажби'!$N$4:$N$11)","v":{"v":0,"d":"0%"}},{"$f":"'Регионални продажби'!$A8 & \" (\" & TEXT('Регионални продажби'!$O8,\"0%\") & \")\"","v":" (0%)"}]
[{"$nulls":13},{"$f":"SUM('Регионални продажби'!$B9:$M9)","v":{"v":0,"d":"0.00 лв."}},{"$f":"'Регионални продажби'!$N9/SUM('Регионални продажби'!$N$4:$N$11)","v":{"v":0,"d":"0%"}},{"$f":"'Регионални продажби'!$A9 & \" (\" & TEXT('Регионални продажби'!$O9,\"0%\") & \")\"","v":" (0%)"}]
[{"$nulls":13},{"$f":"SUM('Регионални продажби'!$B10:$M10)","v":{"v":0,"d":"0.00 лв."}},{"$f":"'Регионални продажби'!$N10/SUM('Регионални продажби'!$N$4:$N$11)","v":{"v":0,"d":"0%"}},{"$f":"'Регионални продажби'!$A10 & \" (\" & TEXT('Регионални продажби'!$O10,\"0%\") & \")\"","v":" (0%)"}]
[{"$nulls":13},{"$f":"SUM('Регионални продажби'!$B11:$M11)","v":{"v":0,"d":"0.00 лв."}},{"$f":"'Регионални продажби'!$N11/SUM('Регионални продажби'!$N$4:$N$11)","v":{"v":0,"d":"0%"}},{"$f":"'Регионални продажби'!$A11 & \" (\" & TEXT('Регионални продажби'!$O11,\"0%\") & \")\"","v":" (0%)"}]
["ОБЩА СУМА",{"$f":"SUBTOTAL(109,Регион[ЯНУ])","v":{"v":57000,"d":"57,000 лв."}},{"$f":"SUBTOTAL(109,Регион[ФЕВ])","v":{"v":55000,"d":"55,000 лв."}},{"$f":"SUBTOTAL(109,Регион[МАР])","v":{"v":46000,"d":"46,000 лв."}},{"$f":"SUBTOTAL(109,Регион[АПР])","v":{"v":35000,"d":"35,000 лв."}},{"$f":"SUBTOTAL(109,Регион[МАЙ])","v":{"v":43000,"d":"43,000 лв."}},{"$f":"SUBTOTAL(109,Регион[ЮНИ])","v":{"v":55000,"d":"55,000 лв."}},{"$f":"SUBTOTAL(109,Регион[ЮЛИ])","v":{"v":55000,"d":"55,000 лв."}},{"$f":"SUBTOTAL(109,Регион[АВГ])","v":{"v":0,"d":"0 лв."}},{"$f":"SUBTOTAL(109,Регион[СЕП])","v":{"v":0,"d":"0 лв."}},{"$f":"SUBTOTAL(109,Регион[ОКТ])","v":{"v":0,"d":"0 лв."}},{"$f":"SUBTOTAL(109,Регион[НОЕ])","v":{"v":0,"d":"0 лв."}},{"$f":"SUBTOTAL(109,Регион[ДЕК])","v":{"v":0,"d":"0 лв."}},{"$f":"SUBTOTAL(109,Регион[ОБЩА СУМА])","v":{"v":346000,"d":"346,000.00 лв."}},{"$f":"SUBTOTAL(109,Регион[%])","v":{"v":1,"d":"100%"}}]