{"text_format":"3","workbook":"xlsx","n_sheets":5,"sheets":["ملخص السنة لتاريخه","الربع الأول","الربع الرابع","الربع الثاني","الربع الثالث"],"not_rendered":{"defined_names":12},"read":"whole","date_system":"1900"}

{"sheet":"ملخص السنة لتاريخه","index":0,"n_rows":36,"n_cols":12,"rows_kept":36,"merged":[[3,0,3,6]]}
["اسم الشركة"]
["تعقب الحضور، ملخص السنة لتاريخه"]
["التاريخ"]
[{"$f":"Company_Name","v":"اسم الشركة"},{"$nulls":6},"سري"]
["اسم العائلة","الاسم الأول","عطلة","إجازة شخصية","إجازة مرضية","رقم التأمين الاجتماعي","المنصب","المشرف","تاريخ التوظيف","التعليقات","أيام العطلات \nسنوياً","أيام العطلات \nالمتبقية"]
["اسم العائلة","الاسم الأول",{"$f":"SUM('الربع الأول:الربع الرابع'!C6)","v":3},{"$f":"SUM('الربع الأول:الربع الرابع'!D6)","v":0},{"$f":"SUM('الربع الأول:الربع الرابع'!E6)","v":1},"xxx-xx-xxxx","المدير","الاسم",null,null,10,{"$f":"K6-C6","v":7}]
[null,null,{"$f":"SUM('الربع الأول:الربع الرابع'!C7)","v":0},{"$f":"SUM('الربع الأول:الربع الرابع'!D7)","v":0},{"$f":"SUM('الربع الأول:الربع الرابع'!E7)","v":0},{"$nulls":6},{"$f":"K7-C7","v":0}]
[null,null,{"$f":"SUM('الربع الأول:الربع الرابع'!C8)","v":0},{"$f":"SUM('الربع الأول:الربع الرابع'!D8)","v":0},{"$f":"SUM('الربع الأول:الربع الرابع'!E8)","v":0},{"$nulls":6},0]
[null,null,{"$f":"SUM('الربع الأول:الربع الرابع'!C9)","v":0},{"$f":"SUM('الربع الأول:الربع الرابع'!D9)","v":0},{"$f":"SUM('الربع الأول:الربع الرابع'!E9)","v":0},{"$nulls":6},0]
[null,null,{"$f":"SUM('الربع الأول:الربع الرابع'!C10)","v":0},{"$f":"SUM('الربع الأول:الربع الرابع'!D10)","v":0},{"$f":"SUM('الربع الأول:الربع الرابع'!E10)","v":0},{"$nulls":6},0]
[null,null,{"$f":"SUM('الربع الأول:الربع الرابع'!C11)","v":0},{"$f":"SUM('الربع الأول:الربع الرابع'!D11)","v":0},{"$f":"SUM('الربع الأول:الربع الرابع'!E11)","v":0},{"$nulls":6},0]
[null,null,{"$f":"SUM('الربع الأول:الربع الرابع'!C12)","v":0},{"$f":"SUM('الربع الأول:الربع الرابع'!D12)","v":0},{"$f":"SUM('الربع الأول:الربع الرابع'!E12)","v":0},{"$nulls":6},0]
[null,null,{"$f":"SUM('الربع الأول:الربع الرابع'!C13)","v":0},{"$f":"SUM('الربع الأول:الربع الرابع'!D13)","v":0},{"$f":"SUM('الربع الأول:الربع الرابع'!E13)","v":0},{"$nulls":6},0]
[null,null,{"$f":"SUM('الربع الأول:الربع الرابع'!C14)","v":0},{"$f":"SUM('الربع الأول:الربع الرابع'!D14)","v":0},{"$f":"SUM('الربع الأول:الربع الرابع'!E14)","v":0},{"$nulls":6},0]
[null,null,{"$f":"SUM('الربع الأول:الربع الرابع'!C15)","v":0},{"$f":"SUM('الربع الأول:الربع الرابع'!D15)","v":0},{"$f":"SUM('الربع الأول:الربع الرابع'!E15)","v":0},{"$nulls":6},0]
[null,null,{"$f":"SUM('الربع الأول:الربع الرابع'!C16)","v":0},{"$f":"SUM('الربع الأول:الربع الرابع'!D16)","v":0},{"$f":"SUM('الربع الأول:الربع الرابع'!E16)","v":0},{"$nulls":6},0]
[null,null,{"$f":"SUM('الربع الأول:الربع الرابع'!C17)","v":0},{"$f":"SUM('الربع الأول:الربع الرابع'!D17)","v":0},{"$f":"SUM('الربع الأول:الربع الرابع'!E17)","v":0},{"$nulls":6},0]
[null,null,{"$f":"SUM('الربع الأول:الربع الرابع'!C18)","v":0},{"$f":"SUM('الربع الأول:الربع الرابع'!D18)","v":0},{"$f":"SUM('الربع الأول:الربع الرابع'!E18)","v":0},{"$nulls":6},0]
[null,null,{"$f":"SUM('الربع الأول:الربع الرابع'!C19)","v":0},{"$f":"SUM('الربع الأول:الربع الرابع'!D19)","v":0},{"$f":"SUM('الربع الأول:الربع الرابع'!E19)","v":0},{"$nulls":6},0]
[null,null,{"$f":"SUM('الربع الأول:الربع الرابع'!C20)","v":0},{"$f":"SUM('الربع الأول:الربع الرابع'!D20)","v":0},{"$f":"SUM('الربع الأول:الربع الرابع'!E20)","v":0},{"$nulls":6},0]
[null,null,{"$f":"SUM('الربع الأول:الربع الرابع'!C21)","v":0},{"$f":"SUM('الربع الأول:الربع الرابع'!D21)","v":0},{"$f":"SUM('الربع الأول:الربع الرابع'!E21)","v":0},{"$nulls":6},0]
[null,null,{"$f":"SUM('الربع الأول:الربع الرابع'!C22)","v":0},{"$f":"SUM('الربع الأول:الربع الرابع'!D22)","v":0},{"$f":"SUM('الربع الأول:الربع الرابع'!E22)","v":0},{"$nulls":6},0]
[null,null,{"$f":"SUM('الربع الأول:الربع الرابع'!C23)","v":0},{"$f":"SUM('الربع الأول:الربع الرابع'!D23)","v":0},{"$f":"SUM('الربع الأول:الربع الرابع'!E23)","v":0},{"$nulls":6},0]
[null,null,{"$f":"SUM('الربع الأول:الربع الرابع'!C24)","v":0},{"$f":"SUM('الربع الأول:الربع الرابع'!D24)","v":0},{"$f":"SUM('الربع الأول:الربع الرابع'!E24)","v":0},{"$nulls":6},0]
[null,null,{"$f":"SUM('الربع الأول:الربع الرابع'!C25)","v":0},{"$f":"SUM('الربع الأول:الربع الرابع'!D25)","v":0},{"$f":"SUM('الربع الأول:الربع الرابع'!E25)","v":0},{"$nulls":6},0]
[null,null,{"$f":"SUM('الربع الأول:الربع الرابع'!C26)","v":0},{"$f":"SUM('الربع الأول:الربع الرابع'!D26)","v":0},{"$f":"SUM('الربع الأول:الربع الرابع'!E26)","v":0},{"$nulls":6},0]
[null,null,{"$f":"SUM('الربع الأول:الربع الرابع'!C27)","v":0},{"$f":"SUM('الربع الأول:الربع الرابع'!D27)","v":0},{"$f":"SUM('الربع الأول:الربع الرابع'!E27)","v":0},{"$nulls":6},0]
[null,null,{"$f":"SUM('الربع الأول:الربع الرابع'!C28)","v":0},{"$f":"SUM('الربع الأول:الربع الرابع'!D28)","v":0},{"$f":"SUM('الربع الأول:الربع الرابع'!E28)","v":0},{"$nulls":6},0]
[null,null,{"$f":"SUM('الربع الأول:الربع الرابع'!C29)","v":0},{"$f":"SUM('الربع الأول:الربع الرابع'!D29)","v":0},{"$f":"SUM('الربع الأول:الربع الرابع'!E29)","v":0},{"$nulls":6},0]
[null,null,{"$f":"SUM('الربع الأول:الربع الرابع'!C30)","v":0},{"$f":"SUM('الربع الأول:الربع الرابع'!D30)","v":0},{"$f":"SUM('الربع الأول:الربع الرابع'!E30)","v":0},{"$nulls":6},0]
[null,null,{"$f":"SUM('الربع الأول:الربع الرابع'!C31)","v":0},{"$f":"SUM('الربع الأول:الربع الرابع'!D31)","v":0},{"$f":"SUM('الربع الأول:الربع الرابع'!E31)","v":0},{"$nulls":6},0]
[null,null,{"$f":"SUM('الربع الأول:الربع الرابع'!C32)","v":0},{"$f":"SUM('الربع الأول:الربع الرابع'!D32)","v":0},{"$f":"SUM('الربع الأول:الربع الرابع'!E32)","v":0},{"$nulls":6},0]
[null,null,{"$f":"SUM('الربع الأول:الربع الرابع'!C33)","v":0},{"$f":"SUM('الربع الأول:الربع الرابع'!D33)","v":0},{"$f":"SUM('الربع الأول:الربع الرابع'!E33)","v":0},{"$nulls":6},0]
[null,null,{"$f":"SUM('الربع الأول:الربع الرابع'!C34)","v":0},{"$f":"SUM('الربع الأول:الربع الرابع'!D34)","v":0},{"$f":"SUM('الربع الأول:الربع الرابع'!E34)","v":0},{"$nulls":6},0]
[null,null,{"$f":"SUM('الربع الأول:الربع الرابع'!C35)","v":0},{"$f":"SUM('الربع الأول:الربع الرابع'!D35)","v":0},{"$f":"SUM('الربع الأول:الربع الرابع'!E35)","v":0},{"$nulls":6},0]
[null,null,{"$f":"SUM('الربع الأول:الربع الرابع'!C36)","v":0},{"$f":"SUM('الربع الأول:الربع الرابع'!D36)","v":0},{"$f":"SUM('الربع الأول:الربع الرابع'!E36)","v":0},{"$nulls":6},0]

{"sheet":"الربع الأول","index":1,"n_rows":36,"n_cols":95,"rows_kept":36,"merged":[[3,0,3,6]]}
[{"$f":"Company_Name","v":"اسم الشركة"}]
["تعقب الحضور، الربع الأول"]
["التاريخ"]
[{"$f":"Company_Name","v":"اسم الشركة"},{"$nulls":6},"سري"]
["اسم العائلة","الاسم الأول","عطلة","إجازة شخصية","إجازة مرضية","1/1","1/2","1/3","1/4","1/5","1/6","1/7","1/8","1/9","1/10","1/11","1/12","1/13","1/14","1/15","1/16","1/17","1/18","1/19","1/20","1/21","1/22","1/23","1/24","1/25","1/26","1/27","1/28","1/29","1/30","1/31","2/1","2/2","2/3","2/4","2/5","2/6","2/7","2/8","2/9","2/10","2/11","2/12","2/13","2/14","2/15","2/16","2/17","2/18","2/19","2/20","2/21","2/22","2/23","2/24","2/25","2/26","2/27","2/28","3/1","3/2","3/3","3/4","3/5","3/6","3/7","3/8","3/9","3/10","3/11","3/12","3/13","3/14","3/15","3/16","3/17","3/18","3/19","3/20","3/21","3/22","3/23","3/24","3/25","3/26","3/27","3/28","3/29","3/30","3/31"]
[{"$f":"IF(ISBLANK('ملخص السنة لتاريخه'!A6),\"\",'ملخص السنة لتاريخه'!A6)","v":"اسم العائلة"},{"$f":"IF(ISBLANK('ملخص السنة لتاريخه'!B6),\"\",'ملخص السنة لتاريخه'!B6)","v":"الاسم الأول"},{"$f":"COUNTIF($F6:$CQ6, \"ع\")","v":3},{"$f":"COUNTIF($F6:$CQ6, \"ش\")","v":0},{"$f":"COUNTIF($F6:$CQ6, \"م\")","v":1},"ع","ع","ع",{"$nulls":4},"م"]
[{"$f":"IF(ISBLANK('ملخص السنة لتاريخه'!A7),\"\",'ملخص السنة لتاريخه'!A7)","v":""},{"$f":"IF(ISBLANK('ملخص السنة لتاريخه'!B7),\"\",'ملخص السنة لتاريخه'!B7)","v":""},0,0,0]
[{"$f":"IF(ISBLANK('ملخص السنة لتاريخه'!A8),\"\",'ملخص السنة لتاريخه'!A8)","v":""},{"$f":"IF(ISBLANK('ملخص السنة لتاريخه'!B8),\"\",'ملخص السنة لتاريخه'!B8)","v":""},0,0,0]
[{"$f":"IF(ISBLANK('ملخص السنة لتاريخه'!A9),\"\",'ملخص السنة لتاريخه'!A9)","v":""},{"$f":"IF(ISBLANK('ملخص السنة لتاريخه'!B9),\"\",'ملخص السنة لتاريخه'!B9)","v":""},0,0,0]
[{"$f":"IF(ISBLANK('ملخص السنة لتاريخه'!A10),\"\",'ملخص السنة لتاريخه'!A10)","v":""},{"$f":"IF(ISBLANK('ملخص السنة لتاريخه'!B10),\"\",'ملخص السنة لتاريخه'!B10)","v":""},0,0,0]
[{"$f":"IF(ISBLANK('ملخص السنة لتاريخه'!A11),\"\",'ملخص السنة لتاريخه'!A11)","v":""},{"$f":"IF(ISBLANK('ملخص السنة لتاريخه'!B11),\"\",'ملخص السنة لتاريخه'!B11)","v":""},0,0,0]
[{"$f":"IF(ISBLANK('ملخص السنة لتاريخه'!A12),\"\",'ملخص السنة لتاريخه'!A12)","v":""},{"$f":"IF(ISBLANK('ملخص السنة لتاريخه'!B12),\"\",'ملخص السنة لتاريخه'!B12)","v":""},0,0,0]
[{"$f":"IF(ISBLANK('ملخص السنة لتاريخه'!A13),\"\",'ملخص السنة لتاريخه'!A13)","v":""},{"$f":"IF(ISBLANK('ملخص السنة لتاريخه'!B13),\"\",'ملخص السنة لتاريخه'!B13)","v":""},0,0,0]
[{"$f":"IF(ISBLANK('ملخص السنة لتاريخه'!A14),\"\",'ملخص السنة لتاريخه'!A14)","v":""},{"$f":"IF(ISBLANK('ملخص السنة لتاريخه'!B14),\"\",'ملخص السنة لتاريخه'!B14)","v":""},0,0,0]
[{"$f":"IF(ISBLANK('ملخص السنة لتاريخه'!A15),\"\",'ملخص السنة لتاريخه'!A15)","v":""},{"$f":"IF(ISBLANK('ملخص السنة لتاريخه'!B15),\"\",'ملخص السنة لتاريخه'!B15)","v":""},0,0,0]
[{"$f":"IF(ISBLANK('ملخص السنة لتاريخه'!A16),\"\",'ملخص السنة لتاريخه'!A16)","v":""},{"$f":"IF(ISBLANK('ملخص السنة لتاريخه'!B16),\"\",'ملخص السنة لتاريخه'!B16)","v":""},0,0,0]
[{"$f":"IF(ISBLANK('ملخص السنة لتاريخه'!A17),\"\",'ملخص السنة لتاريخه'!A17)","v":""},{"$f":"IF(ISBLANK('ملخص السنة لتاريخه'!B17),\"\",'ملخص السنة لتاريخه'!B17)","v":""},0,0,0]
[{"$f":"IF(ISBLANK('ملخص السنة لتاريخه'!A18),\"\",'ملخص السنة لتاريخه'!A18)","v":""},{"$f":"IF(ISBLANK('ملخص السنة لتاريخه'!B18),\"\",'ملخص السنة لتاريخه'!B18)","v":""},0,0,0]
[{"$f":"IF(ISBLANK('ملخص السنة لتاريخه'!A19),\"\",'ملخص السنة لتاريخه'!A19)","v":""},{"$f":"IF(ISBLANK('ملخص السنة لتاريخه'!B19),\"\",'ملخص السنة لتاريخه'!B19)","v":""},0,0,0]
[{"$f":"IF(ISBLANK('ملخص السنة لتاريخه'!A20),\"\",'ملخص السنة لتاريخه'!A20)","v":""},{"$f":"IF(ISBLANK('ملخص السنة لتاريخه'!B20),\"\",'ملخص السنة لتاريخه'!B20)","v":""},0,0,0]
[{"$f":"IF(ISBLANK('ملخص السنة لتاريخه'!A21),\"\",'ملخص السنة لتاريخه'!A21)","v":""},{"$f":"IF(ISBLANK('ملخص السنة لتاريخه'!B21),\"\",'ملخص السنة لتاريخه'!B21)","v":""},0,0,0]
[{"$f":"IF(ISBLANK('ملخص السنة لتاريخه'!A22),\"\",'ملخص السنة لتاريخه'!A22)","v":""},{"$f":"IF(ISBLANK('ملخص السنة لتاريخه'!B22),\"\",'ملخص السنة لتاريخه'!B22)","v":""},0,0,0]
[{"$f":"IF(ISBLANK('ملخص السنة لتاريخه'!A23),\"\",'ملخص السنة لتاريخه'!A23)","v":""},{"$f":"IF(ISBLANK('ملخص السنة لتاريخه'!B23),\"\",'ملخص السنة لتاريخه'!B23)","v":""},0,0,0]
[{"$f":"IF(ISBLANK('ملخص السنة لتاريخه'!A24),\"\",'ملخص السنة لتاريخه'!A24)","v":""},{"$f":"IF(ISBLANK('ملخص السنة لتاريخه'!B24),\"\",'ملخص السنة لتاريخه'!B24)","v":""},0,0,0]
[{"$f":"IF(ISBLANK('ملخص السنة لتاريخه'!A25),\"\",'ملخص السنة لتاريخه'!A25)","v":""},{"$f":"IF(ISBLANK('ملخص السنة لتاريخه'!B25),\"\",'ملخص السنة لتاريخه'!B25)","v":""},0,0,0]
[{"$f":"IF(ISBLANK('ملخص السنة لتاريخه'!A26),\"\",'ملخص السنة لتاريخه'!A26)","v":""},{"$f":"IF(ISBLANK('ملخص السنة لتاريخه'!B26),\"\",'ملخص السنة لتاريخه'!B26)","v":""},0,0,0]
[{"$f":"IF(ISBLANK('ملخص السنة لتاريخه'!A27),\"\",'ملخص السنة لتاريخه'!A27)","v":""},{"$f":"IF(ISBLANK('ملخص السنة لتاريخه'!B27),\"\",'ملخص السنة لتاريخه'!B27)","v":""},0,0,0]
[{"$f":"IF(ISBLANK('ملخص السنة لتاريخه'!A28),\"\",'ملخص السنة لتاريخه'!A28)","v":""},{"$f":"IF(ISBLANK('ملخص السنة لتاريخه'!B28),\"\",'ملخص السنة لتاريخه'!B28)","v":""},0,0,0]
[{"$f":"IF(ISBLANK('ملخص السنة لتاريخه'!A29),\"\",'ملخص السنة لتاريخه'!A29)","v":""},{"$f":"IF(ISBLANK('ملخص السنة لتاريخه'!B29),\"\",'ملخص السنة لتاريخه'!B29)","v":""},0,0,0]
[{"$f":"IF(ISBLANK('ملخص السنة لتاريخه'!A30),\"\",'ملخص السنة لتاريخه'!A30)","v":""},{"$f":"IF(ISBLANK('ملخص السنة لتاريخه'!B30),\"\",'ملخص السنة لتاريخه'!B30)","v":""},0,0,0]
[{"$f":"IF(ISBLANK('ملخص السنة لتاريخه'!A31),\"\",'ملخص السنة لتاريخه'!A31)","v":""},{"$f":"IF(ISBLANK('ملخص السنة لتاريخه'!B31),\"\",'ملخص السنة لتاريخه'!B31)","v":""},0,0,0]
[{"$f":"IF(ISBLANK('ملخص السنة لتاريخه'!A32),\"\",'ملخص السنة لتاريخه'!A32)","v":""},{"$f":"IF(ISBLANK('ملخص السنة لتاريخه'!B32),\"\",'ملخص السنة لتاريخه'!B32)","v":""},0,0,0]
[{"$f":"IF(ISBLANK('ملخص السنة لتاريخه'!A33),\"\",'ملخص السنة لتاريخه'!A33)","v":""},{"$f":"IF(ISBLANK('ملخص السنة لتاريخه'!B33),\"\",'ملخص السنة لتاريخه'!B33)","v":""},0,0,0]
[{"$f":"IF(ISBLANK('ملخص السنة لتاريخه'!A34),\"\",'ملخص السنة لتاريخه'!A34)","v":""},{"$f":"IF(ISBLANK('ملخص السنة لتاريخه'!B34),\"\",'ملخص السنة لتاريخه'!B34)","v":""},0,0,0]
[{"$f":"IF(ISBLANK('ملخص السنة لتاريخه'!A35),\"\",'ملخص السنة لتاريخه'!A35)","v":""},{"$f":"IF(ISBLANK('ملخص السنة لتاريخه'!B35),\"\",'ملخص السنة لتاريخه'!B35)","v":""},0,0,0]
[{"$f":"IF(ISBLANK('ملخص السنة لتاريخه'!A36),\"\",'ملخص السنة لتاريخه'!A36)","v":""},{"$f":"IF(ISBLANK('ملخص السنة لتاريخه'!B36),\"\",'ملخص السنة لتاريخه'!B36)","v":""},0,0,0]

{"sheet":"الربع الرابع","index":2,"n_rows":36,"n_cols":97,"rows_kept":36,"merged":[[3,0,3,6]]}
[{"$f":"Company_Name","v":"اسم الشركة"}]
["تعقب الحضور، الربع الرابع"]
["التاريخ"]
[{"$f":"Company_Name","v":"اسم الشركة"},{"$nulls":6},"سري"]
["اسم العائلة","الاسم الأول","عطلة","إجازة شخصية","إجازة مرضية","10/1","10/2","10/3","10/4","10/5","10/6","10/7","10/8","10/9","10/10","10/11","10/12","10/13","10/14","10/15","10/16","10/17","10/18","10/19","10/20","10/21","10/22","10/23","10/24","10/25","10/26","10/27","10/28","10/29","10/30","10/31","11/1","11/2","11/3","11/4","11/5","11/6","11/7","11/8","11/9","11/10","11/11","11/12","11/13","11/14","11/15","11/16","11/17","11/18","11/19","11/20","11/21","11/22","11/23","11/24","11/25","11/26","11/27","11/28","11/29","11/30","12/1","12/2","12/3","12/4","12/5","12/6","12/7","12/8","12/9","12/10","12/11","12/12","12/13","12/14","12/15","12/16","12/17","12/18","12/19","12/20","12/21","12/22","12/23","12/24","12/25","12/26","12/27","12/28","12/29","12/30","12/31"]
[{"$f":"IF(ISBLANK('ملخص السنة لتاريخه'!A6),\"\",'ملخص السنة لتاريخه'!A6)","v":"اسم العائلة"},{"$f":"IF(ISBLANK('ملخص السنة لتاريخه'!B6),\"\",'ملخص السنة لتاريخه'!B6)","v":"الاسم الأول"},{"$f":"COUNTIF($F6:$CS6, \"ع\")","v":0},{"$f":"COUNTIF($F6:CS6, \"ش\")","v":0},{"$f":"COUNTIF($F6:CS6, \"م\n\")","v":0}]
[{"$f":"IF(ISBLANK('ملخص السنة لتاريخه'!A7),\"\",'ملخص السنة لتاريخه'!A7)","v":""},{"$f":"IF(ISBLANK('ملخص السنة لتاريخه'!B7),\"\",'ملخص السنة لتاريخه'!B7)","v":""},0,{"$f":"COUNTIF($F7:CS7, \"ش\")","v":0},{"$f":"COUNTIF($F7:CS7, \"م\n\")","v":0}]
[{"$f":"IF(ISBLANK('ملخص السنة لتاريخه'!A8),\"\",'ملخص السنة لتاريخه'!A8)","v":""},{"$f":"IF(ISBLANK('ملخص السنة لتاريخه'!B8),\"\",'ملخص السنة لتاريخه'!B8)","v":""},0,{"$f":"COUNTIF($F8:CS8, \"ش\")","v":0},{"$f":"COUNTIF($F8:CS8, \"م\n\")","v":0}]
[{"$f":"IF(ISBLANK('ملخص السنة لتاريخه'!A9),\"\",'ملخص السنة لتاريخه'!A9)","v":""},{"$f":"IF(ISBLANK('ملخص السنة لتاريخه'!B9),\"\",'ملخص السنة لتاريخه'!B9)","v":""},0,{"$f":"COUNTIF($F9:CS9, \"ش\")","v":0},{"$f":"COUNTIF($F9:CS9, \"م\n\")","v":0}]
[{"$f":"IF(ISBLANK('ملخص السنة لتاريخه'!A10),\"\",'ملخص السنة لتاريخه'!A10)","v":""},{"$f":"IF(ISBLANK('ملخص السنة لتاريخه'!B10),\"\",'ملخص السنة لتاريخه'!B10)","v":""},0,{"$f":"COUNTIF($F10:CS10, \"ش\")","v":0},{"$f":"COUNTIF($F10:CS10, \"م\n\")","v":0}]
[{"$f":"IF(ISBLANK('ملخص السنة لتاريخه'!A11),\"\",'ملخص السنة لتاريخه'!A11)","v":""},{"$f":"IF(ISBLANK('ملخص السنة لتاريخه'!B11),\"\",'ملخص السنة لتاريخه'!B11)","v":""},0,{"$f":"COUNTIF($F11:CS11, \"ش\")","v":0},{"$f":"COUNTIF($F11:CS11, \"م\n\")","v":0}]
[{"$f":"IF(ISBLANK('ملخص السنة لتاريخه'!A12),\"\",'ملخص السنة لتاريخه'!A12)","v":""},{"$f":"IF(ISBLANK('ملخص السنة لتاريخه'!B12),\"\",'ملخص السنة لتاريخه'!B12)","v":""},0,{"$f":"COUNTIF($F12:CS12, \"ش\")","v":0},{"$f":"COUNTIF($F12:CS12, \"م\n\")","v":0}]
[{"$f":"IF(ISBLANK('ملخص السنة لتاريخه'!A13),\"\",'ملخص السنة لتاريخه'!A13)","v":""},{"$f":"IF(ISBLANK('ملخص السنة لتاريخه'!B13),\"\",'ملخص السنة لتاريخه'!B13)","v":""},0,{"$f":"COUNTIF($F13:CS13, \"ش\")","v":0},{"$f":"COUNTIF($F13:CS13, \"م\n\")","v":0}]
[{"$f":"IF(ISBLANK('ملخص السنة لتاريخه'!A14),\"\",'ملخص السنة لتاريخه'!A14)","v":""},{"$f":"IF(ISBLANK('ملخص السنة لتاريخه'!B14),\"\",'ملخص السنة لتاريخه'!B14)","v":""},0,{"$f":"COUNTIF($F14:CS14, \"ش\")","v":0},{"$f":"COUNTIF($F14:CS14, \"م\n\")","v":0}]
[{"$f":"IF(ISBLANK('ملخص السنة لتاريخه'!A15),\"\",'ملخص السنة لتاريخه'!A15)","v":""},{"$f":"IF(ISBLANK('ملخص السنة لتاريخه'!B15),\"\",'ملخص السنة لتاريخه'!B15)","v":""},0,{"$f":"COUNTIF($F15:CS15, \"ش\")","v":0},{"$f":"COUNTIF($F15:CS15, \"م\n\")","v":0}]
[{"$f":"IF(ISBLANK('ملخص السنة لتاريخه'!A16),\"\",'ملخص السنة لتاريخه'!A16)","v":""},{"$f":"IF(ISBLANK('ملخص السنة لتاريخه'!B16),\"\",'ملخص السنة لتاريخه'!B16)","v":""},0,{"$f":"COUNTIF($F16:CS16, \"ش\")","v":0},{"$f":"COUNTIF($F16:CS16, \"م\n\")","v":0}]
[{"$f":"IF(ISBLANK('ملخص السنة لتاريخه'!A17),\"\",'ملخص السنة لتاريخه'!A17)","v":""},{"$f":"IF(ISBLANK('ملخص السنة لتاريخه'!B17),\"\",'ملخص السنة لتاريخه'!B17)","v":""},0,{"$f":"COUNTIF($F17:CS17, \"ش\")","v":0},{"$f":"COUNTIF($F17:CS17, \"م\n\")","v":0}]
[{"$f":"IF(ISBLANK('ملخص السنة لتاريخه'!A18),\"\",'ملخص السنة لتاريخه'!A18)","v":""},{"$f":"IF(ISBLANK('ملخص السنة لتاريخه'!B18),\"\",'ملخص السنة لتاريخه'!B18)","v":""},0,{"$f":"COUNTIF($F18:CS18, \"ش\")","v":0},{"$f":"COUNTIF($F18:CS18, \"م\n\")","v":0}]
[{"$f":"IF(ISBLANK('ملخص السنة لتاريخه'!A19),\"\",'ملخص السنة لتاريخه'!A19)","v":""},{"$f":"IF(ISBLANK('ملخص السنة لتاريخه'!B19),\"\",'ملخص السنة لتاريخه'!B19)","v":""},0,{"$f":"COUNTIF($F19:CS19, \"ش\")","v":0},{"$f":"COUNTIF($F19:CS19, \"م\n\")","v":0}]
[{"$f":"IF(ISBLANK('ملخص السنة لتاريخه'!A20),\"\",'ملخص السنة لتاريخه'!A20)","v":""},{"$f":"IF(ISBLANK('ملخص السنة لتاريخه'!B20),\"\",'ملخص السنة لتاريخه'!B20)","v":""},0,{"$f":"COUNTIF($F20:CS20, \"ش\")","v":0},{"$f":"COUNTIF($F20:CS20, \"م\n\")","v":0}]
[{"$f":"IF(ISBLANK('ملخص السنة لتاريخه'!A21),\"\",'ملخص السنة لتاريخه'!A21)","v":""},{"$f":"IF(ISBLANK('ملخص السنة لتاريخه'!B21),\"\",'ملخص السنة لتاريخه'!B21)","v":""},0,{"$f":"COUNTIF($F21:CS21, \"ش\")","v":0},{"$f":"COUNTIF($F21:CS21, \"م\n\")","v":0}]
[{"$f":"IF(ISBLANK('ملخص السنة لتاريخه'!A22),\"\",'ملخص السنة لتاريخه'!A22)","v":""},{"$f":"IF(ISBLANK('ملخص السنة لتاريخه'!B22),\"\",'ملخص السنة لتاريخه'!B22)","v":""},0,{"$f":"COUNTIF($F22:CS22, \"ش\")","v":0},{"$f":"COUNTIF($F22:CS22, \"م\n\")","v":0}]
[{"$f":"IF(ISBLANK('ملخص السنة لتاريخه'!A23),\"\",'ملخص السنة لتاريخه'!A23)","v":""},{"$f":"IF(ISBLANK('ملخص السنة لتاريخه'!B23),\"\",'ملخص السنة لتاريخه'!B23)","v":""},0,{"$f":"COUNTIF($F23:CS23, \"ش\")","v":0},{"$f":"COUNTIF($F23:CS23, \"م\n\")","v":0}]
[{"$f":"IF(ISBLANK('ملخص السنة لتاريخه'!A24),\"\",'ملخص السنة لتاريخه'!A24)","v":""},{"$f":"IF(ISBLANK('ملخص السنة لتاريخه'!B24),\"\",'ملخص السنة لتاريخه'!B24)","v":""},0,{"$f":"COUNTIF($F24:CS24, \"ش\")","v":0},{"$f":"COUNTIF($F24:CS24, \"م\n\")","v":0}]
[{"$f":"IF(ISBLANK('ملخص السنة لتاريخه'!A25),\"\",'ملخص السنة لتاريخه'!A25)","v":""},{"$f":"IF(ISBLANK('ملخص السنة لتاريخه'!B25),\"\",'ملخص السنة لتاريخه'!B25)","v":""},0,{"$f":"COUNTIF($F25:CS25, \"ش\")","v":0},{"$f":"COUNTIF($F25:CS25, \"م\n\")","v":0}]
[{"$f":"IF(ISBLANK('ملخص السنة لتاريخه'!A26),\"\",'ملخص السنة لتاريخه'!A26)","v":""},{"$f":"IF(ISBLANK('ملخص السنة لتاريخه'!B26),\"\",'ملخص السنة لتاريخه'!B26)","v":""},0,{"$f":"COUNTIF($F26:CS26, \"ش\")","v":0},{"$f":"COUNTIF($F26:CS26, \"م\n\")","v":0}]
[{"$f":"IF(ISBLANK('ملخص السنة لتاريخه'!A27),\"\",'ملخص السنة لتاريخه'!A27)","v":""},{"$f":"IF(ISBLANK('ملخص السنة لتاريخه'!B27),\"\",'ملخص السنة لتاريخه'!B27)","v":""},0,{"$f":"COUNTIF($F27:CS27, \"ش\")","v":0},{"$f":"COUNTIF($F27:CS27, \"م\n\")","v":0}]
[{"$f":"IF(ISBLANK('ملخص السنة لتاريخه'!A28),\"\",'ملخص السنة لتاريخه'!A28)","v":""},{"$f":"IF(ISBLANK('ملخص السنة لتاريخه'!B28),\"\",'ملخص السنة لتاريخه'!B28)","v":""},0,{"$f":"COUNTIF($F28:CS28, \"ش\")","v":0},{"$f":"COUNTIF($F28:CS28, \"م\n\")","v":0}]
[{"$f":"IF(ISBLANK('ملخص السنة لتاريخه'!A29),\"\",'ملخص السنة لتاريخه'!A29)","v":""},{"$f":"IF(ISBLANK('ملخص السنة لتاريخه'!B29),\"\",'ملخص السنة لتاريخه'!B29)","v":""},0,{"$f":"COUNTIF($F29:CS29, \"ش\")","v":0},{"$f":"COUNTIF($F29:CS29, \"م\n\")","v":0}]
[{"$f":"IF(ISBLANK('ملخص السنة لتاريخه'!A30),\"\",'ملخص السنة لتاريخه'!A30)","v":""},{"$f":"IF(ISBLANK('ملخص السنة لتاريخه'!B30),\"\",'ملخص السنة لتاريخه'!B30)","v":""},0,{"$f":"COUNTIF($F30:CS30, \"ش\")","v":0},{"$f":"COUNTIF($F30:CS30, \"م\n\")","v":0}]
[{"$f":"IF(ISBLANK('ملخص السنة لتاريخه'!A31),\"\",'ملخص السنة لتاريخه'!A31)","v":""},{"$f":"IF(ISBLANK('ملخص السنة لتاريخه'!B31),\"\",'ملخص السنة لتاريخه'!B31)","v":""},0,{"$f":"COUNTIF($F31:CS31, \"ش\")","v":0},{"$f":"COUNTIF($F31:CS31, \"م\n\")","v":0}]
[{"$f":"IF(ISBLANK('ملخص السنة لتاريخه'!A32),\"\",'ملخص السنة لتاريخه'!A32)","v":""},{"$f":"IF(ISBLANK('ملخص السنة لتاريخه'!B32),\"\",'ملخص السنة لتاريخه'!B32)","v":""},0,{"$f":"COUNTIF($F32:CS32, \"ش\")","v":0},{"$f":"COUNTIF($F32:CS32, \"م\n\")","v":0}]
[{"$f":"IF(ISBLANK('ملخص السنة لتاريخه'!A33),\"\",'ملخص السنة لتاريخه'!A33)","v":""},{"$f":"IF(ISBLANK('ملخص السنة لتاريخه'!B33),\"\",'ملخص السنة لتاريخه'!B33)","v":""},0,{"$f":"COUNTIF($F33:CS33, \"ش\")","v":0},{"$f":"COUNTIF($F33:CS33, \"م\n\")","v":0}]
[{"$f":"IF(ISBLANK('ملخص السنة لتاريخه'!A34),\"\",'ملخص السنة لتاريخه'!A34)","v":""},{"$f":"IF(ISBLANK('ملخص السنة لتاريخه'!B34),\"\",'ملخص السنة لتاريخه'!B34)","v":""},0,{"$f":"COUNTIF($F34:CS34, \"ش\")","v":0},{"$f":"COUNTIF($F34:CS34, \"م\n\")","v":0}]
[{"$f":"IF(ISBLANK('ملخص السنة لتاريخه'!A35),\"\",'ملخص السنة لتاريخه'!A35)","v":""},{"$f":"IF(ISBLANK('ملخص السنة لتاريخه'!B35),\"\",'ملخص السنة لتاريخه'!B35)","v":""},0,{"$f":"COUNTIF($F35:CS35, \"ش\")","v":0},{"$f":"COUNTIF($F35:CS35, \"م\n\")","v":0}]
[{"$f":"IF(ISBLANK('ملخص السنة لتاريخه'!A36),\"\",'ملخص السنة لتاريخه'!A36)","v":""},{"$f":"IF(ISBLANK('ملخص السنة لتاريخه'!B36),\"\",'ملخص السنة لتاريخه'!B36)","v":""},0,{"$f":"COUNTIF($F36:CS36, \"ش\")","v":0},{"$f":"COUNTIF($F36:CS36, \"م\n\")","v":0}]

{"sheet":"الربع الثاني","index":3,"n_rows":36,"n_cols":96,"rows_kept":36,"merged":[[3,0,3,6]]}
[{"$f":"Company_Name","v":"اسم الشركة"}]
["تعقب الحضور، الربع الثاني"]
["التاريخ"]
[{"$f":"Company_Name","v":"اسم الشركة"},{"$nulls":6},"سري"]
["اسم العائلة","الاسم الأول","عطلة","إجازة شخصية","إجازة مرضية","4/1","4/2","4/3","4/4","4/5","4/6","4/7","4/8","4/9","4/10","4/11","4/12","4/13","4/14","4/15","4/16","4/17","4/18","4/19","4/20","4/21","4/22","4/23","4/24","4/25","4/26","4/27","4/28","4/29","4/30","5/1","5/2","5/3","5/4","5/5","5/6","5/7","5/8","5/9","5/10","5/11","5/12","5/13","5/14","5/15","5/16","5/17","5/18","5/19","5/20","5/21","5/22","5/23","5/24","5/25","5/26","5/27","5/28","5/29","5/30","5/31","6/1","6/2","6/3","6/4","6/5","6/6","6/7","6/8","6/9","6/10","6/11","6/12","6/13","6/14","6/15","6/16","6/17","6/18","6/19","6/20","6/21","6/22","6/23","6/24","6/25","6/26","6/27","6/28","6/29","6/30"]
[{"$f":"IF(ISBLANK('ملخص السنة لتاريخه'!A6),\"\",'ملخص السنة لتاريخه'!A6)","v":"اسم العائلة"},{"$f":"IF(ISBLANK('ملخص السنة لتاريخه'!B6),\"\",'ملخص السنة لتاريخه'!B6)","v":"الاسم الأول"},{"$f":"COUNTIF($F6:$CR6, \"ع\")","v":0},{"$f":"COUNTIF($F6:$CR6, \"ش\")","v":0},{"$f":"COUNTIF($F6:$CR6, \"م\")","v":0}]
[{"$f":"IF(ISBLANK('ملخص السنة لتاريخه'!A7),\"\",'ملخص السنة لتاريخه'!A7)","v":""},{"$f":"IF(ISBLANK('ملخص السنة لتاريخه'!B7),\"\",'ملخص السنة لتاريخه'!B7)","v":""},0,0,0]
[{"$f":"IF(ISBLANK('ملخص السنة لتاريخه'!A8),\"\",'ملخص السنة لتاريخه'!A8)","v":""},{"$f":"IF(ISBLANK('ملخص السنة لتاريخه'!B8),\"\",'ملخص السنة لتاريخه'!B8)","v":""},0,0,0]
[{"$f":"IF(ISBLANK('ملخص السنة لتاريخه'!A9),\"\",'ملخص السنة لتاريخه'!A9)","v":""},{"$f":"IF(ISBLANK('ملخص السنة لتاريخه'!B9),\"\",'ملخص السنة لتاريخه'!B9)","v":""},0,0,0]
[{"$f":"IF(ISBLANK('ملخص السنة لتاريخه'!A10),\"\",'ملخص السنة لتاريخه'!A10)","v":""},{"$f":"IF(ISBLANK('ملخص السنة لتاريخه'!B10),\"\",'ملخص السنة لتاريخه'!B10)","v":""},0,0,0]
[{"$f":"IF(ISBLANK('ملخص السنة لتاريخه'!A11),\"\",'ملخص السنة لتاريخه'!A11)","v":""},{"$f":"IF(ISBLANK('ملخص السنة لتاريخه'!B11),\"\",'ملخص السنة لتاريخه'!B11)","v":""},0,0,0]
[{"$f":"IF(ISBLANK('ملخص السنة لتاريخه'!A12),\"\",'ملخص السنة لتاريخه'!A12)","v":""},{"$f":"IF(ISBLANK('ملخص السنة لتاريخه'!B12),\"\",'ملخص السنة لتاريخه'!B12)","v":""},0,0,0]
[{"$f":"IF(ISBLANK('ملخص السنة لتاريخه'!A13),\"\",'ملخص السنة لتاريخه'!A13)","v":""},{"$f":"IF(ISBLANK('ملخص السنة لتاريخه'!B13),\"\",'ملخص السنة لتاريخه'!B13)","v":""},0,0,0]
[{"$f":"IF(ISBLANK('ملخص السنة لتاريخه'!A14),\"\",'ملخص السنة لتاريخه'!A14)","v":""},{"$f":"IF(ISBLANK('ملخص السنة لتاريخه'!B14),\"\",'ملخص السنة لتاريخه'!B14)","v":""},0,0,0]
[{"$f":"IF(ISBLANK('ملخص السنة لتاريخه'!A15),\"\",'ملخص السنة لتاريخه'!A15)","v":""},{"$f":"IF(ISBLANK('ملخص السنة لتاريخه'!B15),\"\",'ملخص السنة لتاريخه'!B15)","v":""},0,0,0]
[{"$f":"IF(ISBLANK('ملخص السنة لتاريخه'!A16),\"\",'ملخص السنة لتاريخه'!A16)","v":""},{"$f":"IF(ISBLANK('ملخص السنة لتاريخه'!B16),\"\",'ملخص السنة لتاريخه'!B16)","v":""},0,0,0]
[{"$f":"IF(ISBLANK('ملخص السنة لتاريخه'!A17),\"\",'ملخص السنة لتاريخه'!A17)","v":""},{"$f":"IF(ISBLANK('ملخص السنة لتاريخه'!B17),\"\",'ملخص السنة لتاريخه'!B17)","v":""},0,0,0]
[{"$f":"IF(ISBLANK('ملخص السنة لتاريخه'!A18),\"\",'ملخص السنة لتاريخه'!A18)","v":""},{"$f":"IF(ISBLANK('ملخص السنة لتاريخه'!B18),\"\",'ملخص السنة لتاريخه'!B18)","v":""},0,0,0]
[{"$f":"IF(ISBLANK('ملخص السنة لتاريخه'!A19),\"\",'ملخص السنة لتاريخه'!A19)","v":""},{"$f":"IF(ISBLANK('ملخص السنة لتاريخه'!B19),\"\",'ملخص السنة لتاريخه'!B19)","v":""},0,0,0]
[{"$f":"IF(ISBLANK('ملخص السنة لتاريخه'!A20),\"\",'ملخص السنة لتاريخه'!A20)","v":""},{"$f":"IF(ISBLANK('ملخص السنة لتاريخه'!B20),\"\",'ملخص السنة لتاريخه'!B20)","v":""},0,0,0]
[{"$f":"IF(ISBLANK('ملخص السنة لتاريخه'!A21),\"\",'ملخص السنة لتاريخه'!A21)","v":""},{"$f":"IF(ISBLANK('ملخص السنة لتاريخه'!B21),\"\",'ملخص السنة لتاريخه'!B21)","v":""},0,0,0]
[{"$f":"IF(ISBLANK('ملخص السنة لتاريخه'!A22),\"\",'ملخص السنة لتاريخه'!A22)","v":""},{"$f":"IF(ISBLANK('ملخص السنة لتاريخه'!B22),\"\",'ملخص السنة لتاريخه'!B22)","v":""},0,0,0]
[{"$f":"IF(ISBLANK('ملخص السنة لتاريخه'!A23),\"\",'ملخص السنة لتاريخه'!A23)","v":""},{"$f":"IF(ISBLANK('ملخص السنة لتاريخه'!B23),\"\",'ملخص السنة لتاريخه'!B23)","v":""},0,0,0]
[{"$f":"IF(ISBLANK('ملخص السنة لتاريخه'!A24),\"\",'ملخص السنة لتاريخه'!A24)","v":""},{"$f":"IF(ISBLANK('ملخص السنة لتاريخه'!B24),\"\",'ملخص السنة لتاريخه'!B24)","v":""},0,0,0]
[{"$f":"IF(ISBLANK('ملخص السنة لتاريخه'!A25),\"\",'ملخص السنة لتاريخه'!A25)","v":""},{"$f":"IF(ISBLANK('ملخص السنة لتاريخه'!B25),\"\",'ملخص السنة لتاريخه'!B25)","v":""},0,0,0]
[{"$f":"IF(ISBLANK('ملخص السنة لتاريخه'!A26),\"\",'ملخص السنة لتاريخه'!A26)","v":""},{"$f":"IF(ISBLANK('ملخص السنة لتاريخه'!B26),\"\",'ملخص السنة لتاريخه'!B26)","v":""},0,0,0]
[{"$f":"IF(ISBLANK('ملخص السنة لتاريخه'!A27),\"\",'ملخص السنة لتاريخه'!A27)","v":""},{"$f":"IF(ISBLANK('ملخص السنة لتاريخه'!B27),\"\",'ملخص السنة لتاريخه'!B27)","v":""},0,0,0]
[{"$f":"IF(ISBLANK('ملخص السنة لتاريخه'!A28),\"\",'ملخص السنة لتاريخه'!A28)","v":""},{"$f":"IF(ISBLANK('ملخص السنة لتاريخه'!B28),\"\",'ملخص السنة لتاريخه'!B28)","v":""},0,0,0]
[{"$f":"IF(ISBLANK('ملخص السنة لتاريخه'!A29),\"\",'ملخص السنة لتاريخه'!A29)","v":""},{"$f":"IF(ISBLANK('ملخص السنة لتاريخه'!B29),\"\",'ملخص السنة لتاريخه'!B29)","v":""},0,0,0]
[{"$f":"IF(ISBLANK('ملخص السنة لتاريخه'!A30),\"\",'ملخص السنة لتاريخه'!A30)","v":""},{"$f":"IF(ISBLANK('ملخص السنة لتاريخه'!B30),\"\",'ملخص السنة لتاريخه'!B30)","v":""},0,0,0]
[{"$f":"IF(ISBLANK('ملخص السنة لتاريخه'!A31),\"\",'ملخص السنة لتاريخه'!A31)","v":""},{"$f":"IF(ISBLANK('ملخص السنة لتاريخه'!B31),\"\",'ملخص السنة لتاريخه'!B31)","v":""},0,0,0]
[{"$f":"IF(ISBLANK('ملخص السنة لتاريخه'!A32),\"\",'ملخص السنة لتاريخه'!A32)","v":""},{"$f":"IF(ISBLANK('ملخص السنة لتاريخه'!B32),\"\",'ملخص السنة لتاريخه'!B32)","v":""},0,0,0]
[{"$f":"IF(ISBLANK('ملخص السنة لتاريخه'!A33),\"\",'ملخص السنة لتاريخه'!A33)","v":""},{"$f":"IF(ISBLANK('ملخص السنة لتاريخه'!B33),\"\",'ملخص السنة لتاريخه'!B33)","v":""},0,0,0]
[{"$f":"IF(ISBLANK('ملخص السنة لتاريخه'!A34),\"\",'ملخص السنة لتاريخه'!A34)","v":""},{"$f":"IF(ISBLANK('ملخص السنة لتاريخه'!B34),\"\",'ملخص السنة لتاريخه'!B34)","v":""},0,0,0]
[{"$f":"IF(ISBLANK('ملخص السنة لتاريخه'!A35),\"\",'ملخص السنة لتاريخه'!A35)","v":""},{"$f":"IF(ISBLANK('ملخص السنة لتاريخه'!B35),\"\",'ملخص السنة لتاريخه'!B35)","v":""},0,0,0]
[{"$f":"IF(ISBLANK('ملخص السنة لتاريخه'!A36),\"\",'ملخص السنة لتاريخه'!A36)","v":""},{"$f":"IF(ISBLANK('ملخص السنة لتاريخه'!B36),\"\",'ملخص السنة لتاريخه'!B36)","v":""},0,0,0]

{"sheet":"الربع الثالث","index":4,"n_rows":36,"n_cols":97,"rows_kept":36,"merged":[[3,0,3,6]]}
[{"$f":"Company_Name","v":"اسم الشركة"}]
["تعقب الحضور، الربع الثالث"]
["التاريخ"]
[{"$f":"Company_Name","v":"اسم الشركة"},{"$nulls":6},"سري"]
["اسم العائلة","الاسم الأول","عطلة","إجازة شخصية","إجازة مرضية","7/1","7/2","7/3","7/4","7/5","7/6","7/7","7/8","7/9","7/10","7/11","7/12","7/13","7/14","7/15","7/16","7/17","7/18","7/19","7/20","7/21","7/22","7/23","7/24","7/25","7/26","7/27","7/28","7/29","7/30","7/31","8/1","8/2","8/3","8/4","8/5","8/6","8/7","8/8","8/9","8/10","8/11","8/12","8/13","8/14","8/15","8/16","8/17","8/18","8/19","8/20","8/21","8/22","8/23","8/24","8/25","8/26","8/27","8/28","8/29","8/30","8/31","9/1","9/2","9/3","9/4","9/5","9/6","9/7","9/8","9/9","9/10","9/11","9/12","9/13","9/14","9/15","9/16","9/17","9/18","9/19","9/20","9/21","9/22","9/23","9/24","9/25","9/26","9/27","9/28","9/29","9/30"]
[{"$f":"IF(ISBLANK('ملخص السنة لتاريخه'!A6),\"\",'ملخص السنة لتاريخه'!A6)","v":"اسم العائلة"},{"$f":"IF(ISBLANK('ملخص السنة لتاريخه'!B6),\"\",'ملخص السنة لتاريخه'!B6)","v":"الاسم الأول"},{"$f":"COUNTIF($F6:$CS6, \"ع\")","v":0},{"$f":"COUNTIF($F6:$CS6, \"ش\")","v":0},{"$f":"COUNTIF($F6:$CS6, \"م\")","v":0}]
[{"$f":"IF(ISBLANK('ملخص السنة لتاريخه'!A7),\"\",'ملخص السنة لتاريخه'!A7)","v":""},{"$f":"IF(ISBLANK('ملخص السنة لتاريخه'!B7),\"\",'ملخص السنة لتاريخه'!B7)","v":""},0,0,0]
[{"$f":"IF(ISBLANK('ملخص السنة لتاريخه'!A8),\"\",'ملخص السنة لتاريخه'!A8)","v":""},{"$f":"IF(ISBLANK('ملخص السنة لتاريخه'!B8),\"\",'ملخص السنة لتاريخه'!B8)","v":""},0,0,0]
[{"$f":"IF(ISBLANK('ملخص السنة لتاريخه'!A9),\"\",'ملخص السنة لتاريخه'!A9)","v":""},{"$f":"IF(ISBLANK('ملخص السنة لتاريخه'!B9),\"\",'ملخص السنة لتاريخه'!B9)","v":""},0,0,0]
[{"$f":"IF(ISBLANK('ملخص السنة لتاريخه'!A10),\"\",'ملخص السنة لتاريخه'!A10)","v":""},{"$f":"IF(ISBLANK('ملخص السنة لتاريخه'!B10),\"\",'ملخص السنة لتاريخه'!B10)","v":""},0,0,0]
[{"$f":"IF(ISBLANK('ملخص السنة لتاريخه'!A11),\"\",'ملخص السنة لتاريخه'!A11)","v":""},{"$f":"IF(ISBLANK('ملخص السنة لتاريخه'!B11),\"\",'ملخص السنة لتاريخه'!B11)","v":""},0,0,0]
[{"$f":"IF(ISBLANK('ملخص السنة لتاريخه'!A12),\"\",'ملخص السنة لتاريخه'!A12)","v":""},{"$f":"IF(ISBLANK('ملخص السنة لتاريخه'!B12),\"\",'ملخص السنة لتاريخه'!B12)","v":""},0,0,0]
[{"$f":"IF(ISBLANK('ملخص السنة لتاريخه'!A13),\"\",'ملخص السنة لتاريخه'!A13)","v":""},{"$f":"IF(ISBLANK('ملخص السنة لتاريخه'!B13),\"\",'ملخص السنة لتاريخه'!B13)","v":""},0,0,0]
[{"$f":"IF(ISBLANK('ملخص السنة لتاريخه'!A14),\"\",'ملخص السنة لتاريخه'!A14)","v":""},{"$f":"IF(ISBLANK('ملخص السنة لتاريخه'!B14),\"\",'ملخص السنة لتاريخه'!B14)","v":""},0,0,0]
[{"$f":"IF(ISBLANK('ملخص السنة لتاريخه'!A15),\"\",'ملخص السنة لتاريخه'!A15)","v":""},{"$f":"IF(ISBLANK('ملخص السنة لتاريخه'!B15),\"\",'ملخص السنة لتاريخه'!B15)","v":""},0,0,0]
[{"$f":"IF(ISBLANK('ملخص السنة لتاريخه'!A16),\"\",'ملخص السنة لتاريخه'!A16)","v":""},{"$f":"IF(ISBLANK('ملخص السنة لتاريخه'!B16),\"\",'ملخص السنة لتاريخه'!B16)","v":""},0,0,0]
[{"$f":"IF(ISBLANK('ملخص السنة لتاريخه'!A17),\"\",'ملخص السنة لتاريخه'!A17)","v":""},{"$f":"IF(ISBLANK('ملخص السنة لتاريخه'!B17),\"\",'ملخص السنة لتاريخه'!B17)","v":""},0,0,0]
[{"$f":"IF(ISBLANK('ملخص السنة لتاريخه'!A18),\"\",'ملخص السنة لتاريخه'!A18)","v":""},{"$f":"IF(ISBLANK('ملخص السنة لتاريخه'!B18),\"\",'ملخص السنة لتاريخه'!B18)","v":""},0,0,0]
[{"$f":"IF(ISBLANK('ملخص السنة لتاريخه'!A19),\"\",'ملخص السنة لتاريخه'!A19)","v":""},{"$f":"IF(ISBLANK('ملخص السنة لتاريخه'!B19),\"\",'ملخص السنة لتاريخه'!B19)","v":""},0,0,0]
[{"$f":"IF(ISBLANK('ملخص السنة لتاريخه'!A20),\"\",'ملخص السنة لتاريخه'!A20)","v":""},{"$f":"IF(ISBLANK('ملخص السنة لتاريخه'!B20),\"\",'ملخص السنة لتاريخه'!B20)","v":""},0,0,0]
[{"$f":"IF(ISBLANK('ملخص السنة لتاريخه'!A21),\"\",'ملخص السنة لتاريخه'!A21)","v":""},{"$f":"IF(ISBLANK('ملخص السنة لتاريخه'!B21),\"\",'ملخص السنة لتاريخه'!B21)","v":""},0,0,0]
[{"$f":"IF(ISBLANK('ملخص السنة لتاريخه'!A22),\"\",'ملخص السنة لتاريخه'!A22)","v":""},{"$f":"IF(ISBLANK('ملخص السنة لتاريخه'!B22),\"\",'ملخص السنة لتاريخه'!B22)","v":""},0,0,0]
[{"$f":"IF(ISBLANK('ملخص السنة لتاريخه'!A23),\"\",'ملخص السنة لتاريخه'!A23)","v":""},{"$f":"IF(ISBLANK('ملخص السنة لتاريخه'!B23),\"\",'ملخص السنة لتاريخه'!B23)","v":""},0,0,0]
[{"$f":"IF(ISBLANK('ملخص السنة لتاريخه'!A24),\"\",'ملخص السنة لتاريخه'!A24)","v":""},{"$f":"IF(ISBLANK('ملخص السنة لتاريخه'!B24),\"\",'ملخص السنة لتاريخه'!B24)","v":""},0,0,0]
[{"$f":"IF(ISBLANK('ملخص السنة لتاريخه'!A25),\"\",'ملخص السنة لتاريخه'!A25)","v":""},{"$f":"IF(ISBLANK('ملخص السنة لتاريخه'!B25),\"\",'ملخص السنة لتاريخه'!B25)","v":""},0,0,0]
[{"$f":"IF(ISBLANK('ملخص السنة لتاريخه'!A26),\"\",'ملخص السنة لتاريخه'!A26)","v":""},{"$f":"IF(ISBLANK('ملخص السنة لتاريخه'!B26),\"\",'ملخص السنة لتاريخه'!B26)","v":""},0,0,0]
[{"$f":"IF(ISBLANK('ملخص السنة لتاريخه'!A27),\"\",'ملخص السنة لتاريخه'!A27)","v":""},{"$f":"IF(ISBLANK('ملخص السنة لتاريخه'!B27),\"\",'ملخص السنة لتاريخه'!B27)","v":""},0,0,0]
[{"$f":"IF(ISBLANK('ملخص السنة لتاريخه'!A28),\"\",'ملخص السنة لتاريخه'!A28)","v":""},{"$f":"IF(ISBLANK('ملخص السنة لتاريخه'!B28),\"\",'ملخص السنة لتاريخه'!B28)","v":""},0,0,0]
[{"$f":"IF(ISBLANK('ملخص السنة لتاريخه'!A29),\"\",'ملخص السنة لتاريخه'!A29)","v":""},{"$f":"IF(ISBLANK('ملخص السنة لتاريخه'!B29),\"\",'ملخص السنة لتاريخه'!B29)","v":""},0,0,0]
[{"$f":"IF(ISBLANK('ملخص السنة لتاريخه'!A30),\"\",'ملخص السنة لتاريخه'!A30)","v":""},{"$f":"IF(ISBLANK('ملخص السنة لتاريخه'!B30),\"\",'ملخص السنة لتاريخه'!B30)","v":""},0,0,0]
[{"$f":"IF(ISBLANK('ملخص السنة لتاريخه'!A31),\"\",'ملخص السنة لتاريخه'!A31)","v":""},{"$f":"IF(ISBLANK('ملخص السنة لتاريخه'!B31),\"\",'ملخص السنة لتاريخه'!B31)","v":""},0,0,0]
[{"$f":"IF(ISBLANK('ملخص السنة لتاريخه'!A32),\"\",'ملخص السنة لتاريخه'!A32)","v":""},{"$f":"IF(ISBLANK('ملخص السنة لتاريخه'!B32),\"\",'ملخص السنة لتاريخه'!B32)","v":""},0,0,0]
[{"$f":"IF(ISBLANK('ملخص السنة لتاريخه'!A33),\"\",'ملخص السنة لتاريخه'!A33)","v":""},{"$f":"IF(ISBLANK('ملخص السنة لتاريخه'!B33),\"\",'ملخص السنة لتاريخه'!B33)","v":""},0,0,0]
[{"$f":"IF(ISBLANK('ملخص السنة لتاريخه'!A34),\"\",'ملخص السنة لتاريخه'!A34)","v":""},{"$f":"IF(ISBLANK('ملخص السنة لتاريخه'!B34),\"\",'ملخص السنة لتاريخه'!B34)","v":""},0,0,0]
[{"$f":"IF(ISBLANK('ملخص السنة لتاريخه'!A35),\"\",'ملخص السنة لتاريخه'!A35)","v":""},{"$f":"IF(ISBLANK('ملخص السنة لتاريخه'!B35),\"\",'ملخص السنة لتاريخه'!B35)","v":""},0,0,0]
[{"$f":"IF(ISBLANK('ملخص السنة لتاريخه'!A36),\"\",'ملخص السنة لتاريخه'!A36)","v":""},{"$f":"IF(ISBLANK('ملخص السنة لتاريخه'!B36),\"\",'ملخص السنة لتاريخه'!B36)","v":""},0,0,0]